Workbook

Sheet Rangschikking Eind
A1: 2 | D1: Rangschikking 2026 - 2027
H2: Laatst gewijzigd
A3: 1 | D3: Gemeentelijke Competitie | H3: =Rangschikking!E3 -> 46310
D4: =IF(A8=26,"EINDSTAND", "TUSSENSTAND" ) -> TUSSENSTAND
L5: CONTROLE T/M RONDE | M5: CONTROLE PER RONDE
B6: Gespeeld | C6: Ploeg | D6: Punten | E6: Caramboles | F6: CLUB-KAMPIOEN | I6: NIEUW GEMIDDELDE | J6: WEDSTRIJDEN GESPEELD | L6: 1 | M6: 1
A8: =COUNTIF(Punten!$H$247:'Punten'!$AG$247,">0") -> 8 | B8: W | C8: Wildert 2 | D8: =Punten!$F$248 -> 425.063 | E8: =Wildert2!$AL$19 -> 1697 | F8: =IFERROR(INDEX(Wildert2!$A$4:$A$18,MATCH(MAX(Wildert2!$AP$4:$AP$18),Wildert2!$AP$4:$AP$18,0)),"") -> V.D. Bossche Eddy [NS 30] | H8: =MAX(Wildert2!$AP$4:$AP$18) -> 100 | I8: =IFERROR(VLOOKUP($F8,Wildert2!$A$4:$AO$18,40,0),"") -> 45 | J8: =IFERROR(VLOOKUP($F8,Wildert2!$A$4:$AO$18,39,0),"") -> 4 | L8: =VLOOKUP($C8,Punten!$G$4:$AG$267,1+$L$6,0) -> 59.726 | M8: =VLOOKUP($C8,Punten!$F$4:$AG$267,2+$M$6,0) -> 59.726
A9: =COUNTIF(Punten!$H$95:'Punten'!$AG$95,">0") -> 8 | B9: W | C9: Molenheike | D9: =Punten!$F$96 -> 435.804 | E9: =Molenheike!$AL$19 -> 1546 | F9: =IFERROR(INDEX(Molenheike!$A$4:$A$18,MATCH(MAX(Molenheike!$AP$4:$AP$18),Molenheike!$AP$4:$AP$18,0)),"") -> Uytdewilligen Marc [NS 32] | H9: =MAX(Meeuwkes!$AP$4:$AP$18) -> 109.62963 | I9: =IFERROR(VLOOKUP($F9,Molenheike!$A$4:$AO$18,40,0),"") -> 36.5 | J9: =IFERROR(VLOOKUP($F9,Molenheike!$A$4:$AO$18,39,0),"") -> 6 | L9: =VLOOKUP($C9,Punten!$G$4:$AG$267,1+$L$6,0) -> 47.256 | M9: =VLOOKUP($C9,Punten!$F$4:$AG$267,2+$M$6,0) -> 47.256
A10: =COUNTIF(Punten!$H$152:'Punten'!$AG$152,">0") -> 8 | B10: W | C10: Rebelse Meeuwkes | D10: =Punten!$F$153 -> 441.083 | E10: =Meeuwkes!$AL$19 -> 1480 | F10: =IFERROR(INDEX(Meeuwkes!$A$4:$A$18,MATCH(MAX(Meeuwkes!$AP$4:$AP$18),Meeuwkes!$AP$4:$AP$18,0)),"") -> Van Hees Eduard | H10: =MAX(Putte!$AP$4:$AP$18) -> 107.61905 | I10: =IFERROR(VLOOKUP($F10,Meeuwkes!$A$4:$AO$18,40,0),"") -> 29.6 | J10: =IFERROR(VLOOKUP($F10,Meeuwkes!$A$4:$AO$18,39,0),"") -> 5 | L10: =VLOOKUP($C10,Punten!$G$4:$AG$267,1+$L$6,0) -> 57.184 | M10: =VLOOKUP($C10,Punten!$F$4:$AG$267,2+$M$6,0) -> 57.184
A11: =COUNTIF(Punten!$H$76:'Punten'!$AG$76,">0") -> 8 | B11: W | C11: Meeuwen 2 | D11: =Punten!$F$77 -> 454.545 | E11: =Meeuwen2!$AL$19 -> 1663 | F11: =IFERROR(INDEX(Meeuwen2!$A$4:$A$18,MATCH(MAX(Meeuwen2!$AP$4:$AP$18),Meeuwen2!$AP$4:$AP$18,0)),"") -> Lucassen Rini | H11: =MAX(DeBeek!$AP$4:$AP$18) -> 126.51515 | I11: =IFERROR(VLOOKUP($F11,Meeuwen2!$A$4:$AO$18,40,0),"") -> 40.6 | J11: =IFERROR(VLOOKUP($F11,Meeuwen2!$A$4:$AO$18,39,0),"") -> 5 | L11: =VLOOKUP($C11,Punten!$G$4:$AG$267,1+$L$6,0) -> 51.613 | M11: =VLOOKUP($C11,Punten!$F$4:$AG$267,2+$M$6,0) -> 51.613
A12: =COUNTIF(Punten!H209:'Punten'!AG209,">0") -> 8 | B12: W | C12: Sen. Putte | D12: =Punten!$F$210 -> 459.786 | E12: =Putte!$AL$19 -> 1346 | F12: =IFERROR(INDEX(Putte!$A$4:$A$18,MATCH(MAX(Putte!$AP$4:$AP$18),Putte!$AP$4:$AP$18,0)),"") -> Eyckmans Luc | H12: =MAX(Molenheike!$AP$4:$AP$18) -> 110.60606 | I12: =IFERROR(VLOOKUP($F12,Putte!$A$4:$AO$18,40,0),"") -> 22.6 | J12: =IFERROR(VLOOKUP($F12,Putte!$A$4:$AO$18,39,0),"") -> 5 | L12: =VLOOKUP($C12,Punten!$G$4:$AG$267,1+$L$6,0) -> 61.102 | M12: =VLOOKUP($C12,Punten!$F$4:$AG$267,2+$M$6,0) -> 61.102
A13: =COUNTIF(Punten!H133:'Punten'!AG133,">0") -> 8 | B13: W | C13: Oude Glorie | D13: =Punten!$F$134 -> 414.207 | E13: =Oudeglorie!$AL$19 -> 1352 | F13: =IFERROR(INDEX(Oudeglorie!$A$4:$A$18,MATCH(MAX(Oudeglorie!$AP$4:$AP$18),Oudeglorie!$AP$4:$AP$18,0)),"") -> Gommers Jac | H13: =MAX(Nispen!$AP$4:$AP$18) -> 119.04762 | I13: =IFERROR(VLOOKUP($F13,Oudeglorie!$A$4:$AO$18,40,0),"") -> 19.5 | J13: =IFERROR(VLOOKUP($F13,Oudeglorie!$A$4:$AO$18,39,0),"") -> 4 | L13: =VLOOKUP($C13,Punten!$G$4:$AG$267,1+$L$6,0) -> 46.99 | M13: =VLOOKUP($C13,Punten!$F$4:$AG$267,2+$M$6,0) -> 46.99
A14: =COUNTIF(Punten!$H$266:'Punten'!$AG$266,">0") -> 8 | B14: W | C14: BC de Beek | D14: =Punten!$F$267 -> 475.433 | E14: =DeBeek!$AL$19 -> 1605 | F14: =IFERROR(INDEX(DeBeek!$A$4:$A$18,MATCH(MAX(DeBeek!$AP$4:$AP$18),DeBeek!$AP$4:$AP$18,0)),"") -> Binnemans Rene | H14: =MAX(Rooiebal2!$AP$4:$AP$18) -> 120 | I14: =IFERROR(VLOOKUP($F14,DeBeek!$A$4:$AO$18,40,0),"") -> 41.75 | J14: =IFERROR(VLOOKUP($F14,DeBeek!$A$4:$AO$18,39,0),"") -> 4 | L14: =VLOOKUP($C14,Punten!$G$4:$AG$267,1+$L$6,0) -> 61.7 | M14: =VLOOKUP($C14,Punten!$F$4:$AG$267,2+$M$6,0) -> 61.7
A15: =COUNTIF(Punten!$H$228:'Punten'!$AG$228,">0") -> 8 | B15: W | C15: Wildert 1 | D15: =Punten!$F$229 -> 499.953 | E15: =Wildert1!$AL$19 -> 1693 | F15: =IFERROR(INDEX(Wildert1!$A$4:$A$18,MATCH(MAX(Wildert1!$AP$4:$AP$18),Wildert1!$AP$4:$AP$18,0)),"") -> Adriaansen Jan | H15: =MAX(Meeuwen2!$AP$4:$AP$18) -> 140 | I15: =IFERROR(VLOOKUP($F15,Wildert1!$A$4:$AO$18,40,0),"") -> 23 | J15: =IFERROR(VLOOKUP($F15,Wildert1!$A$4:$AO$18,39,0),"") -> 4 | L15: =VLOOKUP($C15,Punten!$G$4:$AG$267,1+$L$6,0) -> 73.872 | M15: =VLOOKUP($C15,Punten!$F$4:$AG$267,2+$M$6,0) -> 73.872
A16: =COUNTIF(Punten!$H$114:'Punten'!$AG$114,">0") -> 8 | B16: W | C16: Nispen Gem. | D16: =Punten!$F$115 -> 472.772 | E16: =Nispen!$AL$19 -> 1487 | F16: =IFERROR(INDEX(Nispen!$A$4:$A$18,MATCH(MAX(Nispen!$AP$4:$AP$18),Nispen!$AP$4:$AP$18,0)),"") -> Klijn Toon | H16: =MAX(Rooiebal1!$AP$4:$AP$18) -> 120 | I16: =IFERROR(VLOOKUP($F16,Nispen!$A$4:$AO$18,40,0),"") -> 21.428571 | J16: =IFERROR(VLOOKUP($F16,Nispen!$A$4:$AO$18,39,0),"") -> 7 | L16: =VLOOKUP($C16,Punten!$G$4:$AG$267,1+$L$6,0) -> 63.39 | M16: =VLOOKUP($C16,Punten!$F$4:$AG$267,2+$M$6,0) -> 63.39
A17: =COUNTIF(Punten!$H$190:'Punten'!$AG$190,">0") -> 8 | B17: W | C17: Rooie Bal 2 | D17: =Punten!$F$191 -> 446.8 | E17: =Rooiebal2!$AL$19 -> 1322 | F17: =IFERROR(INDEX(Rooiebal2!$A$4:$A$18,MATCH(MAX(Rooiebal2!$AP$4:$AP$18),Rooiebal2!$AP$4:$AP$18,0)),"") -> Suykerbuyk Cis | H17: =MAX(Oudeglorie!$AP$4:$AP$18) -> 108.33333 | I17: =IFERROR(VLOOKUP($F17,Rooiebal2!$A$4:$AO$18,40,0),"") -> 18 | J17: =IFERROR(VLOOKUP($F17,Rooiebal2!$A$4:$AO$18,39,0),"") -> 5 | L17: =VLOOKUP($C17,Punten!$G$4:$AG$267,1+$L$6,0) -> 48.713 | M17: =VLOOKUP($C17,Punten!$F$4:$AG$267,2+$M$6,0) -> 48.713
A18: =COUNTIF(Punten!$H$38:'Punten'!$AG$38,">0") -> 8 | B18: W | C18: Kerkuilen | D18: =Punten!$F$39 -> 454.939 | E18: =Kerkuilen!$AL$19 -> 1835 | F18: =IFERROR(INDEX(Kerkuilen!$A$4:$A$18,MATCH(MAX(Kerkuilen!$AP$4:$AP$18),Kerkuilen!$AP$4:$AP$18,0)),"") -> Jacobis Martin | H18: =MAX(Wildert1!$AP$4:$AP$18) -> 143.75 | I18: =IFERROR(VLOOKUP($F18,Kerkuilen!$A$4:$AO$18,40,0),"") -> 28.75 | J18: =IFERROR(VLOOKUP($F18,Kerkuilen!$A$4:$AO$18,39,0),"") -> 4 | L18: =VLOOKUP($C18,Punten!$G$4:$AG$267,1+$L$6,0) -> 61.004 | M18: =VLOOKUP($C18,Punten!$F$4:$AG$267,2+$M$6,0) -> 61.004
A19: =COUNTIF(Punten!$H$19:'Punten'!$AG$19,">0") -> 8 | B19: W | C19: Horendonk | D19: =Punten!$F$20 -> 499.734 | E19: =Horendonk!$AL$19 -> 1342 | F19: =IFERROR(INDEX(Horendonk!$A$4:$A$18,MATCH(MAX(Horendonk!$AP$4:$AP$18),Horendonk!$AP$4:$AP$18,0)),"") -> Ansems Ferre | H19: =MAX(Kerkuilen!$AP$4:$AP$18) -> 119.79167 | I19: =IFERROR(VLOOKUP($F19,Horendonk!$A$4:$AP18,40,0),"") -> 29.75 | J19: =IFERROR(VLOOKUP($F19,Horendonk!$A$4:$AO$18,39,0),"") -> 4 | L19: =VLOOKUP($C19,Punten!$G$4:$AG$267,1+$L$6,0) -> 54.222 | M19: =VLOOKUP($C19,Punten!$F$4:$AG$267,2+$M$6,0) -> 54.222
A20: =COUNTIF(Punten!$H$171:'Punten'!$AG$171,">0") -> 8 | B20: W | C20: Rooie Bal 1 | D20: =Punten!$F$172 -> 472.133 | E20: =Rooiebal1!$AL$19 -> 1519 | F20: =IFERROR(INDEX(Rooiebal1!$A$4:$A$18,MATCH(MAX(Rooiebal1!$AP$4:$AP$18),Rooiebal1!$AP$4:$AP$18,0)),"") -> Nelen Marc [ OS ] | H20: =MAX(Horendonk!$AP$4:$AP$18) -> 135.22727 | I20: =IFERROR(VLOOKUP($F20,Rooiebal1!$A$4:$AO$18,40,0),"") -> 30 | J20: =IFERROR(VLOOKUP($F20,Rooiebal1!$A$4:$AO$18,39,0),"") -> 4 | L20: =VLOOKUP($C20,Punten!$G$4:$AG$267,1+$L$6,0) -> 53.399 | M20: =VLOOKUP($C20,Punten!$F$4:$AG$267,2+$M$6,0) -> 53.399
A21: =COUNTIF(Punten!$H$57:'Punten'!$AG$57,">0") -> 8 | B21: W | C21: Meeuwen 1 | D21: =Punten!$F$58 -> 446.655 | E21: =Meeuwen1!$AL$19 -> 1116 | F21: =IFERROR(INDEX(Meeuwen1!$A$4:$A$18,MATCH(MAX(Meeuwen1!$AP$4:$AP$18),Meeuwen1!$AP$4:$AP$18,0)),"") -> Aerts Adri | H21: =MAX(Meeuwen1!$AP$4:$AP$18) -> 114.21569 | I21: =IFERROR(VLOOKUP($F21,Meeuwen1!$A$4:$AO$18,40,0),"") -> 38.833333 | J21: =IFERROR(VLOOKUP($F21,Meeuwen1!$A$4:$AO$18,39,0),"") -> 6 | L21: =VLOOKUP($C21,Punten!$G$4:$AG$267,1+$L$6,0) -> 51.913 | M21: =VLOOKUP($C21,Punten!$F$4:$AG$267,2+$M$6,0) -> 51.913
B27: Uitslagen en evoluties zijn wekelijks te volgen op:
B28: https://blog.seniorennet.be/GSE_Essen

Sheet Rangschikking
A1: 0 | B1: Rangschikking 2026 - 2027
E2: Laatst gewijzigd
A3: 4 | B3: Gemeentelijke Competitie | E3: 46310
B4: =IF(A8=26,"EINDSTAND", "TUSSENSTAND" ) -> TUSSENSTAND
L5: CONTROLE T/M RONDE | M5: CONTROLE PER RONDE
B6: Gespeeld | C6: Ploeg | D6: Punten | E6: Caramboles | F6: CLUB-KAMPIOEN | I6: NIEUW GEMIDDELDE | J6: WEDSTRIJDEN GESPEELD | L6: 8 | M6: 8
A8: =COUNTIF(Punten!$H$228:'Punten'!$AG$228,">0") -> 8 | B8: W | C8: Wildert 1 | D8: =Punten!$F$229 -> 499.953 | E8: =Wildert1!$AL$19 -> 1693 | F8: =IFERROR(INDEX(Wildert1!$A$4:$A$18,MATCH(MAX(Wildert1!$AP$4:$AP$18),Wildert1!$AP$4:$AP$18,0)),"") -> Adriaansen Jan | H8: =MAX(Wildert1!$AP$4:$AP$18) -> 143.75 | I8: =IFERROR(VLOOKUP($F8,Wildert1!$A$4:$AO$18,40,0),"") -> 23 | J8: =IFERROR(VLOOKUP($F8,Wildert1!$A$4:$AO$18,39,0),"") -> 4 | L8: =IFERROR(VLOOKUP($C8,Punten!$G$4:$AG$267,1+$L$6,0),"") -> 499.953 | M8: =IFERROR(VLOOKUP($C8,Punten!$F$4:$AG$267,2+$M$6,0),"") -> 60.94
A9: =COUNTIF(Punten!$H$19:'Punten'!$AG$19,">0") -> 8 | B9: W | C9: Horendonk | D9: =Punten!$F$20 -> 499.734 | E9: =Horendonk!$AL$19 -> 1342 | F9: =IFERROR(INDEX(Horendonk!$A$4:$A$18,MATCH(MAX(Horendonk!$AP$4:$AP$18),Horendonk!$AP$4:$AP$18,0)),"") -> Ansems Ferre | H9: =MAX(Horendonk!$AP$4:$AP$18) -> 135.22727 | I9: =IFERROR(VLOOKUP($F9,Horendonk!$A$4:$AP18,40,0),"") -> 29.75 | J9: =IFERROR(VLOOKUP($F9,Horendonk!$A$4:$AO$18,39,0),"") -> 4 | L9: =IFERROR(VLOOKUP($C9,Punten!$G$4:$AG$267,1+$L$6,0),"") -> 499.734 | M9: =IFERROR(VLOOKUP($C9,Punten!$F$4:$AG$267,2+$M$6,0),"") -> 66.557
A10: =COUNTIF(Punten!$H$266:'Punten'!$AG$266,">0") -> 8 | B10: W | C10: BC de Beek | D10: =Punten!$F$267 -> 475.433 | E10: =DeBeek!$AL$19 -> 1605 | F10: =IFERROR(INDEX(DeBeek!$A$4:$A$18,MATCH(MAX(DeBeek!$AP$4:$AP$18),DeBeek!$AP$4:$AP$18,0)),"") -> Binnemans Rene | H10: =MAX(DeBeek!$AP$4:$AP$18) -> 126.51515 | I10: =IFERROR(VLOOKUP($F10,DeBeek!$A$4:$AO$18,40,0),"") -> 41.75 | J10: =IFERROR(VLOOKUP($F10,DeBeek!$A$4:$AO$18,39,0),"") -> 4 | L10: =IFERROR(VLOOKUP($C10,Punten!$G$4:$AG$267,1+$L$6,0),"") -> 475.433 | M10: =IFERROR(VLOOKUP($C10,Punten!$F$4:$AG$267,2+$M$6,0),"") -> 63.985
A11: =COUNTIF(Punten!$H$114:'Punten'!$AG$114,">0") -> 8 | B11: W | C11: Nispen Gem. | D11: =Punten!$F$115 -> 472.772 | E11: =Nispen!$AL$19 -> 1487 | F11: =IFERROR(INDEX(Nispen!$A$4:$A$18,MATCH(MAX(Nispen!$AP$4:$AP$18),Nispen!$AP$4:$AP$18,0)),"") -> Klijn Toon | H11: =MAX(Nispen!$AP$4:$AP$18) -> 119.04762 | I11: =IFERROR(VLOOKUP($F11,Nispen!$A$4:$AO$18,40,0),"") -> 21.428571 | J11: =IFERROR(VLOOKUP($F11,Nispen!$A$4:$AO$18,39,0),"") -> 7 | L11: =IFERROR(VLOOKUP($C11,Punten!$G$4:$AG$267,1+$L$6,0),"") -> 472.772 | M11: =IFERROR(VLOOKUP($C11,Punten!$F$4:$AG$267,2+$M$6,0),"") -> 68
A12: =COUNTIF(Punten!$H$171:'Punten'!$AG$171,">0") -> 8 | B12: W | C12: Rooie Bal 1 | D12: =Punten!$F$172 -> 472.133 | E12: =Rooiebal1!$AL$19 -> 1519 | F12: =IFERROR(INDEX(Rooiebal1!$A$4:$A$18,MATCH(MAX(Rooiebal1!$AP$4:$AP$18),Rooiebal1!$AP$4:$AP$18,0)),"") -> Nelen Marc [ OS ] | H12: =MAX(Rooiebal1!$AP$4:$AP$18) -> 120 | I12: =IFERROR(VLOOKUP($F12,Rooiebal1!$A$4:$AO$18,40,0),"") -> 30 | J12: =IFERROR(VLOOKUP($F12,Rooiebal1!$A$4:$AO$18,39,0),"") -> 4 | L12: =IFERROR(VLOOKUP($C12,Punten!$G$4:$AG$267,1+$L$6,0),"") -> 472.133 | M12: =IFERROR(VLOOKUP($C12,Punten!$F$4:$AG$267,2+$M$6,0),"") -> 68.444
A13: =COUNTIF(Punten!H209:'Punten'!AG209,">0") -> 8 | B13: W | C13: Sen. Putte | D13: =Punten!$F$210 -> 459.786 | E13: =Putte!$AL$19 -> 1346 | F13: =IFERROR(INDEX(Putte!$A$4:$A$18,MATCH(MAX(Putte!$AP$4:$AP$18),Putte!$AP$4:$AP$18,0)),"") -> Eyckmans Luc | H13: =MAX(Putte!$AP$4:$AP$18) -> 107.61905 | I13: =IFERROR(VLOOKUP($F13,Putte!$A$4:$AO$18,40,0),"") -> 22.6 | J13: =IFERROR(VLOOKUP($F13,Putte!$A$4:$AO$18,39,0),"") -> 5 | L13: =IFERROR(VLOOKUP($C13,Punten!$G$4:$AG$267,1+$L$6,0),"") -> 459.786 | M13: =IFERROR(VLOOKUP($C13,Punten!$F$4:$AG$267,2+$M$6,0),"") -> 50.435
A14: =COUNTIF(Punten!$H$38:'Punten'!$AG$38,">0") -> 8 | B14: W | C14: Kerkuilen | D14: =Punten!$F$39 -> 454.939 | E14: =Kerkuilen!$AL$19 -> 1835 | F14: =IFERROR(INDEX(Kerkuilen!$A$4:$A$18,MATCH(MAX(Kerkuilen!$AP$4:$AP$18),Kerkuilen!$AP$4:$AP$18,0)),"") -> Jacobis Martin | H14: =MAX(Kerkuilen!$AP$4:$AP$18) -> 119.79167 | I14: =IFERROR(VLOOKUP($F14,Kerkuilen!$A$4:$AO$18,40,0),"") -> 28.75 | J14: =IFERROR(VLOOKUP($F14,Kerkuilen!$A$4:$AO$18,39,0),"") -> 4 | L14: =IFERROR(VLOOKUP($C14,Punten!$G$4:$AG$267,1+$L$6,0),"") -> 454.939 | M14: =IFERROR(VLOOKUP($C14,Punten!$F$4:$AG$267,2+$M$6,0),"") -> 58.195
A15: =COUNTIF(Punten!$H$76:'Punten'!$AG$76,">0") -> 8 | B15: W | C15: Meeuwen 2 | D15: =Punten!$F$77 -> 454.545 | E15: =Meeuwen2!$AL$19 -> 1663 | F15: =IFERROR(INDEX(Meeuwen2!$A$4:$A$18,MATCH(MAX(Meeuwen2!$AP$4:$AP$18),Meeuwen2!$AP$4:$AP$18,0)),"") -> Lucassen Rini | H15: =MAX(Meeuwen2!$AP$4:$AP$18) -> 140 | I15: =IFERROR(VLOOKUP($F15,Meeuwen2!$A$4:$AO$18,40,0),"") -> 40.6 | J15: =IFERROR(VLOOKUP($F15,Meeuwen2!$A$4:$AO$18,39,0),"") -> 5 | L15: =IFERROR(VLOOKUP($C15,Punten!$G$4:$AG$267,1+$L$6,0),"") -> 454.545 | M15: =IFERROR(VLOOKUP($C15,Punten!$F$4:$AG$267,2+$M$6,0),"") -> 52.375
A16: =COUNTIF(Punten!$H$190:'Punten'!$AG$190,">0") -> 8 | B16: W | C16: Rooie Bal 2 | D16: =Punten!$F$191 -> 446.8 | E16: =Rooiebal2!$AL$19 -> 1322 | F16: =IFERROR(INDEX(Rooiebal2!$A$4:$A$18,MATCH(MAX(Rooiebal2!$AP$4:$AP$18),Rooiebal2!$AP$4:$AP$18,0)),"") -> Suykerbuyk Cis | H16: =MAX(Rooiebal2!$AP$4:$AP$18) -> 120 | I16: =IFERROR(VLOOKUP($F16,Rooiebal2!$A$4:$AO$18,40,0),"") -> 18 | J16: =IFERROR(VLOOKUP($F16,Rooiebal2!$A$4:$AO$18,39,0),"") -> 5 | L16: =IFERROR(VLOOKUP($C16,Punten!$G$4:$AG$267,1+$L$6,0),"") -> 446.8 | M16: =IFERROR(VLOOKUP($C16,Punten!$F$4:$AG$267,2+$M$6,0),"") -> 59.871
A17: =COUNTIF(Punten!$H$57:'Punten'!$AG$57,">0") -> 8 | B17: W | C17: Meeuwen 1 | D17: =Punten!$F$58 -> 446.655 | E17: =Meeuwen1!$AL$19 -> 1116 | F17: =IFERROR(INDEX(Meeuwen1!$A$4:$A$18,MATCH(MAX(Meeuwen1!$AP$4:$AP$18),Meeuwen1!$AP$4:$AP$18,0)),"") -> Aerts Adri | H17: =MAX(Meeuwen1!$AP$4:$AP$18) -> 114.21569 | I17: =IFERROR(VLOOKUP($F17,Meeuwen1!$A$4:$AO$18,40,0),"") -> 38.833333 | J17: =IFERROR(VLOOKUP($F17,Meeuwen1!$A$4:$AO$18,39,0),"") -> 6 | L17: =IFERROR(VLOOKUP($C17,Punten!$G$4:$AG$267,1+$L$6,0),"") -> 446.655 | M17: =IFERROR(VLOOKUP($C17,Punten!$F$4:$AG$267,2+$M$6,0),"") -> 63.758
A18: =COUNTIF(Punten!$H$152:'Punten'!$AG$152,">0") -> 8 | B18: W | C18: Rebelse Meeuwkes | D18: =Punten!$F$153 -> 441.083 | E18: =Meeuwkes!$AL$19 -> 1480 | F18: =IFERROR(INDEX(Meeuwkes!$A$4:$A$18,MATCH(MAX(Meeuwkes!$AP$4:$AP$18),Meeuwkes!$AP$4:$AP$18,0)),"") -> Van Hees Eduard | H18: =MAX(Meeuwkes!$AP$4:$AP$18) -> 109.62963 | I18: =IFERROR(VLOOKUP($F18,Meeuwkes!$A$4:$AO$18,40,0),"") -> 29.6 | J18: =IFERROR(VLOOKUP($F18,Meeuwkes!$A$4:$AO$18,39,0),"") -> 5 | L18: =IFERROR(VLOOKUP($C18,Punten!$G$4:$AG$267,1+$L$6,0),"") -> 441.083 | M18: =IFERROR(VLOOKUP($C18,Punten!$F$4:$AG$267,2+$M$6,0),"") -> 57.377
A19: =COUNTIF(Punten!$H$95:'Punten'!$AG$95,">0") -> 8 | B19: W | C19: Molenheike | D19: =Punten!$F$96 -> 435.804 | E19: =Molenheike!$AL$19 -> 1546 | F19: =IFERROR(INDEX(Molenheike!$A$4:$A$18,MATCH(MAX(Molenheike!$AP$4:$AP$18),Molenheike!$AP$4:$AP$18,0)),"") -> Uytdewilligen Marc [NS 32] | H19: =MAX(Molenheike!$AP$4:$AP$18) -> 110.60606 | I19: =IFERROR(VLOOKUP($F19,Molenheike!$A$4:$AO$18,40,0),"") -> 36.5 | J19: =IFERROR(VLOOKUP($F19,Molenheike!$A$4:$AO$18,39,0),"") -> 6 | L19: =IFERROR(VLOOKUP($C19,Punten!$G$4:$AG$267,1+$L$6,0),"") -> 435.804 | M19: =IFERROR(VLOOKUP($C19,Punten!$F$4:$AG$267,2+$M$6,0),"") -> 58.799
A20: =COUNTIF(Punten!$H$247:'Punten'!$AG$247,">0") -> 8 | B20: W | C20: Wildert 2 | D20: =Punten!$F$248 -> 425.063 | E20: =Wildert2!$AL$19 -> 1697 | F20: =IFERROR(INDEX(Wildert2!$A$4:$A$18,MATCH(MAX(Wildert2!$AP$4:$AP$18),Wildert2!$AP$4:$AP$18,0)),"") -> V.D. Bossche Eddy [NS 30] | H20: =MAX(Wildert2!$AP$4:$AP$18) -> 100 | I20: =IFERROR(VLOOKUP($F20,Wildert2!$A$4:$AO$18,40,0),"") -> 45 | J20: =IFERROR(VLOOKUP($F20,Wildert2!$A$4:$AO$18,39,0),"") -> 4 | L20: =IFERROR(VLOOKUP($C20,Punten!$G$4:$AG$267,1+$L$6,0),"") -> 425.063 | M20: =IFERROR(VLOOKUP($C20,Punten!$F$4:$AG$267,2+$M$6,0),"") -> 58.216
A21: =COUNTIF(Punten!H133:'Punten'!AG133,">0") -> 8 | B21: W | C21: Oude Glorie | D21: =Punten!$F$134 -> 414.207 | E21: =Oudeglorie!$AL$19 -> 1352 | F21: =IFERROR(INDEX(Oudeglorie!$A$4:$A$18,MATCH(MAX(Oudeglorie!$AP$4:$AP$18),Oudeglorie!$AP$4:$AP$18,0)),"") -> Gommers Jac | H21: =MAX(Oudeglorie!$AP$4:$AP$18) -> 108.33333 | I21: =IFERROR(VLOOKUP($F21,Oudeglorie!$A$4:$AO$18,40,0),"") -> 19.5 | J21: =IFERROR(VLOOKUP($F21,Oudeglorie!$A$4:$AO$18,39,0),"") -> 4 | L21: =IFERROR(VLOOKUP($C21,Punten!$G$4:$AG$267,1+$L$6,0),"") -> 414.207 | M21: =IFERROR(VLOOKUP($C21,Punten!$F$4:$AG$267,2+$M$6,0),"") -> 56.49
B27: Uitslagen en evoluties zijn wekelijks te volgen op:
B28: https://blog.seniorennet.be/GSE_Essen

Sheet Punten
A1: Aantal | C1: NS | D1: HR | E1: TR | F1: Totaal
A2: wedstrijden | F2: punten
B3: HORENDONK | H3: 1 | I3: 2 | J3: 3 | K3: 4 | L3: 5 | M3: 6 | N3: 7 | O3: 8 | P3: 9 | Q3: 10 | R3: 11 | S3: 12 | T3: 13 | U3: 14 | V3: 15 | W3: 16 | X3: 17 | Y3: 18 | Z3: 19 | AA3: 20 | AB3: 21 | AC3: 22 | AD3: 23 | AE3: 24 | AF3: 25 | AG3: 26
A4: =IF(Horendonk!AM$4=0, "", Horendonk!AM$4) -> 4 | B4: =Horendonk!A4 -> Ansems Ferre | C4: =IFERROR(VALUE(MID($B4, SEARCH("[NS ", $B4)+4, 2)), "") | D4: =Horendonk!B4 -> 22 | E4: =Horendonk!T4 -> 22 | F4: =IF(Horendonk!AL4=0," ",SUM(H4:AG4)) -> 54.091 | H4: =IF(Horendonk!C4="", "", ROUND(Horendonk!C4 / IF(AND(COUNT(Horendonk!$C4:C4) <= 3, ISNUMBER($C4)), $C4, $D4) * 10, 3)) | I4: =IF(Horendonk!D4="", "", ROUND(Horendonk!D4 / IF(AND(COUNT(Horendonk!$C4:D4) <= 3, ISNUMBER($C4)), $C4, $D4) * 10, 3)) -> 8.636 | J4: =IF(Horendonk!E4="", "", ROUND(Horendonk!E4 / IF(AND(COUNT(Horendonk!$C4:E4) <= 3, ISNUMBER($C4)), $C4, $D4) * 10, 3)) | K4: =IF(Horendonk!F4="", "", ROUND(Horendonk!F4 / IF(AND(COUNT(Horendonk!$C4:F4) <= 3, ISNUMBER($C4)), $C4, $D4) * 10, 3)) -> 15.455 | L4: =IF(Horendonk!G4="", "", ROUND(Horendonk!G4 / IF(AND(COUNT(Horendonk!$C4:G4) <= 3, ISNUMBER($C4)), $C4, $D4) * 10, 3)) | M4: =IF(Horendonk!H4="", "", ROUND(Horendonk!H4 / IF(AND(COUNT(Horendonk!$C4:H4) <= 3, ISNUMBER($C4)), $C4, $D4) * 10, 3)) -> 12.273 | N4: =IF(Horendonk!I4="", "", ROUND(Horendonk!I4 / IF(AND(COUNT(Horendonk!$C4:I4) <= 3, ISNUMBER($C4)), $C4, $D4) * 10, 3)) -> 17.727 | O4: =IF(Horendonk!J4="", "", ROUND(Horendonk!J4 / IF(AND(COUNT(Horendonk!$C4:J4) <= 3, ISNUMBER($C4)), $C4, $D4) * 10, 3)) | ... T4: =IF(Horendonk!O4="", "", ROUND(Horendonk!O4 / IF(AND(COUNT(Horendonk!$C4:O4) <= 3, ISNUMBER($C4)), $C4, $D4) * 10, 3)) | U4: =IF(Horendonk!U4="", "", ROUND(Horendonk!U4 / IF(AND(COUNT(Horendonk!$C4:$O4,Horendonk!$U4:U4) <= 3, ISNUMBER($C4)), $C4, $E4) * 10, 3)) | V4: =IF(Horendonk!V4="", "", ROUND(Horendonk!V4 / IF(AND(COUNT(Horendonk!$C4:$O4,Horendonk!$U4:V4) <= 3, ISNUMBER($C4)), $C4, $E4) * 10, 3)) | W4: =IF(Horendonk!W4="", "", ROUND(Horendonk!W4 / IF(AND(COUNT(Horendonk!$C4:$O4,Horendonk!$U4:W4) <= 3, ISNUMBER($C4)), $C4, $E4) * 10, 3)) | X4: =IF(Horendonk!X4="", "", ROUND(Horendonk!X4 / IF(AND(COUNT(Horendonk!$C4:$O4,Horendonk!$U4:X4) <= 3, ISNUMBER($C4)), $C4, $E4) * 10, 3)) | Y4: =IF(Horendonk!Y4="", "", ROUND(Horendonk!Y4 / IF(AND(COUNT(Horendonk!$C4:$O4,Horendonk!$U4:Y4) <= 3, ISNUMBER($C4)), $C4, $E4) * 10, 3)) | Z4: =IF(Horendonk!Z4="", "", ROUND(Horendonk!Z4 / IF(AND(COUNT(Horendonk!$C4:$O4,Horendonk!$U4:Z4) <= 3, ISNUMBER($C4)), $C4, $E4) * 10, 3)) | AA4: =IF(Horendonk!AA4="", "", ROUND(Horendonk!AA4 / IF(AND(COUNT(Horendonk!$C4:$O4,Horendonk!$U4:AA4) <= 3, ISNUMBER($C4)), $C4, $E4) * 10, 3)) | AB4: =IF(Horendonk!AB4="", "", ROUND(Horendonk!AB4 / IF(AND(COUNT(Horendonk!$C4:$O4,Horendonk!$U4:AB4) <= 3, ISNUMBER($C4)), $C4, $E4) * 10, 3)) | ... AG4: =IF(Horendonk!AG4="", "", ROUND(Horendonk!AG4 / IF(AND(COUNT(Horendonk!$C4:$O4,Horendonk!$U4:AG4) <= 3, ISNUMBER($C4)), $C4, $E4) * 10, 3))
A5: =IF(Horendonk!AM5=0, "", Horendonk!AM5) -> 4 | B5: =Horendonk!A5 -> Arnouts Louis | C5: =IFERROR(VALUE(MID($B5, SEARCH("[NS ", $B5)+4, 2)), "") | D5: =Horendonk!B5 -> 34 | E5: =Horendonk!T5 -> 34 | F5: =IF(Horendonk!AL5=0," ",SUM(H5:AG5)) -> 38.529 | H5: =IF(Horendonk!C5="", "", ROUND(Horendonk!C5 / IF(AND(COUNT(Horendonk!$C5:C5) <= 3, ISNUMBER($C5)), $C5, $D5) * 10, 3)) -> 9.706 | I5: =IF(Horendonk!D5="", "", ROUND(Horendonk!D5 / IF(AND(COUNT(Horendonk!$C5:D5) <= 3, ISNUMBER($C5)), $C5, $D5) * 10, 3)) | J5: =IF(Horendonk!E5="", "", ROUND(Horendonk!E5 / IF(AND(COUNT(Horendonk!$C5:E5) <= 3, ISNUMBER($C5)), $C5, $D5) * 10, 3)) | K5: =IF(Horendonk!F5="", "", ROUND(Horendonk!F5 / IF(AND(COUNT(Horendonk!$C5:F5) <= 3, ISNUMBER($C5)), $C5, $D5) * 10, 3)) -> 8.235 | L5: =IF(Horendonk!G5="", "", ROUND(Horendonk!G5 / IF(AND(COUNT(Horendonk!$C5:G5) <= 3, ISNUMBER($C5)), $C5, $D5) * 10, 3)) -> 12.059 | M5: =IF(Horendonk!H5="", "", ROUND(Horendonk!H5 / IF(AND(COUNT(Horendonk!$C5:H5) <= 3, ISNUMBER($C5)), $C5, $D5) * 10, 3)) | N5: =IF(Horendonk!I5="", "", ROUND(Horendonk!I5 / IF(AND(COUNT(Horendonk!$C5:I5) <= 3, ISNUMBER($C5)), $C5, $D5) * 10, 3)) -> 8.529 | O5: =IF(Horendonk!J5="", "", ROUND(Horendonk!J5 / IF(AND(COUNT(Horendonk!$C5:J5) <= 3, ISNUMBER($C5)), $C5, $D5) * 10, 3)) | ... T5: =IF(Horendonk!O5="", "", ROUND(Horendonk!O5 / IF(AND(COUNT(Horendonk!$C5:O5) <= 3, ISNUMBER($C5)), $C5, $D5) * 10, 3)) | U5: =IF(Horendonk!U5="", "", ROUND(Horendonk!U5 / IF(AND(COUNT(Horendonk!$C5:$O5,Horendonk!$U5:U5) <= 3, ISNUMBER($C5)), $C5, $E5) * 10, 3)) | V5: =IF(Horendonk!V5="", "", ROUND(Horendonk!V5 / IF(AND(COUNT(Horendonk!$C5:$O5,Horendonk!$U5:V5) <= 3, ISNUMBER($C5)), $C5, $E5) * 10, 3)) | W5: =IF(Horendonk!W5="", "", ROUND(Horendonk!W5 / IF(AND(COUNT(Horendonk!$C5:$O5,Horendonk!$U5:W5) <= 3, ISNUMBER($C5)), $C5, $E5) * 10, 3)) | X5: =IF(Horendonk!X5="", "", ROUND(Horendonk!X5 / IF(AND(COUNT(Horendonk!$C5:$O5,Horendonk!$U5:X5) <= 3, ISNUMBER($C5)), $C5, $E5) * 10, 3)) | Y5: =IF(Horendonk!Y5="", "", ROUND(Horendonk!Y5 / IF(AND(COUNT(Horendonk!$C5:$O5,Horendonk!$U5:Y5) <= 3, ISNUMBER($C5)), $C5, $E5) * 10, 3)) | Z5: =IF(Horendonk!Z5="", "", ROUND(Horendonk!Z5 / IF(AND(COUNT(Horendonk!$C5:$O5,Horendonk!$U5:Z5) <= 3, ISNUMBER($C5)), $C5, $E5) * 10, 3)) | AA5: =IF(Horendonk!AA5="", "", ROUND(Horendonk!AA5 / IF(AND(COUNT(Horendonk!$C5:$O5,Horendonk!$U5:AA5) <= 3, ISNUMBER($C5)), $C5, $E5) * 10, 3)) | AB5: =IF(Horendonk!AB5="", "", ROUND(Horendonk!AB5 / IF(AND(COUNT(Horendonk!$C5:$O5,Horendonk!$U5:AB5) <= 3, ISNUMBER($C5)), $C5, $E5) * 10, 3)) | ... AG5: =IF(Horendonk!AG5="", "", ROUND(Horendonk!AG5 / IF(AND(COUNT(Horendonk!$C5:$O5,Horendonk!$U5:AG5) <= 3, ISNUMBER($C5)), $C5, $E5) * 10, 3))
A6: =IF(Horendonk!AM6=0, "", Horendonk!AM6) -> 3 | B6: =Horendonk!A6 -> De Backer Jef | C6: =IFERROR(VALUE(MID($B6, SEARCH("[NS ", $B6)+4, 2)), "") | D6: =Horendonk!B6 -> 25 | E6: =Horendonk!T6 -> 25 | F6: =IF(Horendonk!AL6=0," ",SUM(H6:AG6)) -> 40 | H6: =IF(Horendonk!C6="", "", ROUND(Horendonk!C6 / IF(AND(COUNT(Horendonk!$C6:C6) <= 3, ISNUMBER($C6)), $C6, $D6) * 10, 3)) -> 12.4 | I6: =IF(Horendonk!D6="", "", ROUND(Horendonk!D6 / IF(AND(COUNT(Horendonk!$C6:D6) <= 3, ISNUMBER($C6)), $C6, $D6) * 10, 3)) | J6: =IF(Horendonk!E6="", "", ROUND(Horendonk!E6 / IF(AND(COUNT(Horendonk!$C6:E6) <= 3, ISNUMBER($C6)), $C6, $D6) * 10, 3)) | K6: =IF(Horendonk!F6="", "", ROUND(Horendonk!F6 / IF(AND(COUNT(Horendonk!$C6:F6) <= 3, ISNUMBER($C6)), $C6, $D6) * 10, 3)) | L6: =IF(Horendonk!G6="", "", ROUND(Horendonk!G6 / IF(AND(COUNT(Horendonk!$C6:G6) <= 3, ISNUMBER($C6)), $C6, $D6) * 10, 3)) | M6: =IF(Horendonk!H6="", "", ROUND(Horendonk!H6 / IF(AND(COUNT(Horendonk!$C6:H6) <= 3, ISNUMBER($C6)), $C6, $D6) * 10, 3)) -> 14.8 | N6: =IF(Horendonk!I6="", "", ROUND(Horendonk!I6 / IF(AND(COUNT(Horendonk!$C6:I6) <= 3, ISNUMBER($C6)), $C6, $D6) * 10, 3)) -> 12.8 | O6: =IF(Horendonk!J6="", "", ROUND(Horendonk!J6 / IF(AND(COUNT(Horendonk!$C6:J6) <= 3, ISNUMBER($C6)), $C6, $D6) * 10, 3)) | ... T6: =IF(Horendonk!O6="", "", ROUND(Horendonk!O6 / IF(AND(COUNT(Horendonk!$C6:O6) <= 3, ISNUMBER($C6)), $C6, $D6) * 10, 3)) | U6: =IF(Horendonk!U6="", "", ROUND(Horendonk!U6 / IF(AND(COUNT(Horendonk!$C6:$O6,Horendonk!$U6:U6) <= 3, ISNUMBER($C6)), $C6, $E6) * 10, 3)) | V6: =IF(Horendonk!V6="", "", ROUND(Horendonk!V6 / IF(AND(COUNT(Horendonk!$C6:$O6,Horendonk!$U6:V6) <= 3, ISNUMBER($C6)), $C6, $E6) * 10, 3)) | W6: =IF(Horendonk!W6="", "", ROUND(Horendonk!W6 / IF(AND(COUNT(Horendonk!$C6:$O6,Horendonk!$U6:W6) <= 3, ISNUMBER($C6)), $C6, $E6) * 10, 3)) | X6: =IF(Horendonk!X6="", "", ROUND(Horendonk!X6 / IF(AND(COUNT(Horendonk!$C6:$O6,Horendonk!$U6:X6) <= 3, ISNUMBER($C6)), $C6, $E6) * 10, 3)) | Y6: =IF(Horendonk!Y6="", "", ROUND(Horendonk!Y6 / IF(AND(COUNT(Horendonk!$C6:$O6,Horendonk!$U6:Y6) <= 3, ISNUMBER($C6)), $C6, $E6) * 10, 3)) | Z6: =IF(Horendonk!Z6="", "", ROUND(Horendonk!Z6 / IF(AND(COUNT(Horendonk!$C6:$O6,Horendonk!$U6:Z6) <= 3, ISNUMBER($C6)), $C6, $E6) * 10, 3)) | AA6: =IF(Horendonk!AA6="", "", ROUND(Horendonk!AA6 / IF(AND(COUNT(Horendonk!$C6:$O6,Horendonk!$U6:AA6) <= 3, ISNUMBER($C6)), $C6, $E6) * 10, 3)) | AB6: =IF(Horendonk!AB6="", "", ROUND(Horendonk!AB6 / IF(AND(COUNT(Horendonk!$C6:$O6,Horendonk!$U6:AB6) <= 3, ISNUMBER($C6)), $C6, $E6) * 10, 3)) | ... AG6: =IF(Horendonk!AG6="", "", ROUND(Horendonk!AG6 / IF(AND(COUNT(Horendonk!$C6:$O6,Horendonk!$U6:AG6) <= 3, ISNUMBER($C6)), $C6, $E6) * 10, 3))
A7: =IF(Horendonk!AM7=0, "", Horendonk!AM7) -> 6 | B7: =Horendonk!A7 -> Herreyers Remy | C7: =IFERROR(VALUE(MID($B7, SEARCH("[NS ", $B7)+4, 2)), "") | D7: =Horendonk!B7 -> 43 | E7: =Horendonk!T7 -> 43 | F7: =IF(Horendonk!AL7=0," ",SUM(H7:AG7)) -> 51.163 | H7: =IF(Horendonk!C7="", "", ROUND(Horendonk!C7 / IF(AND(COUNT(Horendonk!$C7:C7) <= 3, ISNUMBER($C7)), $C7, $D7) * 10, 3)) | I7: =IF(Horendonk!D7="", "", ROUND(Horendonk!D7 / IF(AND(COUNT(Horendonk!$C7:D7) <= 3, ISNUMBER($C7)), $C7, $D7) * 10, 3)) -> 11.86 | J7: =IF(Horendonk!E7="", "", ROUND(Horendonk!E7 / IF(AND(COUNT(Horendonk!$C7:E7) <= 3, ISNUMBER($C7)), $C7, $D7) * 10, 3)) -> 9.767 | K7: =IF(Horendonk!F7="", "", ROUND(Horendonk!F7 / IF(AND(COUNT(Horendonk!$C7:F7) <= 3, ISNUMBER($C7)), $C7, $D7) * 10, 3)) -> 4.419 | L7: =IF(Horendonk!G7="", "", ROUND(Horendonk!G7 / IF(AND(COUNT(Horendonk!$C7:G7) <= 3, ISNUMBER($C7)), $C7, $D7) * 10, 3)) -> 7.442 | M7: =IF(Horendonk!H7="", "", ROUND(Horendonk!H7 / IF(AND(COUNT(Horendonk!$C7:H7) <= 3, ISNUMBER($C7)), $C7, $D7) * 10, 3)) -> 6.512 | N7: =IF(Horendonk!I7="", "", ROUND(Horendonk!I7 / IF(AND(COUNT(Horendonk!$C7:I7) <= 3, ISNUMBER($C7)), $C7, $D7) * 10, 3)) | O7: =IF(Horendonk!J7="", "", ROUND(Horendonk!J7 / IF(AND(COUNT(Horendonk!$C7:J7) <= 3, ISNUMBER($C7)), $C7, $D7) * 10, 3)) -> 11.163 | ... T7: =IF(Horendonk!O7="", "", ROUND(Horendonk!O7 / IF(AND(COUNT(Horendonk!$C7:O7) <= 3, ISNUMBER($C7)), $C7, $D7) * 10, 3)) | U7: =IF(Horendonk!U7="", "", ROUND(Horendonk!U7 / IF(AND(COUNT(Horendonk!$C7:$O7,Horendonk!$U7:U7) <= 3, ISNUMBER($C7)), $C7, $E7) * 10, 3)) | V7: =IF(Horendonk!V7="", "", ROUND(Horendonk!V7 / IF(AND(COUNT(Horendonk!$C7:$O7,Horendonk!$U7:V7) <= 3, ISNUMBER($C7)), $C7, $E7) * 10, 3)) | W7: =IF(Horendonk!W7="", "", ROUND(Horendonk!W7 / IF(AND(COUNT(Horendonk!$C7:$O7,Horendonk!$U7:W7) <= 3, ISNUMBER($C7)), $C7, $E7) * 10, 3)) | X7: =IF(Horendonk!X7="", "", ROUND(Horendonk!X7 / IF(AND(COUNT(Horendonk!$C7:$O7,Horendonk!$U7:X7) <= 3, ISNUMBER($C7)), $C7, $E7) * 10, 3)) | Y7: =IF(Horendonk!Y7="", "", ROUND(Horendonk!Y7 / IF(AND(COUNT(Horendonk!$C7:$O7,Horendonk!$U7:Y7) <= 3, ISNUMBER($C7)), $C7, $E7) * 10, 3)) | Z7: =IF(Horendonk!Z7="", "", ROUND(Horendonk!Z7 / IF(AND(COUNT(Horendonk!$C7:$O7,Horendonk!$U7:Z7) <= 3, ISNUMBER($C7)), $C7, $E7) * 10, 3)) | AA7: =IF(Horendonk!AA7="", "", ROUND(Horendonk!AA7 / IF(AND(COUNT(Horendonk!$C7:$O7,Horendonk!$U7:AA7) <= 3, ISNUMBER($C7)), $C7, $E7) * 10, 3)) | AB7: =IF(Horendonk!AB7="", "", ROUND(Horendonk!AB7 / IF(AND(COUNT(Horendonk!$C7:$O7,Horendonk!$U7:AB7) <= 3, ISNUMBER($C7)), $C7, $E7) * 10, 3)) | ... AG7: =IF(Horendonk!AG7="", "", ROUND(Horendonk!AG7 / IF(AND(COUNT(Horendonk!$C7:$O7,Horendonk!$U7:AG7) <= 3, ISNUMBER($C7)), $C7, $E7) * 10, 3))
A8: =IF(Horendonk!AM8=0, "", Horendonk!AM8) -> 4 | B8: =Horendonk!A8 -> Maas Guy | C8: =IFERROR(VALUE(MID($B8, SEARCH("[NS ", $B8)+4, 2)), "") | D8: =Horendonk!B8 -> 23 | E8: =Horendonk!T8 -> 23 | F8: =IF(Horendonk!AL8=0," ",SUM(H8:AG8)) -> 43.043 | H8: =IF(Horendonk!C8="", "", ROUND(Horendonk!C8 / IF(AND(COUNT(Horendonk!$C8:C8) <= 3, ISNUMBER($C8)), $C8, $D8) * 10, 3)) | I8: =IF(Horendonk!D8="", "", ROUND(Horendonk!D8 / IF(AND(COUNT(Horendonk!$C8:D8) <= 3, ISNUMBER($C8)), $C8, $D8) * 10, 3)) -> 15.217 | J8: =IF(Horendonk!E8="", "", ROUND(Horendonk!E8 / IF(AND(COUNT(Horendonk!$C8:E8) <= 3, ISNUMBER($C8)), $C8, $D8) * 10, 3)) | K8: =IF(Horendonk!F8="", "", ROUND(Horendonk!F8 / IF(AND(COUNT(Horendonk!$C8:F8) <= 3, ISNUMBER($C8)), $C8, $D8) * 10, 3)) -> 5.652 | L8: =IF(Horendonk!G8="", "", ROUND(Horendonk!G8 / IF(AND(COUNT(Horendonk!$C8:G8) <= 3, ISNUMBER($C8)), $C8, $D8) * 10, 3)) | M8: =IF(Horendonk!H8="", "", ROUND(Horendonk!H8 / IF(AND(COUNT(Horendonk!$C8:H8) <= 3, ISNUMBER($C8)), $C8, $D8) * 10, 3)) -> 14.783 | N8: =IF(Horendonk!I8="", "", ROUND(Horendonk!I8 / IF(AND(COUNT(Horendonk!$C8:I8) <= 3, ISNUMBER($C8)), $C8, $D8) * 10, 3)) | O8: =IF(Horendonk!J8="", "", ROUND(Horendonk!J8 / IF(AND(COUNT(Horendonk!$C8:J8) <= 3, ISNUMBER($C8)), $C8, $D8) * 10, 3)) -> 7.391 | ... T8: =IF(Horendonk!O8="", "", ROUND(Horendonk!O8 / IF(AND(COUNT(Horendonk!$C8:O8) <= 3, ISNUMBER($C8)), $C8, $D8) * 10, 3)) | U8: =IF(Horendonk!U8="", "", ROUND(Horendonk!U8 / IF(AND(COUNT(Horendonk!$C8:$O8,Horendonk!$U8:U8) <= 3, ISNUMBER($C8)), $C8, $E8) * 10, 3)) | V8: =IF(Horendonk!V8="", "", ROUND(Horendonk!V8 / IF(AND(COUNT(Horendonk!$C8:$O8,Horendonk!$U8:V8) <= 3, ISNUMBER($C8)), $C8, $E8) * 10, 3)) | W8: =IF(Horendonk!W8="", "", ROUND(Horendonk!W8 / IF(AND(COUNT(Horendonk!$C8:$O8,Horendonk!$U8:W8) <= 3, ISNUMBER($C8)), $C8, $E8) * 10, 3)) | X8: =IF(Horendonk!X8="", "", ROUND(Horendonk!X8 / IF(AND(COUNT(Horendonk!$C8:$O8,Horendonk!$U8:X8) <= 3, ISNUMBER($C8)), $C8, $E8) * 10, 3)) | Y8: =IF(Horendonk!Y8="", "", ROUND(Horendonk!Y8 / IF(AND(COUNT(Horendonk!$C8:$O8,Horendonk!$U8:Y8) <= 3, ISNUMBER($C8)), $C8, $E8) * 10, 3)) | Z8: =IF(Horendonk!Z8="", "", ROUND(Horendonk!Z8 / IF(AND(COUNT(Horendonk!$C8:$O8,Horendonk!$U8:Z8) <= 3, ISNUMBER($C8)), $C8, $E8) * 10, 3)) | AA8: =IF(Horendonk!AA8="", "", ROUND(Horendonk!AA8 / IF(AND(COUNT(Horendonk!$C8:$O8,Horendonk!$U8:AA8) <= 3, ISNUMBER($C8)), $C8, $E8) * 10, 3)) | AB8: =IF(Horendonk!AB8="", "", ROUND(Horendonk!AB8 / IF(AND(COUNT(Horendonk!$C8:$O8,Horendonk!$U8:AB8) <= 3, ISNUMBER($C8)), $C8, $E8) * 10, 3)) | ... AG8: =IF(Horendonk!AG8="", "", ROUND(Horendonk!AG8 / IF(AND(COUNT(Horendonk!$C8:$O8,Horendonk!$U8:AG8) <= 3, ISNUMBER($C8)), $C8, $E8) * 10, 3))
A9: =IF(Horendonk!AM9=0, "", Horendonk!AM9) -> 4 | B9: =Horendonk!A9 -> Nelen Johan | C9: =IFERROR(VALUE(MID($B9, SEARCH("[NS ", $B9)+4, 2)), "") | D9: =Horendonk!B9 -> 15 | E9: =Horendonk!T9 -> 15 | F9: =IF(Horendonk!AL9=0," ",SUM(H9:AG9)) -> 37.333 | H9: =IF(Horendonk!C9="", "", ROUND(Horendonk!C9 / IF(AND(COUNT(Horendonk!$C9:C9) <= 3, ISNUMBER($C9)), $C9, $D9) * 10, 3)) | I9: =IF(Horendonk!D9="", "", ROUND(Horendonk!D9 / IF(AND(COUNT(Horendonk!$C9:D9) <= 3, ISNUMBER($C9)), $C9, $D9) * 10, 3)) -> 9.333 | J9: =IF(Horendonk!E9="", "", ROUND(Horendonk!E9 / IF(AND(COUNT(Horendonk!$C9:E9) <= 3, ISNUMBER($C9)), $C9, $D9) * 10, 3)) -> 6 | K9: =IF(Horendonk!F9="", "", ROUND(Horendonk!F9 / IF(AND(COUNT(Horendonk!$C9:F9) <= 3, ISNUMBER($C9)), $C9, $D9) * 10, 3)) -> 14 | L9: =IF(Horendonk!G9="", "", ROUND(Horendonk!G9 / IF(AND(COUNT(Horendonk!$C9:G9) <= 3, ISNUMBER($C9)), $C9, $D9) * 10, 3)) | M9: =IF(Horendonk!H9="", "", ROUND(Horendonk!H9 / IF(AND(COUNT(Horendonk!$C9:H9) <= 3, ISNUMBER($C9)), $C9, $D9) * 10, 3)) | N9: =IF(Horendonk!I9="", "", ROUND(Horendonk!I9 / IF(AND(COUNT(Horendonk!$C9:I9) <= 3, ISNUMBER($C9)), $C9, $D9) * 10, 3)) -> 8 | O9: =IF(Horendonk!J9="", "", ROUND(Horendonk!J9 / IF(AND(COUNT(Horendonk!$C9:J9) <= 3, ISNUMBER($C9)), $C9, $D9) * 10, 3)) | ... T9: =IF(Horendonk!O9="", "", ROUND(Horendonk!O9 / IF(AND(COUNT(Horendonk!$C9:O9) <= 3, ISNUMBER($C9)), $C9, $D9) * 10, 3)) | U9: =IF(Horendonk!U9="", "", ROUND(Horendonk!U9 / IF(AND(COUNT(Horendonk!$C9:$O9,Horendonk!$U9:U9) <= 3, ISNUMBER($C9)), $C9, $E9) * 10, 3)) | V9: =IF(Horendonk!V9="", "", ROUND(Horendonk!V9 / IF(AND(COUNT(Horendonk!$C9:$O9,Horendonk!$U9:V9) <= 3, ISNUMBER($C9)), $C9, $E9) * 10, 3)) | W9: =IF(Horendonk!W9="", "", ROUND(Horendonk!W9 / IF(AND(COUNT(Horendonk!$C9:$O9,Horendonk!$U9:W9) <= 3, ISNUMBER($C9)), $C9, $E9) * 10, 3)) | X9: =IF(Horendonk!X9="", "", ROUND(Horendonk!X9 / IF(AND(COUNT(Horendonk!$C9:$O9,Horendonk!$U9:X9) <= 3, ISNUMBER($C9)), $C9, $E9) * 10, 3)) | Y9: =IF(Horendonk!Y9="", "", ROUND(Horendonk!Y9 / IF(AND(COUNT(Horendonk!$C9:$O9,Horendonk!$U9:Y9) <= 3, ISNUMBER($C9)), $C9, $E9) * 10, 3)) | Z9: =IF(Horendonk!Z9="", "", ROUND(Horendonk!Z9 / IF(AND(COUNT(Horendonk!$C9:$O9,Horendonk!$U9:Z9) <= 3, ISNUMBER($C9)), $C9, $E9) * 10, 3)) | AA9: =IF(Horendonk!AA9="", "", ROUND(Horendonk!AA9 / IF(AND(COUNT(Horendonk!$C9:$O9,Horendonk!$U9:AA9) <= 3, ISNUMBER($C9)), $C9, $E9) * 10, 3)) | AB9: =IF(Horendonk!AB9="", "", ROUND(Horendonk!AB9 / IF(AND(COUNT(Horendonk!$C9:$O9,Horendonk!$U9:AB9) <= 3, ISNUMBER($C9)), $C9, $E9) * 10, 3)) | ... AG9: =IF(Horendonk!AG9="", "", ROUND(Horendonk!AG9 / IF(AND(COUNT(Horendonk!$C9:$O9,Horendonk!$U9:AG9) <= 3, ISNUMBER($C9)), $C9, $E9) * 10, 3))
A10: =IF(Horendonk!AM10=0, "", Horendonk!AM10) -> 5 | B10: =Horendonk!A10 -> Oerlemans Willy | C10: =IFERROR(VALUE(MID($B10, SEARCH("[NS ", $B10)+4, 2)), "") | D10: =Horendonk!B10 -> 27 | E10: =Horendonk!T10 -> 27 | F10: =IF(Horendonk!AL10=0," ",SUM(H10:AG10)) -> 56.667 | H10: =IF(Horendonk!C10="", "", ROUND(Horendonk!C10 / IF(AND(COUNT(Horendonk!$C10:C10) <= 3, ISNUMBER($C10)), $C10, $D10) * 10, 3)) -> 9.259 | I10: =IF(Horendonk!D10="", "", ROUND(Horendonk!D10 / IF(AND(COUNT(Horendonk!$C10:D10) <= 3, ISNUMBER($C10)), $C10, $D10) * 10, 3)) -> 5.926 | J10: =IF(Horendonk!E10="", "", ROUND(Horendonk!E10 / IF(AND(COUNT(Horendonk!$C10:E10) <= 3, ISNUMBER($C10)), $C10, $D10) * 10, 3)) | K10: =IF(Horendonk!F10="", "", ROUND(Horendonk!F10 / IF(AND(COUNT(Horendonk!$C10:F10) <= 3, ISNUMBER($C10)), $C10, $D10) * 10, 3)) | L10: =IF(Horendonk!G10="", "", ROUND(Horendonk!G10 / IF(AND(COUNT(Horendonk!$C10:G10) <= 3, ISNUMBER($C10)), $C10, $D10) * 10, 3)) -> 15.185 | M10: =IF(Horendonk!H10="", "", ROUND(Horendonk!H10 / IF(AND(COUNT(Horendonk!$C10:H10) <= 3, ISNUMBER($C10)), $C10, $D10) * 10, 3)) | N10: =IF(Horendonk!I10="", "", ROUND(Horendonk!I10 / IF(AND(COUNT(Horendonk!$C10:I10) <= 3, ISNUMBER($C10)), $C10, $D10) * 10, 3)) -> 9.63 | O10: =IF(Horendonk!J10="", "", ROUND(Horendonk!J10 / IF(AND(COUNT(Horendonk!$C10:J10) <= 3, ISNUMBER($C10)), $C10, $D10) * 10, 3)) -> 16.667 | ... T10: =IF(Horendonk!O10="", "", ROUND(Horendonk!O10 / IF(AND(COUNT(Horendonk!$C10:O10) <= 3, ISNUMBER($C10)), $C10, $D10) * 10, 3)) | U10: =IF(Horendonk!U10="", "", ROUND(Horendonk!U10 / IF(AND(COUNT(Horendonk!$C10:$O10,Horendonk!$U10:U10) <= 3, ISNUMBER($C10)), $C10, $E10) * 10, 3)) | V10: =IF(Horendonk!V10="", "", ROUND(Horendonk!V10 / IF(AND(COUNT(Horendonk!$C10:$O10,Horendonk!$U10:V10) <= 3, ISNUMBER($C10)), $C10, $E10) * 10, 3)) | W10: =IF(Horendonk!W10="", "", ROUND(Horendonk!W10 / IF(AND(COUNT(Horendonk!$C10:$O10,Horendonk!$U10:W10) <= 3, ISNUMBER($C10)), $C10, $E10) * 10, 3)) | X10: =IF(Horendonk!X10="", "", ROUND(Horendonk!X10 / IF(AND(COUNT(Horendonk!$C10:$O10,Horendonk!$U10:X10) <= 3, ISNUMBER($C10)), $C10, $E10) * 10, 3)) | Y10: =IF(Horendonk!Y10="", "", ROUND(Horendonk!Y10 / IF(AND(COUNT(Horendonk!$C10:$O10,Horendonk!$U10:Y10) <= 3, ISNUMBER($C10)), $C10, $E10) * 10, 3)) | Z10: =IF(Horendonk!Z10="", "", ROUND(Horendonk!Z10 / IF(AND(COUNT(Horendonk!$C10:$O10,Horendonk!$U10:Z10) <= 3, ISNUMBER($C10)), $C10, $E10) * 10, 3)) | AA10: =IF(Horendonk!AA10="", "", ROUND(Horendonk!AA10 / IF(AND(COUNT(Horendonk!$C10:$O10,Horendonk!$U10:AA10) <= 3, ISNUMBER($C10)), $C10, $E10) * 10, 3)) | AB10: =IF(Horendonk!AB10="", "", ROUND(Horendonk!AB10 / IF(AND(COUNT(Horendonk!$C10:$O10,Horendonk!$U10:AB10) <= 3, ISNUMBER($C10)), $C10, $E10) * 10, 3)) | ... AG10: =IF(Horendonk!AG10="", "", ROUND(Horendonk!AG10 / IF(AND(COUNT(Horendonk!$C10:$O10,Horendonk!$U10:AG10) <= 3, ISNUMBER($C10)), $C10, $E10) * 10, 3))
A11: =IF(Horendonk!AM11=0, "", Horendonk!AM11) -> 3 | B11: =Horendonk!A11 -> Siemons Jos | C11: =IFERROR(VALUE(MID($B11, SEARCH("[NS ", $B11)+4, 2)), "") | D11: =Horendonk!B11 -> 25 | E11: =Horendonk!T11 -> 25 | F11: =IF(Horendonk!AL11=0," ",SUM(H11:AG11)) -> 29.2 | H11: =IF(Horendonk!C11="", "", ROUND(Horendonk!C11 / IF(AND(COUNT(Horendonk!$C11:C11) <= 3, ISNUMBER($C11)), $C11, $D11) * 10, 3)) -> 8 | I11: =IF(Horendonk!D11="", "", ROUND(Horendonk!D11 / IF(AND(COUNT(Horendonk!$C11:D11) <= 3, ISNUMBER($C11)), $C11, $D11) * 10, 3)) | J11: =IF(Horendonk!E11="", "", ROUND(Horendonk!E11 / IF(AND(COUNT(Horendonk!$C11:E11) <= 3, ISNUMBER($C11)), $C11, $D11) * 10, 3)) -> 11.6 | K11: =IF(Horendonk!F11="", "", ROUND(Horendonk!F11 / IF(AND(COUNT(Horendonk!$C11:F11) <= 3, ISNUMBER($C11)), $C11, $D11) * 10, 3)) | L11: =IF(Horendonk!G11="", "", ROUND(Horendonk!G11 / IF(AND(COUNT(Horendonk!$C11:G11) <= 3, ISNUMBER($C11)), $C11, $D11) * 10, 3)) | M11: =IF(Horendonk!H11="", "", ROUND(Horendonk!H11 / IF(AND(COUNT(Horendonk!$C11:H11) <= 3, ISNUMBER($C11)), $C11, $D11) * 10, 3)) | N11: =IF(Horendonk!I11="", "", ROUND(Horendonk!I11 / IF(AND(COUNT(Horendonk!$C11:I11) <= 3, ISNUMBER($C11)), $C11, $D11) * 10, 3)) | O11: =IF(Horendonk!J11="", "", ROUND(Horendonk!J11 / IF(AND(COUNT(Horendonk!$C11:J11) <= 3, ISNUMBER($C11)), $C11, $D11) * 10, 3)) -> 9.6 | ... T11: =IF(Horendonk!O11="", "", ROUND(Horendonk!O11 / IF(AND(COUNT(Horendonk!$C11:O11) <= 3, ISNUMBER($C11)), $C11, $D11) * 10, 3)) | U11: =IF(Horendonk!U11="", "", ROUND(Horendonk!U11 / IF(AND(COUNT(Horendonk!$C11:$O11,Horendonk!$U11:U11) <= 3, ISNUMBER($C11)), $C11, $E11) * 10, 3)) | V11: =IF(Horendonk!V11="", "", ROUND(Horendonk!V11 / IF(AND(COUNT(Horendonk!$C11:$O11,Horendonk!$U11:V11) <= 3, ISNUMBER($C11)), $C11, $E11) * 10, 3)) | W11: =IF(Horendonk!W11="", "", ROUND(Horendonk!W11 / IF(AND(COUNT(Horendonk!$C11:$O11,Horendonk!$U11:W11) <= 3, ISNUMBER($C11)), $C11, $E11) * 10, 3)) | X11: =IF(Horendonk!X11="", "", ROUND(Horendonk!X11 / IF(AND(COUNT(Horendonk!$C11:$O11,Horendonk!$U11:X11) <= 3, ISNUMBER($C11)), $C11, $E11) * 10, 3)) | Y11: =IF(Horendonk!Y11="", "", ROUND(Horendonk!Y11 / IF(AND(COUNT(Horendonk!$C11:$O11,Horendonk!$U11:Y11) <= 3, ISNUMBER($C11)), $C11, $E11) * 10, 3)) | Z11: =IF(Horendonk!Z11="", "", ROUND(Horendonk!Z11 / IF(AND(COUNT(Horendonk!$C11:$O11,Horendonk!$U11:Z11) <= 3, ISNUMBER($C11)), $C11, $E11) * 10, 3)) | AA11: =IF(Horendonk!AA11="", "", ROUND(Horendonk!AA11 / IF(AND(COUNT(Horendonk!$C11:$O11,Horendonk!$U11:AA11) <= 3, ISNUMBER($C11)), $C11, $E11) * 10, 3)) | AB11: =IF(Horendonk!AB11="", "", ROUND(Horendonk!AB11 / IF(AND(COUNT(Horendonk!$C11:$O11,Horendonk!$U11:AB11) <= 3, ISNUMBER($C11)), $C11, $E11) * 10, 3)) | ... AG11: =IF(Horendonk!AG11="", "", ROUND(Horendonk!AG11 / IF(AND(COUNT(Horendonk!$C11:$O11,Horendonk!$U11:AG11) <= 3, ISNUMBER($C11)), $C11, $E11) * 10, 3))
A12: =IF(Horendonk!AM12=0, "", Horendonk!AM12) -> 5 | B12: =Horendonk!A12 -> Van Aert André | C12: =IFERROR(VALUE(MID($B12, SEARCH("[NS ", $B12)+4, 2)), "") | D12: =Horendonk!B12 -> 29 | E12: =Horendonk!T12 -> 29 | F12: =IF(Horendonk!AL12=0," ",SUM(H12:AG12)) -> 54.827 | H12: =IF(Horendonk!C12="", "", ROUND(Horendonk!C12 / IF(AND(COUNT(Horendonk!$C12:C12) <= 3, ISNUMBER($C12)), $C12, $D12) * 10, 3)) | I12: =IF(Horendonk!D12="", "", ROUND(Horendonk!D12 / IF(AND(COUNT(Horendonk!$C12:D12) <= 3, ISNUMBER($C12)), $C12, $D12) * 10, 3)) -> 7.241 | J12: =IF(Horendonk!E12="", "", ROUND(Horendonk!E12 / IF(AND(COUNT(Horendonk!$C12:E12) <= 3, ISNUMBER($C12)), $C12, $D12) * 10, 3)) -> 11.724 | K12: =IF(Horendonk!F12="", "", ROUND(Horendonk!F12 / IF(AND(COUNT(Horendonk!$C12:F12) <= 3, ISNUMBER($C12)), $C12, $D12) * 10, 3)) -> 12.414 | L12: =IF(Horendonk!G12="", "", ROUND(Horendonk!G12 / IF(AND(COUNT(Horendonk!$C12:G12) <= 3, ISNUMBER($C12)), $C12, $D12) * 10, 3)) -> 12.069 | M12: =IF(Horendonk!H12="", "", ROUND(Horendonk!H12 / IF(AND(COUNT(Horendonk!$C12:H12) <= 3, ISNUMBER($C12)), $C12, $D12) * 10, 3)) | N12: =IF(Horendonk!I12="", "", ROUND(Horendonk!I12 / IF(AND(COUNT(Horendonk!$C12:I12) <= 3, ISNUMBER($C12)), $C12, $D12) * 10, 3)) | O12: =IF(Horendonk!J12="", "", ROUND(Horendonk!J12 / IF(AND(COUNT(Horendonk!$C12:J12) <= 3, ISNUMBER($C12)), $C12, $D12) * 10, 3)) -> 11.379 | ... T12: =IF(Horendonk!O12="", "", ROUND(Horendonk!O12 / IF(AND(COUNT(Horendonk!$C12:O12) <= 3, ISNUMBER($C12)), $C12, $D12) * 10, 3)) | U12: =IF(Horendonk!U12="", "", ROUND(Horendonk!U12 / IF(AND(COUNT(Horendonk!$C12:$O12,Horendonk!$U12:U12) <= 3, ISNUMBER($C12)), $C12, $E12) * 10, 3)) | V12: =IF(Horendonk!V12="", "", ROUND(Horendonk!V12 / IF(AND(COUNT(Horendonk!$C12:$O12,Horendonk!$U12:V12) <= 3, ISNUMBER($C12)), $C12, $E12) * 10, 3)) | W12: =IF(Horendonk!W12="", "", ROUND(Horendonk!W12 / IF(AND(COUNT(Horendonk!$C12:$O12,Horendonk!$U12:W12) <= 3, ISNUMBER($C12)), $C12, $E12) * 10, 3)) | X12: =IF(Horendonk!X12="", "", ROUND(Horendonk!X12 / IF(AND(COUNT(Horendonk!$C12:$O12,Horendonk!$U12:X12) <= 3, ISNUMBER($C12)), $C12, $E12) * 10, 3)) | Y12: =IF(Horendonk!Y12="", "", ROUND(Horendonk!Y12 / IF(AND(COUNT(Horendonk!$C12:$O12,Horendonk!$U12:Y12) <= 3, ISNUMBER($C12)), $C12, $E12) * 10, 3)) | Z12: =IF(Horendonk!Z12="", "", ROUND(Horendonk!Z12 / IF(AND(COUNT(Horendonk!$C12:$O12,Horendonk!$U12:Z12) <= 3, ISNUMBER($C12)), $C12, $E12) * 10, 3)) | AA12: =IF(Horendonk!AA12="", "", ROUND(Horendonk!AA12 / IF(AND(COUNT(Horendonk!$C12:$O12,Horendonk!$U12:AA12) <= 3, ISNUMBER($C12)), $C12, $E12) * 10, 3)) | AB12: =IF(Horendonk!AB12="", "", ROUND(Horendonk!AB12 / IF(AND(COUNT(Horendonk!$C12:$O12,Horendonk!$U12:AB12) <= 3, ISNUMBER($C12)), $C12, $E12) * 10, 3)) | ... AG12: =IF(Horendonk!AG12="", "", ROUND(Horendonk!AG12 / IF(AND(COUNT(Horendonk!$C12:$O12,Horendonk!$U12:AG12) <= 3, ISNUMBER($C12)), $C12, $E12) * 10, 3))
A13: =IF(Horendonk!AM13=0, "", Horendonk!AM13) -> 5 | B13: =Horendonk!A13 -> Van De Pas Erik [NS 20] | C13: =IFERROR(VALUE(MID($B13, SEARCH("[NS ", $B13)+4, 2)), "") -> 20 | D13: =Horendonk!B13 -> 15 | E13: =Horendonk!T13 -> 15 | F13: =IF(Horendonk!AL13=0," ",SUM(H13:AG13)) -> 31.667 | H13: =IF(Horendonk!C13="", "", ROUND(Horendonk!C13 / IF(AND(COUNT(Horendonk!$C13:C13) <= 3, ISNUMBER($C13)), $C13, $D13) * 10, 3)) -> 4.5 | I13: =IF(Horendonk!D13="", "", ROUND(Horendonk!D13 / IF(AND(COUNT(Horendonk!$C13:D13) <= 3, ISNUMBER($C13)), $C13, $D13) * 10, 3)) | J13: =IF(Horendonk!E13="", "", ROUND(Horendonk!E13 / IF(AND(COUNT(Horendonk!$C13:E13) <= 3, ISNUMBER($C13)), $C13, $D13) * 10, 3)) -> 5.5 | K13: =IF(Horendonk!F13="", "", ROUND(Horendonk!F13 / IF(AND(COUNT(Horendonk!$C13:F13) <= 3, ISNUMBER($C13)), $C13, $D13) * 10, 3)) | L13: =IF(Horendonk!G13="", "", ROUND(Horendonk!G13 / IF(AND(COUNT(Horendonk!$C13:G13) <= 3, ISNUMBER($C13)), $C13, $D13) * 10, 3)) -> 5 | M13: =IF(Horendonk!H13="", "", ROUND(Horendonk!H13 / IF(AND(COUNT(Horendonk!$C13:H13) <= 3, ISNUMBER($C13)), $C13, $D13) * 10, 3)) -> 12 | N13: =IF(Horendonk!I13="", "", ROUND(Horendonk!I13 / IF(AND(COUNT(Horendonk!$C13:I13) <= 3, ISNUMBER($C13)), $C13, $D13) * 10, 3)) -> 4.667 | O13: =IF(Horendonk!J13="", "", ROUND(Horendonk!J13 / IF(AND(COUNT(Horendonk!$C13:J13) <= 3, ISNUMBER($C13)), $C13, $D13) * 10, 3)) | ... T13: =IF(Horendonk!O13="", "", ROUND(Horendonk!O13 / IF(AND(COUNT(Horendonk!$C13:O13) <= 3, ISNUMBER($C13)), $C13, $D13) * 10, 3)) | U13: =IF(Horendonk!U13="", "", ROUND(Horendonk!U13 / IF(AND(COUNT(Horendonk!$C13:$O13,Horendonk!$U13:U13) <= 3, ISNUMBER($C13)), $C13, $E13) * 10, 3)) | V13: =IF(Horendonk!V13="", "", ROUND(Horendonk!V13 / IF(AND(COUNT(Horendonk!$C13:$O13,Horendonk!$U13:V13) <= 3, ISNUMBER($C13)), $C13, $E13) * 10, 3)) | W13: =IF(Horendonk!W13="", "", ROUND(Horendonk!W13 / IF(AND(COUNT(Horendonk!$C13:$O13,Horendonk!$U13:W13) <= 3, ISNUMBER($C13)), $C13, $E13) * 10, 3)) | X13: =IF(Horendonk!X13="", "", ROUND(Horendonk!X13 / IF(AND(COUNT(Horendonk!$C13:$O13,Horendonk!$U13:X13) <= 3, ISNUMBER($C13)), $C13, $E13) * 10, 3)) | Y13: =IF(Horendonk!Y13="", "", ROUND(Horendonk!Y13 / IF(AND(COUNT(Horendonk!$C13:$O13,Horendonk!$U13:Y13) <= 3, ISNUMBER($C13)), $C13, $E13) * 10, 3)) | Z13: =IF(Horendonk!Z13="", "", ROUND(Horendonk!Z13 / IF(AND(COUNT(Horendonk!$C13:$O13,Horendonk!$U13:Z13) <= 3, ISNUMBER($C13)), $C13, $E13) * 10, 3)) | AA13: =IF(Horendonk!AA13="", "", ROUND(Horendonk!AA13 / IF(AND(COUNT(Horendonk!$C13:$O13,Horendonk!$U13:AA13) <= 3, ISNUMBER($C13)), $C13, $E13) * 10, 3)) | AB13: =IF(Horendonk!AB13="", "", ROUND(Horendonk!AB13 / IF(AND(COUNT(Horendonk!$C13:$O13,Horendonk!$U13:AB13) <= 3, ISNUMBER($C13)), $C13, $E13) * 10, 3)) | ... AG13: =IF(Horendonk!AG13="", "", ROUND(Horendonk!AG13 / IF(AND(COUNT(Horendonk!$C13:$O13,Horendonk!$U13:AG13) <= 3, ISNUMBER($C13)), $C13, $E13) * 10, 3))
A14: =IF(Horendonk!AM14=0, "", Horendonk!AM14) -> 5 | B14: =Horendonk!A14 -> Vergouwen René | C14: =IFERROR(VALUE(MID($B14, SEARCH("[NS ", $B14)+4, 2)), "") | D14: =Horendonk!B14 -> 28 | E14: =Horendonk!T14 -> 28 | F14: =IF(Horendonk!AL14=0," ",SUM(H14:AG14)) -> 63.214 | H14: =IF(Horendonk!C14="", "", ROUND(Horendonk!C14 / IF(AND(COUNT(Horendonk!$C14:C14) <= 3, ISNUMBER($C14)), $C14, $D14) * 10, 3)) -> 10.357 | I14: =IF(Horendonk!D14="", "", ROUND(Horendonk!D14 / IF(AND(COUNT(Horendonk!$C14:D14) <= 3, ISNUMBER($C14)), $C14, $D14) * 10, 3)) | J14: =IF(Horendonk!E14="", "", ROUND(Horendonk!E14 / IF(AND(COUNT(Horendonk!$C14:E14) <= 3, ISNUMBER($C14)), $C14, $D14) * 10, 3)) -> 14.643 | K14: =IF(Horendonk!F14="", "", ROUND(Horendonk!F14 / IF(AND(COUNT(Horendonk!$C14:F14) <= 3, ISNUMBER($C14)), $C14, $D14) * 10, 3)) | L14: =IF(Horendonk!G14="", "", ROUND(Horendonk!G14 / IF(AND(COUNT(Horendonk!$C14:G14) <= 3, ISNUMBER($C14)), $C14, $D14) * 10, 3)) -> 14.643 | M14: =IF(Horendonk!H14="", "", ROUND(Horendonk!H14 / IF(AND(COUNT(Horendonk!$C14:H14) <= 3, ISNUMBER($C14)), $C14, $D14) * 10, 3)) -> 13.214 | N14: =IF(Horendonk!I14="", "", ROUND(Horendonk!I14 / IF(AND(COUNT(Horendonk!$C14:I14) <= 3, ISNUMBER($C14)), $C14, $D14) * 10, 3)) | O14: =IF(Horendonk!J14="", "", ROUND(Horendonk!J14 / IF(AND(COUNT(Horendonk!$C14:J14) <= 3, ISNUMBER($C14)), $C14, $D14) * 10, 3)) -> 10.357 | ... T14: =IF(Horendonk!O14="", "", ROUND(Horendonk!O14 / IF(AND(COUNT(Horendonk!$C14:O14) <= 3, ISNUMBER($C14)), $C14, $D14) * 10, 3)) | U14: =IF(Horendonk!U14="", "", ROUND(Horendonk!U14 / IF(AND(COUNT(Horendonk!$C14:$O14,Horendonk!$U14:U14) <= 3, ISNUMBER($C14)), $C14, $E14) * 10, 3)) | V14: =IF(Horendonk!V14="", "", ROUND(Horendonk!V14 / IF(AND(COUNT(Horendonk!$C14:$O14,Horendonk!$U14:V14) <= 3, ISNUMBER($C14)), $C14, $E14) * 10, 3)) | W14: =IF(Horendonk!W14="", "", ROUND(Horendonk!W14 / IF(AND(COUNT(Horendonk!$C14:$O14,Horendonk!$U14:W14) <= 3, ISNUMBER($C14)), $C14, $E14) * 10, 3)) | X14: =IF(Horendonk!X14="", "", ROUND(Horendonk!X14 / IF(AND(COUNT(Horendonk!$C14:$O14,Horendonk!$U14:X14) <= 3, ISNUMBER($C14)), $C14, $E14) * 10, 3)) | Y14: =IF(Horendonk!Y14="", "", ROUND(Horendonk!Y14 / IF(AND(COUNT(Horendonk!$C14:$O14,Horendonk!$U14:Y14) <= 3, ISNUMBER($C14)), $C14, $E14) * 10, 3)) | Z14: =IF(Horendonk!Z14="", "", ROUND(Horendonk!Z14 / IF(AND(COUNT(Horendonk!$C14:$O14,Horendonk!$U14:Z14) <= 3, ISNUMBER($C14)), $C14, $E14) * 10, 3)) | AA14: =IF(Horendonk!AA14="", "", ROUND(Horendonk!AA14 / IF(AND(COUNT(Horendonk!$C14:$O14,Horendonk!$U14:AA14) <= 3, ISNUMBER($C14)), $C14, $E14) * 10, 3)) | AB14: =IF(Horendonk!AB14="", "", ROUND(Horendonk!AB14 / IF(AND(COUNT(Horendonk!$C14:$O14,Horendonk!$U14:AB14) <= 3, ISNUMBER($C14)), $C14, $E14) * 10, 3)) | ... AG14: =IF(Horendonk!AG14="", "", ROUND(Horendonk!AG14 / IF(AND(COUNT(Horendonk!$C14:$O14,Horendonk!$U14:AG14) <= 3, ISNUMBER($C14)), $C14, $E14) * 10, 3))
A15: =IF(Horendonk!AM15=0, "", Horendonk!AM15) | B15: =Horendonk!A15 -> 0 | C15: =IFERROR(VALUE(MID($B15, SEARCH("[NS ", $B15)+4, 2)), "") | D15: =Horendonk!B15 -> 0 | E15: =Horendonk!T15 -> 0 | F15: =IF(Horendonk!AL15=0," ",SUM(H15:AG15)) | H15: =IF(Horendonk!C15="", "", ROUND(Horendonk!C15 / IF(AND(COUNT(Horendonk!$C15:C15) <= 3, ISNUMBER($C15)), $C15, $D15) * 10, 3)) | I15: =IF(Horendonk!D15="", "", ROUND(Horendonk!D15 / IF(AND(COUNT(Horendonk!$C15:D15) <= 3, ISNUMBER($C15)), $C15, $D15) * 10, 3)) | J15: =IF(Horendonk!E15="", "", ROUND(Horendonk!E15 / IF(AND(COUNT(Horendonk!$C15:E15) <= 3, ISNUMBER($C15)), $C15, $D15) * 10, 3)) | K15: =IF(Horendonk!F15="", "", ROUND(Horendonk!F15 / IF(AND(COUNT(Horendonk!$C15:F15) <= 3, ISNUMBER($C15)), $C15, $D15) * 10, 3)) | L15: =IF(Horendonk!G15="", "", ROUND(Horendonk!G15 / IF(AND(COUNT(Horendonk!$C15:G15) <= 3, ISNUMBER($C15)), $C15, $D15) * 10, 3)) | M15: =IF(Horendonk!H15="", "", ROUND(Horendonk!H15 / IF(AND(COUNT(Horendonk!$C15:H15) <= 3, ISNUMBER($C15)), $C15, $D15) * 10, 3)) | N15: =IF(Horendonk!I15="", "", ROUND(Horendonk!I15 / IF(AND(COUNT(Horendonk!$C15:I15) <= 3, ISNUMBER($C15)), $C15, $D15) * 10, 3)) | O15: =IF(Horendonk!J15="", "", ROUND(Horendonk!J15 / IF(AND(COUNT(Horendonk!$C15:J15) <= 3, ISNUMBER($C15)), $C15, $D15) * 10, 3)) | ... T15: =IF(Horendonk!O15="", "", ROUND(Horendonk!O15 / IF(AND(COUNT(Horendonk!$C15:O15) <= 3, ISNUMBER($C15)), $C15, $D15) * 10, 3)) | U15: =IF(Horendonk!U15="", "", ROUND(Horendonk!U15 / IF(AND(COUNT(Horendonk!$C15:$O15,Horendonk!$U15:U15) <= 3, ISNUMBER($C15)), $C15, $E15) * 10, 3)) | V15: =IF(Horendonk!V15="", "", ROUND(Horendonk!V15 / IF(AND(COUNT(Horendonk!$C15:$O15,Horendonk!$U15:V15) <= 3, ISNUMBER($C15)), $C15, $E15) * 10, 3)) | W15: =IF(Horendonk!W15="", "", ROUND(Horendonk!W15 / IF(AND(COUNT(Horendonk!$C15:$O15,Horendonk!$U15:W15) <= 3, ISNUMBER($C15)), $C15, $E15) * 10, 3)) | X15: =IF(Horendonk!X15="", "", ROUND(Horendonk!X15 / IF(AND(COUNT(Horendonk!$C15:$O15,Horendonk!$U15:X15) <= 3, ISNUMBER($C15)), $C15, $E15) * 10, 3)) | Y15: =IF(Horendonk!Y15="", "", ROUND(Horendonk!Y15 / IF(AND(COUNT(Horendonk!$C15:$O15,Horendonk!$U15:Y15) <= 3, ISNUMBER($C15)), $C15, $E15) * 10, 3)) | Z15: =IF(Horendonk!Z15="", "", ROUND(Horendonk!Z15 / IF(AND(COUNT(Horendonk!$C15:$O15,Horendonk!$U15:Z15) <= 3, ISNUMBER($C15)), $C15, $E15) * 10, 3)) | AA15: =IF(Horendonk!AA15="", "", ROUND(Horendonk!AA15 / IF(AND(COUNT(Horendonk!$C15:$O15,Horendonk!$U15:AA15) <= 3, ISNUMBER($C15)), $C15, $E15) * 10, 3)) | AB15: =IF(Horendonk!AB15="", "", ROUND(Horendonk!AB15 / IF(AND(COUNT(Horendonk!$C15:$O15,Horendonk!$U15:AB15) <= 3, ISNUMBER($C15)), $C15, $E15) * 10, 3)) | ... AG15: =IF(Horendonk!AG15="", "", ROUND(Horendonk!AG15 / IF(AND(COUNT(Horendonk!$C15:$O15,Horendonk!$U15:AG15) <= 3, ISNUMBER($C15)), $C15, $E15) * 10, 3))
B16: =Horendonk!A16 -> 0 | C16: =IFERROR(VALUE(MID($B16, SEARCH("[NS ", $B16)+4, 2)), "") | D16: =Horendonk!B16 -> 0 | E16: =Horendonk!T16 -> 0 | F16: =IF(Horendonk!AL16=0," ",SUM(H16:AG16)) | H16: =IF(Horendonk!C16="", "", ROUND(Horendonk!C16 / IF(AND(COUNT(Horendonk!$C16:C16) <= 3, ISNUMBER($C16)), $C16, $D16) * 10, 3)) | I16: =IF(Horendonk!D16="", "", ROUND(Horendonk!D16 / IF(AND(COUNT(Horendonk!$C16:D16) <= 3, ISNUMBER($C16)), $C16, $D16) * 10, 3)) | J16: =IF(Horendonk!E16="", "", ROUND(Horendonk!E16 / IF(AND(COUNT(Horendonk!$C16:E16) <= 3, ISNUMBER($C16)), $C16, $D16) * 10, 3)) | K16: =IF(Horendonk!F16="", "", ROUND(Horendonk!F16 / IF(AND(COUNT(Horendonk!$C16:F16) <= 3, ISNUMBER($C16)), $C16, $D16) * 10, 3)) | L16: =IF(Horendonk!G16="", "", ROUND(Horendonk!G16 / IF(AND(COUNT(Horendonk!$C16:G16) <= 3, ISNUMBER($C16)), $C16, $D16) * 10, 3)) | M16: =IF(Horendonk!H16="", "", ROUND(Horendonk!H16 / IF(AND(COUNT(Horendonk!$C16:H16) <= 3, ISNUMBER($C16)), $C16, $D16) * 10, 3)) | N16: =IF(Horendonk!I16="", "", ROUND(Horendonk!I16 / IF(AND(COUNT(Horendonk!$C16:I16) <= 3, ISNUMBER($C16)), $C16, $D16) * 10, 3)) | O16: =IF(Horendonk!J16="", "", ROUND(Horendonk!J16 / IF(AND(COUNT(Horendonk!$C16:J16) <= 3, ISNUMBER($C16)), $C16, $D16) * 10, 3)) | ... T16: =IF(Horendonk!O16="", "", ROUND(Horendonk!O16 / IF(AND(COUNT(Horendonk!$C16:O16) <= 3, ISNUMBER($C16)), $C16, $D16) * 10, 3)) | U16: =IF(Horendonk!U16="", "", ROUND(Horendonk!U16 / IF(AND(COUNT(Horendonk!$C16:$O16,Horendonk!$U16:U16) <= 3, ISNUMBER($C16)), $C16, $E16) * 10, 3)) | V16: =IF(Horendonk!V16="", "", ROUND(Horendonk!V16 / IF(AND(COUNT(Horendonk!$C16:$O16,Horendonk!$U16:V16) <= 3, ISNUMBER($C16)), $C16, $E16) * 10, 3)) | W16: =IF(Horendonk!W16="", "", ROUND(Horendonk!W16 / IF(AND(COUNT(Horendonk!$C16:$O16,Horendonk!$U16:W16) <= 3, ISNUMBER($C16)), $C16, $E16) * 10, 3)) | X16: =IF(Horendonk!X16="", "", ROUND(Horendonk!X16 / IF(AND(COUNT(Horendonk!$C16:$O16,Horendonk!$U16:X16) <= 3, ISNUMBER($C16)), $C16, $E16) * 10, 3)) | Y16: =IF(Horendonk!Y16="", "", ROUND(Horendonk!Y16 / IF(AND(COUNT(Horendonk!$C16:$O16,Horendonk!$U16:Y16) <= 3, ISNUMBER($C16)), $C16, $E16) * 10, 3)) | Z16: =IF(Horendonk!Z16="", "", ROUND(Horendonk!Z16 / IF(AND(COUNT(Horendonk!$C16:$O16,Horendonk!$U16:Z16) <= 3, ISNUMBER($C16)), $C16, $E16) * 10, 3)) | AA16: =IF(Horendonk!AA16="", "", ROUND(Horendonk!AA16 / IF(AND(COUNT(Horendonk!$C16:$O16,Horendonk!$U16:AA16) <= 3, ISNUMBER($C16)), $C16, $E16) * 10, 3)) | AB16: =IF(Horendonk!AB16="", "", ROUND(Horendonk!AB16 / IF(AND(COUNT(Horendonk!$C16:$O16,Horendonk!$U16:AB16) <= 3, ISNUMBER($C16)), $C16, $E16) * 10, 3)) | ... AG16: =IF(Horendonk!AG16="", "", ROUND(Horendonk!AG16 / IF(AND(COUNT(Horendonk!$C16:$O16,Horendonk!$U16:AG16) <= 3, ISNUMBER($C16)), $C16, $E16) * 10, 3))
B17: =Horendonk!A17 -> 0 | C17: =IFERROR(VALUE(MID($B17, SEARCH("[NS ", $B17)+4, 2)), "") | D17: =Horendonk!B17 -> 0 | E17: =Horendonk!T17 -> 0 | F17: =IF(Horendonk!AL17=0," ",SUM(H17:AG17)) | H17: =IF(Horendonk!C17="", "", ROUND(Horendonk!C17 / IF(AND(COUNT(Horendonk!$C17:C17) <= 3, ISNUMBER($C17)), $C17, $D17) * 10, 3)) | I17: =IF(Horendonk!D17="", "", ROUND(Horendonk!D17 / IF(AND(COUNT(Horendonk!$C17:D17) <= 3, ISNUMBER($C17)), $C17, $D17) * 10, 3)) | J17: =IF(Horendonk!E17="", "", ROUND(Horendonk!E17 / IF(AND(COUNT(Horendonk!$C17:E17) <= 3, ISNUMBER($C17)), $C17, $D17) * 10, 3)) | K17: =IF(Horendonk!F17="", "", ROUND(Horendonk!F17 / IF(AND(COUNT(Horendonk!$C17:F17) <= 3, ISNUMBER($C17)), $C17, $D17) * 10, 3)) | L17: =IF(Horendonk!G17="", "", ROUND(Horendonk!G17 / IF(AND(COUNT(Horendonk!$C17:G17) <= 3, ISNUMBER($C17)), $C17, $D17) * 10, 3)) | M17: =IF(Horendonk!H17="", "", ROUND(Horendonk!H17 / IF(AND(COUNT(Horendonk!$C17:H17) <= 3, ISNUMBER($C17)), $C17, $D17) * 10, 3)) | N17: =IF(Horendonk!I17="", "", ROUND(Horendonk!I17 / IF(AND(COUNT(Horendonk!$C17:I17) <= 3, ISNUMBER($C17)), $C17, $D17) * 10, 3)) | O17: =IF(Horendonk!J17="", "", ROUND(Horendonk!J17 / IF(AND(COUNT(Horendonk!$C17:J17) <= 3, ISNUMBER($C17)), $C17, $D17) * 10, 3)) | ... T17: =IF(Horendonk!O17="", "", ROUND(Horendonk!O17 / IF(AND(COUNT(Horendonk!$C17:O17) <= 3, ISNUMBER($C17)), $C17, $D17) * 10, 3)) | U17: =IF(Horendonk!U17="", "", ROUND(Horendonk!U17 / IF(AND(COUNT(Horendonk!$C17:$O17,Horendonk!$U17:U17) <= 3, ISNUMBER($C17)), $C17, $E17) * 10, 3)) | V17: =IF(Horendonk!V17="", "", ROUND(Horendonk!V17 / IF(AND(COUNT(Horendonk!$C17:$O17,Horendonk!$U17:V17) <= 3, ISNUMBER($C17)), $C17, $E17) * 10, 3)) | W17: =IF(Horendonk!W17="", "", ROUND(Horendonk!W17 / IF(AND(COUNT(Horendonk!$C17:$O17,Horendonk!$U17:W17) <= 3, ISNUMBER($C17)), $C17, $E17) * 10, 3)) | X17: =IF(Horendonk!X17="", "", ROUND(Horendonk!X17 / IF(AND(COUNT(Horendonk!$C17:$O17,Horendonk!$U17:X17) <= 3, ISNUMBER($C17)), $C17, $E17) * 10, 3)) | Y17: =IF(Horendonk!Y17="", "", ROUND(Horendonk!Y17 / IF(AND(COUNT(Horendonk!$C17:$O17,Horendonk!$U17:Y17) <= 3, ISNUMBER($C17)), $C17, $E17) * 10, 3)) | Z17: =IF(Horendonk!Z17="", "", ROUND(Horendonk!Z17 / IF(AND(COUNT(Horendonk!$C17:$O17,Horendonk!$U17:Z17) <= 3, ISNUMBER($C17)), $C17, $E17) * 10, 3)) | AA17: =IF(Horendonk!AA17="", "", ROUND(Horendonk!AA17 / IF(AND(COUNT(Horendonk!$C17:$O17,Horendonk!$U17:AA17) <= 3, ISNUMBER($C17)), $C17, $E17) * 10, 3)) | AB17: =IF(Horendonk!AB17="", "", ROUND(Horendonk!AB17 / IF(AND(COUNT(Horendonk!$C17:$O17,Horendonk!$U17:AB17) <= 3, ISNUMBER($C17)), $C17, $E17) * 10, 3)) | ... AG17: =IF(Horendonk!AG17="", "", ROUND(Horendonk!AG17 / IF(AND(COUNT(Horendonk!$C17:$O17,Horendonk!$U17:AG17) <= 3, ISNUMBER($C17)), $C17, $E17) * 10, 3))
B18: =Horendonk!A18 -> 0 | C18: =IFERROR(VALUE(MID($B18, SEARCH("[NS ", $B18)+4, 2)), "") | D18: =Horendonk!B18 -> 0 | E18: =Horendonk!T18 -> 0 | F18: =IF(Horendonk!AL18=0," ",SUM(H18:AG18)) | H18: =IF(Horendonk!C18="", "", ROUND(Horendonk!C18 / IF(AND(COUNT(Horendonk!$C18:C18) <= 3, ISNUMBER($C18)), $C18, $D18) * 10, 3)) | I18: =IF(Horendonk!D18="", "", ROUND(Horendonk!D18 / IF(AND(COUNT(Horendonk!$C18:D18) <= 3, ISNUMBER($C18)), $C18, $D18) * 10, 3)) | J18: =IF(Horendonk!E18="", "", ROUND(Horendonk!E18 / IF(AND(COUNT(Horendonk!$C18:E18) <= 3, ISNUMBER($C18)), $C18, $D18) * 10, 3)) | K18: =IF(Horendonk!F18="", "", ROUND(Horendonk!F18 / IF(AND(COUNT(Horendonk!$C18:F18) <= 3, ISNUMBER($C18)), $C18, $D18) * 10, 3)) | L18: =IF(Horendonk!G18="", "", ROUND(Horendonk!G18 / IF(AND(COUNT(Horendonk!$C18:G18) <= 3, ISNUMBER($C18)), $C18, $D18) * 10, 3)) | M18: =IF(Horendonk!H18="", "", ROUND(Horendonk!H18 / IF(AND(COUNT(Horendonk!$C18:H18) <= 3, ISNUMBER($C18)), $C18, $D18) * 10, 3)) | N18: =IF(Horendonk!I18="", "", ROUND(Horendonk!I18 / IF(AND(COUNT(Horendonk!$C18:I18) <= 3, ISNUMBER($C18)), $C18, $D18) * 10, 3)) | O18: =IF(Horendonk!J18="", "", ROUND(Horendonk!J18 / IF(AND(COUNT(Horendonk!$C18:J18) <= 3, ISNUMBER($C18)), $C18, $D18) * 10, 3)) | ... T18: =IF(Horendonk!O18="", "", ROUND(Horendonk!O18 / IF(AND(COUNT(Horendonk!$C18:O18) <= 3, ISNUMBER($C18)), $C18, $D18) * 10, 3)) | U18: =IF(Horendonk!U18="", "", ROUND(Horendonk!U18 / IF(AND(COUNT(Horendonk!$C18:$O18,Horendonk!$U18:U18) <= 3, ISNUMBER($C18)), $C18, $E18) * 10, 3)) | V18: =IF(Horendonk!V18="", "", ROUND(Horendonk!V18 / IF(AND(COUNT(Horendonk!$C18:$O18,Horendonk!$U18:V18) <= 3, ISNUMBER($C18)), $C18, $E18) * 10, 3)) | W18: =IF(Horendonk!W18="", "", ROUND(Horendonk!W18 / IF(AND(COUNT(Horendonk!$C18:$O18,Horendonk!$U18:W18) <= 3, ISNUMBER($C18)), $C18, $E18) * 10, 3)) | X18: =IF(Horendonk!X18="", "", ROUND(Horendonk!X18 / IF(AND(COUNT(Horendonk!$C18:$O18,Horendonk!$U18:X18) <= 3, ISNUMBER($C18)), $C18, $E18) * 10, 3)) | Y18: =IF(Horendonk!Y18="", "", ROUND(Horendonk!Y18 / IF(AND(COUNT(Horendonk!$C18:$O18,Horendonk!$U18:Y18) <= 3, ISNUMBER($C18)), $C18, $E18) * 10, 3)) | Z18: =IF(Horendonk!Z18="", "", ROUND(Horendonk!Z18 / IF(AND(COUNT(Horendonk!$C18:$O18,Horendonk!$U18:Z18) <= 3, ISNUMBER($C18)), $C18, $E18) * 10, 3)) | AA18: =IF(Horendonk!AA18="", "", ROUND(Horendonk!AA18 / IF(AND(COUNT(Horendonk!$C18:$O18,Horendonk!$U18:AA18) <= 3, ISNUMBER($C18)), $C18, $E18) * 10, 3)) | AB18: =IF(Horendonk!AB18="", "", ROUND(Horendonk!AB18 / IF(AND(COUNT(Horendonk!$C18:$O18,Horendonk!$U18:AB18) <= 3, ISNUMBER($C18)), $C18, $E18) * 10, 3)) | ... AG18: =IF(Horendonk!AG18="", "", ROUND(Horendonk!AG18 / IF(AND(COUNT(Horendonk!$C18:$O18,Horendonk!$U18:AG18) <= 3, ISNUMBER($C18)), $C18, $E18) * 10, 3))
