Workbook

Sheet Rangschikking Eind
A1: 2 | D1: Rangschikking 2026 - 2027
H2: Laatst gewijzigd
A3: 1 | D3: Gemeentelijke Competitie | H3: =Rangschikking!E3 -> 46310
D4: =IF(A8=26,"EINDSTAND", "TUSSENSTAND" ) -> TUSSENSTAND
L5: CONTROLE T/M RONDE | M5: CONTROLE PER RONDE
B6: Gespeeld | C6: Ploeg | D6: Punten | E6: Caramboles | F6: CLUB-KAMPIOEN | I6: NIEUW GEMIDDELDE | J6: WEDSTRIJDEN GESPEELD | L6: 1 | M6: 1
A8: =COUNTIF(Punten!$H$247:'Punten'!$AG$247,">0") -> 8 | B8: W | C8: Wildert 2 | D8: =Punten!$F$248 -> 425.063 | E8: =Wildert2!$AL$19 -> 1697 | F8: =IFERROR(INDEX(Wildert2!$A$4:$A$18,MATCH(MAX(Wildert2!$AP$4:$AP$18),Wildert2!$AP$4:$AP$18,0)),"") -> V.D. Bossche Eddy [NS 30] | H8: =MAX(Wildert2!$AP$4:$AP$18) -> 100 | I8: =IFERROR(VLOOKUP($F8,Wildert2!$A$4:$AO$18,40,0),"") -> 45 | J8: =IFERROR(VLOOKUP($F8,Wildert2!$A$4:$AO$18,39,0),"") -> 4 | L8: =VLOOKUP($C8,Punten!$G$4:$AG$267,1+$L$6,0) -> 59.726 | M8: =VLOOKUP($C8,Punten!$F$4:$AG$267,2+$M$6,0) -> 59.726
A9: =COUNTIF(Punten!$H$95:'Punten'!$AG$95,">0") -> 8 | B9: W | C9: Molenheike | D9: =Punten!$F$96 -> 435.804 | E9: =Molenheike!$AL$19 -> 1546 | F9: =IFERROR(INDEX(Molenheike!$A$4:$A$18,MATCH(MAX(Molenheike!$AP$4:$AP$18),Molenheike!$AP$4:$AP$18,0)),"") -> Uytdewilligen Marc [NS 32] | H9: =MAX(Meeuwkes!$AP$4:$AP$18) -> 109.62963 | I9: =IFERROR(VLOOKUP($F9,Molenheike!$A$4:$AO$18,40,0),"") -> 36.5 | J9: =IFERROR(VLOOKUP($F9,Molenheike!$A$4:$AO$18,39,0),"") -> 6 | L9: =VLOOKUP($C9,Punten!$G$4:$AG$267,1+$L$6,0) -> 47.256 | M9: =VLOOKUP($C9,Punten!$F$4:$AG$267,2+$M$6,0) -> 47.256
A10: =COUNTIF(Punten!$H$152:'Punten'!$AG$152,">0") -> 8 | B10: W | C10: Rebelse Meeuwkes | D10: =Punten!$F$153 -> 441.083 | E10: =Meeuwkes!$AL$19 -> 1480 | F10: =IFERROR(INDEX(Meeuwkes!$A$4:$A$18,MATCH(MAX(Meeuwkes!$AP$4:$AP$18),Meeuwkes!$AP$4:$AP$18,0)),"") -> Van Hees Eduard | H10: =MAX(Putte!$AP$4:$AP$18) -> 107.61905 | I10: =IFERROR(VLOOKUP($F10,Meeuwkes!$A$4:$AO$18,40,0),"") -> 29.6 | J10: =IFERROR(VLOOKUP($F10,Meeuwkes!$A$4:$AO$18,39,0),"") -> 5 | L10: =VLOOKUP($C10,Punten!$G$4:$AG$267,1+$L$6,0) -> 57.184 | M10: =VLOOKUP($C10,Punten!$F$4:$AG$267,2+$M$6,0) -> 57.184
A11: =COUNTIF(Punten!$H$76:'Punten'!$AG$76,">0") -> 8 | B11: W | C11: Meeuwen 2 | D11: =Punten!$F$77 -> 454.545 | E11: =Meeuwen2!$AL$19 -> 1663 | F11: =IFERROR(INDEX(Meeuwen2!$A$4:$A$18,MATCH(MAX(Meeuwen2!$AP$4:$AP$18),Meeuwen2!$AP$4:$AP$18,0)),"") -> Lucassen Rini | H11: =MAX(DeBeek!$AP$4:$AP$18) -> 126.51515 | I11: =IFERROR(VLOOKUP($F11,Meeuwen2!$A$4:$AO$18,40,0),"") -> 40.6 | J11: =IFERROR(VLOOKUP($F11,Meeuwen2!$A$4:$AO$18,39,0),"") -> 5 | L11: =VLOOKUP($C11,Punten!$G$4:$AG$267,1+$L$6,0) -> 51.613 | M11: =VLOOKUP($C11,Punten!$F$4:$AG$267,2+$M$6,0) -> 51.613
A12: =COUNTIF(Punten!H209:'Punten'!AG209,">0") -> 8 | B12: W | C12: Sen. Putte | D12: =Punten!$F$210 -> 459.786 | E12: =Putte!$AL$19 -> 1346 | F12: =IFERROR(INDEX(Putte!$A$4:$A$18,MATCH(MAX(Putte!$AP$4:$AP$18),Putte!$AP$4:$AP$18,0)),"") -> Eyckmans Luc | H12: =MAX(Molenheike!$AP$4:$AP$18) -> 110.60606 | I12: =IFERROR(VLOOKUP($F12,Putte!$A$4:$AO$18,40,0),"") -> 22.6 | J12: =IFERROR(VLOOKUP($F12,Putte!$A$4:$AO$18,39,0),"") -> 5 | L12: =VLOOKUP($C12,Punten!$G$4:$AG$267,1+$L$6,0) -> 61.102 | M12: =VLOOKUP($C12,Punten!$F$4:$AG$267,2+$M$6,0) -> 61.102
A13: =COUNTIF(Punten!H133:'Punten'!AG133,">0") -> 8 | B13: W | C13: Oude Glorie | D13: =Punten!$F$134 -> 414.207 | E13: =Oudeglorie!$AL$19 -> 1352 | F13: =IFERROR(INDEX(Oudeglorie!$A$4:$A$18,MATCH(MAX(Oudeglorie!$AP$4:$AP$18),Oudeglorie!$AP$4:$AP$18,0)),"") -> Gommers Jac | H13: =MAX(Nispen!$AP$4:$AP$18) -> 119.04762 | I13: =IFERROR(VLOOKUP($F13,Oudeglorie!$A$4:$AO$18,40,0),"") -> 19.5 | J13: =IFERROR(VLOOKUP($F13,Oudeglorie!$A$4:$AO$18,39,0),"") -> 4 | L13: =VLOOKUP($C13,Punten!$G$4:$AG$267,1+$L$6,0) -> 46.99 | M13: =VLOOKUP($C13,Punten!$F$4:$AG$267,2+$M$6,0) -> 46.99
A14: =COUNTIF(Punten!$H$266:'Punten'!$AG$266,">0") -> 8 | B14: W | C14: BC de Beek | D14: =Punten!$F$267 -> 475.433 | E14: =DeBeek!$AL$19 -> 1605 | F14: =IFERROR(INDEX(DeBeek!$A$4:$A$18,MATCH(MAX(DeBeek!$AP$4:$AP$18),DeBeek!$AP$4:$AP$18,0)),"") -> Binnemans Rene | H14: =MAX(Rooiebal2!$AP$4:$AP$18) -> 120 | I14: =IFERROR(VLOOKUP($F14,DeBeek!$A$4:$AO$18,40,0),"") -> 41.75 | J14: =IFERROR(VLOOKUP($F14,DeBeek!$A$4:$AO$18,39,0),"") -> 4 | L14: =VLOOKUP($C14,Punten!$G$4:$AG$267,1+$L$6,0) -> 61.7 | M14: =VLOOKUP($C14,Punten!$F$4:$AG$267,2+$M$6,0) -> 61.7
A15: =COUNTIF(Punten!$H$228:'Punten'!$AG$228,">0") -> 8 | B15: W | C15: Wildert 1 | D15: =Punten!$F$229 -> 499.953 | E15: =Wildert1!$AL$19 -> 1693 | F15: =IFERROR(INDEX(Wildert1!$A$4:$A$18,MATCH(MAX(Wildert1!$AP$4:$AP$18),Wildert1!$AP$4:$AP$18,0)),"") -> Adriaansen Jan | H15: =MAX(Meeuwen2!$AP$4:$AP$18) -> 140 | I15: =IFERROR(VLOOKUP($F15,Wildert1!$A$4:$AO$18,40,0),"") -> 23 | J15: =IFERROR(VLOOKUP($F15,Wildert1!$A$4:$AO$18,39,0),"") -> 4 | L15: =VLOOKUP($C15,Punten!$G$4:$AG$267,1+$L$6,0) -> 73.872 | M15: =VLOOKUP($C15,Punten!$F$4:$AG$267,2+$M$6,0) -> 73.872
A16: =COUNTIF(Punten!$H$114:'Punten'!$AG$114,">0") -> 8 | B16: W | C16: Nispen Gem. | D16: =Punten!$F$115 -> 472.772 | E16: =Nispen!$AL$19 -> 1487 | F16: =IFERROR(INDEX(Nispen!$A$4:$A$18,MATCH(MAX(Nispen!$AP$4:$AP$18),Nispen!$AP$4:$AP$18,0)),"") -> Klijn Toon | H16: =MAX(Rooiebal1!$AP$4:$AP$18) -> 120 | I16: =IFERROR(VLOOKUP($F16,Nispen!$A$4:$AO$18,40,0),"") -> 21.428571 | J16: =IFERROR(VLOOKUP($F16,Nispen!$A$4:$AO$18,39,0),"") -> 7 | L16: =VLOOKUP($C16,Punten!$G$4:$AG$267,1+$L$6,0) -> 63.39 | M16: =VLOOKUP($C16,Punten!$F$4:$AG$267,2+$M$6,0) -> 63.39
A17: =COUNTIF(Punten!$H$190:'Punten'!$AG$190,">0") -> 8 | B17: W | C17: Rooie Bal 2 | D17: =Punten!$F$191 -> 446.8 | E17: =Rooiebal2!$AL$19 -> 1322 | F17: =IFERROR(INDEX(Rooiebal2!$A$4:$A$18,MATCH(MAX(Rooiebal2!$AP$4:$AP$18),Rooiebal2!$AP$4:$AP$18,0)),"") -> Suykerbuyk Cis | H17: =MAX(Oudeglorie!$AP$4:$AP$18) -> 108.33333 | I17: =IFERROR(VLOOKUP($F17,Rooiebal2!$A$4:$AO$18,40,0),"") -> 18 | J17: =IFERROR(VLOOKUP($F17,Rooiebal2!$A$4:$AO$18,39,0),"") -> 5 | L17: =VLOOKUP($C17,Punten!$G$4:$AG$267,1+$L$6,0) -> 48.713 | M17: =VLOOKUP($C17,Punten!$F$4:$AG$267,2+$M$6,0) -> 48.713
A18: =COUNTIF(Punten!$H$38:'Punten'!$AG$38,">0") -> 8 | B18: W | C18: Kerkuilen | D18: =Punten!$F$39 -> 454.939 | E18: =Kerkuilen!$AL$19 -> 1835 | F18: =IFERROR(INDEX(Kerkuilen!$A$4:$A$18,MATCH(MAX(Kerkuilen!$AP$4:$AP$18),Kerkuilen!$AP$4:$AP$18,0)),"") -> Jacobis Martin | H18: =MAX(Wildert1!$AP$4:$AP$18) -> 143.75 | I18: =IFERROR(VLOOKUP($F18,Kerkuilen!$A$4:$AO$18,40,0),"") -> 28.75 | J18: =IFERROR(VLOOKUP($F18,Kerkuilen!$A$4:$AO$18,39,0),"") -> 4 | L18: =VLOOKUP($C18,Punten!$G$4:$AG$267,1+$L$6,0) -> 61.004 | M18: =VLOOKUP($C18,Punten!$F$4:$AG$267,2+$M$6,0) -> 61.004
A19: =COUNTIF(Punten!$H$19:'Punten'!$AG$19,">0") -> 8 | B19: W | C19: Horendonk | D19: =Punten!$F$20 -> 499.734 | E19: =Horendonk!$AL$19 -> 1342 | F19: =IFERROR(INDEX(Horendonk!$A$4:$A$18,MATCH(MAX(Horendonk!$AP$4:$AP$18),Horendonk!$AP$4:$AP$18,0)),"") -> Ansems Ferre | H19: =MAX(Kerkuilen!$AP$4:$AP$18) -> 119.79167 | I19: =IFERROR(VLOOKUP($F19,Horendonk!$A$4:$AP18,40,0),"") -> 29.75 | J19: =IFERROR(VLOOKUP($F19,Horendonk!$A$4:$AO$18,39,0),"") -> 4 | L19: =VLOOKUP($C19,Punten!$G$4:$AG$267,1+$L$6,0) -> 54.222 | M19: =VLOOKUP($C19,Punten!$F$4:$AG$267,2+$M$6,0) -> 54.222
A20: =COUNTIF(Punten!$H$171:'Punten'!$AG$171,">0") -> 8 | B20: W | C20: Rooie Bal 1 | D20: =Punten!$F$172 -> 472.133 | E20: =Rooiebal1!$AL$19 -> 1519 | F20: =IFERROR(INDEX(Rooiebal1!$A$4:$A$18,MATCH(MAX(Rooiebal1!$AP$4:$AP$18),Rooiebal1!$AP$4:$AP$18,0)),"") -> Nelen Marc [ OS ] | H20: =MAX(Horendonk!$AP$4:$AP$18) -> 135.22727 | I20: =IFERROR(VLOOKUP($F20,Rooiebal1!$A$4:$AO$18,40,0),"") -> 30 | J20: =IFERROR(VLOOKUP($F20,Rooiebal1!$A$4:$AO$18,39,0),"") -> 4 | L20: =VLOOKUP($C20,Punten!$G$4:$AG$267,1+$L$6,0) -> 53.399 | M20: =VLOOKUP($C20,Punten!$F$4:$AG$267,2+$M$6,0) -> 53.399
A21: =COUNTIF(Punten!$H$57:'Punten'!$AG$57,">0") -> 8 | B21: W | C21: Meeuwen 1 | D21: =Punten!$F$58 -> 446.655 | E21: =Meeuwen1!$AL$19 -> 1116 | F21: =IFERROR(INDEX(Meeuwen1!$A$4:$A$18,MATCH(MAX(Meeuwen1!$AP$4:$AP$18),Meeuwen1!$AP$4:$AP$18,0)),"") -> Aerts Adri | H21: =MAX(Meeuwen1!$AP$4:$AP$18) -> 114.21569 | I21: =IFERROR(VLOOKUP($F21,Meeuwen1!$A$4:$AO$18,40,0),"") -> 38.833333 | J21: =IFERROR(VLOOKUP($F21,Meeuwen1!$A$4:$AO$18,39,0),"") -> 6 | L21: =VLOOKUP($C21,Punten!$G$4:$AG$267,1+$L$6,0) -> 51.913 | M21: =VLOOKUP($C21,Punten!$F$4:$AG$267,2+$M$6,0) -> 51.913
B27: Uitslagen en evoluties zijn wekelijks te volgen op:
B28: https://blog.seniorennet.be/GSE_Essen

Sheet Rangschikking
A1: 0 | B1: Rangschikking 2026 - 2027
E2: Laatst gewijzigd
A3: 4 | B3: Gemeentelijke Competitie | E3: 46310
B4: =IF(A8=26,"EINDSTAND", "TUSSENSTAND" ) -> TUSSENSTAND
L5: CONTROLE T/M RONDE | M5: CONTROLE PER RONDE
B6: Gespeeld | C6: Ploeg | D6: Punten | E6: Caramboles | F6: CLUB-KAMPIOEN | I6: NIEUW GEMIDDELDE | J6: WEDSTRIJDEN GESPEELD | L6: 8 | M6: 8
A8: =COUNTIF(Punten!$H$228:'Punten'!$AG$228,">0") -> 8 | B8: W | C8: Wildert 1 | D8: =Punten!$F$229 -> 499.953 | E8: =Wildert1!$AL$19 -> 1693 | F8: =IFERROR(INDEX(Wildert1!$A$4:$A$18,MATCH(MAX(Wildert1!$AP$4:$AP$18),Wildert1!$AP$4:$AP$18,0)),"") -> Adriaansen Jan | H8: =MAX(Wildert1!$AP$4:$AP$18) -> 143.75 | I8: =IFERROR(VLOOKUP($F8,Wildert1!$A$4:$AO$18,40,0),"") -> 23 | J8: =IFERROR(VLOOKUP($F8,Wildert1!$A$4:$AO$18,39,0),"") -> 4 | L8: =IFERROR(VLOOKUP($C8,Punten!$G$4:$AG$267,1+$L$6,0),"") -> 499.953 | M8: =IFERROR(VLOOKUP($C8,Punten!$F$4:$AG$267,2+$M$6,0),"") -> 60.94
A9: =COUNTIF(Punten!$H$19:'Punten'!$AG$19,">0") -> 8 | B9: W | C9: Horendonk | D9: =Punten!$F$20 -> 499.734 | E9: =Horendonk!$AL$19 -> 1342 | F9: =IFERROR(INDEX(Horendonk!$A$4:$A$18,MATCH(MAX(Horendonk!$AP$4:$AP$18),Horendonk!$AP$4:$AP$18,0)),"") -> Ansems Ferre | H9: =MAX(Horendonk!$AP$4:$AP$18) -> 135.22727 | I9: =IFERROR(VLOOKUP($F9,Horendonk!$A$4:$AP18,40,0),"") -> 29.75 | J9: =IFERROR(VLOOKUP($F9,Horendonk!$A$4:$AO$18,39,0),"") -> 4 | L9: =IFERROR(VLOOKUP($C9,Punten!$G$4:$AG$267,1+$L$6,0),"") -> 499.734 | M9: =IFERROR(VLOOKUP($C9,Punten!$F$4:$AG$267,2+$M$6,0),"") -> 66.557
A10: =COUNTIF(Punten!$H$266:'Punten'!$AG$266,">0") -> 8 | B10: W | C10: BC de Beek | D10: =Punten!$F$267 -> 475.433 | E10: =DeBeek!$AL$19 -> 1605 | F10: =IFERROR(INDEX(DeBeek!$A$4:$A$18,MATCH(MAX(DeBeek!$AP$4:$AP$18),DeBeek!$AP$4:$AP$18,0)),"") -> Binnemans Rene | H10: =MAX(DeBeek!$AP$4:$AP$18) -> 126.51515 | I10: =IFERROR(VLOOKUP($F10,DeBeek!$A$4:$AO$18,40,0),"") -> 41.75 | J10: =IFERROR(VLOOKUP($F10,DeBeek!$A$4:$AO$18,39,0),"") -> 4 | L10: =IFERROR(VLOOKUP($C10,Punten!$G$4:$AG$267,1+$L$6,0),"") -> 475.433 | M10: =IFERROR(VLOOKUP($C10,Punten!$F$4:$AG$267,2+$M$6,0),"") -> 63.985
A11: =COUNTIF(Punten!$H$114:'Punten'!$AG$114,">0") -> 8 | B11: W | C11: Nispen Gem. | D11: =Punten!$F$115 -> 472.772 | E11: =Nispen!$AL$19 -> 1487 | F11: =IFERROR(INDEX(Nispen!$A$4:$A$18,MATCH(MAX(Nispen!$AP$4:$AP$18),Nispen!$AP$4:$AP$18,0)),"") -> Klijn Toon | H11: =MAX(Nispen!$AP$4:$AP$18) -> 119.04762 | I11: =IFERROR(VLOOKUP($F11,Nispen!$A$4:$AO$18,40,0),"") -> 21.428571 | J11: =IFERROR(VLOOKUP($F11,Nispen!$A$4:$AO$18,39,0),"") -> 7 | L11: =IFERROR(VLOOKUP($C11,Punten!$G$4:$AG$267,1+$L$6,0),"") -> 472.772 | M11: =IFERROR(VLOOKUP($C11,Punten!$F$4:$AG$267,2+$M$6,0),"") -> 68
A12: =COUNTIF(Punten!$H$171:'Punten'!$AG$171,">0") -> 8 | B12: W | C12: Rooie Bal 1 | D12: =Punten!$F$172 -> 472.133 | E12: =Rooiebal1!$AL$19 -> 1519 | F12: =IFERROR(INDEX(Rooiebal1!$A$4:$A$18,MATCH(MAX(Rooiebal1!$AP$4:$AP$18),Rooiebal1!$AP$4:$AP$18,0)),"") -> Nelen Marc [ OS ] | H12: =MAX(Rooiebal1!$AP$4:$AP$18) -> 120 | I12: =IFERROR(VLOOKUP($F12,Rooiebal1!$A$4:$AO$18,40,0),"") -> 30 | J12: =IFERROR(VLOOKUP($F12,Rooiebal1!$A$4:$AO$18,39,0),"") -> 4 | L12: =IFERROR(VLOOKUP($C12,Punten!$G$4:$AG$267,1+$L$6,0),"") -> 472.133 | M12: =IFERROR(VLOOKUP($C12,Punten!$F$4:$AG$267,2+$M$6,0),"") -> 68.444
A13: =COUNTIF(Punten!H209:'Punten'!AG209,">0") -> 8 | B13: W | C13: Sen. Putte | D13: =Punten!$F$210 -> 459.786 | E13: =Putte!$AL$19 -> 1346 | F13: =IFERROR(INDEX(Putte!$A$4:$A$18,MATCH(MAX(Putte!$AP$4:$AP$18),Putte!$AP$4:$AP$18,0)),"") -> Eyckmans Luc | H13: =MAX(Putte!$AP$4:$AP$18) -> 107.61905 | I13: =IFERROR(VLOOKUP($F13,Putte!$A$4:$AO$18,40,0),"") -> 22.6 | J13: =IFERROR(VLOOKUP($F13,Putte!$A$4:$AO$18,39,0),"") -> 5 | L13: =IFERROR(VLOOKUP($C13,Punten!$G$4:$AG$267,1+$L$6,0),"") -> 459.786 | M13: =IFERROR(VLOOKUP($C13,Punten!$F$4:$AG$267,2+$M$6,0),"") -> 50.435
A14: =COUNTIF(Punten!$H$38:'Punten'!$AG$38,">0") -> 8 | B14: W | C14: Kerkuilen | D14: =Punten!$F$39 -> 454.939 | E14: =Kerkuilen!$AL$19 -> 1835 | F14: =IFERROR(INDEX(Kerkuilen!$A$4:$A$18,MATCH(MAX(Kerkuilen!$AP$4:$AP$18),Kerkuilen!$AP$4:$AP$18,0)),"") -> Jacobis Martin | H14: =MAX(Kerkuilen!$AP$4:$AP$18) -> 119.79167 | I14: =IFERROR(VLOOKUP($F14,Kerkuilen!$A$4:$AO$18,40,0),"") -> 28.75 | J14: =IFERROR(VLOOKUP($F14,Kerkuilen!$A$4:$AO$18,39,0),"") -> 4 | L14: =IFERROR(VLOOKUP($C14,Punten!$G$4:$AG$267,1+$L$6,0),"") -> 454.939 | M14: =IFERROR(VLOOKUP($C14,Punten!$F$4:$AG$267,2+$M$6,0),"") -> 58.195
A15: =COUNTIF(Punten!$H$76:'Punten'!$AG$76,">0") -> 8 | B15: W | C15: Meeuwen 2 | D15: =Punten!$F$77 -> 454.545 | E15: =Meeuwen2!$AL$19 -> 1663 | F15: =IFERROR(INDEX(Meeuwen2!$A$4:$A$18,MATCH(MAX(Meeuwen2!$AP$4:$AP$18),Meeuwen2!$AP$4:$AP$18,0)),"") -> Lucassen Rini | H15: =MAX(Meeuwen2!$AP$4:$AP$18) -> 140 | I15: =IFERROR(VLOOKUP($F15,Meeuwen2!$A$4:$AO$18,40,0),"") -> 40.6 | J15: =IFERROR(VLOOKUP($F15,Meeuwen2!$A$4:$AO$18,39,0),"") -> 5 | L15: =IFERROR(VLOOKUP($C15,Punten!$G$4:$AG$267,1+$L$6,0),"") -> 454.545 | M15: =IFERROR(VLOOKUP($C15,Punten!$F$4:$AG$267,2+$M$6,0),"") -> 52.375
A16: =COUNTIF(Punten!$H$190:'Punten'!$AG$190,">0") -> 8 | B16: W | C16: Rooie Bal 2 | D16: =Punten!$F$191 -> 446.8 | E16: =Rooiebal2!$AL$19 -> 1322 | F16: =IFERROR(INDEX(Rooiebal2!$A$4:$A$18,MATCH(MAX(Rooiebal2!$AP$4:$AP$18),Rooiebal2!$AP$4:$AP$18,0)),"") -> Suykerbuyk Cis | H16: =MAX(Rooiebal2!$AP$4:$AP$18) -> 120 | I16: =IFERROR(VLOOKUP($F16,Rooiebal2!$A$4:$AO$18,40,0),"") -> 18 | J16: =IFERROR(VLOOKUP($F16,Rooiebal2!$A$4:$AO$18,39,0),"") -> 5 | L16: =IFERROR(VLOOKUP($C16,Punten!$G$4:$AG$267,1+$L$6,0),"") -> 446.8 | M16: =IFERROR(VLOOKUP($C16,Punten!$F$4:$AG$267,2+$M$6,0),"") -> 59.871
A17: =COUNTIF(Punten!$H$57:'Punten'!$AG$57,">0") -> 8 | B17: W | C17: Meeuwen 1 | D17: =Punten!$F$58 -> 446.655 | E17: =Meeuwen1!$AL$19 -> 1116 | F17: =IFERROR(INDEX(Meeuwen1!$A$4:$A$18,MATCH(MAX(Meeuwen1!$AP$4:$AP$18),Meeuwen1!$AP$4:$AP$18,0)),"") -> Aerts Adri | H17: =MAX(Meeuwen1!$AP$4:$AP$18) -> 114.21569 | I17: =IFERROR(VLOOKUP($F17,Meeuwen1!$A$4:$AO$18,40,0),"") -> 38.833333 | J17: =IFERROR(VLOOKUP($F17,Meeuwen1!$A$4:$AO$18,39,0),"") -> 6 | L17: =IFERROR(VLOOKUP($C17,Punten!$G$4:$AG$267,1+$L$6,0),"") -> 446.655 | M17: =IFERROR(VLOOKUP($C17,Punten!$F$4:$AG$267,2+$M$6,0),"") -> 63.758
A18: =COUNTIF(Punten!$H$152:'Punten'!$AG$152,">0") -> 8 | B18: W | C18: Rebelse Meeuwkes | D18: =Punten!$F$153 -> 441.083 | E18: =Meeuwkes!$AL$19 -> 1480 | F18: =IFERROR(INDEX(Meeuwkes!$A$4:$A$18,MATCH(MAX(Meeuwkes!$AP$4:$AP$18),Meeuwkes!$AP$4:$AP$18,0)),"") -> Van Hees Eduard | H18: =MAX(Meeuwkes!$AP$4:$AP$18) -> 109.62963 | I18: =IFERROR(VLOOKUP($F18,Meeuwkes!$A$4:$AO$18,40,0),"") -> 29.6 | J18: =IFERROR(VLOOKUP($F18,Meeuwkes!$A$4:$AO$18,39,0),"") -> 5 | L18: =IFERROR(VLOOKUP($C18,Punten!$G$4:$AG$267,1+$L$6,0),"") -> 441.083 | M18: =IFERROR(VLOOKUP($C18,Punten!$F$4:$AG$267,2+$M$6,0),"") -> 57.377
A19: =COUNTIF(Punten!$H$95:'Punten'!$AG$95,">0") -> 8 | B19: W | C19: Molenheike | D19: =Punten!$F$96 -> 435.804 | E19: =Molenheike!$AL$19 -> 1546 | F19: =IFERROR(INDEX(Molenheike!$A$4:$A$18,MATCH(MAX(Molenheike!$AP$4:$AP$18),Molenheike!$AP$4:$AP$18,0)),"") -> Uytdewilligen Marc [NS 32] | H19: =MAX(Molenheike!$AP$4:$AP$18) -> 110.60606 | I19: =IFERROR(VLOOKUP($F19,Molenheike!$A$4:$AO$18,40,0),"") -> 36.5 | J19: =IFERROR(VLOOKUP($F19,Molenheike!$A$4:$AO$18,39,0),"") -> 6 | L19: =IFERROR(VLOOKUP($C19,Punten!$G$4:$AG$267,1+$L$6,0),"") -> 435.804 | M19: =IFERROR(VLOOKUP($C19,Punten!$F$4:$AG$267,2+$M$6,0),"") -> 58.799
A20: =COUNTIF(Punten!$H$247:'Punten'!$AG$247,">0") -> 8 | B20: W | C20: Wildert 2 | D20: =Punten!$F$248 -> 425.063 | E20: =Wildert2!$AL$19 -> 1697 | F20: =IFERROR(INDEX(Wildert2!$A$4:$A$18,MATCH(MAX(Wildert2!$AP$4:$AP$18),Wildert2!$AP$4:$AP$18,0)),"") -> V.D. Bossche Eddy [NS 30] | H20: =MAX(Wildert2!$AP$4:$AP$18) -> 100 | I20: =IFERROR(VLOOKUP($F20,Wildert2!$A$4:$AO$18,40,0),"") -> 45 | J20: =IFERROR(VLOOKUP($F20,Wildert2!$A$4:$AO$18,39,0),"") -> 4 | L20: =IFERROR(VLOOKUP($C20,Punten!$G$4:$AG$267,1+$L$6,0),"") -> 425.063 | M20: =IFERROR(VLOOKUP($C20,Punten!$F$4:$AG$267,2+$M$6,0),"") -> 58.216
A21: =COUNTIF(Punten!H133:'Punten'!AG133,">0") -> 8 | B21: W | C21: Oude Glorie | D21: =Punten!$F$134 -> 414.207 | E21: =Oudeglorie!$AL$19 -> 1352 | F21: =IFERROR(INDEX(Oudeglorie!$A$4:$A$18,MATCH(MAX(Oudeglorie!$AP$4:$AP$18),Oudeglorie!$AP$4:$AP$18,0)),"") -> Gommers Jac | H21: =MAX(Oudeglorie!$AP$4:$AP$18) -> 108.33333 | I21: =IFERROR(VLOOKUP($F21,Oudeglorie!$A$4:$AO$18,40,0),"") -> 19.5 | J21: =IFERROR(VLOOKUP($F21,Oudeglorie!$A$4:$AO$18,39,0),"") -> 4 | L21: =IFERROR(VLOOKUP($C21,Punten!$G$4:$AG$267,1+$L$6,0),"") -> 414.207 | M21: =IFERROR(VLOOKUP($C21,Punten!$F$4:$AG$267,2+$M$6,0),"") -> 56.49
B27: Uitslagen en evoluties zijn wekelijks te volgen op:
B28: https://blog.seniorennet.be/GSE_Essen

Sheet Punten
A1: Aantal | C1: NS | D1: HR | E1: TR | F1: Totaal
A2: wedstrijden | F2: punten
B3: HORENDONK | H3: 1 | I3: 2 | J3: 3 | K3: 4 | L3: 5 | M3: 6 | N3: 7 | O3: 8 | P3: 9 | Q3: 10 | R3: 11 | S3: 12 | T3: 13 | U3: 14 | V3: 15 | W3: 16 | X3: 17 | Y3: 18 | Z3: 19 | AA3: 20 | AB3: 21 | AC3: 22 | AD3: 23 | AE3: 24 | AF3: 25 | AG3: 26
A4: =IF(Horendonk!AM$4=0, "", Horendonk!AM$4) -> 4 | B4: =Horendonk!A4 -> Ansems Ferre | C4: =IFERROR(VALUE(MID($B4, SEARCH("[NS ", $B4)+4, 2)), "") | D4: =Horendonk!B4 -> 22 | E4: =Horendonk!T4 -> 22 | F4: =IF(Horendonk!AL4=0," ",SUM(H4:AG4)) -> 54.091 | H4: =IF(Horendonk!C4="", "", ROUND(Horendonk!C4 / IF(AND(COUNT(Horendonk!$C4:C4) <= 3, ISNUMBER($C4)), $C4, $D4) * 10, 3)) | I4: =IF(Horendonk!D4="", "", ROUND(Horendonk!D4 / IF(AND(COUNT(Horendonk!$C4:D4) <= 3, ISNUMBER($C4)), $C4, $D4) * 10, 3)) -> 8.636 | J4: =IF(Horendonk!E4="", "", ROUND(Horendonk!E4 / IF(AND(COUNT(Horendonk!$C4:E4) <= 3, ISNUMBER($C4)), $C4, $D4) * 10, 3)) | K4: =IF(Horendonk!F4="", "", ROUND(Horendonk!F4 / IF(AND(COUNT(Horendonk!$C4:F4) <= 3, ISNUMBER($C4)), $C4, $D4) * 10, 3)) -> 15.455 | L4: =IF(Horendonk!G4="", "", ROUND(Horendonk!G4 / IF(AND(COUNT(Horendonk!$C4:G4) <= 3, ISNUMBER($C4)), $C4, $D4) * 10, 3)) | M4: =IF(Horendonk!H4="", "", ROUND(Horendonk!H4 / IF(AND(COUNT(Horendonk!$C4:H4) <= 3, ISNUMBER($C4)), $C4, $D4) * 10, 3)) -> 12.273 | N4: =IF(Horendonk!I4="", "", ROUND(Horendonk!I4 / IF(AND(COUNT(Horendonk!$C4:I4) <= 3, ISNUMBER($C4)), $C4, $D4) * 10, 3)) -> 17.727 | O4: =IF(Horendonk!J4="", "", ROUND(Horendonk!J4 / IF(AND(COUNT(Horendonk!$C4:J4) <= 3, ISNUMBER($C4)), $C4, $D4) * 10, 3)) | ... T4: =IF(Horendonk!O4="", "", ROUND(Horendonk!O4 / IF(AND(COUNT(Horendonk!$C4:O4) <= 3, ISNUMBER($C4)), $C4, $D4) * 10, 3)) | U4: =IF(Horendonk!U4="", "", ROUND(Horendonk!U4 / IF(AND(COUNT(Horendonk!$C4:$O4,Horendonk!$U4:U4) <= 3, ISNUMBER($C4)), $C4, $E4) * 10, 3)) | V4: =IF(Horendonk!V4="", "", ROUND(Horendonk!V4 / IF(AND(COUNT(Horendonk!$C4:$O4,Horendonk!$U4:V4) <= 3, ISNUMBER($C4)), $C4, $E4) * 10, 3)) | W4: =IF(Horendonk!W4="", "", ROUND(Horendonk!W4 / IF(AND(COUNT(Horendonk!$C4:$O4,Horendonk!$U4:W4) <= 3, ISNUMBER($C4)), $C4, $E4) * 10, 3)) | X4: =IF(Horendonk!X4="", "", ROUND(Horendonk!X4 / IF(AND(COUNT(Horendonk!$C4:$O4,Horendonk!$U4:X4) <= 3, ISNUMBER($C4)), $C4, $E4) * 10, 3)) | Y4: =IF(Horendonk!Y4="", "", ROUND(Horendonk!Y4 / IF(AND(COUNT(Horendonk!$C4:$O4,Horendonk!$U4:Y4) <= 3, ISNUMBER($C4)), $C4, $E4) * 10, 3)) | Z4: =IF(Horendonk!Z4="", "", ROUND(Horendonk!Z4 / IF(AND(COUNT(Horendonk!$C4:$O4,Horendonk!$U4:Z4) <= 3, ISNUMBER($C4)), $C4, $E4) * 10, 3)) | AA4: =IF(Horendonk!AA4="", "", ROUND(Horendonk!AA4 / IF(AND(COUNT(Horendonk!$C4:$O4,Horendonk!$U4:AA4) <= 3, ISNUMBER($C4)), $C4, $E4) * 10, 3)) | AB4: =IF(Horendonk!AB4="", "", ROUND(Horendonk!AB4 / IF(AND(COUNT(Horendonk!$C4:$O4,Horendonk!$U4:AB4) <= 3, ISNUMBER($C4)), $C4, $E4) * 10, 3)) | ... AG4: =IF(Horendonk!AG4="", "", ROUND(Horendonk!AG4 / IF(AND(COUNT(Horendonk!$C4:$O4,Horendonk!$U4:AG4) <= 3, ISNUMBER($C4)), $C4, $E4) * 10, 3))
A5: =IF(Horendonk!AM5=0, "", Horendonk!AM5) -> 4 | B5: =Horendonk!A5 -> Arnouts Louis | C5: =IFERROR(VALUE(MID($B5, SEARCH("[NS ", $B5)+4, 2)), "") | D5: =Horendonk!B5 -> 34 | E5: =Horendonk!T5 -> 34 | F5: =IF(Horendonk!AL5=0," ",SUM(H5:AG5)) -> 38.529 | H5: =IF(Horendonk!C5="", "", ROUND(Horendonk!C5 / IF(AND(COUNT(Horendonk!$C5:C5) <= 3, ISNUMBER($C5)), $C5, $D5) * 10, 3)) -> 9.706 | I5: =IF(Horendonk!D5="", "", ROUND(Horendonk!D5 / IF(AND(COUNT(Horendonk!$C5:D5) <= 3, ISNUMBER($C5)), $C5, $D5) * 10, 3)) | J5: =IF(Horendonk!E5="", "", ROUND(Horendonk!E5 / IF(AND(COUNT(Horendonk!$C5:E5) <= 3, ISNUMBER($C5)), $C5, $D5) * 10, 3)) | K5: =IF(Horendonk!F5="", "", ROUND(Horendonk!F5 / IF(AND(COUNT(Horendonk!$C5:F5) <= 3, ISNUMBER($C5)), $C5, $D5) * 10, 3)) -> 8.235 | L5: =IF(Horendonk!G5="", "", ROUND(Horendonk!G5 / IF(AND(COUNT(Horendonk!$C5:G5) <= 3, ISNUMBER($C5)), $C5, $D5) * 10, 3)) -> 12.059 | M5: =IF(Horendonk!H5="", "", ROUND(Horendonk!H5 / IF(AND(COUNT(Horendonk!$C5:H5) <= 3, ISNUMBER($C5)), $C5, $D5) * 10, 3)) | N5: =IF(Horendonk!I5="", "", ROUND(Horendonk!I5 / IF(AND(COUNT(Horendonk!$C5:I5) <= 3, ISNUMBER($C5)), $C5, $D5) * 10, 3)) -> 8.529 | O5: =IF(Horendonk!J5="", "", ROUND(Horendonk!J5 / IF(AND(COUNT(Horendonk!$C5:J5) <= 3, ISNUMBER($C5)), $C5, $D5) * 10, 3)) | ... T5: =IF(Horendonk!O5="", "", ROUND(Horendonk!O5 / IF(AND(COUNT(Horendonk!$C5:O5) <= 3, ISNUMBER($C5)), $C5, $D5) * 10, 3)) | U5: =IF(Horendonk!U5="", "", ROUND(Horendonk!U5 / IF(AND(COUNT(Horendonk!$C5:$O5,Horendonk!$U5:U5) <= 3, ISNUMBER($C5)), $C5, $E5) * 10, 3)) | V5: =IF(Horendonk!V5="", "", ROUND(Horendonk!V5 / IF(AND(COUNT(Horendonk!$C5:$O5,Horendonk!$U5:V5) <= 3, ISNUMBER($C5)), $C5, $E5) * 10, 3)) | W5: =IF(Horendonk!W5="", "", ROUND(Horendonk!W5 / IF(AND(COUNT(Horendonk!$C5:$O5,Horendonk!$U5:W5) <= 3, ISNUMBER($C5)), $C5, $E5) * 10, 3)) | X5: =IF(Horendonk!X5="", "", ROUND(Horendonk!X5 / IF(AND(COUNT(Horendonk!$C5:$O5,Horendonk!$U5:X5) <= 3, ISNUMBER($C5)), $C5, $E5) * 10, 3)) | Y5: =IF(Horendonk!Y5="", "", ROUND(Horendonk!Y5 / IF(AND(COUNT(Horendonk!$C5:$O5,Horendonk!$U5:Y5) <= 3, ISNUMBER($C5)), $C5, $E5) * 10, 3)) | Z5: =IF(Horendonk!Z5="", "", ROUND(Horendonk!Z5 / IF(AND(COUNT(Horendonk!$C5:$O5,Horendonk!$U5:Z5) <= 3, ISNUMBER($C5)), $C5, $E5) * 10, 3)) | AA5: =IF(Horendonk!AA5="", "", ROUND(Horendonk!AA5 / IF(AND(COUNT(Horendonk!$C5:$O5,Horendonk!$U5:AA5) <= 3, ISNUMBER($C5)), $C5, $E5) * 10, 3)) | AB5: =IF(Horendonk!AB5="", "", ROUND(Horendonk!AB5 / IF(AND(COUNT(Horendonk!$C5:$O5,Horendonk!$U5:AB5) <= 3, ISNUMBER($C5)), $C5, $E5) * 10, 3)) | ... AG5: =IF(Horendonk!AG5="", "", ROUND(Horendonk!AG5 / IF(AND(COUNT(Horendonk!$C5:$O5,Horendonk!$U5:AG5) <= 3, ISNUMBER($C5)), $C5, $E5) * 10, 3))
A6: =IF(Horendonk!AM6=0, "", Horendonk!AM6) -> 3 | B6: =Horendonk!A6 -> De Backer Jef | C6: =IFERROR(VALUE(MID($B6, SEARCH("[NS ", $B6)+4, 2)), "") | D6: =Horendonk!B6 -> 25 | E6: =Horendonk!T6 -> 25 | F6: =IF(Horendonk!AL6=0," ",SUM(H6:AG6)) -> 40 | H6: =IF(Horendonk!C6="", "", ROUND(Horendonk!C6 / IF(AND(COUNT(Horendonk!$C6:C6) <= 3, ISNUMBER($C6)), $C6, $D6) * 10, 3)) -> 12.4 | I6: =IF(Horendonk!D6="", "", ROUND(Horendonk!D6 / IF(AND(COUNT(Horendonk!$C6:D6) <= 3, ISNUMBER($C6)), $C6, $D6) * 10, 3)) | J6: =IF(Horendonk!E6="", "", ROUND(Horendonk!E6 / IF(AND(COUNT(Horendonk!$C6:E6) <= 3, ISNUMBER($C6)), $C6, $D6) * 10, 3)) | K6: =IF(Horendonk!F6="", "", ROUND(Horendonk!F6 / IF(AND(COUNT(Horendonk!$C6:F6) <= 3, ISNUMBER($C6)), $C6, $D6) * 10, 3)) | L6: =IF(Horendonk!G6="", "", ROUND(Horendonk!G6 / IF(AND(COUNT(Horendonk!$C6:G6) <= 3, ISNUMBER($C6)), $C6, $D6) * 10, 3)) | M6: =IF(Horendonk!H6="", "", ROUND(Horendonk!H6 / IF(AND(COUNT(Horendonk!$C6:H6) <= 3, ISNUMBER($C6)), $C6, $D6) * 10, 3)) -> 14.8 | N6: =IF(Horendonk!I6="", "", ROUND(Horendonk!I6 / IF(AND(COUNT(Horendonk!$C6:I6) <= 3, ISNUMBER($C6)), $C6, $D6) * 10, 3)) -> 12.8 | O6: =IF(Horendonk!J6="", "", ROUND(Horendonk!J6 / IF(AND(COUNT(Horendonk!$C6:J6) <= 3, ISNUMBER($C6)), $C6, $D6) * 10, 3)) | ... T6: =IF(Horendonk!O6="", "", ROUND(Horendonk!O6 / IF(AND(COUNT(Horendonk!$C6:O6) <= 3, ISNUMBER($C6)), $C6, $D6) * 10, 3)) | U6: =IF(Horendonk!U6="", "", ROUND(Horendonk!U6 / IF(AND(COUNT(Horendonk!$C6:$O6,Horendonk!$U6:U6) <= 3, ISNUMBER($C6)), $C6, $E6) * 10, 3)) | V6: =IF(Horendonk!V6="", "", ROUND(Horendonk!V6 / IF(AND(COUNT(Horendonk!$C6:$O6,Horendonk!$U6:V6) <= 3, ISNUMBER($C6)), $C6, $E6) * 10, 3)) | W6: =IF(Horendonk!W6="", "", ROUND(Horendonk!W6 / IF(AND(COUNT(Horendonk!$C6:$O6,Horendonk!$U6:W6) <= 3, ISNUMBER($C6)), $C6, $E6) * 10, 3)) | X6: =IF(Horendonk!X6="", "", ROUND(Horendonk!X6 / IF(AND(COUNT(Horendonk!$C6:$O6,Horendonk!$U6:X6) <= 3, ISNUMBER($C6)), $C6, $E6) * 10, 3)) | Y6: =IF(Horendonk!Y6="", "", ROUND(Horendonk!Y6 / IF(AND(COUNT(Horendonk!$C6:$O6,Horendonk!$U6:Y6) <= 3, ISNUMBER($C6)), $C6, $E6) * 10, 3)) | Z6: =IF(Horendonk!Z6="", "", ROUND(Horendonk!Z6 / IF(AND(COUNT(Horendonk!$C6:$O6,Horendonk!$U6:Z6) <= 3, ISNUMBER($C6)), $C6, $E6) * 10, 3)) | AA6: =IF(Horendonk!AA6="", "", ROUND(Horendonk!AA6 / IF(AND(COUNT(Horendonk!$C6:$O6,Horendonk!$U6:AA6) <= 3, ISNUMBER($C6)), $C6, $E6) * 10, 3)) | AB6: =IF(Horendonk!AB6="", "", ROUND(Horendonk!AB6 / IF(AND(COUNT(Horendonk!$C6:$O6,Horendonk!$U6:AB6) <= 3, ISNUMBER($C6)), $C6, $E6) * 10, 3)) | ... AG6: =IF(Horendonk!AG6="", "", ROUND(Horendonk!AG6 / IF(AND(COUNT(Horendonk!$C6:$O6,Horendonk!$U6:AG6) <= 3, ISNUMBER($C6)), $C6, $E6) * 10, 3))
A7: =IF(Horendonk!AM7=0, "", Horendonk!AM7) -> 6 | B7: =Horendonk!A7 -> Herreyers Remy | C7: =IFERROR(VALUE(MID($B7, SEARCH("[NS ", $B7)+4, 2)), "") | D7: =Horendonk!B7 -> 43 | E7: =Horendonk!T7 -> 43 | F7: =IF(Horendonk!AL7=0," ",SUM(H7:AG7)) -> 51.163 | H7: =IF(Horendonk!C7="", "", ROUND(Horendonk!C7 / IF(AND(COUNT(Horendonk!$C7:C7) <= 3, ISNUMBER($C7)), $C7, $D7) * 10, 3)) | I7: =IF(Horendonk!D7="", "", ROUND(Horendonk!D7 / IF(AND(COUNT(Horendonk!$C7:D7) <= 3, ISNUMBER($C7)), $C7, $D7) * 10, 3)) -> 11.86 | J7: =IF(Horendonk!E7="", "", ROUND(Horendonk!E7 / IF(AND(COUNT(Horendonk!$C7:E7) <= 3, ISNUMBER($C7)), $C7, $D7) * 10, 3)) -> 9.767 | K7: =IF(Horendonk!F7="", "", ROUND(Horendonk!F7 / IF(AND(COUNT(Horendonk!$C7:F7) <= 3, ISNUMBER($C7)), $C7, $D7) * 10, 3)) -> 4.419 | L7: =IF(Horendonk!G7="", "", ROUND(Horendonk!G7 / IF(AND(COUNT(Horendonk!$C7:G7) <= 3, ISNUMBER($C7)), $C7, $D7) * 10, 3)) -> 7.442 | M7: =IF(Horendonk!H7="", "", ROUND(Horendonk!H7 / IF(AND(COUNT(Horendonk!$C7:H7) <= 3, ISNUMBER($C7)), $C7, $D7) * 10, 3)) -> 6.512 | N7: =IF(Horendonk!I7="", "", ROUND(Horendonk!I7 / IF(AND(COUNT(Horendonk!$C7:I7) <= 3, ISNUMBER($C7)), $C7, $D7) * 10, 3)) | O7: =IF(Horendonk!J7="", "", ROUND(Horendonk!J7 / IF(AND(COUNT(Horendonk!$C7:J7) <= 3, ISNUMBER($C7)), $C7, $D7) * 10, 3)) -> 11.163 | ... T7: =IF(Horendonk!O7="", "", ROUND(Horendonk!O7 / IF(AND(COUNT(Horendonk!$C7:O7) <= 3, ISNUMBER($C7)), $C7, $D7) * 10, 3)) | U7: =IF(Horendonk!U7="", "", ROUND(Horendonk!U7 / IF(AND(COUNT(Horendonk!$C7:$O7,Horendonk!$U7:U7) <= 3, ISNUMBER($C7)), $C7, $E7) * 10, 3)) | V7: =IF(Horendonk!V7="", "", ROUND(Horendonk!V7 / IF(AND(COUNT(Horendonk!$C7:$O7,Horendonk!$U7:V7) <= 3, ISNUMBER($C7)), $C7, $E7) * 10, 3)) | W7: =IF(Horendonk!W7="", "", ROUND(Horendonk!W7 / IF(AND(COUNT(Horendonk!$C7:$O7,Horendonk!$U7:W7) <= 3, ISNUMBER($C7)), $C7, $E7) * 10, 3)) | X7: =IF(Horendonk!X7="", "", ROUND(Horendonk!X7 / IF(AND(COUNT(Horendonk!$C7:$O7,Horendonk!$U7:X7) <= 3, ISNUMBER($C7)), $C7, $E7) * 10, 3)) | Y7: =IF(Horendonk!Y7="", "", ROUND(Horendonk!Y7 / IF(AND(COUNT(Horendonk!$C7:$O7,Horendonk!$U7:Y7) <= 3, ISNUMBER($C7)), $C7, $E7) * 10, 3)) | Z7: =IF(Horendonk!Z7="", "", ROUND(Horendonk!Z7 / IF(AND(COUNT(Horendonk!$C7:$O7,Horendonk!$U7:Z7) <= 3, ISNUMBER($C7)), $C7, $E7) * 10, 3)) | AA7: =IF(Horendonk!AA7="", "", ROUND(Horendonk!AA7 / IF(AND(COUNT(Horendonk!$C7:$O7,Horendonk!$U7:AA7) <= 3, ISNUMBER($C7)), $C7, $E7) * 10, 3)) | AB7: =IF(Horendonk!AB7="", "", ROUND(Horendonk!AB7 / IF(AND(COUNT(Horendonk!$C7:$O7,Horendonk!$U7:AB7) <= 3, ISNUMBER($C7)), $C7, $E7) * 10, 3)) | ... AG7: =IF(Horendonk!AG7="", "", ROUND(Horendonk!AG7 / IF(AND(COUNT(Horendonk!$C7:$O7,Horendonk!$U7:AG7) <= 3, ISNUMBER($C7)), $C7, $E7) * 10, 3))
A8: =IF(Horendonk!AM8=0, "", Horendonk!AM8) -> 4 | B8: =Horendonk!A8 -> Maas Guy | C8: =IFERROR(VALUE(MID($B8, SEARCH("[NS ", $B8)+4, 2)), "") | D8: =Horendonk!B8 -> 23 | E8: =Horendonk!T8 -> 23 | F8: =IF(Horendonk!AL8=0," ",SUM(H8:AG8)) -> 43.043 | H8: =IF(Horendonk!C8="", "", ROUND(Horendonk!C8 / IF(AND(COUNT(Horendonk!$C8:C8) <= 3, ISNUMBER($C8)), $C8, $D8) * 10, 3)) | I8: =IF(Horendonk!D8="", "", ROUND(Horendonk!D8 / IF(AND(COUNT(Horendonk!$C8:D8) <= 3, ISNUMBER($C8)), $C8, $D8) * 10, 3)) -> 15.217 | J8: =IF(Horendonk!E8="", "", ROUND(Horendonk!E8 / IF(AND(COUNT(Horendonk!$C8:E8) <= 3, ISNUMBER($C8)), $C8, $D8) * 10, 3)) | K8: =IF(Horendonk!F8="", "", ROUND(Horendonk!F8 / IF(AND(COUNT(Horendonk!$C8:F8) <= 3, ISNUMBER($C8)), $C8, $D8) * 10, 3)) -> 5.652 | L8: =IF(Horendonk!G8="", "", ROUND(Horendonk!G8 / IF(AND(COUNT(Horendonk!$C8:G8) <= 3, ISNUMBER($C8)), $C8, $D8) * 10, 3)) | M8: =IF(Horendonk!H8="", "", ROUND(Horendonk!H8 / IF(AND(COUNT(Horendonk!$C8:H8) <= 3, ISNUMBER($C8)), $C8, $D8) * 10, 3)) -> 14.783 | N8: =IF(Horendonk!I8="", "", ROUND(Horendonk!I8 / IF(AND(COUNT(Horendonk!$C8:I8) <= 3, ISNUMBER($C8)), $C8, $D8) * 10, 3)) | O8: =IF(Horendonk!J8="", "", ROUND(Horendonk!J8 / IF(AND(COUNT(Horendonk!$C8:J8) <= 3, ISNUMBER($C8)), $C8, $D8) * 10, 3)) -> 7.391 | ... T8: =IF(Horendonk!O8="", "", ROUND(Horendonk!O8 / IF(AND(COUNT(Horendonk!$C8:O8) <= 3, ISNUMBER($C8)), $C8, $D8) * 10, 3)) | U8: =IF(Horendonk!U8="", "", ROUND(Horendonk!U8 / IF(AND(COUNT(Horendonk!$C8:$O8,Horendonk!$U8:U8) <= 3, ISNUMBER($C8)), $C8, $E8) * 10, 3)) | V8: =IF(Horendonk!V8="", "", ROUND(Horendonk!V8 / IF(AND(COUNT(Horendonk!$C8:$O8,Horendonk!$U8:V8) <= 3, ISNUMBER($C8)), $C8, $E8) * 10, 3)) | W8: =IF(Horendonk!W8="", "", ROUND(Horendonk!W8 / IF(AND(COUNT(Horendonk!$C8:$O8,Horendonk!$U8:W8) <= 3, ISNUMBER($C8)), $C8, $E8) * 10, 3)) | X8: =IF(Horendonk!X8="", "", ROUND(Horendonk!X8 / IF(AND(COUNT(Horendonk!$C8:$O8,Horendonk!$U8:X8) <= 3, ISNUMBER($C8)), $C8, $E8) * 10, 3)) | Y8: =IF(Horendonk!Y8="", "", ROUND(Horendonk!Y8 / IF(AND(COUNT(Horendonk!$C8:$O8,Horendonk!$U8:Y8) <= 3, ISNUMBER($C8)), $C8, $E8) * 10, 3)) | Z8: =IF(Horendonk!Z8="", "", ROUND(Horendonk!Z8 / IF(AND(COUNT(Horendonk!$C8:$O8,Horendonk!$U8:Z8) <= 3, ISNUMBER($C8)), $C8, $E8) * 10, 3)) | AA8: =IF(Horendonk!AA8="", "", ROUND(Horendonk!AA8 / IF(AND(COUNT(Horendonk!$C8:$O8,Horendonk!$U8:AA8) <= 3, ISNUMBER($C8)), $C8, $E8) * 10, 3)) | AB8: =IF(Horendonk!AB8="", "", ROUND(Horendonk!AB8 / IF(AND(COUNT(Horendonk!$C8:$O8,Horendonk!$U8:AB8) <= 3, ISNUMBER($C8)), $C8, $E8) * 10, 3)) | ... AG8: =IF(Horendonk!AG8="", "", ROUND(Horendonk!AG8 / IF(AND(COUNT(Horendonk!$C8:$O8,Horendonk!$U8:AG8) <= 3, ISNUMBER($C8)), $C8, $E8) * 10, 3))
A9: =IF(Horendonk!AM9=0, "", Horendonk!AM9) -> 4 | B9: =Horendonk!A9 -> Nelen Johan | C9: =IFERROR(VALUE(MID($B9, SEARCH("[NS ", $B9)+4, 2)), "") | D9: =Horendonk!B9 -> 15 | E9: =Horendonk!T9 -> 15 | F9: =IF(Horendonk!AL9=0," ",SUM(H9:AG9)) -> 37.333 | H9: =IF(Horendonk!C9="", "", ROUND(Horendonk!C9 / IF(AND(COUNT(Horendonk!$C9:C9) <= 3, ISNUMBER($C9)), $C9, $D9) * 10, 3)) | I9: =IF(Horendonk!D9="", "", ROUND(Horendonk!D9 / IF(AND(COUNT(Horendonk!$C9:D9) <= 3, ISNUMBER($C9)), $C9, $D9) * 10, 3)) -> 9.333 | J9: =IF(Horendonk!E9="", "", ROUND(Horendonk!E9 / IF(AND(COUNT(Horendonk!$C9:E9) <= 3, ISNUMBER($C9)), $C9, $D9) * 10, 3)) -> 6 | K9: =IF(Horendonk!F9="", "", ROUND(Horendonk!F9 / IF(AND(COUNT(Horendonk!$C9:F9) <= 3, ISNUMBER($C9)), $C9, $D9) * 10, 3)) -> 14 | L9: =IF(Horendonk!G9="", "", ROUND(Horendonk!G9 / IF(AND(COUNT(Horendonk!$C9:G9) <= 3, ISNUMBER($C9)), $C9, $D9) * 10, 3)) | M9: =IF(Horendonk!H9="", "", ROUND(Horendonk!H9 / IF(AND(COUNT(Horendonk!$C9:H9) <= 3, ISNUMBER($C9)), $C9, $D9) * 10, 3)) | N9: =IF(Horendonk!I9="", "", ROUND(Horendonk!I9 / IF(AND(COUNT(Horendonk!$C9:I9) <= 3, ISNUMBER($C9)), $C9, $D9) * 10, 3)) -> 8 | O9: =IF(Horendonk!J9="", "", ROUND(Horendonk!J9 / IF(AND(COUNT(Horendonk!$C9:J9) <= 3, ISNUMBER($C9)), $C9, $D9) * 10, 3)) | ... T9: =IF(Horendonk!O9="", "", ROUND(Horendonk!O9 / IF(AND(COUNT(Horendonk!$C9:O9) <= 3, ISNUMBER($C9)), $C9, $D9) * 10, 3)) | U9: =IF(Horendonk!U9="", "", ROUND(Horendonk!U9 / IF(AND(COUNT(Horendonk!$C9:$O9,Horendonk!$U9:U9) <= 3, ISNUMBER($C9)), $C9, $E9) * 10, 3)) | V9: =IF(Horendonk!V9="", "", ROUND(Horendonk!V9 / IF(AND(COUNT(Horendonk!$C9:$O9,Horendonk!$U9:V9) <= 3, ISNUMBER($C9)), $C9, $E9) * 10, 3)) | W9: =IF(Horendonk!W9="", "", ROUND(Horendonk!W9 / IF(AND(COUNT(Horendonk!$C9:$O9,Horendonk!$U9:W9) <= 3, ISNUMBER($C9)), $C9, $E9) * 10, 3)) | X9: =IF(Horendonk!X9="", "", ROUND(Horendonk!X9 / IF(AND(COUNT(Horendonk!$C9:$O9,Horendonk!$U9:X9) <= 3, ISNUMBER($C9)), $C9, $E9) * 10, 3)) | Y9: =IF(Horendonk!Y9="", "", ROUND(Horendonk!Y9 / IF(AND(COUNT(Horendonk!$C9:$O9,Horendonk!$U9:Y9) <= 3, ISNUMBER($C9)), $C9, $E9) * 10, 3)) | Z9: =IF(Horendonk!Z9="", "", ROUND(Horendonk!Z9 / IF(AND(COUNT(Horendonk!$C9:$O9,Horendonk!$U9:Z9) <= 3, ISNUMBER($C9)), $C9, $E9) * 10, 3)) | AA9: =IF(Horendonk!AA9="", "", ROUND(Horendonk!AA9 / IF(AND(COUNT(Horendonk!$C9:$O9,Horendonk!$U9:AA9) <= 3, ISNUMBER($C9)), $C9, $E9) * 10, 3)) | AB9: =IF(Horendonk!AB9="", "", ROUND(Horendonk!AB9 / IF(AND(COUNT(Horendonk!$C9:$O9,Horendonk!$U9:AB9) <= 3, ISNUMBER($C9)), $C9, $E9) * 10, 3)) | ... AG9: =IF(Horendonk!AG9="", "", ROUND(Horendonk!AG9 / IF(AND(COUNT(Horendonk!$C9:$O9,Horendonk!$U9:AG9) <= 3, ISNUMBER($C9)), $C9, $E9) * 10, 3))
A10: =IF(Horendonk!AM10=0, "", Horendonk!AM10) -> 5 | B10: =Horendonk!A10 -> Oerlemans Willy | C10: =IFERROR(VALUE(MID($B10, SEARCH("[NS ", $B10)+4, 2)), "") | D10: =Horendonk!B10 -> 27 | E10: =Horendonk!T10 -> 27 | F10: =IF(Horendonk!AL10=0," ",SUM(H10:AG10)) -> 56.667 | H10: =IF(Horendonk!C10="", "", ROUND(Horendonk!C10 / IF(AND(COUNT(Horendonk!$C10:C10) <= 3, ISNUMBER($C10)), $C10, $D10) * 10, 3)) -> 9.259 | I10: =IF(Horendonk!D10="", "", ROUND(Horendonk!D10 / IF(AND(COUNT(Horendonk!$C10:D10) <= 3, ISNUMBER($C10)), $C10, $D10) * 10, 3)) -> 5.926 | J10: =IF(Horendonk!E10="", "", ROUND(Horendonk!E10 / IF(AND(COUNT(Horendonk!$C10:E10) <= 3, ISNUMBER($C10)), $C10, $D10) * 10, 3)) | K10: =IF(Horendonk!F10="", "", ROUND(Horendonk!F10 / IF(AND(COUNT(Horendonk!$C10:F10) <= 3, ISNUMBER($C10)), $C10, $D10) * 10, 3)) | L10: =IF(Horendonk!G10="", "", ROUND(Horendonk!G10 / IF(AND(COUNT(Horendonk!$C10:G10) <= 3, ISNUMBER($C10)), $C10, $D10) * 10, 3)) -> 15.185 | M10: =IF(Horendonk!H10="", "", ROUND(Horendonk!H10 / IF(AND(COUNT(Horendonk!$C10:H10) <= 3, ISNUMBER($C10)), $C10, $D10) * 10, 3)) | N10: =IF(Horendonk!I10="", "", ROUND(Horendonk!I10 / IF(AND(COUNT(Horendonk!$C10:I10) <= 3, ISNUMBER($C10)), $C10, $D10) * 10, 3)) -> 9.63 | O10: =IF(Horendonk!J10="", "", ROUND(Horendonk!J10 / IF(AND(COUNT(Horendonk!$C10:J10) <= 3, ISNUMBER($C10)), $C10, $D10) * 10, 3)) -> 16.667 | ... T10: =IF(Horendonk!O10="", "", ROUND(Horendonk!O10 / IF(AND(COUNT(Horendonk!$C10:O10) <= 3, ISNUMBER($C10)), $C10, $D10) * 10, 3)) | U10: =IF(Horendonk!U10="", "", ROUND(Horendonk!U10 / IF(AND(COUNT(Horendonk!$C10:$O10,Horendonk!$U10:U10) <= 3, ISNUMBER($C10)), $C10, $E10) * 10, 3)) | V10: =IF(Horendonk!V10="", "", ROUND(Horendonk!V10 / IF(AND(COUNT(Horendonk!$C10:$O10,Horendonk!$U10:V10) <= 3, ISNUMBER($C10)), $C10, $E10) * 10, 3)) | W10: =IF(Horendonk!W10="", "", ROUND(Horendonk!W10 / IF(AND(COUNT(Horendonk!$C10:$O10,Horendonk!$U10:W10) <= 3, ISNUMBER($C10)), $C10, $E10) * 10, 3)) | X10: =IF(Horendonk!X10="", "", ROUND(Horendonk!X10 / IF(AND(COUNT(Horendonk!$C10:$O10,Horendonk!$U10:X10) <= 3, ISNUMBER($C10)), $C10, $E10) * 10, 3)) | Y10: =IF(Horendonk!Y10="", "", ROUND(Horendonk!Y10 / IF(AND(COUNT(Horendonk!$C10:$O10,Horendonk!$U10:Y10) <= 3, ISNUMBER($C10)), $C10, $E10) * 10, 3)) | Z10: =IF(Horendonk!Z10="", "", ROUND(Horendonk!Z10 / IF(AND(COUNT(Horendonk!$C10:$O10,Horendonk!$U10:Z10) <= 3, ISNUMBER($C10)), $C10, $E10) * 10, 3)) | AA10: =IF(Horendonk!AA10="", "", ROUND(Horendonk!AA10 / IF(AND(COUNT(Horendonk!$C10:$O10,Horendonk!$U10:AA10) <= 3, ISNUMBER($C10)), $C10, $E10) * 10, 3)) | AB10: =IF(Horendonk!AB10="", "", ROUND(Horendonk!AB10 / IF(AND(COUNT(Horendonk!$C10:$O10,Horendonk!$U10:AB10) <= 3, ISNUMBER($C10)), $C10, $E10) * 10, 3)) | ... AG10: =IF(Horendonk!AG10="", "", ROUND(Horendonk!AG10 / IF(AND(COUNT(Horendonk!$C10:$O10,Horendonk!$U10:AG10) <= 3, ISNUMBER($C10)), $C10, $E10) * 10, 3))
A11: =IF(Horendonk!AM11=0, "", Horendonk!AM11) -> 3 | B11: =Horendonk!A11 -> Siemons Jos | C11: =IFERROR(VALUE(MID($B11, SEARCH("[NS ", $B11)+4, 2)), "") | D11: =Horendonk!B11 -> 25 | E11: =Horendonk!T11 -> 25 | F11: =IF(Horendonk!AL11=0," ",SUM(H11:AG11)) -> 29.2 | H11: =IF(Horendonk!C11="", "", ROUND(Horendonk!C11 / IF(AND(COUNT(Horendonk!$C11:C11) <= 3, ISNUMBER($C11)), $C11, $D11) * 10, 3)) -> 8 | I11: =IF(Horendonk!D11="", "", ROUND(Horendonk!D11 / IF(AND(COUNT(Horendonk!$C11:D11) <= 3, ISNUMBER($C11)), $C11, $D11) * 10, 3)) | J11: =IF(Horendonk!E11="", "", ROUND(Horendonk!E11 / IF(AND(COUNT(Horendonk!$C11:E11) <= 3, ISNUMBER($C11)), $C11, $D11) * 10, 3)) -> 11.6 | K11: =IF(Horendonk!F11="", "", ROUND(Horendonk!F11 / IF(AND(COUNT(Horendonk!$C11:F11) <= 3, ISNUMBER($C11)), $C11, $D11) * 10, 3)) | L11: =IF(Horendonk!G11="", "", ROUND(Horendonk!G11 / IF(AND(COUNT(Horendonk!$C11:G11) <= 3, ISNUMBER($C11)), $C11, $D11) * 10, 3)) | M11: =IF(Horendonk!H11="", "", ROUND(Horendonk!H11 / IF(AND(COUNT(Horendonk!$C11:H11) <= 3, ISNUMBER($C11)), $C11, $D11) * 10, 3)) | N11: =IF(Horendonk!I11="", "", ROUND(Horendonk!I11 / IF(AND(COUNT(Horendonk!$C11:I11) <= 3, ISNUMBER($C11)), $C11, $D11) * 10, 3)) | O11: =IF(Horendonk!J11="", "", ROUND(Horendonk!J11 / IF(AND(COUNT(Horendonk!$C11:J11) <= 3, ISNUMBER($C11)), $C11, $D11) * 10, 3)) -> 9.6 | ... T11: =IF(Horendonk!O11="", "", ROUND(Horendonk!O11 / IF(AND(COUNT(Horendonk!$C11:O11) <= 3, ISNUMBER($C11)), $C11, $D11) * 10, 3)) | U11: =IF(Horendonk!U11="", "", ROUND(Horendonk!U11 / IF(AND(COUNT(Horendonk!$C11:$O11,Horendonk!$U11:U11) <= 3, ISNUMBER($C11)), $C11, $E11) * 10, 3)) | V11: =IF(Horendonk!V11="", "", ROUND(Horendonk!V11 / IF(AND(COUNT(Horendonk!$C11:$O11,Horendonk!$U11:V11) <= 3, ISNUMBER($C11)), $C11, $E11) * 10, 3)) | W11: =IF(Horendonk!W11="", "", ROUND(Horendonk!W11 / IF(AND(COUNT(Horendonk!$C11:$O11,Horendonk!$U11:W11) <= 3, ISNUMBER($C11)), $C11, $E11) * 10, 3)) | X11: =IF(Horendonk!X11="", "", ROUND(Horendonk!X11 / IF(AND(COUNT(Horendonk!$C11:$O11,Horendonk!$U11:X11) <= 3, ISNUMBER($C11)), $C11, $E11) * 10, 3)) | Y11: =IF(Horendonk!Y11="", "", ROUND(Horendonk!Y11 / IF(AND(COUNT(Horendonk!$C11:$O11,Horendonk!$U11:Y11) <= 3, ISNUMBER($C11)), $C11, $E11) * 10, 3)) | Z11: =IF(Horendonk!Z11="", "", ROUND(Horendonk!Z11 / IF(AND(COUNT(Horendonk!$C11:$O11,Horendonk!$U11:Z11) <= 3, ISNUMBER($C11)), $C11, $E11) * 10, 3)) | AA11: =IF(Horendonk!AA11="", "", ROUND(Horendonk!AA11 / IF(AND(COUNT(Horendonk!$C11:$O11,Horendonk!$U11:AA11) <= 3, ISNUMBER($C11)), $C11, $E11) * 10, 3)) | AB11: =IF(Horendonk!AB11="", "", ROUND(Horendonk!AB11 / IF(AND(COUNT(Horendonk!$C11:$O11,Horendonk!$U11:AB11) <= 3, ISNUMBER($C11)), $C11, $E11) * 10, 3)) | ... AG11: =IF(Horendonk!AG11="", "", ROUND(Horendonk!AG11 / IF(AND(COUNT(Horendonk!$C11:$O11,Horendonk!$U11:AG11) <= 3, ISNUMBER($C11)), $C11, $E11) * 10, 3))
A12: =IF(Horendonk!AM12=0, "", Horendonk!AM12) -> 5 | B12: =Horendonk!A12 -> Van Aert André | C12: =IFERROR(VALUE(MID($B12, SEARCH("[NS ", $B12)+4, 2)), "") | D12: =Horendonk!B12 -> 29 | E12: =Horendonk!T12 -> 29 | F12: =IF(Horendonk!AL12=0," ",SUM(H12:AG12)) -> 54.827 | H12: =IF(Horendonk!C12="", "", ROUND(Horendonk!C12 / IF(AND(COUNT(Horendonk!$C12:C12) <= 3, ISNUMBER($C12)), $C12, $D12) * 10, 3)) | I12: =IF(Horendonk!D12="", "", ROUND(Horendonk!D12 / IF(AND(COUNT(Horendonk!$C12:D12) <= 3, ISNUMBER($C12)), $C12, $D12) * 10, 3)) -> 7.241 | J12: =IF(Horendonk!E12="", "", ROUND(Horendonk!E12 / IF(AND(COUNT(Horendonk!$C12:E12) <= 3, ISNUMBER($C12)), $C12, $D12) * 10, 3)) -> 11.724 | K12: =IF(Horendonk!F12="", "", ROUND(Horendonk!F12 / IF(AND(COUNT(Horendonk!$C12:F12) <= 3, ISNUMBER($C12)), $C12, $D12) * 10, 3)) -> 12.414 | L12: =IF(Horendonk!G12="", "", ROUND(Horendonk!G12 / IF(AND(COUNT(Horendonk!$C12:G12) <= 3, ISNUMBER($C12)), $C12, $D12) * 10, 3)) -> 12.069 | M12: =IF(Horendonk!H12="", "", ROUND(Horendonk!H12 / IF(AND(COUNT(Horendonk!$C12:H12) <= 3, ISNUMBER($C12)), $C12, $D12) * 10, 3)) | N12: =IF(Horendonk!I12="", "", ROUND(Horendonk!I12 / IF(AND(COUNT(Horendonk!$C12:I12) <= 3, ISNUMBER($C12)), $C12, $D12) * 10, 3)) | O12: =IF(Horendonk!J12="", "", ROUND(Horendonk!J12 / IF(AND(COUNT(Horendonk!$C12:J12) <= 3, ISNUMBER($C12)), $C12, $D12) * 10, 3)) -> 11.379 | ... T12: =IF(Horendonk!O12="", "", ROUND(Horendonk!O12 / IF(AND(COUNT(Horendonk!$C12:O12) <= 3, ISNUMBER($C12)), $C12, $D12) * 10, 3)) | U12: =IF(Horendonk!U12="", "", ROUND(Horendonk!U12 / IF(AND(COUNT(Horendonk!$C12:$O12,Horendonk!$U12:U12) <= 3, ISNUMBER($C12)), $C12, $E12) * 10, 3)) | V12: =IF(Horendonk!V12="", "", ROUND(Horendonk!V12 / IF(AND(COUNT(Horendonk!$C12:$O12,Horendonk!$U12:V12) <= 3, ISNUMBER($C12)), $C12, $E12) * 10, 3)) | W12: =IF(Horendonk!W12="", "", ROUND(Horendonk!W12 / IF(AND(COUNT(Horendonk!$C12:$O12,Horendonk!$U12:W12) <= 3, ISNUMBER($C12)), $C12, $E12) * 10, 3)) | X12: =IF(Horendonk!X12="", "", ROUND(Horendonk!X12 / IF(AND(COUNT(Horendonk!$C12:$O12,Horendonk!$U12:X12) <= 3, ISNUMBER($C12)), $C12, $E12) * 10, 3)) | Y12: =IF(Horendonk!Y12="", "", ROUND(Horendonk!Y12 / IF(AND(COUNT(Horendonk!$C12:$O12,Horendonk!$U12:Y12) <= 3, ISNUMBER($C12)), $C12, $E12) * 10, 3)) | Z12: =IF(Horendonk!Z12="", "", ROUND(Horendonk!Z12 / IF(AND(COUNT(Horendonk!$C12:$O12,Horendonk!$U12:Z12) <= 3, ISNUMBER($C12)), $C12, $E12) * 10, 3)) | AA12: =IF(Horendonk!AA12="", "", ROUND(Horendonk!AA12 / IF(AND(COUNT(Horendonk!$C12:$O12,Horendonk!$U12:AA12) <= 3, ISNUMBER($C12)), $C12, $E12) * 10, 3)) | AB12: =IF(Horendonk!AB12="", "", ROUND(Horendonk!AB12 / IF(AND(COUNT(Horendonk!$C12:$O12,Horendonk!$U12:AB12) <= 3, ISNUMBER($C12)), $C12, $E12) * 10, 3)) | ... AG12: =IF(Horendonk!AG12="", "", ROUND(Horendonk!AG12 / IF(AND(COUNT(Horendonk!$C12:$O12,Horendonk!$U12:AG12) <= 3, ISNUMBER($C12)), $C12, $E12) * 10, 3))
A13: =IF(Horendonk!AM13=0, "", Horendonk!AM13) -> 5 | B13: =Horendonk!A13 -> Van De Pas Erik [NS 20] | C13: =IFERROR(VALUE(MID($B13, SEARCH("[NS ", $B13)+4, 2)), "") -> 20 | D13: =Horendonk!B13 -> 15 | E13: =Horendonk!T13 -> 15 | F13: =IF(Horendonk!AL13=0," ",SUM(H13:AG13)) -> 31.667 | H13: =IF(Horendonk!C13="", "", ROUND(Horendonk!C13 / IF(AND(COUNT(Horendonk!$C13:C13) <= 3, ISNUMBER($C13)), $C13, $D13) * 10, 3)) -> 4.5 | I13: =IF(Horendonk!D13="", "", ROUND(Horendonk!D13 / IF(AND(COUNT(Horendonk!$C13:D13) <= 3, ISNUMBER($C13)), $C13, $D13) * 10, 3)) | J13: =IF(Horendonk!E13="", "", ROUND(Horendonk!E13 / IF(AND(COUNT(Horendonk!$C13:E13) <= 3, ISNUMBER($C13)), $C13, $D13) * 10, 3)) -> 5.5 | K13: =IF(Horendonk!F13="", "", ROUND(Horendonk!F13 / IF(AND(COUNT(Horendonk!$C13:F13) <= 3, ISNUMBER($C13)), $C13, $D13) * 10, 3)) | L13: =IF(Horendonk!G13="", "", ROUND(Horendonk!G13 / IF(AND(COUNT(Horendonk!$C13:G13) <= 3, ISNUMBER($C13)), $C13, $D13) * 10, 3)) -> 5 | M13: =IF(Horendonk!H13="", "", ROUND(Horendonk!H13 / IF(AND(COUNT(Horendonk!$C13:H13) <= 3, ISNUMBER($C13)), $C13, $D13) * 10, 3)) -> 12 | N13: =IF(Horendonk!I13="", "", ROUND(Horendonk!I13 / IF(AND(COUNT(Horendonk!$C13:I13) <= 3, ISNUMBER($C13)), $C13, $D13) * 10, 3)) -> 4.667 | O13: =IF(Horendonk!J13="", "", ROUND(Horendonk!J13 / IF(AND(COUNT(Horendonk!$C13:J13) <= 3, ISNUMBER($C13)), $C13, $D13) * 10, 3)) | ... T13: =IF(Horendonk!O13="", "", ROUND(Horendonk!O13 / IF(AND(COUNT(Horendonk!$C13:O13) <= 3, ISNUMBER($C13)), $C13, $D13) * 10, 3)) | U13: =IF(Horendonk!U13="", "", ROUND(Horendonk!U13 / IF(AND(COUNT(Horendonk!$C13:$O13,Horendonk!$U13:U13) <= 3, ISNUMBER($C13)), $C13, $E13) * 10, 3)) | V13: =IF(Horendonk!V13="", "", ROUND(Horendonk!V13 / IF(AND(COUNT(Horendonk!$C13:$O13,Horendonk!$U13:V13) <= 3, ISNUMBER($C13)), $C13, $E13) * 10, 3)) | W13: =IF(Horendonk!W13="", "", ROUND(Horendonk!W13 / IF(AND(COUNT(Horendonk!$C13:$O13,Horendonk!$U13:W13) <= 3, ISNUMBER($C13)), $C13, $E13) * 10, 3)) | X13: =IF(Horendonk!X13="", "", ROUND(Horendonk!X13 / IF(AND(COUNT(Horendonk!$C13:$O13,Horendonk!$U13:X13) <= 3, ISNUMBER($C13)), $C13, $E13) * 10, 3)) | Y13: =IF(Horendonk!Y13="", "", ROUND(Horendonk!Y13 / IF(AND(COUNT(Horendonk!$C13:$O13,Horendonk!$U13:Y13) <= 3, ISNUMBER($C13)), $C13, $E13) * 10, 3)) | Z13: =IF(Horendonk!Z13="", "", ROUND(Horendonk!Z13 / IF(AND(COUNT(Horendonk!$C13:$O13,Horendonk!$U13:Z13) <= 3, ISNUMBER($C13)), $C13, $E13) * 10, 3)) | AA13: =IF(Horendonk!AA13="", "", ROUND(Horendonk!AA13 / IF(AND(COUNT(Horendonk!$C13:$O13,Horendonk!$U13:AA13) <= 3, ISNUMBER($C13)), $C13, $E13) * 10, 3)) | AB13: =IF(Horendonk!AB13="", "", ROUND(Horendonk!AB13 / IF(AND(COUNT(Horendonk!$C13:$O13,Horendonk!$U13:AB13) <= 3, ISNUMBER($C13)), $C13, $E13) * 10, 3)) | ... AG13: =IF(Horendonk!AG13="", "", ROUND(Horendonk!AG13 / IF(AND(COUNT(Horendonk!$C13:$O13,Horendonk!$U13:AG13) <= 3, ISNUMBER($C13)), $C13, $E13) * 10, 3))
A14: =IF(Horendonk!AM14=0, "", Horendonk!AM14) -> 5 | B14: =Horendonk!A14 -> Vergouwen René | C14: =IFERROR(VALUE(MID($B14, SEARCH("[NS ", $B14)+4, 2)), "") | D14: =Horendonk!B14 -> 28 | E14: =Horendonk!T14 -> 28 | F14: =IF(Horendonk!AL14=0," ",SUM(H14:AG14)) -> 63.214 | H14: =IF(Horendonk!C14="", "", ROUND(Horendonk!C14 / IF(AND(COUNT(Horendonk!$C14:C14) <= 3, ISNUMBER($C14)), $C14, $D14) * 10, 3)) -> 10.357 | I14: =IF(Horendonk!D14="", "", ROUND(Horendonk!D14 / IF(AND(COUNT(Horendonk!$C14:D14) <= 3, ISNUMBER($C14)), $C14, $D14) * 10, 3)) | J14: =IF(Horendonk!E14="", "", ROUND(Horendonk!E14 / IF(AND(COUNT(Horendonk!$C14:E14) <= 3, ISNUMBER($C14)), $C14, $D14) * 10, 3)) -> 14.643 | K14: =IF(Horendonk!F14="", "", ROUND(Horendonk!F14 / IF(AND(COUNT(Horendonk!$C14:F14) <= 3, ISNUMBER($C14)), $C14, $D14) * 10, 3)) | L14: =IF(Horendonk!G14="", "", ROUND(Horendonk!G14 / IF(AND(COUNT(Horendonk!$C14:G14) <= 3, ISNUMBER($C14)), $C14, $D14) * 10, 3)) -> 14.643 | M14: =IF(Horendonk!H14="", "", ROUND(Horendonk!H14 / IF(AND(COUNT(Horendonk!$C14:H14) <= 3, ISNUMBER($C14)), $C14, $D14) * 10, 3)) -> 13.214 | N14: =IF(Horendonk!I14="", "", ROUND(Horendonk!I14 / IF(AND(COUNT(Horendonk!$C14:I14) <= 3, ISNUMBER($C14)), $C14, $D14) * 10, 3)) | O14: =IF(Horendonk!J14="", "", ROUND(Horendonk!J14 / IF(AND(COUNT(Horendonk!$C14:J14) <= 3, ISNUMBER($C14)), $C14, $D14) * 10, 3)) -> 10.357 | ... T14: =IF(Horendonk!O14="", "", ROUND(Horendonk!O14 / IF(AND(COUNT(Horendonk!$C14:O14) <= 3, ISNUMBER($C14)), $C14, $D14) * 10, 3)) | U14: =IF(Horendonk!U14="", "", ROUND(Horendonk!U14 / IF(AND(COUNT(Horendonk!$C14:$O14,Horendonk!$U14:U14) <= 3, ISNUMBER($C14)), $C14, $E14) * 10, 3)) | V14: =IF(Horendonk!V14="", "", ROUND(Horendonk!V14 / IF(AND(COUNT(Horendonk!$C14:$O14,Horendonk!$U14:V14) <= 3, ISNUMBER($C14)), $C14, $E14) * 10, 3)) | W14: =IF(Horendonk!W14="", "", ROUND(Horendonk!W14 / IF(AND(COUNT(Horendonk!$C14:$O14,Horendonk!$U14:W14) <= 3, ISNUMBER($C14)), $C14, $E14) * 10, 3)) | X14: =IF(Horendonk!X14="", "", ROUND(Horendonk!X14 / IF(AND(COUNT(Horendonk!$C14:$O14,Horendonk!$U14:X14) <= 3, ISNUMBER($C14)), $C14, $E14) * 10, 3)) | Y14: =IF(Horendonk!Y14="", "", ROUND(Horendonk!Y14 / IF(AND(COUNT(Horendonk!$C14:$O14,Horendonk!$U14:Y14) <= 3, ISNUMBER($C14)), $C14, $E14) * 10, 3)) | Z14: =IF(Horendonk!Z14="", "", ROUND(Horendonk!Z14 / IF(AND(COUNT(Horendonk!$C14:$O14,Horendonk!$U14:Z14) <= 3, ISNUMBER($C14)), $C14, $E14) * 10, 3)) | AA14: =IF(Horendonk!AA14="", "", ROUND(Horendonk!AA14 / IF(AND(COUNT(Horendonk!$C14:$O14,Horendonk!$U14:AA14) <= 3, ISNUMBER($C14)), $C14, $E14) * 10, 3)) | AB14: =IF(Horendonk!AB14="", "", ROUND(Horendonk!AB14 / IF(AND(COUNT(Horendonk!$C14:$O14,Horendonk!$U14:AB14) <= 3, ISNUMBER($C14)), $C14, $E14) * 10, 3)) | ... AG14: =IF(Horendonk!AG14="", "", ROUND(Horendonk!AG14 / IF(AND(COUNT(Horendonk!$C14:$O14,Horendonk!$U14:AG14) <= 3, ISNUMBER($C14)), $C14, $E14) * 10, 3))
A15: =IF(Horendonk!AM15=0, "", Horendonk!AM15) | B15: =Horendonk!A15 -> 0 | C15: =IFERROR(VALUE(MID($B15, SEARCH("[NS ", $B15)+4, 2)), "") | D15: =Horendonk!B15 -> 0 | E15: =Horendonk!T15 -> 0 | F15: =IF(Horendonk!AL15=0," ",SUM(H15:AG15)) | H15: =IF(Horendonk!C15="", "", ROUND(Horendonk!C15 / IF(AND(COUNT(Horendonk!$C15:C15) <= 3, ISNUMBER($C15)), $C15, $D15) * 10, 3)) | I15: =IF(Horendonk!D15="", "", ROUND(Horendonk!D15 / IF(AND(COUNT(Horendonk!$C15:D15) <= 3, ISNUMBER($C15)), $C15, $D15) * 10, 3)) | J15: =IF(Horendonk!E15="", "", ROUND(Horendonk!E15 / IF(AND(COUNT(Horendonk!$C15:E15) <= 3, ISNUMBER($C15)), $C15, $D15) * 10, 3)) | K15: =IF(Horendonk!F15="", "", ROUND(Horendonk!F15 / IF(AND(COUNT(Horendonk!$C15:F15) <= 3, ISNUMBER($C15)), $C15, $D15) * 10, 3)) | L15: =IF(Horendonk!G15="", "", ROUND(Horendonk!G15 / IF(AND(COUNT(Horendonk!$C15:G15) <= 3, ISNUMBER($C15)), $C15, $D15) * 10, 3)) | M15: =IF(Horendonk!H15="", "", ROUND(Horendonk!H15 / IF(AND(COUNT(Horendonk!$C15:H15) <= 3, ISNUMBER($C15)), $C15, $D15) * 10, 3)) | N15: =IF(Horendonk!I15="", "", ROUND(Horendonk!I15 / IF(AND(COUNT(Horendonk!$C15:I15) <= 3, ISNUMBER($C15)), $C15, $D15) * 10, 3)) | O15: =IF(Horendonk!J15="", "", ROUND(Horendonk!J15 / IF(AND(COUNT(Horendonk!$C15:J15) <= 3, ISNUMBER($C15)), $C15, $D15) * 10, 3)) | ... T15: =IF(Horendonk!O15="", "", ROUND(Horendonk!O15 / IF(AND(COUNT(Horendonk!$C15:O15) <= 3, ISNUMBER($C15)), $C15, $D15) * 10, 3)) | U15: =IF(Horendonk!U15="", "", ROUND(Horendonk!U15 / IF(AND(COUNT(Horendonk!$C15:$O15,Horendonk!$U15:U15) <= 3, ISNUMBER($C15)), $C15, $E15) * 10, 3)) | V15: =IF(Horendonk!V15="", "", ROUND(Horendonk!V15 / IF(AND(COUNT(Horendonk!$C15:$O15,Horendonk!$U15:V15) <= 3, ISNUMBER($C15)), $C15, $E15) * 10, 3)) | W15: =IF(Horendonk!W15="", "", ROUND(Horendonk!W15 / IF(AND(COUNT(Horendonk!$C15:$O15,Horendonk!$U15:W15) <= 3, ISNUMBER($C15)), $C15, $E15) * 10, 3)) | X15: =IF(Horendonk!X15="", "", ROUND(Horendonk!X15 / IF(AND(COUNT(Horendonk!$C15:$O15,Horendonk!$U15:X15) <= 3, ISNUMBER($C15)), $C15, $E15) * 10, 3)) | Y15: =IF(Horendonk!Y15="", "", ROUND(Horendonk!Y15 / IF(AND(COUNT(Horendonk!$C15:$O15,Horendonk!$U15:Y15) <= 3, ISNUMBER($C15)), $C15, $E15) * 10, 3)) | Z15: =IF(Horendonk!Z15="", "", ROUND(Horendonk!Z15 / IF(AND(COUNT(Horendonk!$C15:$O15,Horendonk!$U15:Z15) <= 3, ISNUMBER($C15)), $C15, $E15) * 10, 3)) | AA15: =IF(Horendonk!AA15="", "", ROUND(Horendonk!AA15 / IF(AND(COUNT(Horendonk!$C15:$O15,Horendonk!$U15:AA15) <= 3, ISNUMBER($C15)), $C15, $E15) * 10, 3)) | AB15: =IF(Horendonk!AB15="", "", ROUND(Horendonk!AB15 / IF(AND(COUNT(Horendonk!$C15:$O15,Horendonk!$U15:AB15) <= 3, ISNUMBER($C15)), $C15, $E15) * 10, 3)) | ... AG15: =IF(Horendonk!AG15="", "", ROUND(Horendonk!AG15 / IF(AND(COUNT(Horendonk!$C15:$O15,Horendonk!$U15:AG15) <= 3, ISNUMBER($C15)), $C15, $E15) * 10, 3))
B16: =Horendonk!A16 -> 0 | C16: =IFERROR(VALUE(MID($B16, SEARCH("[NS ", $B16)+4, 2)), "") | D16: =Horendonk!B16 -> 0 | E16: =Horendonk!T16 -> 0 | F16: =IF(Horendonk!AL16=0," ",SUM(H16:AG16)) | H16: =IF(Horendonk!C16="", "", ROUND(Horendonk!C16 / IF(AND(COUNT(Horendonk!$C16:C16) <= 3, ISNUMBER($C16)), $C16, $D16) * 10, 3)) | I16: =IF(Horendonk!D16="", "", ROUND(Horendonk!D16 / IF(AND(COUNT(Horendonk!$C16:D16) <= 3, ISNUMBER($C16)), $C16, $D16) * 10, 3)) | J16: =IF(Horendonk!E16="", "", ROUND(Horendonk!E16 / IF(AND(COUNT(Horendonk!$C16:E16) <= 3, ISNUMBER($C16)), $C16, $D16) * 10, 3)) | K16: =IF(Horendonk!F16="", "", ROUND(Horendonk!F16 / IF(AND(COUNT(Horendonk!$C16:F16) <= 3, ISNUMBER($C16)), $C16, $D16) * 10, 3)) | L16: =IF(Horendonk!G16="", "", ROUND(Horendonk!G16 / IF(AND(COUNT(Horendonk!$C16:G16) <= 3, ISNUMBER($C16)), $C16, $D16) * 10, 3)) | M16: =IF(Horendonk!H16="", "", ROUND(Horendonk!H16 / IF(AND(COUNT(Horendonk!$C16:H16) <= 3, ISNUMBER($C16)), $C16, $D16) * 10, 3)) | N16: =IF(Horendonk!I16="", "", ROUND(Horendonk!I16 / IF(AND(COUNT(Horendonk!$C16:I16) <= 3, ISNUMBER($C16)), $C16, $D16) * 10, 3)) | O16: =IF(Horendonk!J16="", "", ROUND(Horendonk!J16 / IF(AND(COUNT(Horendonk!$C16:J16) <= 3, ISNUMBER($C16)), $C16, $D16) * 10, 3)) | ... T16: =IF(Horendonk!O16="", "", ROUND(Horendonk!O16 / IF(AND(COUNT(Horendonk!$C16:O16) <= 3, ISNUMBER($C16)), $C16, $D16) * 10, 3)) | U16: =IF(Horendonk!U16="", "", ROUND(Horendonk!U16 / IF(AND(COUNT(Horendonk!$C16:$O16,Horendonk!$U16:U16) <= 3, ISNUMBER($C16)), $C16, $E16) * 10, 3)) | V16: =IF(Horendonk!V16="", "", ROUND(Horendonk!V16 / IF(AND(COUNT(Horendonk!$C16:$O16,Horendonk!$U16:V16) <= 3, ISNUMBER($C16)), $C16, $E16) * 10, 3)) | W16: =IF(Horendonk!W16="", "", ROUND(Horendonk!W16 / IF(AND(COUNT(Horendonk!$C16:$O16,Horendonk!$U16:W16) <= 3, ISNUMBER($C16)), $C16, $E16) * 10, 3)) | X16: =IF(Horendonk!X16="", "", ROUND(Horendonk!X16 / IF(AND(COUNT(Horendonk!$C16:$O16,Horendonk!$U16:X16) <= 3, ISNUMBER($C16)), $C16, $E16) * 10, 3)) | Y16: =IF(Horendonk!Y16="", "", ROUND(Horendonk!Y16 / IF(AND(COUNT(Horendonk!$C16:$O16,Horendonk!$U16:Y16) <= 3, ISNUMBER($C16)), $C16, $E16) * 10, 3)) | Z16: =IF(Horendonk!Z16="", "", ROUND(Horendonk!Z16 / IF(AND(COUNT(Horendonk!$C16:$O16,Horendonk!$U16:Z16) <= 3, ISNUMBER($C16)), $C16, $E16) * 10, 3)) | AA16: =IF(Horendonk!AA16="", "", ROUND(Horendonk!AA16 / IF(AND(COUNT(Horendonk!$C16:$O16,Horendonk!$U16:AA16) <= 3, ISNUMBER($C16)), $C16, $E16) * 10, 3)) | AB16: =IF(Horendonk!AB16="", "", ROUND(Horendonk!AB16 / IF(AND(COUNT(Horendonk!$C16:$O16,Horendonk!$U16:AB16) <= 3, ISNUMBER($C16)), $C16, $E16) * 10, 3)) | ... AG16: =IF(Horendonk!AG16="", "", ROUND(Horendonk!AG16 / IF(AND(COUNT(Horendonk!$C16:$O16,Horendonk!$U16:AG16) <= 3, ISNUMBER($C16)), $C16, $E16) * 10, 3))
B17: =Horendonk!A17 -> 0 | C17: =IFERROR(VALUE(MID($B17, SEARCH("[NS ", $B17)+4, 2)), "") | D17: =Horendonk!B17 -> 0 | E17: =Horendonk!T17 -> 0 | F17: =IF(Horendonk!AL17=0," ",SUM(H17:AG17)) | H17: =IF(Horendonk!C17="", "", ROUND(Horendonk!C17 / IF(AND(COUNT(Horendonk!$C17:C17) <= 3, ISNUMBER($C17)), $C17, $D17) * 10, 3)) | I17: =IF(Horendonk!D17="", "", ROUND(Horendonk!D17 / IF(AND(COUNT(Horendonk!$C17:D17) <= 3, ISNUMBER($C17)), $C17, $D17) * 10, 3)) | J17: =IF(Horendonk!E17="", "", ROUND(Horendonk!E17 / IF(AND(COUNT(Horendonk!$C17:E17) <= 3, ISNUMBER($C17)), $C17, $D17) * 10, 3)) | K17: =IF(Horendonk!F17="", "", ROUND(Horendonk!F17 / IF(AND(COUNT(Horendonk!$C17:F17) <= 3, ISNUMBER($C17)), $C17, $D17) * 10, 3)) | L17: =IF(Horendonk!G17="", "", ROUND(Horendonk!G17 / IF(AND(COUNT(Horendonk!$C17:G17) <= 3, ISNUMBER($C17)), $C17, $D17) * 10, 3)) | M17: =IF(Horendonk!H17="", "", ROUND(Horendonk!H17 / IF(AND(COUNT(Horendonk!$C17:H17) <= 3, ISNUMBER($C17)), $C17, $D17) * 10, 3)) | N17: =IF(Horendonk!I17="", "", ROUND(Horendonk!I17 / IF(AND(COUNT(Horendonk!$C17:I17) <= 3, ISNUMBER($C17)), $C17, $D17) * 10, 3)) | O17: =IF(Horendonk!J17="", "", ROUND(Horendonk!J17 / IF(AND(COUNT(Horendonk!$C17:J17) <= 3, ISNUMBER($C17)), $C17, $D17) * 10, 3)) | ... T17: =IF(Horendonk!O17="", "", ROUND(Horendonk!O17 / IF(AND(COUNT(Horendonk!$C17:O17) <= 3, ISNUMBER($C17)), $C17, $D17) * 10, 3)) | U17: =IF(Horendonk!U17="", "", ROUND(Horendonk!U17 / IF(AND(COUNT(Horendonk!$C17:$O17,Horendonk!$U17:U17) <= 3, ISNUMBER($C17)), $C17, $E17) * 10, 3)) | V17: =IF(Horendonk!V17="", "", ROUND(Horendonk!V17 / IF(AND(COUNT(Horendonk!$C17:$O17,Horendonk!$U17:V17) <= 3, ISNUMBER($C17)), $C17, $E17) * 10, 3)) | W17: =IF(Horendonk!W17="", "", ROUND(Horendonk!W17 / IF(AND(COUNT(Horendonk!$C17:$O17,Horendonk!$U17:W17) <= 3, ISNUMBER($C17)), $C17, $E17) * 10, 3)) | X17: =IF(Horendonk!X17="", "", ROUND(Horendonk!X17 / IF(AND(COUNT(Horendonk!$C17:$O17,Horendonk!$U17:X17) <= 3, ISNUMBER($C17)), $C17, $E17) * 10, 3)) | Y17: =IF(Horendonk!Y17="", "", ROUND(Horendonk!Y17 / IF(AND(COUNT(Horendonk!$C17:$O17,Horendonk!$U17:Y17) <= 3, ISNUMBER($C17)), $C17, $E17) * 10, 3)) | Z17: =IF(Horendonk!Z17="", "", ROUND(Horendonk!Z17 / IF(AND(COUNT(Horendonk!$C17:$O17,Horendonk!$U17:Z17) <= 3, ISNUMBER($C17)), $C17, $E17) * 10, 3)) | AA17: =IF(Horendonk!AA17="", "", ROUND(Horendonk!AA17 / IF(AND(COUNT(Horendonk!$C17:$O17,Horendonk!$U17:AA17) <= 3, ISNUMBER($C17)), $C17, $E17) * 10, 3)) | AB17: =IF(Horendonk!AB17="", "", ROUND(Horendonk!AB17 / IF(AND(COUNT(Horendonk!$C17:$O17,Horendonk!$U17:AB17) <= 3, ISNUMBER($C17)), $C17, $E17) * 10, 3)) | ... AG17: =IF(Horendonk!AG17="", "", ROUND(Horendonk!AG17 / IF(AND(COUNT(Horendonk!$C17:$O17,Horendonk!$U17:AG17) <= 3, ISNUMBER($C17)), $C17, $E17) * 10, 3))
B18: =Horendonk!A18 -> 0 | C18: =IFERROR(VALUE(MID($B18, SEARCH("[NS ", $B18)+4, 2)), "") | D18: =Horendonk!B18 -> 0 | E18: =Horendonk!T18 -> 0 | F18: =IF(Horendonk!AL18=0," ",SUM(H18:AG18)) | H18: =IF(Horendonk!C18="", "", ROUND(Horendonk!C18 / IF(AND(COUNT(Horendonk!$C18:C18) <= 3, ISNUMBER($C18)), $C18, $D18) * 10, 3)) | I18: =IF(Horendonk!D18="", "", ROUND(Horendonk!D18 / IF(AND(COUNT(Horendonk!$C18:D18) <= 3, ISNUMBER($C18)), $C18, $D18) * 10, 3)) | J18: =IF(Horendonk!E18="", "", ROUND(Horendonk!E18 / IF(AND(COUNT(Horendonk!$C18:E18) <= 3, ISNUMBER($C18)), $C18, $D18) * 10, 3)) | K18: =IF(Horendonk!F18="", "", ROUND(Horendonk!F18 / IF(AND(COUNT(Horendonk!$C18:F18) <= 3, ISNUMBER($C18)), $C18, $D18) * 10, 3)) | L18: =IF(Horendonk!G18="", "", ROUND(Horendonk!G18 / IF(AND(COUNT(Horendonk!$C18:G18) <= 3, ISNUMBER($C18)), $C18, $D18) * 10, 3)) | M18: =IF(Horendonk!H18="", "", ROUND(Horendonk!H18 / IF(AND(COUNT(Horendonk!$C18:H18) <= 3, ISNUMBER($C18)), $C18, $D18) * 10, 3)) | N18: =IF(Horendonk!I18="", "", ROUND(Horendonk!I18 / IF(AND(COUNT(Horendonk!$C18:I18) <= 3, ISNUMBER($C18)), $C18, $D18) * 10, 3)) | O18: =IF(Horendonk!J18="", "", ROUND(Horendonk!J18 / IF(AND(COUNT(Horendonk!$C18:J18) <= 3, ISNUMBER($C18)), $C18, $D18) * 10, 3)) | ... T18: =IF(Horendonk!O18="", "", ROUND(Horendonk!O18 / IF(AND(COUNT(Horendonk!$C18:O18) <= 3, ISNUMBER($C18)), $C18, $D18) * 10, 3)) | U18: =IF(Horendonk!U18="", "", ROUND(Horendonk!U18 / IF(AND(COUNT(Horendonk!$C18:$O18,Horendonk!$U18:U18) <= 3, ISNUMBER($C18)), $C18, $E18) * 10, 3)) | V18: =IF(Horendonk!V18="", "", ROUND(Horendonk!V18 / IF(AND(COUNT(Horendonk!$C18:$O18,Horendonk!$U18:V18) <= 3, ISNUMBER($C18)), $C18, $E18) * 10, 3)) | W18: =IF(Horendonk!W18="", "", ROUND(Horendonk!W18 / IF(AND(COUNT(Horendonk!$C18:$O18,Horendonk!$U18:W18) <= 3, ISNUMBER($C18)), $C18, $E18) * 10, 3)) | X18: =IF(Horendonk!X18="", "", ROUND(Horendonk!X18 / IF(AND(COUNT(Horendonk!$C18:$O18,Horendonk!$U18:X18) <= 3, ISNUMBER($C18)), $C18, $E18) * 10, 3)) | Y18: =IF(Horendonk!Y18="", "", ROUND(Horendonk!Y18 / IF(AND(COUNT(Horendonk!$C18:$O18,Horendonk!$U18:Y18) <= 3, ISNUMBER($C18)), $C18, $E18) * 10, 3)) | Z18: =IF(Horendonk!Z18="", "", ROUND(Horendonk!Z18 / IF(AND(COUNT(Horendonk!$C18:$O18,Horendonk!$U18:Z18) <= 3, ISNUMBER($C18)), $C18, $E18) * 10, 3)) | AA18: =IF(Horendonk!AA18="", "", ROUND(Horendonk!AA18 / IF(AND(COUNT(Horendonk!$C18:$O18,Horendonk!$U18:AA18) <= 3, ISNUMBER($C18)), $C18, $E18) * 10, 3)) | AB18: =IF(Horendonk!AB18="", "", ROUND(Horendonk!AB18 / IF(AND(COUNT(Horendonk!$C18:$O18,Horendonk!$U18:AB18) <= 3, ISNUMBER($C18)), $C18, $E18) * 10, 3)) | ... AG18: =IF(Horendonk!AG18="", "", ROUND(Horendonk!AG18 / IF(AND(COUNT(Horendonk!$C18:$O18,Horendonk!$U18:AG18) <= 3, ISNUMBER($C18)), $C18, $E18) * 10, 3))
F19: =B3 -> HORENDONK | H19: =IF(SUM(H4:H18)=0, "", SUM(H4:H18)) -> 54.222 | I19: =IF(SUM(I4:I18)=0, "", SUM(I4:I18)) -> 58.213 | J19: =IF(SUM(J4:J18)=0, "", SUM(J4:J18)) -> 59.234 | K19: =IF(SUM(K4:K18)=0, "", SUM(K4:K18)) -> 60.175 | L19: =IF(SUM(L4:L18)=0, "", SUM(L4:L18)) -> 66.398 | M19: =IF(SUM(M4:M18)=0, "", SUM(M4:M18)) -> 73.582 | N19: =IF(SUM(N4:N18)=0, "", SUM(N4:N18)) -> 61.353 | O19: =IF(SUM(O4:O18)=0, "", SUM(O4:O18)) -> 66.557 | ... AG19: =IF(SUM(AG4:AG18)=0, "", SUM(AG4:AG18))
B20: =ROWS(B4:B18) -> 15 | F20: =SUM(F4:F15) -> 499.734 | G20: =B3 -> HORENDONK | H20: =IF(SUM(H4:H18)=0, "", SUM(H4:H18)) -> 54.222 | I20: =IF(I19="", "", ROUND(SUM($H19:I19), 3)) -> 112.435 | J20: =IF(J19="", "", ROUND(SUM($H19:J19), 3)) -> 171.669 | K20: =IF(K19="", "", ROUND(SUM($H19:K19), 3)) -> 231.844 | L20: =IF(L19="", "", ROUND(SUM($H19:L19), 3)) -> 298.242 | M20: =IF(M19="", "", ROUND(SUM($H19:M19), 3)) -> 371.824 | N20: =IF(N19="", "", ROUND(SUM($H19:N19), 3)) -> 433.177 | O20: =IF(O19="", "", ROUND(SUM($H19:O19), 3)) -> 499.734 | P20: =IF(P19="", "", ROUND(SUM($H19:P19), 3)) | ... AG20: =IF(AG19="", "", ROUND(SUM($H19:AG19), 3))
B22: KERKUILEN | H22: 1 | I22: 2 | J22: 3 | K22: 4 | L22: 5 | M22: 6 | N22: 7 | O22: 8 | P22: 9 | Q22: 10 | R22: 11 | S22: 12 | T22: 13 | U22: 14 | V22: 15 | W22: 16 | X22: 17 | Y22: 18 | Z22: 19 | AA22: 20 | AB22: 21 | AC22: 22 | AD22: 23 | AE22: 24 | AF22: 25 | AG22: 26
A23: =IF(Kerkuilen!AM4=0, "", Kerkuilen!AM4) -> 4 | B23: =Kerkuilen!A4 -> Antonissen Gust | C23: =IFERROR(VALUE(MID($B23, SEARCH("[NS ", $B23)+4, 2)), "") | D23: =Kerkuilen!B4 -> 38 | E23: =Kerkuilen!T4 -> 38 | F23: =IF(Kerkuilen!AL4=0," ",SUM(H23:AG23)) -> 35.527 | H23: =IF(Kerkuilen!C4="", "", ROUND(Kerkuilen!C4 / IF(AND(COUNT(Kerkuilen!$C4:C4) <= 3, ISNUMBER($C23)), $C23, $D23) * 10, 3)) -> 11.053 | I23: =IF(Kerkuilen!D4="", "", ROUND(Kerkuilen!D4 / IF(AND(COUNT(Kerkuilen!$C4:D4) <= 3, ISNUMBER($C23)), $C23, $D23) * 10, 3)) | J23: =IF(Kerkuilen!E4="", "", ROUND(Kerkuilen!E4 / IF(AND(COUNT(Kerkuilen!$C4:E4) <= 3, ISNUMBER($C23)), $C23, $D23) * 10, 3)) | K23: =IF(Kerkuilen!F4="", "", ROUND(Kerkuilen!F4 / IF(AND(COUNT(Kerkuilen!$C4:F4) <= 3, ISNUMBER($C23)), $C23, $D23) * 10, 3)) -> 5.526 | L23: =IF(Kerkuilen!G4="", "", ROUND(Kerkuilen!G4 / IF(AND(COUNT(Kerkuilen!$C4:G4) <= 3, ISNUMBER($C23)), $C23, $D23) * 10, 3)) -> 7.632 | M23: =IF(Kerkuilen!H4="", "", ROUND(Kerkuilen!H4 / IF(AND(COUNT(Kerkuilen!$C4:H4) <= 3, ISNUMBER($C23)), $C23, $D23) * 10, 3)) | N23: =IF(Kerkuilen!I4="", "", ROUND(Kerkuilen!I4 / IF(AND(COUNT(Kerkuilen!$C4:I4) <= 3, ISNUMBER($C23)), $C23, $D23) * 10, 3)) | O23: =IF(Kerkuilen!J4="", "", ROUND(Kerkuilen!J4 / IF(AND(COUNT(Kerkuilen!$C4:J4) <= 3, ISNUMBER($C23)), $C23, $D23) * 10, 3)) -> 11.316 | ... T23: =IF(Kerkuilen!O4="", "", ROUND(Kerkuilen!O4 / IF(AND(COUNT(Kerkuilen!$C4:O4) <= 3, ISNUMBER($C23)), $C23, $D23) * 10, 3)) | U23: =IF(Kerkuilen!U4="", "", ROUND(Kerkuilen!U4 / IF(AND(COUNT(Kerkuilen!$C4:$O4,Kerkuilen!$U4:U4) <= 3, ISNUMBER($C23)), $C23, $E23) * 10, 3)) | V23: =IF(Kerkuilen!V4="", "", ROUND(Kerkuilen!V4 / IF(AND(COUNT(Kerkuilen!$C4:$O4,Kerkuilen!$U4:V4) <= 3, ISNUMBER($C23)), $C23, $E23) * 10, 3)) | W23: =IF(Kerkuilen!W4="", "", ROUND(Kerkuilen!W4 / IF(AND(COUNT(Kerkuilen!$C4:$O4,Kerkuilen!$U4:W4) <= 3, ISNUMBER($C23)), $C23, $E23) * 10, 3)) | X23: =IF(Kerkuilen!X4="", "", ROUND(Kerkuilen!X4 / IF(AND(COUNT(Kerkuilen!$C4:$O4,Kerkuilen!$U4:X4) <= 3, ISNUMBER($C23)), $C23, $E23) * 10, 3)) | Y23: =IF(Kerkuilen!Y4="", "", ROUND(Kerkuilen!Y4 / IF(AND(COUNT(Kerkuilen!$C4:$O4,Kerkuilen!$U4:Y4) <= 3, ISNUMBER($C23)), $C23, $E23) * 10, 3)) | Z23: =IF(Kerkuilen!Z4="", "", ROUND(Kerkuilen!Z4 / IF(AND(COUNT(Kerkuilen!$C4:$O4,Kerkuilen!$U4:Z4) <= 3, ISNUMBER($C23)), $C23, $E23) * 10, 3)) | AA23: =IF(Kerkuilen!AA4="", "", ROUND(Kerkuilen!AA4 / IF(AND(COUNT(Kerkuilen!$C4:$O4,Kerkuilen!$U4:AA4) <= 3, ISNUMBER($C23)), $C23, $E23) * 10, 3)) | AB23: =IF(Kerkuilen!AB4="", "", ROUND(Kerkuilen!AB4 / IF(AND(COUNT(Kerkuilen!$C4:$O4,Kerkuilen!$U4:AB4) <= 3, ISNUMBER($C23)), $C23, $E23) * 10, 3)) | ... AG23: =IF(Kerkuilen!AG4="", "", ROUND(Kerkuilen!AG4 / IF(AND(COUNT(Kerkuilen!$C4:$O4,Kerkuilen!$U4:AG4) <= 3, ISNUMBER($C23)), $C23, $E23) * 10, 3))
A24: =IF(Kerkuilen!AM5=0, "", Kerkuilen!AM5) -> 2 | B24: =Kerkuilen!A5 -> De Kaey Piet | C24: =IFERROR(VALUE(MID($B24, SEARCH("[NS ", $B24)+4, 2)), "") | D24: =Kerkuilen!B5 -> 60 | E24: =Kerkuilen!T5 -> 60 | F24: =IF(Kerkuilen!AL5=0," ",SUM(H24:AG24)) -> 13.5 | H24: =IF(Kerkuilen!C5="", "", ROUND(Kerkuilen!C5 / IF(AND(COUNT(Kerkuilen!$C5:C5) <= 3, ISNUMBER($C24)), $C24, $D24) * 10, 3)) | I24: =IF(Kerkuilen!D5="", "", ROUND(Kerkuilen!D5 / IF(AND(COUNT(Kerkuilen!$C5:D5) <= 3, ISNUMBER($C24)), $C24, $D24) * 10, 3)) -> 6 | J24: =IF(Kerkuilen!E5="", "", ROUND(Kerkuilen!E5 / IF(AND(COUNT(Kerkuilen!$C5:E5) <= 3, ISNUMBER($C24)), $C24, $D24) * 10, 3)) -> 7.5 | K24: =IF(Kerkuilen!F5="", "", ROUND(Kerkuilen!F5 / IF(AND(COUNT(Kerkuilen!$C5:F5) <= 3, ISNUMBER($C24)), $C24, $D24) * 10, 3)) | L24: =IF(Kerkuilen!G5="", "", ROUND(Kerkuilen!G5 / IF(AND(COUNT(Kerkuilen!$C5:G5) <= 3, ISNUMBER($C24)), $C24, $D24) * 10, 3)) | M24: =IF(Kerkuilen!H5="", "", ROUND(Kerkuilen!H5 / IF(AND(COUNT(Kerkuilen!$C5:H5) <= 3, ISNUMBER($C24)), $C24, $D24) * 10, 3)) | N24: =IF(Kerkuilen!I5="", "", ROUND(Kerkuilen!I5 / IF(AND(COUNT(Kerkuilen!$C5:I5) <= 3, ISNUMBER($C24)), $C24, $D24) * 10, 3)) | O24: =IF(Kerkuilen!J5="", "", ROUND(Kerkuilen!J5 / IF(AND(COUNT(Kerkuilen!$C5:J5) <= 3, ISNUMBER($C24)), $C24, $D24) * 10, 3)) | ... T24: =IF(Kerkuilen!O5="", "", ROUND(Kerkuilen!O5 / IF(AND(COUNT(Kerkuilen!$C5:O5) <= 3, ISNUMBER($C24)), $C24, $D24) * 10, 3)) | U24: =IF(Kerkuilen!U5="", "", ROUND(Kerkuilen!U5 / IF(AND(COUNT(Kerkuilen!$C5:$O5,Kerkuilen!$U5:U5) <= 3, ISNUMBER($C24)), $C24, $E24) * 10, 3)) | V24: =IF(Kerkuilen!V5="", "", ROUND(Kerkuilen!V5 / IF(AND(COUNT(Kerkuilen!$C5:$O5,Kerkuilen!$U5:V5) <= 3, ISNUMBER($C24)), $C24, $E24) * 10, 3)) | W24: =IF(Kerkuilen!W5="", "", ROUND(Kerkuilen!W5 / IF(AND(COUNT(Kerkuilen!$C5:$O5,Kerkuilen!$U5:W5) <= 3, ISNUMBER($C24)), $C24, $E24) * 10, 3)) | X24: =IF(Kerkuilen!X5="", "", ROUND(Kerkuilen!X5 / IF(AND(COUNT(Kerkuilen!$C5:$O5,Kerkuilen!$U5:X5) <= 3, ISNUMBER($C24)), $C24, $E24) * 10, 3)) | Y24: =IF(Kerkuilen!Y5="", "", ROUND(Kerkuilen!Y5 / IF(AND(COUNT(Kerkuilen!$C5:$O5,Kerkuilen!$U5:Y5) <= 3, ISNUMBER($C24)), $C24, $E24) * 10, 3)) | Z24: =IF(Kerkuilen!Z5="", "", ROUND(Kerkuilen!Z5 / IF(AND(COUNT(Kerkuilen!$C5:$O5,Kerkuilen!$U5:Z5) <= 3, ISNUMBER($C24)), $C24, $E24) * 10, 3)) | AA24: =IF(Kerkuilen!AA5="", "", ROUND(Kerkuilen!AA5 / IF(AND(COUNT(Kerkuilen!$C5:$O5,Kerkuilen!$U5:AA5) <= 3, ISNUMBER($C24)), $C24, $E24) * 10, 3)) | AB24: =IF(Kerkuilen!AB5="", "", ROUND(Kerkuilen!AB5 / IF(AND(COUNT(Kerkuilen!$C5:$O5,Kerkuilen!$U5:AB5) <= 3, ISNUMBER($C24)), $C24, $E24) * 10, 3)) | ... AG24: =IF(Kerkuilen!AG5="", "", ROUND(Kerkuilen!AG5 / IF(AND(COUNT(Kerkuilen!$C5:$O5,Kerkuilen!$U5:AG5) <= 3, ISNUMBER($C24)), $C24, $E24) * 10, 3))
A25: =IF(Kerkuilen!AM6=0, "", Kerkuilen!AM6) -> 4 | B25: =Kerkuilen!A6 -> Elst Stan | C25: =IFERROR(VALUE(MID($B25, SEARCH("[NS ", $B25)+4, 2)), "") | D25: =Kerkuilen!B6 -> 38 | E25: =Kerkuilen!T6 -> 38 | F25: =IF(Kerkuilen!AL6=0," ",SUM(H25:AG25)) -> 30.79 | H25: =IF(Kerkuilen!C6="", "", ROUND(Kerkuilen!C6 / IF(AND(COUNT(Kerkuilen!$C6:C6) <= 3, ISNUMBER($C25)), $C25, $D25) * 10, 3)) | I25: =IF(Kerkuilen!D6="", "", ROUND(Kerkuilen!D6 / IF(AND(COUNT(Kerkuilen!$C6:D6) <= 3, ISNUMBER($C25)), $C25, $D25) * 10, 3)) | J25: =IF(Kerkuilen!E6="", "", ROUND(Kerkuilen!E6 / IF(AND(COUNT(Kerkuilen!$C6:E6) <= 3, ISNUMBER($C25)), $C25, $D25) * 10, 3)) | K25: =IF(Kerkuilen!F6="", "", ROUND(Kerkuilen!F6 / IF(AND(COUNT(Kerkuilen!$C6:F6) <= 3, ISNUMBER($C25)), $C25, $D25) * 10, 3)) -> 7.632 | L25: =IF(Kerkuilen!G6="", "", ROUND(Kerkuilen!G6 / IF(AND(COUNT(Kerkuilen!$C6:G6) <= 3, ISNUMBER($C25)), $C25, $D25) * 10, 3)) -> 6.316 | M25: =IF(Kerkuilen!H6="", "", ROUND(Kerkuilen!H6 / IF(AND(COUNT(Kerkuilen!$C6:H6) <= 3, ISNUMBER($C25)), $C25, $D25) * 10, 3)) | N25: =IF(Kerkuilen!I6="", "", ROUND(Kerkuilen!I6 / IF(AND(COUNT(Kerkuilen!$C6:I6) <= 3, ISNUMBER($C25)), $C25, $D25) * 10, 3)) -> 6.842 | O25: =IF(Kerkuilen!J6="", "", ROUND(Kerkuilen!J6 / IF(AND(COUNT(Kerkuilen!$C6:J6) <= 3, ISNUMBER($C25)), $C25, $D25) * 10, 3)) -> 10 | ... T25: =IF(Kerkuilen!O6="", "", ROUND(Kerkuilen!O6 / IF(AND(COUNT(Kerkuilen!$C6:O6) <= 3, ISNUMBER($C25)), $C25, $D25) * 10, 3)) | U25: =IF(Kerkuilen!U6="", "", ROUND(Kerkuilen!U6 / IF(AND(COUNT(Kerkuilen!$C6:$O6,Kerkuilen!$U6:U6) <= 3, ISNUMBER($C25)), $C25, $E25) * 10, 3)) | V25: =IF(Kerkuilen!V6="", "", ROUND(Kerkuilen!V6 / IF(AND(COUNT(Kerkuilen!$C6:$O6,Kerkuilen!$U6:V6) <= 3, ISNUMBER($C25)), $C25, $E25) * 10, 3)) | W25: =IF(Kerkuilen!W6="", "", ROUND(Kerkuilen!W6 / IF(AND(COUNT(Kerkuilen!$C6:$O6,Kerkuilen!$U6:W6) <= 3, ISNUMBER($C25)), $C25, $E25) * 10, 3)) | X25: =IF(Kerkuilen!X6="", "", ROUND(Kerkuilen!X6 / IF(AND(COUNT(Kerkuilen!$C6:$O6,Kerkuilen!$U6:X6) <= 3, ISNUMBER($C25)), $C25, $E25) * 10, 3)) | Y25: =IF(Kerkuilen!Y6="", "", ROUND(Kerkuilen!Y6 / IF(AND(COUNT(Kerkuilen!$C6:$O6,Kerkuilen!$U6:Y6) <= 3, ISNUMBER($C25)), $C25, $E25) * 10, 3)) | Z25: =IF(Kerkuilen!Z6="", "", ROUND(Kerkuilen!Z6 / IF(AND(COUNT(Kerkuilen!$C6:$O6,Kerkuilen!$U6:Z6) <= 3, ISNUMBER($C25)), $C25, $E25) * 10, 3)) | AA25: =IF(Kerkuilen!AA6="", "", ROUND(Kerkuilen!AA6 / IF(AND(COUNT(Kerkuilen!$C6:$O6,Kerkuilen!$U6:AA6) <= 3, ISNUMBER($C25)), $C25, $E25) * 10, 3)) | AB25: =IF(Kerkuilen!AB6="", "", ROUND(Kerkuilen!AB6 / IF(AND(COUNT(Kerkuilen!$C6:$O6,Kerkuilen!$U6:AB6) <= 3, ISNUMBER($C25)), $C25, $E25) * 10, 3)) | ... AG25: =IF(Kerkuilen!AG6="", "", ROUND(Kerkuilen!AG6 / IF(AND(COUNT(Kerkuilen!$C6:$O6,Kerkuilen!$U6:AG6) <= 3, ISNUMBER($C25)), $C25, $E25) * 10, 3))
A26: =IF(Kerkuilen!AM7=0, "", Kerkuilen!AM7) -> 3 | B26: =Kerkuilen!A7 -> Hectors Hugo | C26: =IFERROR(VALUE(MID($B26, SEARCH("[NS ", $B26)+4, 2)), "") | D26: =Kerkuilen!B7 -> 18 | E26: =Kerkuilen!T7 -> 18 | F26: =IF(Kerkuilen!AL7=0," ",SUM(H26:AG26)) -> 29.445 | H26: =IF(Kerkuilen!C7="", "", ROUND(Kerkuilen!C7 / IF(AND(COUNT(Kerkuilen!$C7:C7) <= 3, ISNUMBER($C26)), $C26, $D26) * 10, 3)) | I26: =IF(Kerkuilen!D7="", "", ROUND(Kerkuilen!D7 / IF(AND(COUNT(Kerkuilen!$C7:D7) <= 3, ISNUMBER($C26)), $C26, $D26) * 10, 3)) | J26: =IF(Kerkuilen!E7="", "", ROUND(Kerkuilen!E7 / IF(AND(COUNT(Kerkuilen!$C7:E7) <= 3, ISNUMBER($C26)), $C26, $D26) * 10, 3)) | K26: =IF(Kerkuilen!F7="", "", ROUND(Kerkuilen!F7 / IF(AND(COUNT(Kerkuilen!$C7:F7) <= 3, ISNUMBER($C26)), $C26, $D26) * 10, 3)) -> 11.667 | L26: =IF(Kerkuilen!G7="", "", ROUND(Kerkuilen!G7 / IF(AND(COUNT(Kerkuilen!$C7:G7) <= 3, ISNUMBER($C26)), $C26, $D26) * 10, 3)) | M26: =IF(Kerkuilen!H7="", "", ROUND(Kerkuilen!H7 / IF(AND(COUNT(Kerkuilen!$C7:H7) <= 3, ISNUMBER($C26)), $C26, $D26) * 10, 3)) -> 11.667 | N26: =IF(Kerkuilen!I7="", "", ROUND(Kerkuilen!I7 / IF(AND(COUNT(Kerkuilen!$C7:I7) <= 3, ISNUMBER($C26)), $C26, $D26) * 10, 3)) | O26: =IF(Kerkuilen!J7="", "", ROUND(Kerkuilen!J7 / IF(AND(COUNT(Kerkuilen!$C7:J7) <= 3, ISNUMBER($C26)), $C26, $D26) * 10, 3)) -> 6.111 | ... T26: =IF(Kerkuilen!O7="", "", ROUND(Kerkuilen!O7 / IF(AND(COUNT(Kerkuilen!$C7:O7) <= 3, ISNUMBER($C26)), $C26, $D26) * 10, 3)) | U26: =IF(Kerkuilen!U7="", "", ROUND(Kerkuilen!U7 / IF(AND(COUNT(Kerkuilen!$C7:$O7,Kerkuilen!$U7:U7) <= 3, ISNUMBER($C26)), $C26, $E26) * 10, 3)) | V26: =IF(Kerkuilen!V7="", "", ROUND(Kerkuilen!V7 / IF(AND(COUNT(Kerkuilen!$C7:$O7,Kerkuilen!$U7:V7) <= 3, ISNUMBER($C26)), $C26, $E26) * 10, 3)) | W26: =IF(Kerkuilen!W7="", "", ROUND(Kerkuilen!W7 / IF(AND(COUNT(Kerkuilen!$C7:$O7,Kerkuilen!$U7:W7) <= 3, ISNUMBER($C26)), $C26, $E26) * 10, 3)) | X26: =IF(Kerkuilen!X7="", "", ROUND(Kerkuilen!X7 / IF(AND(COUNT(Kerkuilen!$C7:$O7,Kerkuilen!$U7:X7) <= 3, ISNUMBER($C26)), $C26, $E26) * 10, 3)) | Y26: =IF(Kerkuilen!Y7="", "", ROUND(Kerkuilen!Y7 / IF(AND(COUNT(Kerkuilen!$C7:$O7,Kerkuilen!$U7:Y7) <= 3, ISNUMBER($C26)), $C26, $E26) * 10, 3)) | Z26: =IF(Kerkuilen!Z7="", "", ROUND(Kerkuilen!Z7 / IF(AND(COUNT(Kerkuilen!$C7:$O7,Kerkuilen!$U7:Z7) <= 3, ISNUMBER($C26)), $C26, $E26) * 10, 3)) | AA26: =IF(Kerkuilen!AA7="", "", ROUND(Kerkuilen!AA7 / IF(AND(COUNT(Kerkuilen!$C7:$O7,Kerkuilen!$U7:AA7) <= 3, ISNUMBER($C26)), $C26, $E26) * 10, 3)) | AB26: =IF(Kerkuilen!AB7="", "", ROUND(Kerkuilen!AB7 / IF(AND(COUNT(Kerkuilen!$C7:$O7,Kerkuilen!$U7:AB7) <= 3, ISNUMBER($C26)), $C26, $E26) * 10, 3)) | ... AG26: =IF(Kerkuilen!AG7="", "", ROUND(Kerkuilen!AG7 / IF(AND(COUNT(Kerkuilen!$C7:$O7,Kerkuilen!$U7:AG7) <= 3, ISNUMBER($C26)), $C26, $E26) * 10, 3))
A27: =IF(Kerkuilen!AM8=0, "", Kerkuilen!AM8) -> 4 | B27: =Kerkuilen!A8 -> Jacobis Martin | C27: =IFERROR(VALUE(MID($B27, SEARCH("[NS ", $B27)+4, 2)), "") | D27: =Kerkuilen!B8 -> 24 | E27: =Kerkuilen!T8 -> 24 | F27: =IF(Kerkuilen!AL8=0," ",SUM(H27:AG27)) -> 47.917 | H27: =IF(Kerkuilen!C8="", "", ROUND(Kerkuilen!C8 / IF(AND(COUNT(Kerkuilen!$C8:C8) <= 3, ISNUMBER($C27)), $C27, $D27) * 10, 3)) -> 11.25 | I27: =IF(Kerkuilen!D8="", "", ROUND(Kerkuilen!D8 / IF(AND(COUNT(Kerkuilen!$C8:D8) <= 3, ISNUMBER($C27)), $C27, $D27) * 10, 3)) | J27: =IF(Kerkuilen!E8="", "", ROUND(Kerkuilen!E8 / IF(AND(COUNT(Kerkuilen!$C8:E8) <= 3, ISNUMBER($C27)), $C27, $D27) * 10, 3)) -> 12.917 | K27: =IF(Kerkuilen!F8="", "", ROUND(Kerkuilen!F8 / IF(AND(COUNT(Kerkuilen!$C8:F8) <= 3, ISNUMBER($C27)), $C27, $D27) * 10, 3)) | L27: =IF(Kerkuilen!G8="", "", ROUND(Kerkuilen!G8 / IF(AND(COUNT(Kerkuilen!$C8:G8) <= 3, ISNUMBER($C27)), $C27, $D27) * 10, 3)) -> 12.917 | M27: =IF(Kerkuilen!H8="", "", ROUND(Kerkuilen!H8 / IF(AND(COUNT(Kerkuilen!$C8:H8) <= 3, ISNUMBER($C27)), $C27, $D27) * 10, 3)) | N27: =IF(Kerkuilen!I8="", "", ROUND(Kerkuilen!I8 / IF(AND(COUNT(Kerkuilen!$C8:I8) <= 3, ISNUMBER($C27)), $C27, $D27) * 10, 3)) | O27: =IF(Kerkuilen!J8="", "", ROUND(Kerkuilen!J8 / IF(AND(COUNT(Kerkuilen!$C8:J8) <= 3, ISNUMBER($C27)), $C27, $D27) * 10, 3)) -> 10.833 | ... T27: =IF(Kerkuilen!O8="", "", ROUND(Kerkuilen!O8 / IF(AND(COUNT(Kerkuilen!$C8:O8) <= 3, ISNUMBER($C27)), $C27, $D27) * 10, 3)) | U27: =IF(Kerkuilen!U8="", "", ROUND(Kerkuilen!U8 / IF(AND(COUNT(Kerkuilen!$C8:$O8,Kerkuilen!$U8:U8) <= 3, ISNUMBER($C27)), $C27, $E27) * 10, 3)) | V27: =IF(Kerkuilen!V8="", "", ROUND(Kerkuilen!V8 / IF(AND(COUNT(Kerkuilen!$C8:$O8,Kerkuilen!$U8:V8) <= 3, ISNUMBER($C27)), $C27, $E27) * 10, 3)) | W27: =IF(Kerkuilen!W8="", "", ROUND(Kerkuilen!W8 / IF(AND(COUNT(Kerkuilen!$C8:$O8,Kerkuilen!$U8:W8) <= 3, ISNUMBER($C27)), $C27, $E27) * 10, 3)) | X27: =IF(Kerkuilen!X8="", "", ROUND(Kerkuilen!X8 / IF(AND(COUNT(Kerkuilen!$C8:$O8,Kerkuilen!$U8:X8) <= 3, ISNUMBER($C27)), $C27, $E27) * 10, 3)) | Y27: =IF(Kerkuilen!Y8="", "", ROUND(Kerkuilen!Y8 / IF(AND(COUNT(Kerkuilen!$C8:$O8,Kerkuilen!$U8:Y8) <= 3, ISNUMBER($C27)), $C27, $E27) * 10, 3)) | Z27: =IF(Kerkuilen!Z8="", "", ROUND(Kerkuilen!Z8 / IF(AND(COUNT(Kerkuilen!$C8:$O8,Kerkuilen!$U8:Z8) <= 3, ISNUMBER($C27)), $C27, $E27) * 10, 3)) | AA27: =IF(Kerkuilen!AA8="", "", ROUND(Kerkuilen!AA8 / IF(AND(COUNT(Kerkuilen!$C8:$O8,Kerkuilen!$U8:AA8) <= 3, ISNUMBER($C27)), $C27, $E27) * 10, 3)) | AB27: =IF(Kerkuilen!AB8="", "", ROUND(Kerkuilen!AB8 / IF(AND(COUNT(Kerkuilen!$C8:$O8,Kerkuilen!$U8:AB8) <= 3, ISNUMBER($C27)), $C27, $E27) * 10, 3)) | ... AG27: =IF(Kerkuilen!AG8="", "", ROUND(Kerkuilen!AG8 / IF(AND(COUNT(Kerkuilen!$C8:$O8,Kerkuilen!$U8:AG8) <= 3, ISNUMBER($C27)), $C27, $E27) * 10, 3))
A28: =IF(Kerkuilen!AM9=0, "", Kerkuilen!AM9) -> 4 | B28: =Kerkuilen!A9 -> Lambrechts Jef | C28: =IFERROR(VALUE(MID($B28, SEARCH("[NS ", $B28)+4, 2)), "") | D28: =Kerkuilen!B9 -> 48 | E28: =Kerkuilen!T9 -> 48 | F28: =IF(Kerkuilen!AL9=0," ",SUM(H28:AG28)) -> 42.708 | H28: =IF(Kerkuilen!C9="", "", ROUND(Kerkuilen!C9 / IF(AND(COUNT(Kerkuilen!$C9:C9) <= 3, ISNUMBER($C28)), $C28, $D28) * 10, 3)) -> 10.417 | I28: =IF(Kerkuilen!D9="", "", ROUND(Kerkuilen!D9 / IF(AND(COUNT(Kerkuilen!$C9:D9) <= 3, ISNUMBER($C28)), $C28, $D28) * 10, 3)) | J28: =IF(Kerkuilen!E9="", "", ROUND(Kerkuilen!E9 / IF(AND(COUNT(Kerkuilen!$C9:E9) <= 3, ISNUMBER($C28)), $C28, $D28) * 10, 3)) -> 6.458 | K28: =IF(Kerkuilen!F9="", "", ROUND(Kerkuilen!F9 / IF(AND(COUNT(Kerkuilen!$C9:F9) <= 3, ISNUMBER($C28)), $C28, $D28) * 10, 3)) -> 14.583 | L28: =IF(Kerkuilen!G9="", "", ROUND(Kerkuilen!G9 / IF(AND(COUNT(Kerkuilen!$C9:G9) <= 3, ISNUMBER($C28)), $C28, $D28) * 10, 3)) -> 11.25 | M28: =IF(Kerkuilen!H9="", "", ROUND(Kerkuilen!H9 / IF(AND(COUNT(Kerkuilen!$C9:H9) <= 3, ISNUMBER($C28)), $C28, $D28) * 10, 3)) | N28: =IF(Kerkuilen!I9="", "", ROUND(Kerkuilen!I9 / IF(AND(COUNT(Kerkuilen!$C9:I9) <= 3, ISNUMBER($C28)), $C28, $D28) * 10, 3)) | O28: =IF(Kerkuilen!J9="", "", ROUND(Kerkuilen!J9 / IF(AND(COUNT(Kerkuilen!$C9:J9) <= 3, ISNUMBER($C28)), $C28, $D28) * 10, 3)) | ... T28: =IF(Kerkuilen!O9="", "", ROUND(Kerkuilen!O9 / IF(AND(COUNT(Kerkuilen!$C9:O9) <= 3, ISNUMBER($C28)), $C28, $D28) * 10, 3)) | U28: =IF(Kerkuilen!U9="", "", ROUND(Kerkuilen!U9 / IF(AND(COUNT(Kerkuilen!$C9:$O9,Kerkuilen!$U9:U9) <= 3, ISNUMBER($C28)), $C28, $E28) * 10, 3)) | V28: =IF(Kerkuilen!V9="", "", ROUND(Kerkuilen!V9 / IF(AND(COUNT(Kerkuilen!$C9:$O9,Kerkuilen!$U9:V9) <= 3, ISNUMBER($C28)), $C28, $E28) * 10, 3)) | W28: =IF(Kerkuilen!W9="", "", ROUND(Kerkuilen!W9 / IF(AND(COUNT(Kerkuilen!$C9:$O9,Kerkuilen!$U9:W9) <= 3, ISNUMBER($C28)), $C28, $E28) * 10, 3)) | X28: =IF(Kerkuilen!X9="", "", ROUND(Kerkuilen!X9 / IF(AND(COUNT(Kerkuilen!$C9:$O9,Kerkuilen!$U9:X9) <= 3, ISNUMBER($C28)), $C28, $E28) * 10, 3)) | Y28: =IF(Kerkuilen!Y9="", "", ROUND(Kerkuilen!Y9 / IF(AND(COUNT(Kerkuilen!$C9:$O9,Kerkuilen!$U9:Y9) <= 3, ISNUMBER($C28)), $C28, $E28) * 10, 3)) | Z28: =IF(Kerkuilen!Z9="", "", ROUND(Kerkuilen!Z9 / IF(AND(COUNT(Kerkuilen!$C9:$O9,Kerkuilen!$U9:Z9) <= 3, ISNUMBER($C28)), $C28, $E28) * 10, 3)) | AA28: =IF(Kerkuilen!AA9="", "", ROUND(Kerkuilen!AA9 / IF(AND(COUNT(Kerkuilen!$C9:$O9,Kerkuilen!$U9:AA9) <= 3, ISNUMBER($C28)), $C28, $E28) * 10, 3)) | AB28: =IF(Kerkuilen!AB9="", "", ROUND(Kerkuilen!AB9 / IF(AND(COUNT(Kerkuilen!$C9:$O9,Kerkuilen!$U9:AB9) <= 3, ISNUMBER($C28)), $C28, $E28) * 10, 3)) | ... AG28: =IF(Kerkuilen!AG9="", "", ROUND(Kerkuilen!AG9 / IF(AND(COUNT(Kerkuilen!$C9:$O9,Kerkuilen!$U9:AG9) <= 3, ISNUMBER($C28)), $C28, $E28) * 10, 3))
A29: =IF(Kerkuilen!AM10=0, "", Kerkuilen!AM10) -> 3 | B29: =Kerkuilen!A10 -> Naulaerts Rik | C29: =IFERROR(VALUE(MID($B29, SEARCH("[NS ", $B29)+4, 2)), "") | D29: =Kerkuilen!B10 -> 51 | E29: =Kerkuilen!T10 -> 51 | F29: =IF(Kerkuilen!AL10=0," ",SUM(H29:AG29)) -> 30.981 | H29: =IF(Kerkuilen!C10="", "", ROUND(Kerkuilen!C10 / IF(AND(COUNT(Kerkuilen!$C10:C10) <= 3, ISNUMBER($C29)), $C29, $D29) * 10, 3)) | I29: =IF(Kerkuilen!D10="", "", ROUND(Kerkuilen!D10 / IF(AND(COUNT(Kerkuilen!$C10:D10) <= 3, ISNUMBER($C29)), $C29, $D29) * 10, 3)) -> 7.451 | J29: =IF(Kerkuilen!E10="", "", ROUND(Kerkuilen!E10 / IF(AND(COUNT(Kerkuilen!$C10:E10) <= 3, ISNUMBER($C29)), $C29, $D29) * 10, 3)) | K29: =IF(Kerkuilen!F10="", "", ROUND(Kerkuilen!F10 / IF(AND(COUNT(Kerkuilen!$C10:F10) <= 3, ISNUMBER($C29)), $C29, $D29) * 10, 3)) | L29: =IF(Kerkuilen!G10="", "", ROUND(Kerkuilen!G10 / IF(AND(COUNT(Kerkuilen!$C10:G10) <= 3, ISNUMBER($C29)), $C29, $D29) * 10, 3)) | M29: =IF(Kerkuilen!H10="", "", ROUND(Kerkuilen!H10 / IF(AND(COUNT(Kerkuilen!$C10:H10) <= 3, ISNUMBER($C29)), $C29, $D29) * 10, 3)) | N29: =IF(Kerkuilen!I10="", "", ROUND(Kerkuilen!I10 / IF(AND(COUNT(Kerkuilen!$C10:I10) <= 3, ISNUMBER($C29)), $C29, $D29) * 10, 3)) -> 11.373 | O29: =IF(Kerkuilen!J10="", "", ROUND(Kerkuilen!J10 / IF(AND(COUNT(Kerkuilen!$C10:J10) <= 3, ISNUMBER($C29)), $C29, $D29) * 10, 3)) -> 12.157 | ... T29: =IF(Kerkuilen!O10="", "", ROUND(Kerkuilen!O10 / IF(AND(COUNT(Kerkuilen!$C10:O10) <= 3, ISNUMBER($C29)), $C29, $D29) * 10, 3)) | U29: =IF(Kerkuilen!U10="", "", ROUND(Kerkuilen!U10 / IF(AND(COUNT(Kerkuilen!$C10:$O10,Kerkuilen!$U10:U10) <= 3, ISNUMBER($C29)), $C29, $E29) * 10, 3)) | V29: =IF(Kerkuilen!V10="", "", ROUND(Kerkuilen!V10 / IF(AND(COUNT(Kerkuilen!$C10:$O10,Kerkuilen!$U10:V10) <= 3, ISNUMBER($C29)), $C29, $E29) * 10, 3)) | W29: =IF(Kerkuilen!W10="", "", ROUND(Kerkuilen!W10 / IF(AND(COUNT(Kerkuilen!$C10:$O10,Kerkuilen!$U10:W10) <= 3, ISNUMBER($C29)), $C29, $E29) * 10, 3)) | X29: =IF(Kerkuilen!X10="", "", ROUND(Kerkuilen!X10 / IF(AND(COUNT(Kerkuilen!$C10:$O10,Kerkuilen!$U10:X10) <= 3, ISNUMBER($C29)), $C29, $E29) * 10, 3)) | Y29: =IF(Kerkuilen!Y10="", "", ROUND(Kerkuilen!Y10 / IF(AND(COUNT(Kerkuilen!$C10:$O10,Kerkuilen!$U10:Y10) <= 3, ISNUMBER($C29)), $C29, $E29) * 10, 3)) | Z29: =IF(Kerkuilen!Z10="", "", ROUND(Kerkuilen!Z10 / IF(AND(COUNT(Kerkuilen!$C10:$O10,Kerkuilen!$U10:Z10) <= 3, ISNUMBER($C29)), $C29, $E29) * 10, 3)) | AA29: =IF(Kerkuilen!AA10="", "", ROUND(Kerkuilen!AA10 / IF(AND(COUNT(Kerkuilen!$C10:$O10,Kerkuilen!$U10:AA10) <= 3, ISNUMBER($C29)), $C29, $E29) * 10, 3)) | AB29: =IF(Kerkuilen!AB10="", "", ROUND(Kerkuilen!AB10 / IF(AND(COUNT(Kerkuilen!$C10:$O10,Kerkuilen!$U10:AB10) <= 3, ISNUMBER($C29)), $C29, $E29) * 10, 3)) | ... AG29: =IF(Kerkuilen!AG10="", "", ROUND(Kerkuilen!AG10 / IF(AND(COUNT(Kerkuilen!$C10:$O10,Kerkuilen!$U10:AG10) <= 3, ISNUMBER($C29)), $C29, $E29) * 10, 3))
A30: =IF(Kerkuilen!AM11=0, "", Kerkuilen!AM11) -> 2 | B30: =Kerkuilen!A11 -> Peeters Wies | C30: =IFERROR(VALUE(MID($B30, SEARCH("[NS ", $B30)+4, 2)), "") | D30: =Kerkuilen!B11 -> 26 | E30: =Kerkuilen!T11 -> 26 | F30: =IF(Kerkuilen!AL11=0," ",SUM(H30:AG30)) -> 17.693 | H30: =IF(Kerkuilen!C11="", "", ROUND(Kerkuilen!C11 / IF(AND(COUNT(Kerkuilen!$C11:C11) <= 3, ISNUMBER($C30)), $C30, $D30) * 10, 3)) | I30: =IF(Kerkuilen!D11="", "", ROUND(Kerkuilen!D11 / IF(AND(COUNT(Kerkuilen!$C11:D11) <= 3, ISNUMBER($C30)), $C30, $D30) * 10, 3)) -> 7.308 | J30: =IF(Kerkuilen!E11="", "", ROUND(Kerkuilen!E11 / IF(AND(COUNT(Kerkuilen!$C11:E11) <= 3, ISNUMBER($C30)), $C30, $D30) * 10, 3)) | K30: =IF(Kerkuilen!F11="", "", ROUND(Kerkuilen!F11 / IF(AND(COUNT(Kerkuilen!$C11:F11) <= 3, ISNUMBER($C30)), $C30, $D30) * 10, 3)) | L30: =IF(Kerkuilen!G11="", "", ROUND(Kerkuilen!G11 / IF(AND(COUNT(Kerkuilen!$C11:G11) <= 3, ISNUMBER($C30)), $C30, $D30) * 10, 3)) | M30: =IF(Kerkuilen!H11="", "", ROUND(Kerkuilen!H11 / IF(AND(COUNT(Kerkuilen!$C11:H11) <= 3, ISNUMBER($C30)), $C30, $D30) * 10, 3)) -> 10.385 | N30: =IF(Kerkuilen!I11="", "", ROUND(Kerkuilen!I11 / IF(AND(COUNT(Kerkuilen!$C11:I11) <= 3, ISNUMBER($C30)), $C30, $D30) * 10, 3)) | O30: =IF(Kerkuilen!J11="", "", ROUND(Kerkuilen!J11 / IF(AND(COUNT(Kerkuilen!$C11:J11) <= 3, ISNUMBER($C30)), $C30, $D30) * 10, 3)) | ... T30: =IF(Kerkuilen!O11="", "", ROUND(Kerkuilen!O11 / IF(AND(COUNT(Kerkuilen!$C11:O11) <= 3, ISNUMBER($C30)), $C30, $D30) * 10, 3)) | U30: =IF(Kerkuilen!U11="", "", ROUND(Kerkuilen!U11 / IF(AND(COUNT(Kerkuilen!$C11:$O11,Kerkuilen!$U11:U11) <= 3, ISNUMBER($C30)), $C30, $E30) * 10, 3)) | V30: =IF(Kerkuilen!V11="", "", ROUND(Kerkuilen!V11 / IF(AND(COUNT(Kerkuilen!$C11:$O11,Kerkuilen!$U11:V11) <= 3, ISNUMBER($C30)), $C30, $E30) * 10, 3)) | W30: =IF(Kerkuilen!W11="", "", ROUND(Kerkuilen!W11 / IF(AND(COUNT(Kerkuilen!$C11:$O11,Kerkuilen!$U11:W11) <= 3, ISNUMBER($C30)), $C30, $E30) * 10, 3)) | X30: =IF(Kerkuilen!X11="", "", ROUND(Kerkuilen!X11 / IF(AND(COUNT(Kerkuilen!$C11:$O11,Kerkuilen!$U11:X11) <= 3, ISNUMBER($C30)), $C30, $E30) * 10, 3)) | Y30: =IF(Kerkuilen!Y11="", "", ROUND(Kerkuilen!Y11 / IF(AND(COUNT(Kerkuilen!$C11:$O11,Kerkuilen!$U11:Y11) <= 3, ISNUMBER($C30)), $C30, $E30) * 10, 3)) | Z30: =IF(Kerkuilen!Z11="", "", ROUND(Kerkuilen!Z11 / IF(AND(COUNT(Kerkuilen!$C11:$O11,Kerkuilen!$U11:Z11) <= 3, ISNUMBER($C30)), $C30, $E30) * 10, 3)) | AA30: =IF(Kerkuilen!AA11="", "", ROUND(Kerkuilen!AA11 / IF(AND(COUNT(Kerkuilen!$C11:$O11,Kerkuilen!$U11:AA11) <= 3, ISNUMBER($C30)), $C30, $E30) * 10, 3)) | AB30: =IF(Kerkuilen!AB11="", "", ROUND(Kerkuilen!AB11 / IF(AND(COUNT(Kerkuilen!$C11:$O11,Kerkuilen!$U11:AB11) <= 3, ISNUMBER($C30)), $C30, $E30) * 10, 3)) | ... AG30: =IF(Kerkuilen!AG11="", "", ROUND(Kerkuilen!AG11 / IF(AND(COUNT(Kerkuilen!$C11:$O11,Kerkuilen!$U11:AG11) <= 3, ISNUMBER($C30)), $C30, $E30) * 10, 3))
A31: =IF(Kerkuilen!AM12=0, "", Kerkuilen!AM12) -> 6 | B31: =Kerkuilen!A12 -> Pleysier Luc | C31: =IFERROR(VALUE(MID($B31, SEARCH("[NS ", $B31)+4, 2)), "") | D31: =Kerkuilen!B12 -> 81 | E31: =Kerkuilen!T12 -> 81 | F31: =IF(Kerkuilen!AL12=0," ",SUM(H31:AG31)) -> 38.026 | H31: =IF(Kerkuilen!C12="", "", ROUND(Kerkuilen!C12 / IF(AND(COUNT(Kerkuilen!$C12:C12) <= 3, ISNUMBER($C31)), $C31, $D31) * 10, 3)) -> 4.815 | I31: =IF(Kerkuilen!D12="", "", ROUND(Kerkuilen!D12 / IF(AND(COUNT(Kerkuilen!$C12:D12) <= 3, ISNUMBER($C31)), $C31, $D31) * 10, 3)) -> 3.951 | J31: =IF(Kerkuilen!E12="", "", ROUND(Kerkuilen!E12 / IF(AND(COUNT(Kerkuilen!$C12:E12) <= 3, ISNUMBER($C31)), $C31, $D31) * 10, 3)) | K31: =IF(Kerkuilen!F12="", "", ROUND(Kerkuilen!F12 / IF(AND(COUNT(Kerkuilen!$C12:F12) <= 3, ISNUMBER($C31)), $C31, $D31) * 10, 3)) -> 8.272 | L31: =IF(Kerkuilen!G12="", "", ROUND(Kerkuilen!G12 / IF(AND(COUNT(Kerkuilen!$C12:G12) <= 3, ISNUMBER($C31)), $C31, $D31) * 10, 3)) | M31: =IF(Kerkuilen!H12="", "", ROUND(Kerkuilen!H12 / IF(AND(COUNT(Kerkuilen!$C12:H12) <= 3, ISNUMBER($C31)), $C31, $D31) * 10, 3)) -> 5.432 | N31: =IF(Kerkuilen!I12="", "", ROUND(Kerkuilen!I12 / IF(AND(COUNT(Kerkuilen!$C12:I12) <= 3, ISNUMBER($C31)), $C31, $D31) * 10, 3)) -> 7.778 | O31: =IF(Kerkuilen!J12="", "", ROUND(Kerkuilen!J12 / IF(AND(COUNT(Kerkuilen!$C12:J12) <= 3, ISNUMBER($C31)), $C31, $D31) * 10, 3)) -> 7.778 | ... T31: =IF(Kerkuilen!O12="", "", ROUND(Kerkuilen!O12 / IF(AND(COUNT(Kerkuilen!$C12:O12) <= 3, ISNUMBER($C31)), $C31, $D31) * 10, 3)) | U31: =IF(Kerkuilen!U12="", "", ROUND(Kerkuilen!U12 / IF(AND(COUNT(Kerkuilen!$C12:$O12,Kerkuilen!$U12:U12) <= 3, ISNUMBER($C31)), $C31, $E31) * 10, 3)) | V31: =IF(Kerkuilen!V12="", "", ROUND(Kerkuilen!V12 / IF(AND(COUNT(Kerkuilen!$C12:$O12,Kerkuilen!$U12:V12) <= 3, ISNUMBER($C31)), $C31, $E31) * 10, 3)) | W31: =IF(Kerkuilen!W12="", "", ROUND(Kerkuilen!W12 / IF(AND(COUNT(Kerkuilen!$C12:$O12,Kerkuilen!$U12:W12) <= 3, ISNUMBER($C31)), $C31, $E31) * 10, 3)) | X31: =IF(Kerkuilen!X12="", "", ROUND(Kerkuilen!X12 / IF(AND(COUNT(Kerkuilen!$C12:$O12,Kerkuilen!$U12:X12) <= 3, ISNUMBER($C31)), $C31, $E31) * 10, 3)) | Y31: =IF(Kerkuilen!Y12="", "", ROUND(Kerkuilen!Y12 / IF(AND(COUNT(Kerkuilen!$C12:$O12,Kerkuilen!$U12:Y12) <= 3, ISNUMBER($C31)), $C31, $E31) * 10, 3)) | Z31: =IF(Kerkuilen!Z12="", "", ROUND(Kerkuilen!Z12 / IF(AND(COUNT(Kerkuilen!$C12:$O12,Kerkuilen!$U12:Z12) <= 3, ISNUMBER($C31)), $C31, $E31) * 10, 3)) | AA31: =IF(Kerkuilen!AA12="", "", ROUND(Kerkuilen!AA12 / IF(AND(COUNT(Kerkuilen!$C12:$O12,Kerkuilen!$U12:AA12) <= 3, ISNUMBER($C31)), $C31, $E31) * 10, 3)) | AB31: =IF(Kerkuilen!AB12="", "", ROUND(Kerkuilen!AB12 / IF(AND(COUNT(Kerkuilen!$C12:$O12,Kerkuilen!$U12:AB12) <= 3, ISNUMBER($C31)), $C31, $E31) * 10, 3)) | ... AG31: =IF(Kerkuilen!AG12="", "", ROUND(Kerkuilen!AG12 / IF(AND(COUNT(Kerkuilen!$C12:$O12,Kerkuilen!$U12:AG12) <= 3, ISNUMBER($C31)), $C31, $E31) * 10, 3))
A32: =IF(Kerkuilen!AM13=0, "", Kerkuilen!AM13) -> 6 | B32: =Kerkuilen!A13 -> Quick Gerard | C32: =IFERROR(VALUE(MID($B32, SEARCH("[NS ", $B32)+4, 2)), "") | D32: =Kerkuilen!B13 -> 28 | E32: =Kerkuilen!T13 -> 28 | F32: =IF(Kerkuilen!AL13=0," ",SUM(H32:AG32)) -> 51.785 | H32: =IF(Kerkuilen!C13="", "", ROUND(Kerkuilen!C13 / IF(AND(COUNT(Kerkuilen!$C13:C13) <= 3, ISNUMBER($C32)), $C32, $D32) * 10, 3)) -> 8.571 | I32: =IF(Kerkuilen!D13="", "", ROUND(Kerkuilen!D13 / IF(AND(COUNT(Kerkuilen!$C13:D13) <= 3, ISNUMBER($C32)), $C32, $D32) * 10, 3)) | J32: =IF(Kerkuilen!E13="", "", ROUND(Kerkuilen!E13 / IF(AND(COUNT(Kerkuilen!$C13:E13) <= 3, ISNUMBER($C32)), $C32, $D32) * 10, 3)) -> 7.143 | K32: =IF(Kerkuilen!F13="", "", ROUND(Kerkuilen!F13 / IF(AND(COUNT(Kerkuilen!$C13:F13) <= 3, ISNUMBER($C32)), $C32, $D32) * 10, 3)) -> 5.357 | L32: =IF(Kerkuilen!G13="", "", ROUND(Kerkuilen!G13 / IF(AND(COUNT(Kerkuilen!$C13:G13) <= 3, ISNUMBER($C32)), $C32, $D32) * 10, 3)) -> 10.357 | M32: =IF(Kerkuilen!H13="", "", ROUND(Kerkuilen!H13 / IF(AND(COUNT(Kerkuilen!$C13:H13) <= 3, ISNUMBER($C32)), $C32, $D32) * 10, 3)) -> 8.571 | N32: =IF(Kerkuilen!I13="", "", ROUND(Kerkuilen!I13 / IF(AND(COUNT(Kerkuilen!$C13:I13) <= 3, ISNUMBER($C32)), $C32, $D32) * 10, 3)) -> 11.786 | O32: =IF(Kerkuilen!J13="", "", ROUND(Kerkuilen!J13 / IF(AND(COUNT(Kerkuilen!$C13:J13) <= 3, ISNUMBER($C32)), $C32, $D32) * 10, 3)) | ... T32: =IF(Kerkuilen!O13="", "", ROUND(Kerkuilen!O13 / IF(AND(COUNT(Kerkuilen!$C13:O13) <= 3, ISNUMBER($C32)), $C32, $D32) * 10, 3)) | U32: =IF(Kerkuilen!U13="", "", ROUND(Kerkuilen!U13 / IF(AND(COUNT(Kerkuilen!$C13:$O13,Kerkuilen!$U13:U13) <= 3, ISNUMBER($C32)), $C32, $E32) * 10, 3)) | V32: =IF(Kerkuilen!V13="", "", ROUND(Kerkuilen!V13 / IF(AND(COUNT(Kerkuilen!$C13:$O13,Kerkuilen!$U13:V13) <= 3, ISNUMBER($C32)), $C32, $E32) * 10, 3)) | W32: =IF(Kerkuilen!W13="", "", ROUND(Kerkuilen!W13 / IF(AND(COUNT(Kerkuilen!$C13:$O13,Kerkuilen!$U13:W13) <= 3, ISNUMBER($C32)), $C32, $E32) * 10, 3)) | X32: =IF(Kerkuilen!X13="", "", ROUND(Kerkuilen!X13 / IF(AND(COUNT(Kerkuilen!$C13:$O13,Kerkuilen!$U13:X13) <= 3, ISNUMBER($C32)), $C32, $E32) * 10, 3)) | Y32: =IF(Kerkuilen!Y13="", "", ROUND(Kerkuilen!Y13 / IF(AND(COUNT(Kerkuilen!$C13:$O13,Kerkuilen!$U13:Y13) <= 3, ISNUMBER($C32)), $C32, $E32) * 10, 3)) | Z32: =IF(Kerkuilen!Z13="", "", ROUND(Kerkuilen!Z13 / IF(AND(COUNT(Kerkuilen!$C13:$O13,Kerkuilen!$U13:Z13) <= 3, ISNUMBER($C32)), $C32, $E32) * 10, 3)) | AA32: =IF(Kerkuilen!AA13="", "", ROUND(Kerkuilen!AA13 / IF(AND(COUNT(Kerkuilen!$C13:$O13,Kerkuilen!$U13:AA13) <= 3, ISNUMBER($C32)), $C32, $E32) * 10, 3)) | AB32: =IF(Kerkuilen!AB13="", "", ROUND(Kerkuilen!AB13 / IF(AND(COUNT(Kerkuilen!$C13:$O13,Kerkuilen!$U13:AB13) <= 3, ISNUMBER($C32)), $C32, $E32) * 10, 3)) | ... AG32: =IF(Kerkuilen!AG13="", "", ROUND(Kerkuilen!AG13 / IF(AND(COUNT(Kerkuilen!$C13:$O13,Kerkuilen!$U13:AG13) <= 3, ISNUMBER($C32)), $C32, $E32) * 10, 3))
A33: =IF(Kerkuilen!AM14=0, "", Kerkuilen!AM14) -> 3 | B33: =Kerkuilen!A14 -> Schrooyen Jef | C33: =IFERROR(VALUE(MID($B33, SEARCH("[NS ", $B33)+4, 2)), "") | D33: =Kerkuilen!B14 -> 49 | E33: =Kerkuilen!T14 -> 49 | F33: =IF(Kerkuilen!AL14=0," ",SUM(H33:AG33)) -> 36.735 | H33: =IF(Kerkuilen!C14="", "", ROUND(Kerkuilen!C14 / IF(AND(COUNT(Kerkuilen!$C14:C14) <= 3, ISNUMBER($C33)), $C33, $D33) * 10, 3)) -> 14.898 | I33: =IF(Kerkuilen!D14="", "", ROUND(Kerkuilen!D14 / IF(AND(COUNT(Kerkuilen!$C14:D14) <= 3, ISNUMBER($C33)), $C33, $D33) * 10, 3)) -> 11.633 | J33: =IF(Kerkuilen!E14="", "", ROUND(Kerkuilen!E14 / IF(AND(COUNT(Kerkuilen!$C14:E14) <= 3, ISNUMBER($C33)), $C33, $D33) * 10, 3)) | K33: =IF(Kerkuilen!F14="", "", ROUND(Kerkuilen!F14 / IF(AND(COUNT(Kerkuilen!$C14:F14) <= 3, ISNUMBER($C33)), $C33, $D33) * 10, 3)) | L33: =IF(Kerkuilen!G14="", "", ROUND(Kerkuilen!G14 / IF(AND(COUNT(Kerkuilen!$C14:G14) <= 3, ISNUMBER($C33)), $C33, $D33) * 10, 3)) | M33: =IF(Kerkuilen!H14="", "", ROUND(Kerkuilen!H14 / IF(AND(COUNT(Kerkuilen!$C14:H14) <= 3, ISNUMBER($C33)), $C33, $D33) * 10, 3)) -> 10.204 | N33: =IF(Kerkuilen!I14="", "", ROUND(Kerkuilen!I14 / IF(AND(COUNT(Kerkuilen!$C14:I14) <= 3, ISNUMBER($C33)), $C33, $D33) * 10, 3)) | O33: =IF(Kerkuilen!J14="", "", ROUND(Kerkuilen!J14 / IF(AND(COUNT(Kerkuilen!$C14:J14) <= 3, ISNUMBER($C33)), $C33, $D33) * 10, 3)) | ... T33: =IF(Kerkuilen!O14="", "", ROUND(Kerkuilen!O14 / IF(AND(COUNT(Kerkuilen!$C14:O14) <= 3, ISNUMBER($C33)), $C33, $D33) * 10, 3)) | U33: =IF(Kerkuilen!U14="", "", ROUND(Kerkuilen!U14 / IF(AND(COUNT(Kerkuilen!$C14:$O14,Kerkuilen!$U14:U14) <= 3, ISNUMBER($C33)), $C33, $E33) * 10, 3)) | V33: =IF(Kerkuilen!V14="", "", ROUND(Kerkuilen!V14 / IF(AND(COUNT(Kerkuilen!$C14:$O14,Kerkuilen!$U14:V14) <= 3, ISNUMBER($C33)), $C33, $E33) * 10, 3)) | W33: =IF(Kerkuilen!W14="", "", ROUND(Kerkuilen!W14 / IF(AND(COUNT(Kerkuilen!$C14:$O14,Kerkuilen!$U14:W14) <= 3, ISNUMBER($C33)), $C33, $E33) * 10, 3)) | X33: =IF(Kerkuilen!X14="", "", ROUND(Kerkuilen!X14 / IF(AND(COUNT(Kerkuilen!$C14:$O14,Kerkuilen!$U14:X14) <= 3, ISNUMBER($C33)), $C33, $E33) * 10, 3)) | Y33: =IF(Kerkuilen!Y14="", "", ROUND(Kerkuilen!Y14 / IF(AND(COUNT(Kerkuilen!$C14:$O14,Kerkuilen!$U14:Y14) <= 3, ISNUMBER($C33)), $C33, $E33) * 10, 3)) | Z33: =IF(Kerkuilen!Z14="", "", ROUND(Kerkuilen!Z14 / IF(AND(COUNT(Kerkuilen!$C14:$O14,Kerkuilen!$U14:Z14) <= 3, ISNUMBER($C33)), $C33, $E33) * 10, 3)) | AA33: =IF(Kerkuilen!AA14="", "", ROUND(Kerkuilen!AA14 / IF(AND(COUNT(Kerkuilen!$C14:$O14,Kerkuilen!$U14:AA14) <= 3, ISNUMBER($C33)), $C33, $E33) * 10, 3)) | AB33: =IF(Kerkuilen!AB14="", "", ROUND(Kerkuilen!AB14 / IF(AND(COUNT(Kerkuilen!$C14:$O14,Kerkuilen!$U14:AB14) <= 3, ISNUMBER($C33)), $C33, $E33) * 10, 3)) | ... AG33: =IF(Kerkuilen!AG14="", "", ROUND(Kerkuilen!AG14 / IF(AND(COUNT(Kerkuilen!$C14:$O14,Kerkuilen!$U14:AG14) <= 3, ISNUMBER($C33)), $C33, $E33) * 10, 3))
A34: =IF(Kerkuilen!AM15=0, "", Kerkuilen!AM15) -> 2 | B34: =Kerkuilen!A15 -> Uytdewilligen Hubert | C34: =IFERROR(VALUE(MID($B34, SEARCH("[NS ", $B34)+4, 2)), "") | D34: =Kerkuilen!B15 -> 33 | E34: =Kerkuilen!T15 -> 33 | F34: =IF(Kerkuilen!AL15=0," ",SUM(H34:AG34)) -> 24.242 | H34: =IF(Kerkuilen!C15="", "", ROUND(Kerkuilen!C15 / IF(AND(COUNT(Kerkuilen!$C15:C15) <= 3, ISNUMBER($C34)), $C34, $D34) * 10, 3)) | I34: =IF(Kerkuilen!D15="", "", ROUND(Kerkuilen!D15 / IF(AND(COUNT(Kerkuilen!$C15:D15) <= 3, ISNUMBER($C34)), $C34, $D34) * 10, 3)) | J34: =IF(Kerkuilen!E15="", "", ROUND(Kerkuilen!E15 / IF(AND(COUNT(Kerkuilen!$C15:E15) <= 3, ISNUMBER($C34)), $C34, $D34) * 10, 3)) -> 10 | K34: =IF(Kerkuilen!F15="", "", ROUND(Kerkuilen!F15 / IF(AND(COUNT(Kerkuilen!$C15:F15) <= 3, ISNUMBER($C34)), $C34, $D34) * 10, 3)) | L34: =IF(Kerkuilen!G15="", "", ROUND(Kerkuilen!G15 / IF(AND(COUNT(Kerkuilen!$C15:G15) <= 3, ISNUMBER($C34)), $C34, $D34) * 10, 3)) | M34: =IF(Kerkuilen!H15="", "", ROUND(Kerkuilen!H15 / IF(AND(COUNT(Kerkuilen!$C15:H15) <= 3, ISNUMBER($C34)), $C34, $D34) * 10, 3)) | N34: =IF(Kerkuilen!I15="", "", ROUND(Kerkuilen!I15 / IF(AND(COUNT(Kerkuilen!$C15:I15) <= 3, ISNUMBER($C34)), $C34, $D34) * 10, 3)) -> 14.242 | O34: =IF(Kerkuilen!J15="", "", ROUND(Kerkuilen!J15 / IF(AND(COUNT(Kerkuilen!$C15:J15) <= 3, ISNUMBER($C34)), $C34, $D34) * 10, 3)) | ... T34: =IF(Kerkuilen!O15="", "", ROUND(Kerkuilen!O15 / IF(AND(COUNT(Kerkuilen!$C15:O15) <= 3, ISNUMBER($C34)), $C34, $D34) * 10, 3)) | U34: =IF(Kerkuilen!U15="", "", ROUND(Kerkuilen!U15 / IF(AND(COUNT(Kerkuilen!$C15:$O15,Kerkuilen!$U15:U15) <= 3, ISNUMBER($C34)), $C34, $E34) * 10, 3)) | V34: =IF(Kerkuilen!V15="", "", ROUND(Kerkuilen!V15 / IF(AND(COUNT(Kerkuilen!$C15:$O15,Kerkuilen!$U15:V15) <= 3, ISNUMBER($C34)), $C34, $E34) * 10, 3)) | W34: =IF(Kerkuilen!W15="", "", ROUND(Kerkuilen!W15 / IF(AND(COUNT(Kerkuilen!$C15:$O15,Kerkuilen!$U15:W15) <= 3, ISNUMBER($C34)), $C34, $E34) * 10, 3)) | X34: =IF(Kerkuilen!X15="", "", ROUND(Kerkuilen!X15 / IF(AND(COUNT(Kerkuilen!$C15:$O15,Kerkuilen!$U15:X15) <= 3, ISNUMBER($C34)), $C34, $E34) * 10, 3)) | Y34: =IF(Kerkuilen!Y15="", "", ROUND(Kerkuilen!Y15 / IF(AND(COUNT(Kerkuilen!$C15:$O15,Kerkuilen!$U15:Y15) <= 3, ISNUMBER($C34)), $C34, $E34) * 10, 3)) | Z34: =IF(Kerkuilen!Z15="", "", ROUND(Kerkuilen!Z15 / IF(AND(COUNT(Kerkuilen!$C15:$O15,Kerkuilen!$U15:Z15) <= 3, ISNUMBER($C34)), $C34, $E34) * 10, 3)) | AA34: =IF(Kerkuilen!AA15="", "", ROUND(Kerkuilen!AA15 / IF(AND(COUNT(Kerkuilen!$C15:$O15,Kerkuilen!$U15:AA15) <= 3, ISNUMBER($C34)), $C34, $E34) * 10, 3)) | AB34: =IF(Kerkuilen!AB15="", "", ROUND(Kerkuilen!AB15 / IF(AND(COUNT(Kerkuilen!$C15:$O15,Kerkuilen!$U15:AB15) <= 3, ISNUMBER($C34)), $C34, $E34) * 10, 3)) | ... AG34: =IF(Kerkuilen!AG15="", "", ROUND(Kerkuilen!AG15 / IF(AND(COUNT(Kerkuilen!$C15:$O15,Kerkuilen!$U15:AG15) <= 3, ISNUMBER($C34)), $C34, $E34) * 10, 3))
... A36: =IF(Kerkuilen!AM17=0, "", Kerkuilen!AM17) -> 2 | B36: =Kerkuilen!A17 -> Van Oers John | C36: =IFERROR(VALUE(MID($B36, SEARCH("[NS ", $B36)+4, 2)), "") | D36: =Kerkuilen!B17 -> 28 | E36: =Kerkuilen!T17 -> 28 | F36: =IF(Kerkuilen!AL17=0," ",SUM(H36:AG36)) -> 24.286 | H36: =IF(Kerkuilen!C17="", "", ROUND(Kerkuilen!C17 / IF(AND(COUNT(Kerkuilen!$C17:C17) <= 3, ISNUMBER($C36)), $C36, $D36) * 10, 3)) | I36: =IF(Kerkuilen!D17="", "", ROUND(Kerkuilen!D17 / IF(AND(COUNT(Kerkuilen!$C17:D17) <= 3, ISNUMBER($C36)), $C36, $D36) * 10, 3)) -> 12.143 | J36: =IF(Kerkuilen!E17="", "", ROUND(Kerkuilen!E17 / IF(AND(COUNT(Kerkuilen!$C17:E17) <= 3, ISNUMBER($C36)), $C36, $D36) * 10, 3)) | K36: =IF(Kerkuilen!F17="", "", ROUND(Kerkuilen!F17 / IF(AND(COUNT(Kerkuilen!$C17:F17) <= 3, ISNUMBER($C36)), $C36, $D36) * 10, 3)) | L36: =IF(Kerkuilen!G17="", "", ROUND(Kerkuilen!G17 / IF(AND(COUNT(Kerkuilen!$C17:G17) <= 3, ISNUMBER($C36)), $C36, $D36) * 10, 3)) -> 12.143 | M36: =IF(Kerkuilen!H17="", "", ROUND(Kerkuilen!H17 / IF(AND(COUNT(Kerkuilen!$C17:H17) <= 3, ISNUMBER($C36)), $C36, $D36) * 10, 3)) | N36: =IF(Kerkuilen!I17="", "", ROUND(Kerkuilen!I17 / IF(AND(COUNT(Kerkuilen!$C17:I17) <= 3, ISNUMBER($C36)), $C36, $D36) * 10, 3)) | O36: =IF(Kerkuilen!J17="", "", ROUND(Kerkuilen!J17 / IF(AND(COUNT(Kerkuilen!$C17:J17) <= 3, ISNUMBER($C36)), $C36, $D36) * 10, 3)) | ... T36: =IF(Kerkuilen!O17="", "", ROUND(Kerkuilen!O17 / IF(AND(COUNT(Kerkuilen!$C17:O17) <= 3, ISNUMBER($C36)), $C36, $D36) * 10, 3)) | U36: =IF(Kerkuilen!U17="", "", ROUND(Kerkuilen!U17 / IF(AND(COUNT(Kerkuilen!$C17:$O17,Kerkuilen!$U17:U17) <= 3, ISNUMBER($C36)), $C36, $E36) * 10, 3)) | V36: =IF(Kerkuilen!V17="", "", ROUND(Kerkuilen!V17 / IF(AND(COUNT(Kerkuilen!$C17:$O17,Kerkuilen!$U17:V17) <= 3, ISNUMBER($C36)), $C36, $E36) * 10, 3)) | W36: =IF(Kerkuilen!W17="", "", ROUND(Kerkuilen!W17 / IF(AND(COUNT(Kerkuilen!$C17:$O17,Kerkuilen!$U17:W17) <= 3, ISNUMBER($C36)), $C36, $E36) * 10, 3)) | X36: =IF(Kerkuilen!X17="", "", ROUND(Kerkuilen!X17 / IF(AND(COUNT(Kerkuilen!$C17:$O17,Kerkuilen!$U17:X17) <= 3, ISNUMBER($C36)), $C36, $E36) * 10, 3)) | Y36: =IF(Kerkuilen!Y17="", "", ROUND(Kerkuilen!Y17 / IF(AND(COUNT(Kerkuilen!$C17:$O17,Kerkuilen!$U17:Y17) <= 3, ISNUMBER($C36)), $C36, $E36) * 10, 3)) | Z36: =IF(Kerkuilen!Z17="", "", ROUND(Kerkuilen!Z17 / IF(AND(COUNT(Kerkuilen!$C17:$O17,Kerkuilen!$U17:Z17) <= 3, ISNUMBER($C36)), $C36, $E36) * 10, 3)) | AA36: =IF(Kerkuilen!AA17="", "", ROUND(Kerkuilen!AA17 / IF(AND(COUNT(Kerkuilen!$C17:$O17,Kerkuilen!$U17:AA17) <= 3, ISNUMBER($C36)), $C36, $E36) * 10, 3)) | AB36: =IF(Kerkuilen!AB17="", "", ROUND(Kerkuilen!AB17 / IF(AND(COUNT(Kerkuilen!$C17:$O17,Kerkuilen!$U17:AB17) <= 3, ISNUMBER($C36)), $C36, $E36) * 10, 3)) | ... AG36: =IF(Kerkuilen!AG17="", "", ROUND(Kerkuilen!AG17 / IF(AND(COUNT(Kerkuilen!$C17:$O17,Kerkuilen!$U17:AG17) <= 3, ISNUMBER($C36)), $C36, $E36) * 10, 3))
A37: =IF(Kerkuilen!AM18=0, "", Kerkuilen!AM18) | B37: =Kerkuilen!A18 -> 0 | C37: =IFERROR(VALUE(MID($B37, SEARCH("[NS ", $B37)+4, 2)), "") | D37: =Kerkuilen!B18 -> 0 | E37: =Kerkuilen!T18 -> 0 | F37: =IF(Kerkuilen!AL16=0," ",SUM(H37:AG37)) -> 0 | H37: =IF(Kerkuilen!C18="", "", ROUND(Kerkuilen!C18 / IF(AND(COUNT(Kerkuilen!$C18:C18) <= 3, ISNUMBER($C37)), $C37, $D37) * 10, 3)) | I37: =IF(Kerkuilen!D18="", "", ROUND(Kerkuilen!D18 / IF(AND(COUNT(Kerkuilen!$C18:D18) <= 3, ISNUMBER($C37)), $C37, $D37) * 10, 3)) | J37: =IF(Kerkuilen!E18="", "", ROUND(Kerkuilen!E18 / IF(AND(COUNT(Kerkuilen!$C18:E18) <= 3, ISNUMBER($C37)), $C37, $D37) * 10, 3)) | K37: =IF(Kerkuilen!F18="", "", ROUND(Kerkuilen!F18 / IF(AND(COUNT(Kerkuilen!$C18:F18) <= 3, ISNUMBER($C37)), $C37, $D37) * 10, 3)) | L37: =IF(Kerkuilen!G18="", "", ROUND(Kerkuilen!G18 / IF(AND(COUNT(Kerkuilen!$C18:G18) <= 3, ISNUMBER($C37)), $C37, $D37) * 10, 3)) | M37: =IF(Kerkuilen!H18="", "", ROUND(Kerkuilen!H18 / IF(AND(COUNT(Kerkuilen!$C18:H18) <= 3, ISNUMBER($C37)), $C37, $D37) * 10, 3)) | N37: =IF(Kerkuilen!I18="", "", ROUND(Kerkuilen!I18 / IF(AND(COUNT(Kerkuilen!$C18:I18) <= 3, ISNUMBER($C37)), $C37, $D37) * 10, 3)) | O37: =IF(Kerkuilen!J18="", "", ROUND(Kerkuilen!J18 / IF(AND(COUNT(Kerkuilen!$C18:J18) <= 3, ISNUMBER($C37)), $C37, $D37) * 10, 3)) | ... T37: =IF(Kerkuilen!O18="", "", ROUND(Kerkuilen!O18 / IF(AND(COUNT(Kerkuilen!$C18:O18) <= 3, ISNUMBER($C37)), $C37, $D37) * 10, 3)) | U37: =IF(Kerkuilen!U18="", "", ROUND(Kerkuilen!U18 / IF(AND(COUNT(Kerkuilen!$C18:$O18,Kerkuilen!$U18:U18) <= 3, ISNUMBER($C37)), $C37, $E37) * 10, 3)) | V37: =IF(Kerkuilen!V18="", "", ROUND(Kerkuilen!V18 / IF(AND(COUNT(Kerkuilen!$C18:$O18,Kerkuilen!$U18:V18) <= 3, ISNUMBER($C37)), $C37, $E37) * 10, 3)) | W37: =IF(Kerkuilen!W18="", "", ROUND(Kerkuilen!W18 / IF(AND(COUNT(Kerkuilen!$C18:$O18,Kerkuilen!$U18:W18) <= 3, ISNUMBER($C37)), $C37, $E37) * 10, 3)) | X37: =IF(Kerkuilen!X18="", "", ROUND(Kerkuilen!X18 / IF(AND(COUNT(Kerkuilen!$C18:$O18,Kerkuilen!$U18:X18) <= 3, ISNUMBER($C37)), $C37, $E37) * 10, 3)) | Y37: =IF(Kerkuilen!Y18="", "", ROUND(Kerkuilen!Y18 / IF(AND(COUNT(Kerkuilen!$C18:$O18,Kerkuilen!$U18:Y18) <= 3, ISNUMBER($C37)), $C37, $E37) * 10, 3)) | Z37: =IF(Kerkuilen!Z18="", "", ROUND(Kerkuilen!Z18 / IF(AND(COUNT(Kerkuilen!$C18:$O18,Kerkuilen!$U18:Z18) <= 3, ISNUMBER($C37)), $C37, $E37) * 10, 3)) | AA37: =IF(Kerkuilen!AA18="", "", ROUND(Kerkuilen!AA18 / IF(AND(COUNT(Kerkuilen!$C18:$O18,Kerkuilen!$U18:AA18) <= 3, ISNUMBER($C37)), $C37, $E37) * 10, 3)) | AB37: =IF(Kerkuilen!AB18="", "", ROUND(Kerkuilen!AB18 / IF(AND(COUNT(Kerkuilen!$C18:$O18,Kerkuilen!$U18:AB18) <= 3, ISNUMBER($C37)), $C37, $E37) * 10, 3)) | ... AG37: =IF(Kerkuilen!AG18="", "", ROUND(Kerkuilen!AG18 / IF(AND(COUNT(Kerkuilen!$C18:$O18,Kerkuilen!$U18:AG18) <= 3, ISNUMBER($C37)), $C37, $E37) * 10, 3))
F38: =B22 -> KERKUILEN | H38: =IF(SUM(H23:H37)=0, "", SUM(H23:H37)) -> 61.004 | I38: =IF(SUM(I23:I37)=0, "", SUM(I23:I37)) -> 48.486 | J38: =IF(SUM(J23:J37)=0, "", SUM(J23:J37)) -> 51.844 | K38: =IF(SUM(K23:K37)=0, "", SUM(K23:K37)) -> 53.037 | L38: =IF(SUM(L23:L37)=0, "", SUM(L23:L37)) -> 60.615 | M38: =IF(SUM(M23:M37)=0, "", SUM(M23:M37)) -> 52.346 | N38: =IF(SUM(N23:N37)=0, "", SUM(N23:N37)) -> 69.412 | O38: =IF(SUM(O23:O37)=0, "", SUM(O23:O37)) -> 58.195 | ... AG38: =IF(SUM(AG23:AG37)=0, "", SUM(AG23:AG37))
B39: =ROWS(B23:B37) -> 15 | F39: =SUM(F23:F37) -> 454.939 | G39: =B22 -> KERKUILEN | H39: =IF(SUM(H23:H37)=0, "", SUM(H23:H37)) -> 61.004 | I39: =IF(I38="", "", ROUND(SUM($H38:I38), 3)) -> 109.49 | J39: =IF(J38="", "", ROUND(SUM($H38:J38), 3)) -> 161.334 | K39: =IF(K38="", "", ROUND(SUM($H38:K38), 3)) -> 214.371 | L39: =IF(L38="", "", ROUND(SUM($H38:L38), 3)) -> 274.986 | M39: =IF(M38="", "", ROUND(SUM($H38:M38), 3)) -> 327.332 | N39: =IF(N38="", "", ROUND(SUM($H38:N38), 3)) -> 396.744 | O39: =IF(O38="", "", ROUND(SUM($H38:O38), 3)) -> 454.939 | P39: =IF(P38="", "", ROUND(SUM($H38:P38), 3)) | ... AG39: =IF(AG38="", "", ROUND(SUM($H38:AG38), 3))
B41: MEEUWEN 1 | C41: =IFERROR(VALUE(MID($B41, SEARCH("[NS ", $B41)+4, 2)), "") | H41: 1 | I41: 2 | J41: 3 | K41: 4 | L41: 5 | M41: 6 | N41: 7 | O41: 8 | P41: 9 | Q41: 10 | R41: 11 | S41: 12 | T41: 13 | U41: 14 | V41: 15 | W41: 16 | X41: 17 | Y41: 18 | Z41: 19 | AA41: 20 | AB41: 21 | AC41: 22 | AD41: 23 | AE41: 24 | AF41: 25 | AG41: 26
A42: =IF(Meeuwen1!AM4=0, "", Meeuwen1!AM4) -> 6 | B42: =Meeuwen1!A4 -> Aerts Adri | C42: =IFERROR(VALUE(MID($B42, SEARCH("[NS ", $B42)+4, 2)), "") | D42: =Meeuwen1!B4 -> 34 | E42: =Meeuwen1!T4 -> 34 | F42: =IF(Meeuwen1!AL4=0," ",SUM(H42:AG42)) -> 68.528 | H42: =IF(Meeuwen1!C4="", "", ROUND(Meeuwen1!C4 / IF(AND(COUNT(Meeuwen1!$C4:C4) <= 3, ISNUMBER($C42)), $C42, $D42) * 10, 3)) -> 8.529 | I42: =IF(Meeuwen1!D4="", "", ROUND(Meeuwen1!D4 / IF(AND(COUNT(Meeuwen1!$C4:D4) <= 3, ISNUMBER($C42)), $C42, $D42) * 10, 3)) -> 13.529 | J42: =IF(Meeuwen1!E4="", "", ROUND(Meeuwen1!E4 / IF(AND(COUNT(Meeuwen1!$C4:E4) <= 3, ISNUMBER($C42)), $C42, $D42) * 10, 3)) | K42: =IF(Meeuwen1!F4="", "", ROUND(Meeuwen1!F4 / IF(AND(COUNT(Meeuwen1!$C4:F4) <= 3, ISNUMBER($C42)), $C42, $D42) * 10, 3)) -> 11.176 | L42: =IF(Meeuwen1!G4="", "", ROUND(Meeuwen1!G4 / IF(AND(COUNT(Meeuwen1!$C4:G4) <= 3, ISNUMBER($C42)), $C42, $D42) * 10, 3)) -> 17.059 | M42: =IF(Meeuwen1!H4="", "", ROUND(Meeuwen1!H4 / IF(AND(COUNT(Meeuwen1!$C4:H4) <= 3, ISNUMBER($C42)), $C42, $D42) * 10, 3)) -> 11.176 | N42: =IF(Meeuwen1!I4="", "", ROUND(Meeuwen1!I4 / IF(AND(COUNT(Meeuwen1!$C4:I4) <= 3, ISNUMBER($C42)), $C42, $D42) * 10, 3)) -> 7.059 | O42: =IF(Meeuwen1!J4="", "", ROUND(Meeuwen1!J4 / IF(AND(COUNT(Meeuwen1!$C4:J4) <= 3, ISNUMBER($C42)), $C42, $D42) * 10, 3)) | ... T42: =IF(Meeuwen1!O4="", "", ROUND(Meeuwen1!O4 / IF(AND(COUNT(Meeuwen1!$C4:O4) <= 3, ISNUMBER($C42)), $C42, $D42) * 10, 3)) | U42: =IF(Meeuwen1!U4="", "", ROUND(Meeuwen1!U4 / IF(AND(COUNT(Meeuwen1!$C4:$O4,Meeuwen1!$U4:U4) <= 3, ISNUMBER($C42)), $C42, $E42) * 10, 3)) | V42: =IF(Meeuwen1!V4="", "", ROUND(Meeuwen1!V4 / IF(AND(COUNT(Meeuwen1!$C4:$O4,Meeuwen1!$U4:V4) <= 3, ISNUMBER($C42)), $C42, $E42) * 10, 3)) | W42: =IF(Meeuwen1!W4="", "", ROUND(Meeuwen1!W4 / IF(AND(COUNT(Meeuwen1!$C4:$O4,Meeuwen1!$U4:W4) <= 3, ISNUMBER($C42)), $C42, $E42) * 10, 3)) | X42: =IF(Meeuwen1!X4="", "", ROUND(Meeuwen1!X4 / IF(AND(COUNT(Meeuwen1!$C4:$O4,Meeuwen1!$U4:X4) <= 3, ISNUMBER($C42)), $C42, $E42) * 10, 3)) | Y42: =IF(Meeuwen1!Y4="", "", ROUND(Meeuwen1!Y4 / IF(AND(COUNT(Meeuwen1!$C4:$O4,Meeuwen1!$U4:Y4) <= 3, ISNUMBER($C42)), $C42, $E42) * 10, 3)) | Z42: =IF(Meeuwen1!Z4="", "", ROUND(Meeuwen1!Z4 / IF(AND(COUNT(Meeuwen1!$C4:$O4,Meeuwen1!$U4:Z4) <= 3, ISNUMBER($C42)), $C42, $E42) * 10, 3)) | AA42: =IF(Meeuwen1!AA4="", "", ROUND(Meeuwen1!AA4 / IF(AND(COUNT(Meeuwen1!$C4:$O4,Meeuwen1!$U4:AA4) <= 3, ISNUMBER($C42)), $C42, $E42) * 10, 3)) | AB42: =IF(Meeuwen1!AB4="", "", ROUND(Meeuwen1!AB4 / IF(AND(COUNT(Meeuwen1!$C4:$O4,Meeuwen1!$U4:AB4) <= 3, ISNUMBER($C42)), $C42, $E42) * 10, 3)) | ... AG42: =IF(Meeuwen1!AG4="", "", ROUND(Meeuwen1!AG4 / IF(AND(COUNT(Meeuwen1!$C4:$O4,Meeuwen1!$U4:AG4) <= 3, ISNUMBER($C42)), $C42, $E42) * 10, 3))
A43: =IF(Meeuwen1!AM5=0, "", Meeuwen1!AM5) -> 3 | B43: =Meeuwen1!A5 -> Bocken Jean Pierre | C43: =IFERROR(VALUE(MID($B43, SEARCH("[NS ", $B43)+4, 2)), "") | D43: =Meeuwen1!B5 -> 16 | E43: =Meeuwen1!T5 -> 16 | F43: =IF(Meeuwen1!AL5=0," ",SUM(H43:AG43)) -> 30.625 | H43: =IF(Meeuwen1!C5="", "", ROUND(Meeuwen1!C5 / IF(AND(COUNT(Meeuwen1!$C5:C5) <= 3, ISNUMBER($C43)), $C43, $D43) * 10, 3)) -> 6.875 | I43: =IF(Meeuwen1!D5="", "", ROUND(Meeuwen1!D5 / IF(AND(COUNT(Meeuwen1!$C5:D5) <= 3, ISNUMBER($C43)), $C43, $D43) * 10, 3)) | J43: =IF(Meeuwen1!E5="", "", ROUND(Meeuwen1!E5 / IF(AND(COUNT(Meeuwen1!$C5:E5) <= 3, ISNUMBER($C43)), $C43, $D43) * 10, 3)) -> 6.875 | K43: =IF(Meeuwen1!F5="", "", ROUND(Meeuwen1!F5 / IF(AND(COUNT(Meeuwen1!$C5:F5) <= 3, ISNUMBER($C43)), $C43, $D43) * 10, 3)) | L43: =IF(Meeuwen1!G5="", "", ROUND(Meeuwen1!G5 / IF(AND(COUNT(Meeuwen1!$C5:G5) <= 3, ISNUMBER($C43)), $C43, $D43) * 10, 3)) | M43: =IF(Meeuwen1!H5="", "", ROUND(Meeuwen1!H5 / IF(AND(COUNT(Meeuwen1!$C5:H5) <= 3, ISNUMBER($C43)), $C43, $D43) * 10, 3)) | N43: =IF(Meeuwen1!I5="", "", ROUND(Meeuwen1!I5 / IF(AND(COUNT(Meeuwen1!$C5:I5) <= 3, ISNUMBER($C43)), $C43, $D43) * 10, 3)) | O43: =IF(Meeuwen1!J5="", "", ROUND(Meeuwen1!J5 / IF(AND(COUNT(Meeuwen1!$C5:J5) <= 3, ISNUMBER($C43)), $C43, $D43) * 10, 3)) -> 16.875 | ... T43: =IF(Meeuwen1!O5="", "", ROUND(Meeuwen1!O5 / IF(AND(COUNT(Meeuwen1!$C5:O5) <= 3, ISNUMBER($C43)), $C43, $D43) * 10, 3)) | U43: =IF(Meeuwen1!U5="", "", ROUND(Meeuwen1!U5 / IF(AND(COUNT(Meeuwen1!$C5:$O5,Meeuwen1!$U5:U5) <= 3, ISNUMBER($C43)), $C43, $E43) * 10, 3)) | V43: =IF(Meeuwen1!V5="", "", ROUND(Meeuwen1!V5 / IF(AND(COUNT(Meeuwen1!$C5:$O5,Meeuwen1!$U5:V5) <= 3, ISNUMBER($C43)), $C43, $E43) * 10, 3)) | W43: =IF(Meeuwen1!W5="", "", ROUND(Meeuwen1!W5 / IF(AND(COUNT(Meeuwen1!$C5:$O5,Meeuwen1!$U5:W5) <= 3, ISNUMBER($C43)), $C43, $E43) * 10, 3)) | X43: =IF(Meeuwen1!X5="", "", ROUND(Meeuwen1!X5 / IF(AND(COUNT(Meeuwen1!$C5:$O5,Meeuwen1!$U5:X5) <= 3, ISNUMBER($C43)), $C43, $E43) * 10, 3)) | Y43: =IF(Meeuwen1!Y5="", "", ROUND(Meeuwen1!Y5 / IF(AND(COUNT(Meeuwen1!$C5:$O5,Meeuwen1!$U5:Y5) <= 3, ISNUMBER($C43)), $C43, $E43) * 10, 3)) | Z43: =IF(Meeuwen1!Z5="", "", ROUND(Meeuwen1!Z5 / IF(AND(COUNT(Meeuwen1!$C5:$O5,Meeuwen1!$U5:Z5) <= 3, ISNUMBER($C43)), $C43, $E43) * 10, 3)) | AA43: =IF(Meeuwen1!AA5="", "", ROUND(Meeuwen1!AA5 / IF(AND(COUNT(Meeuwen1!$C5:$O5,Meeuwen1!$U5:AA5) <= 3, ISNUMBER($C43)), $C43, $E43) * 10, 3)) | AB43: =IF(Meeuwen1!AB5="", "", ROUND(Meeuwen1!AB5 / IF(AND(COUNT(Meeuwen1!$C5:$O5,Meeuwen1!$U5:AB5) <= 3, ISNUMBER($C43)), $C43, $E43) * 10, 3)) | ... AG43: =IF(Meeuwen1!AG5="", "", ROUND(Meeuwen1!AG5 / IF(AND(COUNT(Meeuwen1!$C5:$O5,Meeuwen1!$U5:AG5) <= 3, ISNUMBER($C43)), $C43, $E43) * 10, 3))
A44: =IF(Meeuwen1!AM6=0, "", Meeuwen1!AM6) -> 5 | B44: =Meeuwen1!A6 -> Bocken Lambert | C44: =IFERROR(VALUE(MID($B44, SEARCH("[NS ", $B44)+4, 2)), "") | D44: =Meeuwen1!B6 -> 26 | E44: =Meeuwen1!T6 -> 26 | F44: =IF(Meeuwen1!AL6=0," ",SUM(H44:AG44)) -> 56.154 | H44: =IF(Meeuwen1!C6="", "", ROUND(Meeuwen1!C6 / IF(AND(COUNT(Meeuwen1!$C6:C6) <= 3, ISNUMBER($C44)), $C44, $D44) * 10, 3)) | I44: =IF(Meeuwen1!D6="", "", ROUND(Meeuwen1!D6 / IF(AND(COUNT(Meeuwen1!$C6:D6) <= 3, ISNUMBER($C44)), $C44, $D44) * 10, 3)) -> 8.846 | J44: =IF(Meeuwen1!E6="", "", ROUND(Meeuwen1!E6 / IF(AND(COUNT(Meeuwen1!$C6:E6) <= 3, ISNUMBER($C44)), $C44, $D44) * 10, 3)) -> 13.077 | K44: =IF(Meeuwen1!F6="", "", ROUND(Meeuwen1!F6 / IF(AND(COUNT(Meeuwen1!$C6:F6) <= 3, ISNUMBER($C44)), $C44, $D44) * 10, 3)) | L44: =IF(Meeuwen1!G6="", "", ROUND(Meeuwen1!G6 / IF(AND(COUNT(Meeuwen1!$C6:G6) <= 3, ISNUMBER($C44)), $C44, $D44) * 10, 3)) -> 14.615 | M44: =IF(Meeuwen1!H6="", "", ROUND(Meeuwen1!H6 / IF(AND(COUNT(Meeuwen1!$C6:H6) <= 3, ISNUMBER($C44)), $C44, $D44) * 10, 3)) | N44: =IF(Meeuwen1!I6="", "", ROUND(Meeuwen1!I6 / IF(AND(COUNT(Meeuwen1!$C6:I6) <= 3, ISNUMBER($C44)), $C44, $D44) * 10, 3)) -> 5.385 | O44: =IF(Meeuwen1!J6="", "", ROUND(Meeuwen1!J6 / IF(AND(COUNT(Meeuwen1!$C6:J6) <= 3, ISNUMBER($C44)), $C44, $D44) * 10, 3)) -> 14.231 | ... T44: =IF(Meeuwen1!O6="", "", ROUND(Meeuwen1!O6 / IF(AND(COUNT(Meeuwen1!$C6:O6) <= 3, ISNUMBER($C44)), $C44, $D44) * 10, 3)) | U44: =IF(Meeuwen1!U6="", "", ROUND(Meeuwen1!U6 / IF(AND(COUNT(Meeuwen1!$C6:$O6,Meeuwen1!$U6:U6) <= 3, ISNUMBER($C44)), $C44, $E44) * 10, 3)) | V44: =IF(Meeuwen1!V6="", "", ROUND(Meeuwen1!V6 / IF(AND(COUNT(Meeuwen1!$C6:$O6,Meeuwen1!$U6:V6) <= 3, ISNUMBER($C44)), $C44, $E44) * 10, 3)) | W44: =IF(Meeuwen1!W6="", "", ROUND(Meeuwen1!W6 / IF(AND(COUNT(Meeuwen1!$C6:$O6,Meeuwen1!$U6:W6) <= 3, ISNUMBER($C44)), $C44, $E44) * 10, 3)) | X44: =IF(Meeuwen1!X6="", "", ROUND(Meeuwen1!X6 / IF(AND(COUNT(Meeuwen1!$C6:$O6,Meeuwen1!$U6:X6) <= 3, ISNUMBER($C44)), $C44, $E44) * 10, 3)) | Y44: =IF(Meeuwen1!Y6="", "", ROUND(Meeuwen1!Y6 / IF(AND(COUNT(Meeuwen1!$C6:$O6,Meeuwen1!$U6:Y6) <= 3, ISNUMBER($C44)), $C44, $E44) * 10, 3)) | Z44: =IF(Meeuwen1!Z6="", "", ROUND(Meeuwen1!Z6 / IF(AND(COUNT(Meeuwen1!$C6:$O6,Meeuwen1!$U6:Z6) <= 3, ISNUMBER($C44)), $C44, $E44) * 10, 3)) | AA44: =IF(Meeuwen1!AA6="", "", ROUND(Meeuwen1!AA6 / IF(AND(COUNT(Meeuwen1!$C6:$O6,Meeuwen1!$U6:AA6) <= 3, ISNUMBER($C44)), $C44, $E44) * 10, 3)) | AB44: =IF(Meeuwen1!AB6="", "", ROUND(Meeuwen1!AB6 / IF(AND(COUNT(Meeuwen1!$C6:$O6,Meeuwen1!$U6:AB6) <= 3, ISNUMBER($C44)), $C44, $E44) * 10, 3)) | ... AG44: =IF(Meeuwen1!AG6="", "", ROUND(Meeuwen1!AG6 / IF(AND(COUNT(Meeuwen1!$C6:$O6,Meeuwen1!$U6:AG6) <= 3, ISNUMBER($C44)), $C44, $E44) * 10, 3))
A45: =IF(Meeuwen1!AM7=0, "", Meeuwen1!AM7) -> 2 | B45: =Meeuwen1!A7 -> Gabriels Johnny [ OS ] | C45: =IFERROR(VALUE(MID($B45, SEARCH("[NS ", $B45)+4, 2)), "") | D45: =Meeuwen1!B7 -> 32 | E45: =Meeuwen1!T7 -> 32 | F45: =IF(Meeuwen1!AL7=0," ",SUM(H45:AG45)) -> 10.313 | H45: =IF(Meeuwen1!C7="", "", ROUND(Meeuwen1!C7 / IF(AND(COUNT(Meeuwen1!$C7:C7) <= 3, ISNUMBER($C45)), $C45, $D45) * 10, 3)) | I45: =IF(Meeuwen1!D7="", "", ROUND(Meeuwen1!D7 / IF(AND(COUNT(Meeuwen1!$C7:D7) <= 3, ISNUMBER($C45)), $C45, $D45) * 10, 3)) | J45: =IF(Meeuwen1!E7="", "", ROUND(Meeuwen1!E7 / IF(AND(COUNT(Meeuwen1!$C7:E7) <= 3, ISNUMBER($C45)), $C45, $D45) * 10, 3)) | K45: =IF(Meeuwen1!F7="", "", ROUND(Meeuwen1!F7 / IF(AND(COUNT(Meeuwen1!$C7:F7) <= 3, ISNUMBER($C45)), $C45, $D45) * 10, 3)) -> 4.688 | L45: =IF(Meeuwen1!G7="", "", ROUND(Meeuwen1!G7 / IF(AND(COUNT(Meeuwen1!$C7:G7) <= 3, ISNUMBER($C45)), $C45, $D45) * 10, 3)) | M45: =IF(Meeuwen1!H7="", "", ROUND(Meeuwen1!H7 / IF(AND(COUNT(Meeuwen1!$C7:H7) <= 3, ISNUMBER($C45)), $C45, $D45) * 10, 3)) | N45: =IF(Meeuwen1!I7="", "", ROUND(Meeuwen1!I7 / IF(AND(COUNT(Meeuwen1!$C7:I7) <= 3, ISNUMBER($C45)), $C45, $D45) * 10, 3)) | O45: =IF(Meeuwen1!J7="", "", ROUND(Meeuwen1!J7 / IF(AND(COUNT(Meeuwen1!$C7:J7) <= 3, ISNUMBER($C45)), $C45, $D45) * 10, 3)) -> 5.625 | ... T45: =IF(Meeuwen1!O7="", "", ROUND(Meeuwen1!O7 / IF(AND(COUNT(Meeuwen1!$C7:O7) <= 3, ISNUMBER($C45)), $C45, $D45) * 10, 3)) | U45: =IF(Meeuwen1!U7="", "", ROUND(Meeuwen1!U7 / IF(AND(COUNT(Meeuwen1!$C7:$O7,Meeuwen1!$U7:U7) <= 3, ISNUMBER($C45)), $C45, $E45) * 10, 3)) | V45: =IF(Meeuwen1!V7="", "", ROUND(Meeuwen1!V7 / IF(AND(COUNT(Meeuwen1!$C7:$O7,Meeuwen1!$U7:V7) <= 3, ISNUMBER($C45)), $C45, $E45) * 10, 3)) | W45: =IF(Meeuwen1!W7="", "", ROUND(Meeuwen1!W7 / IF(AND(COUNT(Meeuwen1!$C7:$O7,Meeuwen1!$U7:W7) <= 3, ISNUMBER($C45)), $C45, $E45) * 10, 3)) | X45: =IF(Meeuwen1!X7="", "", ROUND(Meeuwen1!X7 / IF(AND(COUNT(Meeuwen1!$C7:$O7,Meeuwen1!$U7:X7) <= 3, ISNUMBER($C45)), $C45, $E45) * 10, 3)) | Y45: =IF(Meeuwen1!Y7="", "", ROUND(Meeuwen1!Y7 / IF(AND(COUNT(Meeuwen1!$C7:$O7,Meeuwen1!$U7:Y7) <= 3, ISNUMBER($C45)), $C45, $E45) * 10, 3)) | Z45: =IF(Meeuwen1!Z7="", "", ROUND(Meeuwen1!Z7 / IF(AND(COUNT(Meeuwen1!$C7:$O7,Meeuwen1!$U7:Z7) <= 3, ISNUMBER($C45)), $C45, $E45) * 10, 3)) | AA45: =IF(Meeuwen1!AA7="", "", ROUND(Meeuwen1!AA7 / IF(AND(COUNT(Meeuwen1!$C7:$O7,Meeuwen1!$U7:AA7) <= 3, ISNUMBER($C45)), $C45, $E45) * 10, 3)) | AB45: =IF(Meeuwen1!AB7="", "", ROUND(Meeuwen1!AB7 / IF(AND(COUNT(Meeuwen1!$C7:$O7,Meeuwen1!$U7:AB7) <= 3, ISNUMBER($C45)), $C45, $E45) * 10, 3)) | ... AG45: =IF(Meeuwen1!AG7="", "", ROUND(Meeuwen1!AG7 / IF(AND(COUNT(Meeuwen1!$C7:$O7,Meeuwen1!$U7:AG7) <= 3, ISNUMBER($C45)), $C45, $E45) * 10, 3))
A46: =IF(Meeuwen1!AM8=0, "", Meeuwen1!AM8) -> 6 | B46: =Meeuwen1!A8 -> Goetschalkx Herman | C46: =IFERROR(VALUE(MID($B46, SEARCH("[NS ", $B46)+4, 2)), "") | D46: =Meeuwen1!B8 -> 15 | E46: =Meeuwen1!T8 -> 15 | F46: =IF(Meeuwen1!AL8=0," ",SUM(H46:AG46)) -> 55.334 | H46: =IF(Meeuwen1!C8="", "", ROUND(Meeuwen1!C8 / IF(AND(COUNT(Meeuwen1!$C8:C8) <= 3, ISNUMBER($C46)), $C46, $D46) * 10, 3)) -> 11.333 | I46: =IF(Meeuwen1!D8="", "", ROUND(Meeuwen1!D8 / IF(AND(COUNT(Meeuwen1!$C8:D8) <= 3, ISNUMBER($C46)), $C46, $D46) * 10, 3)) | J46: =IF(Meeuwen1!E8="", "", ROUND(Meeuwen1!E8 / IF(AND(COUNT(Meeuwen1!$C8:E8) <= 3, ISNUMBER($C46)), $C46, $D46) * 10, 3)) -> 12 | K46: =IF(Meeuwen1!F8="", "", ROUND(Meeuwen1!F8 / IF(AND(COUNT(Meeuwen1!$C8:F8) <= 3, ISNUMBER($C46)), $C46, $D46) * 10, 3)) -> 4.667 | L46: =IF(Meeuwen1!G8="", "", ROUND(Meeuwen1!G8 / IF(AND(COUNT(Meeuwen1!$C8:G8) <= 3, ISNUMBER($C46)), $C46, $D46) * 10, 3)) -> 8.667 | M46: =IF(Meeuwen1!H8="", "", ROUND(Meeuwen1!H8 / IF(AND(COUNT(Meeuwen1!$C8:H8) <= 3, ISNUMBER($C46)), $C46, $D46) * 10, 3)) -> 10.667 | N46: =IF(Meeuwen1!I8="", "", ROUND(Meeuwen1!I8 / IF(AND(COUNT(Meeuwen1!$C8:I8) <= 3, ISNUMBER($C46)), $C46, $D46) * 10, 3)) -> 8 | O46: =IF(Meeuwen1!J8="", "", ROUND(Meeuwen1!J8 / IF(AND(COUNT(Meeuwen1!$C8:J8) <= 3, ISNUMBER($C46)), $C46, $D46) * 10, 3)) | ... T46: =IF(Meeuwen1!O8="", "", ROUND(Meeuwen1!O8 / IF(AND(COUNT(Meeuwen1!$C8:O8) <= 3, ISNUMBER($C46)), $C46, $D46) * 10, 3)) | U46: =IF(Meeuwen1!U8="", "", ROUND(Meeuwen1!U8 / IF(AND(COUNT(Meeuwen1!$C8:$O8,Meeuwen1!$U8:U8) <= 3, ISNUMBER($C46)), $C46, $E46) * 10, 3)) | V46: =IF(Meeuwen1!V8="", "", ROUND(Meeuwen1!V8 / IF(AND(COUNT(Meeuwen1!$C8:$O8,Meeuwen1!$U8:V8) <= 3, ISNUMBER($C46)), $C46, $E46) * 10, 3)) | W46: =IF(Meeuwen1!W8="", "", ROUND(Meeuwen1!W8 / IF(AND(COUNT(Meeuwen1!$C8:$O8,Meeuwen1!$U8:W8) <= 3, ISNUMBER($C46)), $C46, $E46) * 10, 3)) | X46: =IF(Meeuwen1!X8="", "", ROUND(Meeuwen1!X8 / IF(AND(COUNT(Meeuwen1!$C8:$O8,Meeuwen1!$U8:X8) <= 3, ISNUMBER($C46)), $C46, $E46) * 10, 3)) | Y46: =IF(Meeuwen1!Y8="", "", ROUND(Meeuwen1!Y8 / IF(AND(COUNT(Meeuwen1!$C8:$O8,Meeuwen1!$U8:Y8) <= 3, ISNUMBER($C46)), $C46, $E46) * 10, 3)) | Z46: =IF(Meeuwen1!Z8="", "", ROUND(Meeuwen1!Z8 / IF(AND(COUNT(Meeuwen1!$C8:$O8,Meeuwen1!$U8:Z8) <= 3, ISNUMBER($C46)), $C46, $E46) * 10, 3)) | AA46: =IF(Meeuwen1!AA8="", "", ROUND(Meeuwen1!AA8 / IF(AND(COUNT(Meeuwen1!$C8:$O8,Meeuwen1!$U8:AA8) <= 3, ISNUMBER($C46)), $C46, $E46) * 10, 3)) | AB46: =IF(Meeuwen1!AB8="", "", ROUND(Meeuwen1!AB8 / IF(AND(COUNT(Meeuwen1!$C8:$O8,Meeuwen1!$U8:AB8) <= 3, ISNUMBER($C46)), $C46, $E46) * 10, 3)) | ... AG46: =IF(Meeuwen1!AG8="", "", ROUND(Meeuwen1!AG8 / IF(AND(COUNT(Meeuwen1!$C8:$O8,Meeuwen1!$U8:AG8) <= 3, ISNUMBER($C46)), $C46, $E46) * 10, 3))
A47: =IF(Meeuwen1!AM9=0, "", Meeuwen1!AM9) -> 1 | B47: =Meeuwen1!A9 -> Grauwmans Rik | C47: =IFERROR(VALUE(MID($B47, SEARCH("[NS ", $B47)+4, 2)), "") | D47: =Meeuwen1!B9 -> 32 | E47: =Meeuwen1!T9 -> 32 | F47: =IF(Meeuwen1!AL9=0," ",SUM(H47:AG47)) -> 8.125 | H47: =IF(Meeuwen1!C9="", "", ROUND(Meeuwen1!C9 / IF(AND(COUNT(Meeuwen1!$C9:C9) <= 3, ISNUMBER($C47)), $C47, $D47) * 10, 3)) | I47: =IF(Meeuwen1!D9="", "", ROUND(Meeuwen1!D9 / IF(AND(COUNT(Meeuwen1!$C9:D9) <= 3, ISNUMBER($C47)), $C47, $D47) * 10, 3)) | J47: =IF(Meeuwen1!E9="", "", ROUND(Meeuwen1!E9 / IF(AND(COUNT(Meeuwen1!$C9:E9) <= 3, ISNUMBER($C47)), $C47, $D47) * 10, 3)) | K47: =IF(Meeuwen1!F9="", "", ROUND(Meeuwen1!F9 / IF(AND(COUNT(Meeuwen1!$C9:F9) <= 3, ISNUMBER($C47)), $C47, $D47) * 10, 3)) | L47: =IF(Meeuwen1!G9="", "", ROUND(Meeuwen1!G9 / IF(AND(COUNT(Meeuwen1!$C9:G9) <= 3, ISNUMBER($C47)), $C47, $D47) * 10, 3)) | M47: =IF(Meeuwen1!H9="", "", ROUND(Meeuwen1!H9 / IF(AND(COUNT(Meeuwen1!$C9:H9) <= 3, ISNUMBER($C47)), $C47, $D47) * 10, 3)) | N47: =IF(Meeuwen1!I9="", "", ROUND(Meeuwen1!I9 / IF(AND(COUNT(Meeuwen1!$C9:I9) <= 3, ISNUMBER($C47)), $C47, $D47) * 10, 3)) | O47: =IF(Meeuwen1!J9="", "", ROUND(Meeuwen1!J9 / IF(AND(COUNT(Meeuwen1!$C9:J9) <= 3, ISNUMBER($C47)), $C47, $D47) * 10, 3)) -> 8.125 | ... T47: =IF(Meeuwen1!O9="", "", ROUND(Meeuwen1!O9 / IF(AND(COUNT(Meeuwen1!$C9:O9) <= 3, ISNUMBER($C47)), $C47, $D47) * 10, 3)) | U47: =IF(Meeuwen1!U9="", "", ROUND(Meeuwen1!U9 / IF(AND(COUNT(Meeuwen1!$C9:$O9,Meeuwen1!$U9:U9) <= 3, ISNUMBER($C47)), $C47, $E47) * 10, 3)) | V47: =IF(Meeuwen1!V9="", "", ROUND(Meeuwen1!V9 / IF(AND(COUNT(Meeuwen1!$C9:$O9,Meeuwen1!$U9:V9) <= 3, ISNUMBER($C47)), $C47, $E47) * 10, 3)) | W47: =IF(Meeuwen1!W9="", "", ROUND(Meeuwen1!W9 / IF(AND(COUNT(Meeuwen1!$C9:$O9,Meeuwen1!$U9:W9) <= 3, ISNUMBER($C47)), $C47, $E47) * 10, 3)) | X47: =IF(Meeuwen1!X9="", "", ROUND(Meeuwen1!X9 / IF(AND(COUNT(Meeuwen1!$C9:$O9,Meeuwen1!$U9:X9) <= 3, ISNUMBER($C47)), $C47, $E47) * 10, 3)) | Y47: =IF(Meeuwen1!Y9="", "", ROUND(Meeuwen1!Y9 / IF(AND(COUNT(Meeuwen1!$C9:$O9,Meeuwen1!$U9:Y9) <= 3, ISNUMBER($C47)), $C47, $E47) * 10, 3)) | Z47: =IF(Meeuwen1!Z9="", "", ROUND(Meeuwen1!Z9 / IF(AND(COUNT(Meeuwen1!$C9:$O9,Meeuwen1!$U9:Z9) <= 3, ISNUMBER($C47)), $C47, $E47) * 10, 3)) | AA47: =IF(Meeuwen1!AA9="", "", ROUND(Meeuwen1!AA9 / IF(AND(COUNT(Meeuwen1!$C9:$O9,Meeuwen1!$U9:AA9) <= 3, ISNUMBER($C47)), $C47, $E47) * 10, 3)) | AB47: =IF(Meeuwen1!AB9="", "", ROUND(Meeuwen1!AB9 / IF(AND(COUNT(Meeuwen1!$C9:$O9,Meeuwen1!$U9:AB9) <= 3, ISNUMBER($C47)), $C47, $E47) * 10, 3)) | ... AG47: =IF(Meeuwen1!AG9="", "", ROUND(Meeuwen1!AG9 / IF(AND(COUNT(Meeuwen1!$C9:$O9,Meeuwen1!$U9:AG9) <= 3, ISNUMBER($C47)), $C47, $E47) * 10, 3))
A48: =IF(Meeuwen1!AM10=0, "", Meeuwen1!AM10) -> 3 | B48: =Meeuwen1!A10 -> Meeusen Marc | C48: =IFERROR(VALUE(MID($B48, SEARCH("[NS ", $B48)+4, 2)), "") | D48: =Meeuwen1!B10 -> 123 | E48: =Meeuwen1!T10 -> 123 | F48: =IF(Meeuwen1!AL10=0," ",SUM(H48:AG48)) -> 19.106 | H48: =IF(Meeuwen1!C10="", "", ROUND(Meeuwen1!C10 / IF(AND(COUNT(Meeuwen1!$C10:C10) <= 3, ISNUMBER($C48)), $C48, $D48) * 10, 3)) | I48: =IF(Meeuwen1!D10="", "", ROUND(Meeuwen1!D10 / IF(AND(COUNT(Meeuwen1!$C10:D10) <= 3, ISNUMBER($C48)), $C48, $D48) * 10, 3)) -> 5.691 | J48: =IF(Meeuwen1!E10="", "", ROUND(Meeuwen1!E10 / IF(AND(COUNT(Meeuwen1!$C10:E10) <= 3, ISNUMBER($C48)), $C48, $D48) * 10, 3)) | K48: =IF(Meeuwen1!F10="", "", ROUND(Meeuwen1!F10 / IF(AND(COUNT(Meeuwen1!$C10:F10) <= 3, ISNUMBER($C48)), $C48, $D48) * 10, 3)) -> 5.61 | L48: =IF(Meeuwen1!G10="", "", ROUND(Meeuwen1!G10 / IF(AND(COUNT(Meeuwen1!$C10:G10) <= 3, ISNUMBER($C48)), $C48, $D48) * 10, 3)) | M48: =IF(Meeuwen1!H10="", "", ROUND(Meeuwen1!H10 / IF(AND(COUNT(Meeuwen1!$C10:H10) <= 3, ISNUMBER($C48)), $C48, $D48) * 10, 3)) -> 7.805 | N48: =IF(Meeuwen1!I10="", "", ROUND(Meeuwen1!I10 / IF(AND(COUNT(Meeuwen1!$C10:I10) <= 3, ISNUMBER($C48)), $C48, $D48) * 10, 3)) | O48: =IF(Meeuwen1!J10="", "", ROUND(Meeuwen1!J10 / IF(AND(COUNT(Meeuwen1!$C10:J10) <= 3, ISNUMBER($C48)), $C48, $D48) * 10, 3)) | ... T48: =IF(Meeuwen1!O10="", "", ROUND(Meeuwen1!O10 / IF(AND(COUNT(Meeuwen1!$C10:O10) <= 3, ISNUMBER($C48)), $C48, $D48) * 10, 3)) | U48: =IF(Meeuwen1!U10="", "", ROUND(Meeuwen1!U10 / IF(AND(COUNT(Meeuwen1!$C10:$O10,Meeuwen1!$U10:U10) <= 3, ISNUMBER($C48)), $C48, $E48) * 10, 3)) | V48: =IF(Meeuwen1!V10="", "", ROUND(Meeuwen1!V10 / IF(AND(COUNT(Meeuwen1!$C10:$O10,Meeuwen1!$U10:V10) <= 3, ISNUMBER($C48)), $C48, $E48) * 10, 3)) | W48: =IF(Meeuwen1!W10="", "", ROUND(Meeuwen1!W10 / IF(AND(COUNT(Meeuwen1!$C10:$O10,Meeuwen1!$U10:W10) <= 3, ISNUMBER($C48)), $C48, $E48) * 10, 3)) | X48: =IF(Meeuwen1!X10="", "", ROUND(Meeuwen1!X10 / IF(AND(COUNT(Meeuwen1!$C10:$O10,Meeuwen1!$U10:X10) <= 3, ISNUMBER($C48)), $C48, $E48) * 10, 3)) | Y48: =IF(Meeuwen1!Y10="", "", ROUND(Meeuwen1!Y10 / IF(AND(COUNT(Meeuwen1!$C10:$O10,Meeuwen1!$U10:Y10) <= 3, ISNUMBER($C48)), $C48, $E48) * 10, 3)) | Z48: =IF(Meeuwen1!Z10="", "", ROUND(Meeuwen1!Z10 / IF(AND(COUNT(Meeuwen1!$C10:$O10,Meeuwen1!$U10:Z10) <= 3, ISNUMBER($C48)), $C48, $E48) * 10, 3)) | AA48: =IF(Meeuwen1!AA10="", "", ROUND(Meeuwen1!AA10 / IF(AND(COUNT(Meeuwen1!$C10:$O10,Meeuwen1!$U10:AA10) <= 3, ISNUMBER($C48)), $C48, $E48) * 10, 3)) | AB48: =IF(Meeuwen1!AB10="", "", ROUND(Meeuwen1!AB10 / IF(AND(COUNT(Meeuwen1!$C10:$O10,Meeuwen1!$U10:AB10) <= 3, ISNUMBER($C48)), $C48, $E48) * 10, 3)) | ... AG48: =IF(Meeuwen1!AG10="", "", ROUND(Meeuwen1!AG10 / IF(AND(COUNT(Meeuwen1!$C10:$O10,Meeuwen1!$U10:AG10) <= 3, ISNUMBER($C48)), $C48, $E48) * 10, 3))
A49: =IF(Meeuwen1!AM11=0, "", Meeuwen1!AM11) -> 5 | B49: =Meeuwen1!A11 -> Van Loon Marc | C49: =IFERROR(VALUE(MID($B49, SEARCH("[NS ", $B49)+4, 2)), "") | D49: =Meeuwen1!B11 -> 15 | E49: =Meeuwen1!T11 -> 15 | F49: =IF(Meeuwen1!AL11=0," ",SUM(H49:AG49)) -> 46.001 | H49: =IF(Meeuwen1!C11="", "", ROUND(Meeuwen1!C11 / IF(AND(COUNT(Meeuwen1!$C11:C11) <= 3, ISNUMBER($C49)), $C49, $D49) * 10, 3)) | I49: =IF(Meeuwen1!D11="", "", ROUND(Meeuwen1!D11 / IF(AND(COUNT(Meeuwen1!$C11:D11) <= 3, ISNUMBER($C49)), $C49, $D49) * 10, 3)) -> 8.667 | J49: =IF(Meeuwen1!E11="", "", ROUND(Meeuwen1!E11 / IF(AND(COUNT(Meeuwen1!$C11:E11) <= 3, ISNUMBER($C49)), $C49, $D49) * 10, 3)) -> 6.667 | K49: =IF(Meeuwen1!F11="", "", ROUND(Meeuwen1!F11 / IF(AND(COUNT(Meeuwen1!$C11:F11) <= 3, ISNUMBER($C49)), $C49, $D49) * 10, 3)) | L49: =IF(Meeuwen1!G11="", "", ROUND(Meeuwen1!G11 / IF(AND(COUNT(Meeuwen1!$C11:G11) <= 3, ISNUMBER($C49)), $C49, $D49) * 10, 3)) -> 16.667 | M49: =IF(Meeuwen1!H11="", "", ROUND(Meeuwen1!H11 / IF(AND(COUNT(Meeuwen1!$C11:H11) <= 3, ISNUMBER($C49)), $C49, $D49) * 10, 3)) | N49: =IF(Meeuwen1!I11="", "", ROUND(Meeuwen1!I11 / IF(AND(COUNT(Meeuwen1!$C11:I11) <= 3, ISNUMBER($C49)), $C49, $D49) * 10, 3)) -> 3.333 | O49: =IF(Meeuwen1!J11="", "", ROUND(Meeuwen1!J11 / IF(AND(COUNT(Meeuwen1!$C11:J11) <= 3, ISNUMBER($C49)), $C49, $D49) * 10, 3)) -> 10.667 | ... T49: =IF(Meeuwen1!O11="", "", ROUND(Meeuwen1!O11 / IF(AND(COUNT(Meeuwen1!$C11:O11) <= 3, ISNUMBER($C49)), $C49, $D49) * 10, 3)) | U49: =IF(Meeuwen1!U11="", "", ROUND(Meeuwen1!U11 / IF(AND(COUNT(Meeuwen1!$C11:$O11,Meeuwen1!$U11:U11) <= 3, ISNUMBER($C49)), $C49, $E49) * 10, 3)) | V49: =IF(Meeuwen1!V11="", "", ROUND(Meeuwen1!V11 / IF(AND(COUNT(Meeuwen1!$C11:$O11,Meeuwen1!$U11:V11) <= 3, ISNUMBER($C49)), $C49, $E49) * 10, 3)) | W49: =IF(Meeuwen1!W11="", "", ROUND(Meeuwen1!W11 / IF(AND(COUNT(Meeuwen1!$C11:$O11,Meeuwen1!$U11:W11) <= 3, ISNUMBER($C49)), $C49, $E49) * 10, 3)) | X49: =IF(Meeuwen1!X11="", "", ROUND(Meeuwen1!X11 / IF(AND(COUNT(Meeuwen1!$C11:$O11,Meeuwen1!$U11:X11) <= 3, ISNUMBER($C49)), $C49, $E49) * 10, 3)) | Y49: =IF(Meeuwen1!Y11="", "", ROUND(Meeuwen1!Y11 / IF(AND(COUNT(Meeuwen1!$C11:$O11,Meeuwen1!$U11:Y11) <= 3, ISNUMBER($C49)), $C49, $E49) * 10, 3)) | Z49: =IF(Meeuwen1!Z11="", "", ROUND(Meeuwen1!Z11 / IF(AND(COUNT(Meeuwen1!$C11:$O11,Meeuwen1!$U11:Z11) <= 3, ISNUMBER($C49)), $C49, $E49) * 10, 3)) | AA49: =IF(Meeuwen1!AA11="", "", ROUND(Meeuwen1!AA11 / IF(AND(COUNT(Meeuwen1!$C11:$O11,Meeuwen1!$U11:AA11) <= 3, ISNUMBER($C49)), $C49, $E49) * 10, 3)) | AB49: =IF(Meeuwen1!AB11="", "", ROUND(Meeuwen1!AB11 / IF(AND(COUNT(Meeuwen1!$C11:$O11,Meeuwen1!$U11:AB11) <= 3, ISNUMBER($C49)), $C49, $E49) * 10, 3)) | ... AG49: =IF(Meeuwen1!AG11="", "", ROUND(Meeuwen1!AG11 / IF(AND(COUNT(Meeuwen1!$C11:$O11,Meeuwen1!$U11:AG11) <= 3, ISNUMBER($C49)), $C49, $E49) * 10, 3))
A50: =IF(Meeuwen1!AM12=0, "", Meeuwen1!AM12) -> 3 | B50: =Meeuwen1!A12 -> Veraart Jos | C50: =IFERROR(VALUE(MID($B50, SEARCH("[NS ", $B50)+4, 2)), "") | D50: =Meeuwen1!B12 -> 15 | E50: =Meeuwen1!T12 -> 15 | F50: =IF(Meeuwen1!AL12=0," ",SUM(H50:AG50)) -> 23.334 | H50: =IF(Meeuwen1!C12="", "", ROUND(Meeuwen1!C12 / IF(AND(COUNT(Meeuwen1!$C12:C12) <= 3, ISNUMBER($C50)), $C50, $D50) * 10, 3)) -> 8.667 | I50: =IF(Meeuwen1!D12="", "", ROUND(Meeuwen1!D12 / IF(AND(COUNT(Meeuwen1!$C12:D12) <= 3, ISNUMBER($C50)), $C50, $D50) * 10, 3)) | J50: =IF(Meeuwen1!E12="", "", ROUND(Meeuwen1!E12 / IF(AND(COUNT(Meeuwen1!$C12:E12) <= 3, ISNUMBER($C50)), $C50, $D50) * 10, 3)) -> 12 | K50: =IF(Meeuwen1!F12="", "", ROUND(Meeuwen1!F12 / IF(AND(COUNT(Meeuwen1!$C12:F12) <= 3, ISNUMBER($C50)), $C50, $D50) * 10, 3)) | L50: =IF(Meeuwen1!G12="", "", ROUND(Meeuwen1!G12 / IF(AND(COUNT(Meeuwen1!$C12:G12) <= 3, ISNUMBER($C50)), $C50, $D50) * 10, 3)) | M50: =IF(Meeuwen1!H12="", "", ROUND(Meeuwen1!H12 / IF(AND(COUNT(Meeuwen1!$C12:H12) <= 3, ISNUMBER($C50)), $C50, $D50) * 10, 3)) -> 2.667 | N50: =IF(Meeuwen1!I12="", "", ROUND(Meeuwen1!I12 / IF(AND(COUNT(Meeuwen1!$C12:I12) <= 3, ISNUMBER($C50)), $C50, $D50) * 10, 3)) | O50: =IF(Meeuwen1!J12="", "", ROUND(Meeuwen1!J12 / IF(AND(COUNT(Meeuwen1!$C12:J12) <= 3, ISNUMBER($C50)), $C50, $D50) * 10, 3)) | ... T50: =IF(Meeuwen1!O12="", "", ROUND(Meeuwen1!O12 / IF(AND(COUNT(Meeuwen1!$C12:O12) <= 3, ISNUMBER($C50)), $C50, $D50) * 10, 3)) | U50: =IF(Meeuwen1!U12="", "", ROUND(Meeuwen1!U12 / IF(AND(COUNT(Meeuwen1!$C12:$O12,Meeuwen1!$U12:U12) <= 3, ISNUMBER($C50)), $C50, $E50) * 10, 3)) | V50: =IF(Meeuwen1!V12="", "", ROUND(Meeuwen1!V12 / IF(AND(COUNT(Meeuwen1!$C12:$O12,Meeuwen1!$U12:V12) <= 3, ISNUMBER($C50)), $C50, $E50) * 10, 3)) | W50: =IF(Meeuwen1!W12="", "", ROUND(Meeuwen1!W12 / IF(AND(COUNT(Meeuwen1!$C12:$O12,Meeuwen1!$U12:W12) <= 3, ISNUMBER($C50)), $C50, $E50) * 10, 3)) | X50: =IF(Meeuwen1!X12="", "", ROUND(Meeuwen1!X12 / IF(AND(COUNT(Meeuwen1!$C12:$O12,Meeuwen1!$U12:X12) <= 3, ISNUMBER($C50)), $C50, $E50) * 10, 3)) | Y50: =IF(Meeuwen1!Y12="", "", ROUND(Meeuwen1!Y12 / IF(AND(COUNT(Meeuwen1!$C12:$O12,Meeuwen1!$U12:Y12) <= 3, ISNUMBER($C50)), $C50, $E50) * 10, 3)) | Z50: =IF(Meeuwen1!Z12="", "", ROUND(Meeuwen1!Z12 / IF(AND(COUNT(Meeuwen1!$C12:$O12,Meeuwen1!$U12:Z12) <= 3, ISNUMBER($C50)), $C50, $E50) * 10, 3)) | AA50: =IF(Meeuwen1!AA12="", "", ROUND(Meeuwen1!AA12 / IF(AND(COUNT(Meeuwen1!$C12:$O12,Meeuwen1!$U12:AA12) <= 3, ISNUMBER($C50)), $C50, $E50) * 10, 3)) | AB50: =IF(Meeuwen1!AB12="", "", ROUND(Meeuwen1!AB12 / IF(AND(COUNT(Meeuwen1!$C12:$O12,Meeuwen1!$U12:AB12) <= 3, ISNUMBER($C50)), $C50, $E50) * 10, 3)) | ... AG50: =IF(Meeuwen1!AG12="", "", ROUND(Meeuwen1!AG12 / IF(AND(COUNT(Meeuwen1!$C12:$O12,Meeuwen1!$U12:AG12) <= 3, ISNUMBER($C50)), $C50, $E50) * 10, 3))
A51: =IF(Meeuwen1!AM13=0, "", Meeuwen1!AM13) -> 7 | B51: =Meeuwen1!A13 -> Vossen Filip | C51: =IFERROR(VALUE(MID($B51, SEARCH("[NS ", $B51)+4, 2)), "") | D51: =Meeuwen1!B13 -> 17 | E51: =Meeuwen1!T13 -> 17 | F51: =IF(Meeuwen1!AL13=0," ",SUM(H51:AG51)) -> 66.47 | H51: =IF(Meeuwen1!C13="", "", ROUND(Meeuwen1!C13 / IF(AND(COUNT(Meeuwen1!$C13:C13) <= 3, ISNUMBER($C51)), $C51, $D51) * 10, 3)) -> 11.176 | I51: =IF(Meeuwen1!D13="", "", ROUND(Meeuwen1!D13 / IF(AND(COUNT(Meeuwen1!$C13:D13) <= 3, ISNUMBER($C51)), $C51, $D51) * 10, 3)) -> 5.882 | J51: =IF(Meeuwen1!E13="", "", ROUND(Meeuwen1!E13 / IF(AND(COUNT(Meeuwen1!$C13:E13) <= 3, ISNUMBER($C51)), $C51, $D51) * 10, 3)) | K51: =IF(Meeuwen1!F13="", "", ROUND(Meeuwen1!F13 / IF(AND(COUNT(Meeuwen1!$C13:F13) <= 3, ISNUMBER($C51)), $C51, $D51) * 10, 3)) -> 12.353 | L51: =IF(Meeuwen1!G13="", "", ROUND(Meeuwen1!G13 / IF(AND(COUNT(Meeuwen1!$C13:G13) <= 3, ISNUMBER($C51)), $C51, $D51) * 10, 3)) -> 11.765 | M51: =IF(Meeuwen1!H13="", "", ROUND(Meeuwen1!H13 / IF(AND(COUNT(Meeuwen1!$C13:H13) <= 3, ISNUMBER($C51)), $C51, $D51) * 10, 3)) -> 11.765 | N51: =IF(Meeuwen1!I13="", "", ROUND(Meeuwen1!I13 / IF(AND(COUNT(Meeuwen1!$C13:I13) <= 3, ISNUMBER($C51)), $C51, $D51) * 10, 3)) -> 5.294 | O51: =IF(Meeuwen1!J13="", "", ROUND(Meeuwen1!J13 / IF(AND(COUNT(Meeuwen1!$C13:J13) <= 3, ISNUMBER($C51)), $C51, $D51) * 10, 3)) -> 8.235 | ... T51: =IF(Meeuwen1!O13="", "", ROUND(Meeuwen1!O13 / IF(AND(COUNT(Meeuwen1!$C13:O13) <= 3, ISNUMBER($C51)), $C51, $D51) * 10, 3)) | U51: =IF(Meeuwen1!U13="", "", ROUND(Meeuwen1!U13 / IF(AND(COUNT(Meeuwen1!$C13:$O13,Meeuwen1!$U13:U13) <= 3, ISNUMBER($C51)), $C51, $E51) * 10, 3)) | V51: =IF(Meeuwen1!V13="", "", ROUND(Meeuwen1!V13 / IF(AND(COUNT(Meeuwen1!$C13:$O13,Meeuwen1!$U13:V13) <= 3, ISNUMBER($C51)), $C51, $E51) * 10, 3)) | W51: =IF(Meeuwen1!W13="", "", ROUND(Meeuwen1!W13 / IF(AND(COUNT(Meeuwen1!$C13:$O13,Meeuwen1!$U13:W13) <= 3, ISNUMBER($C51)), $C51, $E51) * 10, 3)) | X51: =IF(Meeuwen1!X13="", "", ROUND(Meeuwen1!X13 / IF(AND(COUNT(Meeuwen1!$C13:$O13,Meeuwen1!$U13:X13) <= 3, ISNUMBER($C51)), $C51, $E51) * 10, 3)) | Y51: =IF(Meeuwen1!Y13="", "", ROUND(Meeuwen1!Y13 / IF(AND(COUNT(Meeuwen1!$C13:$O13,Meeuwen1!$U13:Y13) <= 3, ISNUMBER($C51)), $C51, $E51) * 10, 3)) | Z51: =IF(Meeuwen1!Z13="", "", ROUND(Meeuwen1!Z13 / IF(AND(COUNT(Meeuwen1!$C13:$O13,Meeuwen1!$U13:Z13) <= 3, ISNUMBER($C51)), $C51, $E51) * 10, 3)) | AA51: =IF(Meeuwen1!AA13="", "", ROUND(Meeuwen1!AA13 / IF(AND(COUNT(Meeuwen1!$C13:$O13,Meeuwen1!$U13:AA13) <= 3, ISNUMBER($C51)), $C51, $E51) * 10, 3)) | AB51: =IF(Meeuwen1!AB13="", "", ROUND(Meeuwen1!AB13 / IF(AND(COUNT(Meeuwen1!$C13:$O13,Meeuwen1!$U13:AB13) <= 3, ISNUMBER($C51)), $C51, $E51) * 10, 3)) | ... AG51: =IF(Meeuwen1!AG13="", "", ROUND(Meeuwen1!AG13 / IF(AND(COUNT(Meeuwen1!$C13:$O13,Meeuwen1!$U13:AG13) <= 3, ISNUMBER($C51)), $C51, $E51) * 10, 3))
A52: =IF(Meeuwen1!AM14=0, "", Meeuwen1!AM14) -> 7 | B52: =Meeuwen1!A14 -> Vossen Ronny | C52: =IFERROR(VALUE(MID($B52, SEARCH("[NS ", $B52)+4, 2)), "") | D52: =Meeuwen1!B14 -> 15 | E52: =Meeuwen1!T14 -> 15 | F52: =IF(Meeuwen1!AL14=0," ",SUM(H52:AG52)) -> 62.665 | H52: =IF(Meeuwen1!C14="", "", ROUND(Meeuwen1!C14 / IF(AND(COUNT(Meeuwen1!$C14:C14) <= 3, ISNUMBER($C52)), $C52, $D52) * 10, 3)) -> 5.333 | I52: =IF(Meeuwen1!D14="", "", ROUND(Meeuwen1!D14 / IF(AND(COUNT(Meeuwen1!$C14:D14) <= 3, ISNUMBER($C52)), $C52, $D52) * 10, 3)) -> 13.333 | J52: =IF(Meeuwen1!E14="", "", ROUND(Meeuwen1!E14 / IF(AND(COUNT(Meeuwen1!$C14:E14) <= 3, ISNUMBER($C52)), $C52, $D52) * 10, 3)) -> 7.333 | K52: =IF(Meeuwen1!F14="", "", ROUND(Meeuwen1!F14 / IF(AND(COUNT(Meeuwen1!$C14:F14) <= 3, ISNUMBER($C52)), $C52, $D52) * 10, 3)) -> 10.667 | L52: =IF(Meeuwen1!G14="", "", ROUND(Meeuwen1!G14 / IF(AND(COUNT(Meeuwen1!$C14:G14) <= 3, ISNUMBER($C52)), $C52, $D52) * 10, 3)) -> 9.333 | M52: =IF(Meeuwen1!H14="", "", ROUND(Meeuwen1!H14 / IF(AND(COUNT(Meeuwen1!$C14:H14) <= 3, ISNUMBER($C52)), $C52, $D52) * 10, 3)) -> 7.333 | N52: =IF(Meeuwen1!I14="", "", ROUND(Meeuwen1!I14 / IF(AND(COUNT(Meeuwen1!$C14:I14) <= 3, ISNUMBER($C52)), $C52, $D52) * 10, 3)) -> 9.333 | O52: =IF(Meeuwen1!J14="", "", ROUND(Meeuwen1!J14 / IF(AND(COUNT(Meeuwen1!$C14:J14) <= 3, ISNUMBER($C52)), $C52, $D52) * 10, 3)) | ... T52: =IF(Meeuwen1!O14="", "", ROUND(Meeuwen1!O14 / IF(AND(COUNT(Meeuwen1!$C14:O14) <= 3, ISNUMBER($C52)), $C52, $D52) * 10, 3)) | U52: =IF(Meeuwen1!U14="", "", ROUND(Meeuwen1!U14 / IF(AND(COUNT(Meeuwen1!$C14:$O14,Meeuwen1!$U14:U14) <= 3, ISNUMBER($C52)), $C52, $E52) * 10, 3)) | V52: =IF(Meeuwen1!V14="", "", ROUND(Meeuwen1!V14 / IF(AND(COUNT(Meeuwen1!$C14:$O14,Meeuwen1!$U14:V14) <= 3, ISNUMBER($C52)), $C52, $E52) * 10, 3)) | W52: =IF(Meeuwen1!W14="", "", ROUND(Meeuwen1!W14 / IF(AND(COUNT(Meeuwen1!$C14:$O14,Meeuwen1!$U14:W14) <= 3, ISNUMBER($C52)), $C52, $E52) * 10, 3)) | X52: =IF(Meeuwen1!X14="", "", ROUND(Meeuwen1!X14 / IF(AND(COUNT(Meeuwen1!$C14:$O14,Meeuwen1!$U14:X14) <= 3, ISNUMBER($C52)), $C52, $E52) * 10, 3)) | Y52: =IF(Meeuwen1!Y14="", "", ROUND(Meeuwen1!Y14 / IF(AND(COUNT(Meeuwen1!$C14:$O14,Meeuwen1!$U14:Y14) <= 3, ISNUMBER($C52)), $C52, $E52) * 10, 3)) | Z52: =IF(Meeuwen1!Z14="", "", ROUND(Meeuwen1!Z14 / IF(AND(COUNT(Meeuwen1!$C14:$O14,Meeuwen1!$U14:Z14) <= 3, ISNUMBER($C52)), $C52, $E52) * 10, 3)) | AA52: =IF(Meeuwen1!AA14="", "", ROUND(Meeuwen1!AA14 / IF(AND(COUNT(Meeuwen1!$C14:$O14,Meeuwen1!$U14:AA14) <= 3, ISNUMBER($C52)), $C52, $E52) * 10, 3)) | AB52: =IF(Meeuwen1!AB14="", "", ROUND(Meeuwen1!AB14 / IF(AND(COUNT(Meeuwen1!$C14:$O14,Meeuwen1!$U14:AB14) <= 3, ISNUMBER($C52)), $C52, $E52) * 10, 3)) | ... AG52: =IF(Meeuwen1!AG14="", "", ROUND(Meeuwen1!AG14 / IF(AND(COUNT(Meeuwen1!$C14:$O14,Meeuwen1!$U14:AG14) <= 3, ISNUMBER($C52)), $C52, $E52) * 10, 3))
A53: =IF(Meeuwen1!AM15=0, "", Meeuwen1!AM15) | B53: =Meeuwen1!A15 -> 0 | C53: =IFERROR(VALUE(MID($B53, SEARCH("[NS ", $B53)+4, 2)), "") | D53: =Meeuwen1!B15 -> 0 | E53: =Meeuwen1!T15 -> 0 | F53: =IF(Meeuwen1!AL15=0," ",SUM(H53:AG53)) | H53: =IF(Meeuwen1!C15="", "", ROUND(Meeuwen1!C15 / IF(AND(COUNT(Meeuwen1!$C15:C15) <= 3, ISNUMBER($C53)), $C53, $D53) * 10, 3)) | I53: =IF(Meeuwen1!D15="", "", ROUND(Meeuwen1!D15 / IF(AND(COUNT(Meeuwen1!$C15:D15) <= 3, ISNUMBER($C53)), $C53, $D53) * 10, 3)) | J53: =IF(Meeuwen1!E15="", "", ROUND(Meeuwen1!E15 / IF(AND(COUNT(Meeuwen1!$C15:E15) <= 3, ISNUMBER($C53)), $C53, $D53) * 10, 3)) | K53: =IF(Meeuwen1!F15="", "", ROUND(Meeuwen1!F15 / IF(AND(COUNT(Meeuwen1!$C15:F15) <= 3, ISNUMBER($C53)), $C53, $D53) * 10, 3)) | L53: =IF(Meeuwen1!G15="", "", ROUND(Meeuwen1!G15 / IF(AND(COUNT(Meeuwen1!$C15:G15) <= 3, ISNUMBER($C53)), $C53, $D53) * 10, 3)) | M53: =IF(Meeuwen1!H15="", "", ROUND(Meeuwen1!H15 / IF(AND(COUNT(Meeuwen1!$C15:H15) <= 3, ISNUMBER($C53)), $C53, $D53) * 10, 3)) | N53: =IF(Meeuwen1!I15="", "", ROUND(Meeuwen1!I15 / IF(AND(COUNT(Meeuwen1!$C15:I15) <= 3, ISNUMBER($C53)), $C53, $D53) * 10, 3)) | O53: =IF(Meeuwen1!J15="", "", ROUND(Meeuwen1!J15 / IF(AND(COUNT(Meeuwen1!$C15:J15) <= 3, ISNUMBER($C53)), $C53, $D53) * 10, 3)) | ... T53: =IF(Meeuwen1!O15="", "", ROUND(Meeuwen1!O15 / IF(AND(COUNT(Meeuwen1!$C15:O15) <= 3, ISNUMBER($C53)), $C53, $D53) * 10, 3)) | U53: =IF(Meeuwen1!U15="", "", ROUND(Meeuwen1!U15 / IF(AND(COUNT(Meeuwen1!$C15:$O15,Meeuwen1!$U15:U15) <= 3, ISNUMBER($C53)), $C53, $E53) * 10, 3)) | V53: =IF(Meeuwen1!V15="", "", ROUND(Meeuwen1!V15 / IF(AND(COUNT(Meeuwen1!$C15:$O15,Meeuwen1!$U15:V15) <= 3, ISNUMBER($C53)), $C53, $E53) * 10, 3)) | W53: =IF(Meeuwen1!W15="", "", ROUND(Meeuwen1!W15 / IF(AND(COUNT(Meeuwen1!$C15:$O15,Meeuwen1!$U15:W15) <= 3, ISNUMBER($C53)), $C53, $E53) * 10, 3)) | X53: =IF(Meeuwen1!X15="", "", ROUND(Meeuwen1!X15 / IF(AND(COUNT(Meeuwen1!$C15:$O15,Meeuwen1!$U15:X15) <= 3, ISNUMBER($C53)), $C53, $E53) * 10, 3)) | Y53: =IF(Meeuwen1!Y15="", "", ROUND(Meeuwen1!Y15 / IF(AND(COUNT(Meeuwen1!$C15:$O15,Meeuwen1!$U15:Y15) <= 3, ISNUMBER($C53)), $C53, $E53) * 10, 3)) | Z53: =IF(Meeuwen1!Z15="", "", ROUND(Meeuwen1!Z15 / IF(AND(COUNT(Meeuwen1!$C15:$O15,Meeuwen1!$U15:Z15) <= 3, ISNUMBER($C53)), $C53, $E53) * 10, 3)) | AA53: =IF(Meeuwen1!AA15="", "", ROUND(Meeuwen1!AA15 / IF(AND(COUNT(Meeuwen1!$C15:$O15,Meeuwen1!$U15:AA15) <= 3, ISNUMBER($C53)), $C53, $E53) * 10, 3)) | AB53: =IF(Meeuwen1!AB15="", "", ROUND(Meeuwen1!AB15 / IF(AND(COUNT(Meeuwen1!$C15:$O15,Meeuwen1!$U15:AB15) <= 3, ISNUMBER($C53)), $C53, $E53) * 10, 3)) | ... AG53: =IF(Meeuwen1!AG15="", "", ROUND(Meeuwen1!AG15 / IF(AND(COUNT(Meeuwen1!$C15:$O15,Meeuwen1!$U15:AG15) <= 3, ISNUMBER($C53)), $C53, $E53) * 10, 3))
A54: =IF(Meeuwen1!AM16=0, "", Meeuwen1!AM16) | C54: =IFERROR(VALUE(MID($B54, SEARCH("[NS ", $B54)+4, 2)), "") | D54: =Meeuwen1!B16 -> 0 | E54: =Meeuwen1!T16 -> 0 | F54: =IF(Meeuwen1!AL16=0," ",SUM(H54:AG54)) | H54: =IF(Meeuwen1!C16="", "", ROUND(Meeuwen1!C16 / IF(AND(COUNT(Meeuwen1!$C16:C16) <= 3, ISNUMBER($C54)), $C54, $D54) * 10, 3)) | I54: =IF(Meeuwen1!D16="", "", ROUND(Meeuwen1!D16 / IF(AND(COUNT(Meeuwen1!$C16:D16) <= 3, ISNUMBER($C54)), $C54, $D54) * 10, 3)) | J54: =IF(Meeuwen1!E16="", "", ROUND(Meeuwen1!E16 / IF(AND(COUNT(Meeuwen1!$C16:E16) <= 3, ISNUMBER($C54)), $C54, $D54) * 10, 3)) | K54: =IF(Meeuwen1!F16="", "", ROUND(Meeuwen1!F16 / IF(AND(COUNT(Meeuwen1!$C16:F16) <= 3, ISNUMBER($C54)), $C54, $D54) * 10, 3)) | L54: =IF(Meeuwen1!G16="", "", ROUND(Meeuwen1!G16 / IF(AND(COUNT(Meeuwen1!$C16:G16) <= 3, ISNUMBER($C54)), $C54, $D54) * 10, 3)) | M54: =IF(Meeuwen1!H16="", "", ROUND(Meeuwen1!H16 / IF(AND(COUNT(Meeuwen1!$C16:H16) <= 3, ISNUMBER($C54)), $C54, $D54) * 10, 3)) | N54: =IF(Meeuwen1!I16="", "", ROUND(Meeuwen1!I16 / IF(AND(COUNT(Meeuwen1!$C16:I16) <= 3, ISNUMBER($C54)), $C54, $D54) * 10, 3)) | O54: =IF(Meeuwen1!J16="", "", ROUND(Meeuwen1!J16 / IF(AND(COUNT(Meeuwen1!$C16:J16) <= 3, ISNUMBER($C54)), $C54, $D54) * 10, 3)) | ... T54: =IF(Meeuwen1!O16="", "", ROUND(Meeuwen1!O16 / IF(AND(COUNT(Meeuwen1!$C16:O16) <= 3, ISNUMBER($C54)), $C54, $D54) * 10, 3)) | U54: =IF(Meeuwen1!U16="", "", ROUND(Meeuwen1!U16 / IF(AND(COUNT(Meeuwen1!$C16:$O16,Meeuwen1!$U16:U16) <= 3, ISNUMBER($C54)), $C54, $E54) * 10, 3)) | V54: =IF(Meeuwen1!V16="", "", ROUND(Meeuwen1!V16 / IF(AND(COUNT(Meeuwen1!$C16:$O16,Meeuwen1!$U16:V16) <= 3, ISNUMBER($C54)), $C54, $E54) * 10, 3)) | W54: =IF(Meeuwen1!W16="", "", ROUND(Meeuwen1!W16 / IF(AND(COUNT(Meeuwen1!$C16:$O16,Meeuwen1!$U16:W16) <= 3, ISNUMBER($C54)), $C54, $E54) * 10, 3)) | X54: =IF(Meeuwen1!X16="", "", ROUND(Meeuwen1!X16 / IF(AND(COUNT(Meeuwen1!$C16:$O16,Meeuwen1!$U16:X16) <= 3, ISNUMBER($C54)), $C54, $E54) * 10, 3)) | Y54: =IF(Meeuwen1!Y16="", "", ROUND(Meeuwen1!Y16 / IF(AND(COUNT(Meeuwen1!$C16:$O16,Meeuwen1!$U16:Y16) <= 3, ISNUMBER($C54)), $C54, $E54) * 10, 3)) | Z54: =IF(Meeuwen1!Z16="", "", ROUND(Meeuwen1!Z16 / IF(AND(COUNT(Meeuwen1!$C16:$O16,Meeuwen1!$U16:Z16) <= 3, ISNUMBER($C54)), $C54, $E54) * 10, 3)) | AA54: =IF(Meeuwen1!AA16="", "", ROUND(Meeuwen1!AA16 / IF(AND(COUNT(Meeuwen1!$C16:$O16,Meeuwen1!$U16:AA16) <= 3, ISNUMBER($C54)), $C54, $E54) * 10, 3)) | AB54: =IF(Meeuwen1!AB16="", "", ROUND(Meeuwen1!AB16 / IF(AND(COUNT(Meeuwen1!$C16:$O16,Meeuwen1!$U16:AB16) <= 3, ISNUMBER($C54)), $C54, $E54) * 10, 3)) | ... AG54: =IF(Meeuwen1!AG16="", "", ROUND(Meeuwen1!AG16 / IF(AND(COUNT(Meeuwen1!$C16:$O16,Meeuwen1!$U16:AG16) <= 3, ISNUMBER($C54)), $C54, $E54) * 10, 3))
A55: =IF(Meeuwen1!AM17=0, "", Meeuwen1!AM17) | C55: =IFERROR(VALUE(MID($B55, SEARCH("[NS ", $B55)+4, 2)), "") | D55: =Meeuwen1!B17 -> 0 | E55: =Meeuwen1!T17 -> 0 | F55: =IF(Meeuwen1!AL17=0," ",SUM(H55:AG55)) | H55: =IF(Meeuwen1!C17="", "", ROUND(Meeuwen1!C17 / IF(AND(COUNT(Meeuwen1!$C17:C17) <= 3, ISNUMBER($C55)), $C55, $D55) * 10, 3)) | I55: =IF(Meeuwen1!D17="", "", ROUND(Meeuwen1!D17 / IF(AND(COUNT(Meeuwen1!$C17:D17) <= 3, ISNUMBER($C55)), $C55, $D55) * 10, 3)) | J55: =IF(Meeuwen1!E17="", "", ROUND(Meeuwen1!E17 / IF(AND(COUNT(Meeuwen1!$C17:E17) <= 3, ISNUMBER($C55)), $C55, $D55) * 10, 3)) | K55: =IF(Meeuwen1!F17="", "", ROUND(Meeuwen1!F17 / IF(AND(COUNT(Meeuwen1!$C17:F17) <= 3, ISNUMBER($C55)), $C55, $D55) * 10, 3)) | L55: =IF(Meeuwen1!G17="", "", ROUND(Meeuwen1!G17 / IF(AND(COUNT(Meeuwen1!$C17:G17) <= 3, ISNUMBER($C55)), $C55, $D55) * 10, 3)) | M55: =IF(Meeuwen1!H17="", "", ROUND(Meeuwen1!H17 / IF(AND(COUNT(Meeuwen1!$C17:H17) <= 3, ISNUMBER($C55)), $C55, $D55) * 10, 3)) | N55: =IF(Meeuwen1!I17="", "", ROUND(Meeuwen1!I17 / IF(AND(COUNT(Meeuwen1!$C17:I17) <= 3, ISNUMBER($C55)), $C55, $D55) * 10, 3)) | O55: =IF(Meeuwen1!J17="", "", ROUND(Meeuwen1!J17 / IF(AND(COUNT(Meeuwen1!$C17:J17) <= 3, ISNUMBER($C55)), $C55, $D55) * 10, 3)) | ... T55: =IF(Meeuwen1!O17="", "", ROUND(Meeuwen1!O17 / IF(AND(COUNT(Meeuwen1!$C17:O17) <= 3, ISNUMBER($C55)), $C55, $D55) * 10, 3)) | U55: =IF(Meeuwen1!U17="", "", ROUND(Meeuwen1!U17 / IF(AND(COUNT(Meeuwen1!$C17:$O17,Meeuwen1!$U17:U17) <= 3, ISNUMBER($C55)), $C55, $E55) * 10, 3)) | V55: =IF(Meeuwen1!V17="", "", ROUND(Meeuwen1!V17 / IF(AND(COUNT(Meeuwen1!$C17:$O17,Meeuwen1!$U17:V17) <= 3, ISNUMBER($C55)), $C55, $E55) * 10, 3)) | W55: =IF(Meeuwen1!W17="", "", ROUND(Meeuwen1!W17 / IF(AND(COUNT(Meeuwen1!$C17:$O17,Meeuwen1!$U17:W17) <= 3, ISNUMBER($C55)), $C55, $E55) * 10, 3)) | X55: =IF(Meeuwen1!X17="", "", ROUND(Meeuwen1!X17 / IF(AND(COUNT(Meeuwen1!$C17:$O17,Meeuwen1!$U17:X17) <= 3, ISNUMBER($C55)), $C55, $E55) * 10, 3)) | Y55: =IF(Meeuwen1!Y17="", "", ROUND(Meeuwen1!Y17 / IF(AND(COUNT(Meeuwen1!$C17:$O17,Meeuwen1!$U17:Y17) <= 3, ISNUMBER($C55)), $C55, $E55) * 10, 3)) | Z55: =IF(Meeuwen1!Z17="", "", ROUND(Meeuwen1!Z17 / IF(AND(COUNT(Meeuwen1!$C17:$O17,Meeuwen1!$U17:Z17) <= 3, ISNUMBER($C55)), $C55, $E55) * 10, 3)) | AA55: =IF(Meeuwen1!AA17="", "", ROUND(Meeuwen1!AA17 / IF(AND(COUNT(Meeuwen1!$C17:$O17,Meeuwen1!$U17:AA17) <= 3, ISNUMBER($C55)), $C55, $E55) * 10, 3)) | AB55: =IF(Meeuwen1!AB17="", "", ROUND(Meeuwen1!AB17 / IF(AND(COUNT(Meeuwen1!$C17:$O17,Meeuwen1!$U17:AB17) <= 3, ISNUMBER($C55)), $C55, $E55) * 10, 3)) | ... AG55: =IF(Meeuwen1!AG17="", "", ROUND(Meeuwen1!AG17 / IF(AND(COUNT(Meeuwen1!$C17:$O17,Meeuwen1!$U17:AG17) <= 3, ISNUMBER($C55)), $C55, $E55) * 10, 3))
A56: =IF(Meeuwen1!AM18=0, "", Meeuwen1!AM18) | C56: =IFERROR(VALUE(MID($B56, SEARCH("[NS ", $B56)+4, 2)), "") | D56: =Meeuwen1!B18 -> 0 | E56: =Meeuwen1!T18 -> 0 | F56: =IF(Meeuwen1!AL18=0," ",SUM(H56:AG56)) | H56: =IF(Meeuwen1!C18="", "", ROUND(Meeuwen1!C18 / IF(AND(COUNT(Meeuwen1!$C18:C18) <= 3, ISNUMBER($C56)), $C56, $D56) * 10, 3)) | I56: =IF(Meeuwen1!D18="", "", ROUND(Meeuwen1!D18 / IF(AND(COUNT(Meeuwen1!$C18:D18) <= 3, ISNUMBER($C56)), $C56, $D56) * 10, 3)) | J56: =IF(Meeuwen1!E18="", "", ROUND(Meeuwen1!E18 / IF(AND(COUNT(Meeuwen1!$C18:E18) <= 3, ISNUMBER($C56)), $C56, $D56) * 10, 3)) | K56: =IF(Meeuwen1!F18="", "", ROUND(Meeuwen1!F18 / IF(AND(COUNT(Meeuwen1!$C18:F18) <= 3, ISNUMBER($C56)), $C56, $D56) * 10, 3)) | L56: =IF(Meeuwen1!G18="", "", ROUND(Meeuwen1!G18 / IF(AND(COUNT(Meeuwen1!$C18:G18) <= 3, ISNUMBER($C56)), $C56, $D56) * 10, 3)) | M56: =IF(Meeuwen1!H18="", "", ROUND(Meeuwen1!H18 / IF(AND(COUNT(Meeuwen1!$C18:H18) <= 3, ISNUMBER($C56)), $C56, $D56) * 10, 3)) | N56: =IF(Meeuwen1!I18="", "", ROUND(Meeuwen1!I18 / IF(AND(COUNT(Meeuwen1!$C18:I18) <= 3, ISNUMBER($C56)), $C56, $D56) * 10, 3)) | O56: =IF(Meeuwen1!J18="", "", ROUND(Meeuwen1!J18 / IF(AND(COUNT(Meeuwen1!$C18:J18) <= 3, ISNUMBER($C56)), $C56, $D56) * 10, 3)) | ... T56: =IF(Meeuwen1!O18="", "", ROUND(Meeuwen1!O18 / IF(AND(COUNT(Meeuwen1!$C18:O18) <= 3, ISNUMBER($C56)), $C56, $D56) * 10, 3)) | U56: =IF(Meeuwen1!U18="", "", ROUND(Meeuwen1!U18 / IF(AND(COUNT(Meeuwen1!$C18:$O18,Meeuwen1!$U18:U18) <= 3, ISNUMBER($C56)), $C56, $E56) * 10, 3)) | V56: =IF(Meeuwen1!V18="", "", ROUND(Meeuwen1!V18 / IF(AND(COUNT(Meeuwen1!$C18:$O18,Meeuwen1!$U18:V18) <= 3, ISNUMBER($C56)), $C56, $E56) * 10, 3)) | W56: =IF(Meeuwen1!W18="", "", ROUND(Meeuwen1!W18 / IF(AND(COUNT(Meeuwen1!$C18:$O18,Meeuwen1!$U18:W18) <= 3, ISNUMBER($C56)), $C56, $E56) * 10, 3)) | X56: =IF(Meeuwen1!X18="", "", ROUND(Meeuwen1!X18 / IF(AND(COUNT(Meeuwen1!$C18:$O18,Meeuwen1!$U18:X18) <= 3, ISNUMBER($C56)), $C56, $E56) * 10, 3)) | Y56: =IF(Meeuwen1!Y18="", "", ROUND(Meeuwen1!Y18 / IF(AND(COUNT(Meeuwen1!$C18:$O18,Meeuwen1!$U18:Y18) <= 3, ISNUMBER($C56)), $C56, $E56) * 10, 3)) | Z56: =IF(Meeuwen1!Z18="", "", ROUND(Meeuwen1!Z18 / IF(AND(COUNT(Meeuwen1!$C18:$O18,Meeuwen1!$U18:Z18) <= 3, ISNUMBER($C56)), $C56, $E56) * 10, 3)) | AA56: =IF(Meeuwen1!AA18="", "", ROUND(Meeuwen1!AA18 / IF(AND(COUNT(Meeuwen1!$C18:$O18,Meeuwen1!$U18:AA18) <= 3, ISNUMBER($C56)), $C56, $E56) * 10, 3)) | AB56: =IF(Meeuwen1!AB18="", "", ROUND(Meeuwen1!AB18 / IF(AND(COUNT(Meeuwen1!$C18:$O18,Meeuwen1!$U18:AB18) <= 3, ISNUMBER($C56)), $C56, $E56) * 10, 3)) | ... AG56: =IF(Meeuwen1!AG18="", "", ROUND(Meeuwen1!AG18 / IF(AND(COUNT(Meeuwen1!$C18:$O18,Meeuwen1!$U18:AG18) <= 3, ISNUMBER($C56)), $C56, $E56) * 10, 3))
F57: =B41 -> MEEUWEN 1 | H57: =IF(SUM(H42:H56)=0, "", SUM(H42:H56)) -> 51.913 | I57: =IF(SUM(I42:I56)=0, "", SUM(I42:I56)) -> 55.948 | J57: =IF(SUM(J42:J56)=0, "", SUM(J42:J56)) -> 57.952 | K57: =IF(SUM(K42:K56)=0, "", SUM(K42:K56)) -> 49.161 | L57: =IF(SUM(L42:L56)=0, "", SUM(L42:L56)) -> 78.106 | M57: =IF(SUM(M42:M56)=0, "", SUM(M42:M56)) -> 51.413 | N57: =IF(SUM(N42:N56)=0, "", SUM(N42:N56)) -> 38.404 | O57: =IF(SUM(O42:O56)=0, "", SUM(O42:O56)) -> 63.758 | ... AG57: =IF(SUM(AG42:AG56)=0, "", SUM(AG42:AG56))
B58: =ROWS(B42:B56) -> 15 | F58: =SUM(F42:F56) -> 446.655 | G58: =B41 -> MEEUWEN 1 | H58: =IF(SUM(H42:H56)=0, "", SUM(H42:H56)) -> 51.913 | I58: =IF(I57="", "", ROUND(SUM($H57:I57), 3)) -> 107.861 | J58: =IF(J57="", "", ROUND(SUM($H57:J57), 3)) -> 165.813 | K58: =IF(K57="", "", ROUND(SUM($H57:K57), 3)) -> 214.974 | L58: =IF(L57="", "", ROUND(SUM($H57:L57), 3)) -> 293.08 | M58: =IF(M57="", "", ROUND(SUM($H57:M57), 3)) -> 344.493 | N58: =IF(N57="", "", ROUND(SUM($H57:N57), 3)) -> 382.897 | O58: =IF(O57="", "", ROUND(SUM($H57:O57), 3)) -> 446.655 | P58: =IF(P57="", "", ROUND(SUM($H57:P57), 3)) | ... AG58: =IF(AG57="", "", ROUND(SUM($H57:AG57), 3))
B60: MEEUWEN 2 | H60: 1 | I60: 2 | J60: 3 | K60: 4 | L60: 5 | M60: 6 | N60: 7 | O60: 8 | P60: 9 | Q60: 10 | R60: 11 | S60: 12 | T60: 13 | U60: 14 | V60: 15 | W60: 16 | X60: 17 | Y60: 18 | Z60: 19 | AA60: 20 | AB60: 21 | AC60: 22 | AD60: 23 | AE60: 24 | AF60: 25 | AG60: 26
A61: =IF(Meeuwen2!AM4=0, "", Meeuwen2!AM4) -> 6 | B61: =Meeuwen2!A4 -> De Backer Jerome | C61: =IFERROR(VALUE(MID($B61, SEARCH("[NS ", $B61)+4, 2)), "") | D61: =Meeuwen2!B4 -> 45 | E61: =Meeuwen2!T4 -> 45 | F61: =IF(Meeuwen2!AL4=0," ",SUM(H61:AG61)) -> 52.001 | H61: =IF(Meeuwen2!C4="", "", ROUND(Meeuwen2!C4 / IF(AND(COUNT(Meeuwen2!$C4:C4) <= 3, ISNUMBER($C61)), $C61, $D61) * 10, 3)) -> 8.889 | I61: =IF(Meeuwen2!D4="", "", ROUND(Meeuwen2!D4 / IF(AND(COUNT(Meeuwen2!$C4:D4) <= 3, ISNUMBER($C61)), $C61, $D61) * 10, 3)) -> 11.111 | J61: =IF(Meeuwen2!E4="", "", ROUND(Meeuwen2!E4 / IF(AND(COUNT(Meeuwen2!$C4:E4) <= 3, ISNUMBER($C61)), $C61, $D61) * 10, 3)) -> 9.778 | K61: =IF(Meeuwen2!F4="", "", ROUND(Meeuwen2!F4 / IF(AND(COUNT(Meeuwen2!$C4:F4) <= 3, ISNUMBER($C61)), $C61, $D61) * 10, 3)) | L61: =IF(Meeuwen2!G4="", "", ROUND(Meeuwen2!G4 / IF(AND(COUNT(Meeuwen2!$C4:G4) <= 3, ISNUMBER($C61)), $C61, $D61) * 10, 3)) -> 3.556 | M61: =IF(Meeuwen2!H4="", "", ROUND(Meeuwen2!H4 / IF(AND(COUNT(Meeuwen2!$C4:H4) <= 3, ISNUMBER($C61)), $C61, $D61) * 10, 3)) | N61: =IF(Meeuwen2!I4="", "", ROUND(Meeuwen2!I4 / IF(AND(COUNT(Meeuwen2!$C4:I4) <= 3, ISNUMBER($C61)), $C61, $D61) * 10, 3)) -> 10 | O61: =IF(Meeuwen2!J4="", "", ROUND(Meeuwen2!J4 / IF(AND(COUNT(Meeuwen2!$C4:J4) <= 3, ISNUMBER($C61)), $C61, $D61) * 10, 3)) -> 8.667 | ... T61: =IF(Meeuwen2!O4="", "", ROUND(Meeuwen2!O4 / IF(AND(COUNT(Meeuwen2!$C4:O4) <= 3, ISNUMBER($C61)), $C61, $D61) * 10, 3)) | U61: =IF(Meeuwen2!U4="", "", ROUND(Meeuwen2!U4 / IF(AND(COUNT(Meeuwen2!$C4:$O4,Meeuwen2!$U4:U4) <= 3, ISNUMBER($C61)), $C61, $E61) * 10, 3)) | V61: =IF(Meeuwen2!V4="", "", ROUND(Meeuwen2!V4 / IF(AND(COUNT(Meeuwen2!$C4:$O4,Meeuwen2!$U4:V4) <= 3, ISNUMBER($C61)), $C61, $E61) * 10, 3)) | W61: =IF(Meeuwen2!W4="", "", ROUND(Meeuwen2!W4 / IF(AND(COUNT(Meeuwen2!$C4:$O4,Meeuwen2!$U4:W4) <= 3, ISNUMBER($C61)), $C61, $E61) * 10, 3)) | X61: =IF(Meeuwen2!X4="", "", ROUND(Meeuwen2!X4 / IF(AND(COUNT(Meeuwen2!$C4:$O4,Meeuwen2!$U4:X4) <= 3, ISNUMBER($C61)), $C61, $E61) * 10, 3)) | Y61: =IF(Meeuwen2!Y4="", "", ROUND(Meeuwen2!Y4 / IF(AND(COUNT(Meeuwen2!$C4:$O4,Meeuwen2!$U4:Y4) <= 3, ISNUMBER($C61)), $C61, $E61) * 10, 3)) | Z61: =IF(Meeuwen2!Z4="", "", ROUND(Meeuwen2!Z4 / IF(AND(COUNT(Meeuwen2!$C4:$O4,Meeuwen2!$U4:Z4) <= 3, ISNUMBER($C61)), $C61, $E61) * 10, 3)) | AA61: =IF(Meeuwen2!AA4="", "", ROUND(Meeuwen2!AA4 / IF(AND(COUNT(Meeuwen2!$C4:$O4,Meeuwen2!$U4:AA4) <= 3, ISNUMBER($C61)), $C61, $E61) * 10, 3)) | AB61: =IF(Meeuwen2!AB4="", "", ROUND(Meeuwen2!AB4 / IF(AND(COUNT(Meeuwen2!$C4:$O4,Meeuwen2!$U4:AB4) <= 3, ISNUMBER($C61)), $C61, $E61) * 10, 3)) | ... AG61: =IF(Meeuwen2!AG4="", "", ROUND(Meeuwen2!AG4 / IF(AND(COUNT(Meeuwen2!$C4:$O4,Meeuwen2!$U4:AG4) <= 3, ISNUMBER($C61)), $C61, $E61) * 10, 3))
A62: =IF(Meeuwen2!AM5=0, "", Meeuwen2!AM5) -> 5 | B62: =Meeuwen2!A5 -> Jacobs Hugo | C62: =IFERROR(VALUE(MID($B62, SEARCH("[NS ", $B62)+4, 2)), "") | D62: =Meeuwen2!B5 -> 32 | E62: =Meeuwen2!T5 -> 32 | F62: =IF(Meeuwen2!AL5=0," ",SUM(H62:AG62)) -> 37.813 | H62: =IF(Meeuwen2!C5="", "", ROUND(Meeuwen2!C5 / IF(AND(COUNT(Meeuwen2!$C5:C5) <= 3, ISNUMBER($C62)), $C62, $D62) * 10, 3)) -> 6.875 | I62: =IF(Meeuwen2!D5="", "", ROUND(Meeuwen2!D5 / IF(AND(COUNT(Meeuwen2!$C5:D5) <= 3, ISNUMBER($C62)), $C62, $D62) * 10, 3)) | J62: =IF(Meeuwen2!E5="", "", ROUND(Meeuwen2!E5 / IF(AND(COUNT(Meeuwen2!$C5:E5) <= 3, ISNUMBER($C62)), $C62, $D62) * 10, 3)) -> 6.25 | K62: =IF(Meeuwen2!F5="", "", ROUND(Meeuwen2!F5 / IF(AND(COUNT(Meeuwen2!$C5:F5) <= 3, ISNUMBER($C62)), $C62, $D62) * 10, 3)) -> 9.375 | L62: =IF(Meeuwen2!G5="", "", ROUND(Meeuwen2!G5 / IF(AND(COUNT(Meeuwen2!$C5:G5) <= 3, ISNUMBER($C62)), $C62, $D62) * 10, 3)) | M62: =IF(Meeuwen2!H5="", "", ROUND(Meeuwen2!H5 / IF(AND(COUNT(Meeuwen2!$C5:H5) <= 3, ISNUMBER($C62)), $C62, $D62) * 10, 3)) -> 5.938 | N62: =IF(Meeuwen2!I5="", "", ROUND(Meeuwen2!I5 / IF(AND(COUNT(Meeuwen2!$C5:I5) <= 3, ISNUMBER($C62)), $C62, $D62) * 10, 3)) | O62: =IF(Meeuwen2!J5="", "", ROUND(Meeuwen2!J5 / IF(AND(COUNT(Meeuwen2!$C5:J5) <= 3, ISNUMBER($C62)), $C62, $D62) * 10, 3)) -> 9.375 | ... T62: =IF(Meeuwen2!O5="", "", ROUND(Meeuwen2!O5 / IF(AND(COUNT(Meeuwen2!$C5:O5) <= 3, ISNUMBER($C62)), $C62, $D62) * 10, 3)) | U62: =IF(Meeuwen2!U5="", "", ROUND(Meeuwen2!U5 / IF(AND(COUNT(Meeuwen2!$C5:$O5,Meeuwen2!$U5:U5) <= 3, ISNUMBER($C62)), $C62, $E62) * 10, 3)) | V62: =IF(Meeuwen2!V5="", "", ROUND(Meeuwen2!V5 / IF(AND(COUNT(Meeuwen2!$C5:$O5,Meeuwen2!$U5:V5) <= 3, ISNUMBER($C62)), $C62, $E62) * 10, 3)) | W62: =IF(Meeuwen2!W5="", "", ROUND(Meeuwen2!W5 / IF(AND(COUNT(Meeuwen2!$C5:$O5,Meeuwen2!$U5:W5) <= 3, ISNUMBER($C62)), $C62, $E62) * 10, 3)) | X62: =IF(Meeuwen2!X5="", "", ROUND(Meeuwen2!X5 / IF(AND(COUNT(Meeuwen2!$C5:$O5,Meeuwen2!$U5:X5) <= 3, ISNUMBER($C62)), $C62, $E62) * 10, 3)) | Y62: =IF(Meeuwen2!Y5="", "", ROUND(Meeuwen2!Y5 / IF(AND(COUNT(Meeuwen2!$C5:$O5,Meeuwen2!$U5:Y5) <= 3, ISNUMBER($C62)), $C62, $E62) * 10, 3)) | Z62: =IF(Meeuwen2!Z5="", "", ROUND(Meeuwen2!Z5 / IF(AND(COUNT(Meeuwen2!$C5:$O5,Meeuwen2!$U5:Z5) <= 3, ISNUMBER($C62)), $C62, $E62) * 10, 3)) | AA62: =IF(Meeuwen2!AA5="", "", ROUND(Meeuwen2!AA5 / IF(AND(COUNT(Meeuwen2!$C5:$O5,Meeuwen2!$U5:AA5) <= 3, ISNUMBER($C62)), $C62, $E62) * 10, 3)) | AB62: =IF(Meeuwen2!AB5="", "", ROUND(Meeuwen2!AB5 / IF(AND(COUNT(Meeuwen2!$C5:$O5,Meeuwen2!$U5:AB5) <= 3, ISNUMBER($C62)), $C62, $E62) * 10, 3)) | ... AG62: =IF(Meeuwen2!AG5="", "", ROUND(Meeuwen2!AG5 / IF(AND(COUNT(Meeuwen2!$C5:$O5,Meeuwen2!$U5:AG5) <= 3, ISNUMBER($C62)), $C62, $E62) * 10, 3))
A63: =IF(Meeuwen2!AM6=0, "", Meeuwen2!AM6) -> 3 | B63: =Meeuwen2!A6 -> Jacobs Willy | C63: =IFERROR(VALUE(MID($B63, SEARCH("[NS ", $B63)+4, 2)), "") | D63: =Meeuwen2!B6 -> 72 | E63: =Meeuwen2!T6 -> 72 | F63: =IF(Meeuwen2!AL6=0," ",SUM(H63:AG63)) -> 30 | H63: =IF(Meeuwen2!C6="", "", ROUND(Meeuwen2!C6 / IF(AND(COUNT(Meeuwen2!$C6:C6) <= 3, ISNUMBER($C63)), $C63, $D63) * 10, 3)) | I63: =IF(Meeuwen2!D6="", "", ROUND(Meeuwen2!D6 / IF(AND(COUNT(Meeuwen2!$C6:D6) <= 3, ISNUMBER($C63)), $C63, $D63) * 10, 3)) -> 10 | J63: =IF(Meeuwen2!E6="", "", ROUND(Meeuwen2!E6 / IF(AND(COUNT(Meeuwen2!$C6:E6) <= 3, ISNUMBER($C63)), $C63, $D63) * 10, 3)) | K63: =IF(Meeuwen2!F6="", "", ROUND(Meeuwen2!F6 / IF(AND(COUNT(Meeuwen2!$C6:F6) <= 3, ISNUMBER($C63)), $C63, $D63) * 10, 3)) | L63: =IF(Meeuwen2!G6="", "", ROUND(Meeuwen2!G6 / IF(AND(COUNT(Meeuwen2!$C6:G6) <= 3, ISNUMBER($C63)), $C63, $D63) * 10, 3)) -> 10.972 | M63: =IF(Meeuwen2!H6="", "", ROUND(Meeuwen2!H6 / IF(AND(COUNT(Meeuwen2!$C6:H6) <= 3, ISNUMBER($C63)), $C63, $D63) * 10, 3)) | N63: =IF(Meeuwen2!I6="", "", ROUND(Meeuwen2!I6 / IF(AND(COUNT(Meeuwen2!$C6:I6) <= 3, ISNUMBER($C63)), $C63, $D63) * 10, 3)) -> 9.028 | O63: =IF(Meeuwen2!J6="", "", ROUND(Meeuwen2!J6 / IF(AND(COUNT(Meeuwen2!$C6:J6) <= 3, ISNUMBER($C63)), $C63, $D63) * 10, 3)) | ... T63: =IF(Meeuwen2!O6="", "", ROUND(Meeuwen2!O6 / IF(AND(COUNT(Meeuwen2!$C6:O6) <= 3, ISNUMBER($C63)), $C63, $D63) * 10, 3)) | U63: =IF(Meeuwen2!U6="", "", ROUND(Meeuwen2!U6 / IF(AND(COUNT(Meeuwen2!$C6:$O6,Meeuwen2!$U6:U6) <= 3, ISNUMBER($C63)), $C63, $E63) * 10, 3)) | V63: =IF(Meeuwen2!V6="", "", ROUND(Meeuwen2!V6 / IF(AND(COUNT(Meeuwen2!$C6:$O6,Meeuwen2!$U6:V6) <= 3, ISNUMBER($C63)), $C63, $E63) * 10, 3)) | W63: =IF(Meeuwen2!W6="", "", ROUND(Meeuwen2!W6 / IF(AND(COUNT(Meeuwen2!$C6:$O6,Meeuwen2!$U6:W6) <= 3, ISNUMBER($C63)), $C63, $E63) * 10, 3)) | X63: =IF(Meeuwen2!X6="", "", ROUND(Meeuwen2!X6 / IF(AND(COUNT(Meeuwen2!$C6:$O6,Meeuwen2!$U6:X6) <= 3, ISNUMBER($C63)), $C63, $E63) * 10, 3)) | Y63: =IF(Meeuwen2!Y6="", "", ROUND(Meeuwen2!Y6 / IF(AND(COUNT(Meeuwen2!$C6:$O6,Meeuwen2!$U6:Y6) <= 3, ISNUMBER($C63)), $C63, $E63) * 10, 3)) | Z63: =IF(Meeuwen2!Z6="", "", ROUND(Meeuwen2!Z6 / IF(AND(COUNT(Meeuwen2!$C6:$O6,Meeuwen2!$U6:Z6) <= 3, ISNUMBER($C63)), $C63, $E63) * 10, 3)) | AA63: =IF(Meeuwen2!AA6="", "", ROUND(Meeuwen2!AA6 / IF(AND(COUNT(Meeuwen2!$C6:$O6,Meeuwen2!$U6:AA6) <= 3, ISNUMBER($C63)), $C63, $E63) * 10, 3)) | AB63: =IF(Meeuwen2!AB6="", "", ROUND(Meeuwen2!AB6 / IF(AND(COUNT(Meeuwen2!$C6:$O6,Meeuwen2!$U6:AB6) <= 3, ISNUMBER($C63)), $C63, $E63) * 10, 3)) | ... AG63: =IF(Meeuwen2!AG6="", "", ROUND(Meeuwen2!AG6 / IF(AND(COUNT(Meeuwen2!$C6:$O6,Meeuwen2!$U6:AG6) <= 3, ISNUMBER($C63)), $C63, $E63) * 10, 3))
A64: =IF(Meeuwen2!AM7=0, "", Meeuwen2!AM7) -> 5 | B64: =Meeuwen2!A7 -> Lucassen Rini | C64: =IFERROR(VALUE(MID($B64, SEARCH("[NS ", $B64)+4, 2)), "") | D64: =Meeuwen2!B7 -> 29 | E64: =Meeuwen2!T7 -> 29 | F64: =IF(Meeuwen2!AL7=0," ",SUM(H64:AG64)) -> 70.002 | H64: =IF(Meeuwen2!C7="", "", ROUND(Meeuwen2!C7 / IF(AND(COUNT(Meeuwen2!$C7:C7) <= 3, ISNUMBER($C64)), $C64, $D64) * 10, 3)) -> 14.828 | I64: =IF(Meeuwen2!D7="", "", ROUND(Meeuwen2!D7 / IF(AND(COUNT(Meeuwen2!$C7:D7) <= 3, ISNUMBER($C64)), $C64, $D64) * 10, 3)) | J64: =IF(Meeuwen2!E7="", "", ROUND(Meeuwen2!E7 / IF(AND(COUNT(Meeuwen2!$C7:E7) <= 3, ISNUMBER($C64)), $C64, $D64) * 10, 3)) -> 18.966 | K64: =IF(Meeuwen2!F7="", "", ROUND(Meeuwen2!F7 / IF(AND(COUNT(Meeuwen2!$C7:F7) <= 3, ISNUMBER($C64)), $C64, $D64) * 10, 3)) -> 12.759 | L64: =IF(Meeuwen2!G7="", "", ROUND(Meeuwen2!G7 / IF(AND(COUNT(Meeuwen2!$C7:G7) <= 3, ISNUMBER($C64)), $C64, $D64) * 10, 3)) | M64: =IF(Meeuwen2!H7="", "", ROUND(Meeuwen2!H7 / IF(AND(COUNT(Meeuwen2!$C7:H7) <= 3, ISNUMBER($C64)), $C64, $D64) * 10, 3)) -> 10.69 | N64: =IF(Meeuwen2!I7="", "", ROUND(Meeuwen2!I7 / IF(AND(COUNT(Meeuwen2!$C7:I7) <= 3, ISNUMBER($C64)), $C64, $D64) * 10, 3)) | O64: =IF(Meeuwen2!J7="", "", ROUND(Meeuwen2!J7 / IF(AND(COUNT(Meeuwen2!$C7:J7) <= 3, ISNUMBER($C64)), $C64, $D64) * 10, 3)) -> 12.759 | ... T64: =IF(Meeuwen2!O7="", "", ROUND(Meeuwen2!O7 / IF(AND(COUNT(Meeuwen2!$C7:O7) <= 3, ISNUMBER($C64)), $C64, $D64) * 10, 3)) | U64: =IF(Meeuwen2!U7="", "", ROUND(Meeuwen2!U7 / IF(AND(COUNT(Meeuwen2!$C7:$O7,Meeuwen2!$U7:U7) <= 3, ISNUMBER($C64)), $C64, $E64) * 10, 3)) | V64: =IF(Meeuwen2!V7="", "", ROUND(Meeuwen2!V7 / IF(AND(COUNT(Meeuwen2!$C7:$O7,Meeuwen2!$U7:V7) <= 3, ISNUMBER($C64)), $C64, $E64) * 10, 3)) | W64: =IF(Meeuwen2!W7="", "", ROUND(Meeuwen2!W7 / IF(AND(COUNT(Meeuwen2!$C7:$O7,Meeuwen2!$U7:W7) <= 3, ISNUMBER($C64)), $C64, $E64) * 10, 3)) | X64: =IF(Meeuwen2!X7="", "", ROUND(Meeuwen2!X7 / IF(AND(COUNT(Meeuwen2!$C7:$O7,Meeuwen2!$U7:X7) <= 3, ISNUMBER($C64)), $C64, $E64) * 10, 3)) | Y64: =IF(Meeuwen2!Y7="", "", ROUND(Meeuwen2!Y7 / IF(AND(COUNT(Meeuwen2!$C7:$O7,Meeuwen2!$U7:Y7) <= 3, ISNUMBER($C64)), $C64, $E64) * 10, 3)) | Z64: =IF(Meeuwen2!Z7="", "", ROUND(Meeuwen2!Z7 / IF(AND(COUNT(Meeuwen2!$C7:$O7,Meeuwen2!$U7:Z7) <= 3, ISNUMBER($C64)), $C64, $E64) * 10, 3)) | AA64: =IF(Meeuwen2!AA7="", "", ROUND(Meeuwen2!AA7 / IF(AND(COUNT(Meeuwen2!$C7:$O7,Meeuwen2!$U7:AA7) <= 3, ISNUMBER($C64)), $C64, $E64) * 10, 3)) | AB64: =IF(Meeuwen2!AB7="", "", ROUND(Meeuwen2!AB7 / IF(AND(COUNT(Meeuwen2!$C7:$O7,Meeuwen2!$U7:AB7) <= 3, ISNUMBER($C64)), $C64, $E64) * 10, 3)) | ... AG64: =IF(Meeuwen2!AG7="", "", ROUND(Meeuwen2!AG7 / IF(AND(COUNT(Meeuwen2!$C7:$O7,Meeuwen2!$U7:AG7) <= 3, ISNUMBER($C64)), $C64, $E64) * 10, 3))
A65: =IF(Meeuwen2!AM8=0, "", Meeuwen2!AM8) -> 3 | B65: =Meeuwen2!A8 -> Present Fons | C65: =IFERROR(VALUE(MID($B65, SEARCH("[NS ", $B65)+4, 2)), "") | D65: =Meeuwen2!B8 -> 22 | E65: =Meeuwen2!T8 -> 22 | F65: =IF(Meeuwen2!AL8=0," ",SUM(H65:AG65)) -> 22.727 | H65: =IF(Meeuwen2!C8="", "", ROUND(Meeuwen2!C8 / IF(AND(COUNT(Meeuwen2!$C8:C8) <= 3, ISNUMBER($C65)), $C65, $D65) * 10, 3)) | I65: =IF(Meeuwen2!D8="", "", ROUND(Meeuwen2!D8 / IF(AND(COUNT(Meeuwen2!$C8:D8) <= 3, ISNUMBER($C65)), $C65, $D65) * 10, 3)) -> 9.091 | J65: =IF(Meeuwen2!E8="", "", ROUND(Meeuwen2!E8 / IF(AND(COUNT(Meeuwen2!$C8:E8) <= 3, ISNUMBER($C65)), $C65, $D65) * 10, 3)) | K65: =IF(Meeuwen2!F8="", "", ROUND(Meeuwen2!F8 / IF(AND(COUNT(Meeuwen2!$C8:F8) <= 3, ISNUMBER($C65)), $C65, $D65) * 10, 3)) | L65: =IF(Meeuwen2!G8="", "", ROUND(Meeuwen2!G8 / IF(AND(COUNT(Meeuwen2!$C8:G8) <= 3, ISNUMBER($C65)), $C65, $D65) * 10, 3)) -> 8.636 | M65: =IF(Meeuwen2!H8="", "", ROUND(Meeuwen2!H8 / IF(AND(COUNT(Meeuwen2!$C8:H8) <= 3, ISNUMBER($C65)), $C65, $D65) * 10, 3)) | N65: =IF(Meeuwen2!I8="", "", ROUND(Meeuwen2!I8 / IF(AND(COUNT(Meeuwen2!$C8:I8) <= 3, ISNUMBER($C65)), $C65, $D65) * 10, 3)) -> 5 | O65: =IF(Meeuwen2!J8="", "", ROUND(Meeuwen2!J8 / IF(AND(COUNT(Meeuwen2!$C8:J8) <= 3, ISNUMBER($C65)), $C65, $D65) * 10, 3)) | ... T65: =IF(Meeuwen2!O8="", "", ROUND(Meeuwen2!O8 / IF(AND(COUNT(Meeuwen2!$C8:O8) <= 3, ISNUMBER($C65)), $C65, $D65) * 10, 3)) | U65: =IF(Meeuwen2!U8="", "", ROUND(Meeuwen2!U8 / IF(AND(COUNT(Meeuwen2!$C8:$O8,Meeuwen2!$U8:U8) <= 3, ISNUMBER($C65)), $C65, $E65) * 10, 3)) | V65: =IF(Meeuwen2!V8="", "", ROUND(Meeuwen2!V8 / IF(AND(COUNT(Meeuwen2!$C8:$O8,Meeuwen2!$U8:V8) <= 3, ISNUMBER($C65)), $C65, $E65) * 10, 3)) | W65: =IF(Meeuwen2!W8="", "", ROUND(Meeuwen2!W8 / IF(AND(COUNT(Meeuwen2!$C8:$O8,Meeuwen2!$U8:W8) <= 3, ISNUMBER($C65)), $C65, $E65) * 10, 3)) | X65: =IF(Meeuwen2!X8="", "", ROUND(Meeuwen2!X8 / IF(AND(COUNT(Meeuwen2!$C8:$O8,Meeuwen2!$U8:X8) <= 3, ISNUMBER($C65)), $C65, $E65) * 10, 3)) | Y65: =IF(Meeuwen2!Y8="", "", ROUND(Meeuwen2!Y8 / IF(AND(COUNT(Meeuwen2!$C8:$O8,Meeuwen2!$U8:Y8) <= 3, ISNUMBER($C65)), $C65, $E65) * 10, 3)) | Z65: =IF(Meeuwen2!Z8="", "", ROUND(Meeuwen2!Z8 / IF(AND(COUNT(Meeuwen2!$C8:$O8,Meeuwen2!$U8:Z8) <= 3, ISNUMBER($C65)), $C65, $E65) * 10, 3)) | AA65: =IF(Meeuwen2!AA8="", "", ROUND(Meeuwen2!AA8 / IF(AND(COUNT(Meeuwen2!$C8:$O8,Meeuwen2!$U8:AA8) <= 3, ISNUMBER($C65)), $C65, $E65) * 10, 3)) | AB65: =IF(Meeuwen2!AB8="", "", ROUND(Meeuwen2!AB8 / IF(AND(COUNT(Meeuwen2!$C8:$O8,Meeuwen2!$U8:AB8) <= 3, ISNUMBER($C65)), $C65, $E65) * 10, 3)) | ... AG65: =IF(Meeuwen2!AG8="", "", ROUND(Meeuwen2!AG8 / IF(AND(COUNT(Meeuwen2!$C8:$O8,Meeuwen2!$U8:AG8) <= 3, ISNUMBER($C65)), $C65, $E65) * 10, 3))
A66: =IF(Meeuwen2!AM9=0, "", Meeuwen2!AM9) -> 2 | B66: =Meeuwen2!A9 -> Present Marc | C66: =IFERROR(VALUE(MID($B66, SEARCH("[NS ", $B66)+4, 2)), "") | D66: =Meeuwen2!B9 -> 23 | E66: =Meeuwen2!T9 -> 23 | F66: =IF(Meeuwen2!AL9=0," ",SUM(H66:AG66)) -> 28.26 | H66: =IF(Meeuwen2!C9="", "", ROUND(Meeuwen2!C9 / IF(AND(COUNT(Meeuwen2!$C9:C9) <= 3, ISNUMBER($C66)), $C66, $D66) * 10, 3)) | I66: =IF(Meeuwen2!D9="", "", ROUND(Meeuwen2!D9 / IF(AND(COUNT(Meeuwen2!$C9:D9) <= 3, ISNUMBER($C66)), $C66, $D66) * 10, 3)) -> 15.217 | J66: =IF(Meeuwen2!E9="", "", ROUND(Meeuwen2!E9 / IF(AND(COUNT(Meeuwen2!$C9:E9) <= 3, ISNUMBER($C66)), $C66, $D66) * 10, 3)) | K66: =IF(Meeuwen2!F9="", "", ROUND(Meeuwen2!F9 / IF(AND(COUNT(Meeuwen2!$C9:F9) <= 3, ISNUMBER($C66)), $C66, $D66) * 10, 3)) -> 13.043 | L66: =IF(Meeuwen2!G9="", "", ROUND(Meeuwen2!G9 / IF(AND(COUNT(Meeuwen2!$C9:G9) <= 3, ISNUMBER($C66)), $C66, $D66) * 10, 3)) | M66: =IF(Meeuwen2!H9="", "", ROUND(Meeuwen2!H9 / IF(AND(COUNT(Meeuwen2!$C9:H9) <= 3, ISNUMBER($C66)), $C66, $D66) * 10, 3)) | N66: =IF(Meeuwen2!I9="", "", ROUND(Meeuwen2!I9 / IF(AND(COUNT(Meeuwen2!$C9:I9) <= 3, ISNUMBER($C66)), $C66, $D66) * 10, 3)) | O66: =IF(Meeuwen2!J9="", "", ROUND(Meeuwen2!J9 / IF(AND(COUNT(Meeuwen2!$C9:J9) <= 3, ISNUMBER($C66)), $C66, $D66) * 10, 3)) | ... T66: =IF(Meeuwen2!O9="", "", ROUND(Meeuwen2!O9 / IF(AND(COUNT(Meeuwen2!$C9:O9) <= 3, ISNUMBER($C66)), $C66, $D66) * 10, 3)) | U66: =IF(Meeuwen2!U9="", "", ROUND(Meeuwen2!U9 / IF(AND(COUNT(Meeuwen2!$C9:$O9,Meeuwen2!$U9:U9) <= 3, ISNUMBER($C66)), $C66, $E66) * 10, 3)) | V66: =IF(Meeuwen2!V9="", "", ROUND(Meeuwen2!V9 / IF(AND(COUNT(Meeuwen2!$C9:$O9,Meeuwen2!$U9:V9) <= 3, ISNUMBER($C66)), $C66, $E66) * 10, 3)) | W66: =IF(Meeuwen2!W9="", "", ROUND(Meeuwen2!W9 / IF(AND(COUNT(Meeuwen2!$C9:$O9,Meeuwen2!$U9:W9) <= 3, ISNUMBER($C66)), $C66, $E66) * 10, 3)) | X66: =IF(Meeuwen2!X9="", "", ROUND(Meeuwen2!X9 / IF(AND(COUNT(Meeuwen2!$C9:$O9,Meeuwen2!$U9:X9) <= 3, ISNUMBER($C66)), $C66, $E66) * 10, 3)) | Y66: =IF(Meeuwen2!Y9="", "", ROUND(Meeuwen2!Y9 / IF(AND(COUNT(Meeuwen2!$C9:$O9,Meeuwen2!$U9:Y9) <= 3, ISNUMBER($C66)), $C66, $E66) * 10, 3)) | Z66: =IF(Meeuwen2!Z9="", "", ROUND(Meeuwen2!Z9 / IF(AND(COUNT(Meeuwen2!$C9:$O9,Meeuwen2!$U9:Z9) <= 3, ISNUMBER($C66)), $C66, $E66) * 10, 3)) | AA66: =IF(Meeuwen2!AA9="", "", ROUND(Meeuwen2!AA9 / IF(AND(COUNT(Meeuwen2!$C9:$O9,Meeuwen2!$U9:AA9) <= 3, ISNUMBER($C66)), $C66, $E66) * 10, 3)) | AB66: =IF(Meeuwen2!AB9="", "", ROUND(Meeuwen2!AB9 / IF(AND(COUNT(Meeuwen2!$C9:$O9,Meeuwen2!$U9:AB9) <= 3, ISNUMBER($C66)), $C66, $E66) * 10, 3)) | ... AG66: =IF(Meeuwen2!AG9="", "", ROUND(Meeuwen2!AG9 / IF(AND(COUNT(Meeuwen2!$C9:$O9,Meeuwen2!$U9:AG9) <= 3, ISNUMBER($C66)), $C66, $E66) * 10, 3))
A67: =IF(Meeuwen2!AM10=0, "", Meeuwen2!AM10) -> 5 | B67: =Meeuwen2!A10 -> Suykerbuyk Stan | C67: =IFERROR(VALUE(MID($B67, SEARCH("[NS ", $B67)+4, 2)), "") | D67: =Meeuwen2!B10 -> 39 | E67: =Meeuwen2!T10 -> 39 | F67: =IF(Meeuwen2!AL10=0," ",SUM(H67:AG67)) -> 47.693 | H67: =IF(Meeuwen2!C10="", "", ROUND(Meeuwen2!C10 / IF(AND(COUNT(Meeuwen2!$C10:C10) <= 3, ISNUMBER($C67)), $C67, $D67) * 10, 3)) -> 5.128 | I67: =IF(Meeuwen2!D10="", "", ROUND(Meeuwen2!D10 / IF(AND(COUNT(Meeuwen2!$C10:D10) <= 3, ISNUMBER($C67)), $C67, $D67) * 10, 3)) -> 9.231 | J67: =IF(Meeuwen2!E10="", "", ROUND(Meeuwen2!E10 / IF(AND(COUNT(Meeuwen2!$C10:E10) <= 3, ISNUMBER($C67)), $C67, $D67) * 10, 3)) | K67: =IF(Meeuwen2!F10="", "", ROUND(Meeuwen2!F10 / IF(AND(COUNT(Meeuwen2!$C10:F10) <= 3, ISNUMBER($C67)), $C67, $D67) * 10, 3)) -> 8.718 | L67: =IF(Meeuwen2!G10="", "", ROUND(Meeuwen2!G10 / IF(AND(COUNT(Meeuwen2!$C10:G10) <= 3, ISNUMBER($C67)), $C67, $D67) * 10, 3)) | M67: =IF(Meeuwen2!H10="", "", ROUND(Meeuwen2!H10 / IF(AND(COUNT(Meeuwen2!$C10:H10) <= 3, ISNUMBER($C67)), $C67, $D67) * 10, 3)) -> 16.154 | N67: =IF(Meeuwen2!I10="", "", ROUND(Meeuwen2!I10 / IF(AND(COUNT(Meeuwen2!$C10:I10) <= 3, ISNUMBER($C67)), $C67, $D67) * 10, 3)) -> 8.462 | O67: =IF(Meeuwen2!J10="", "", ROUND(Meeuwen2!J10 / IF(AND(COUNT(Meeuwen2!$C10:J10) <= 3, ISNUMBER($C67)), $C67, $D67) * 10, 3)) | ... T67: =IF(Meeuwen2!O10="", "", ROUND(Meeuwen2!O10 / IF(AND(COUNT(Meeuwen2!$C10:O10) <= 3, ISNUMBER($C67)), $C67, $D67) * 10, 3)) | U67: =IF(Meeuwen2!U10="", "", ROUND(Meeuwen2!U10 / IF(AND(COUNT(Meeuwen2!$C10:$O10,Meeuwen2!$U10:U10) <= 3, ISNUMBER($C67)), $C67, $E67) * 10, 3)) | V67: =IF(Meeuwen2!V10="", "", ROUND(Meeuwen2!V10 / IF(AND(COUNT(Meeuwen2!$C10:$O10,Meeuwen2!$U10:V10) <= 3, ISNUMBER($C67)), $C67, $E67) * 10, 3)) | W67: =IF(Meeuwen2!W10="", "", ROUND(Meeuwen2!W10 / IF(AND(COUNT(Meeuwen2!$C10:$O10,Meeuwen2!$U10:W10) <= 3, ISNUMBER($C67)), $C67, $E67) * 10, 3)) | X67: =IF(Meeuwen2!X10="", "", ROUND(Meeuwen2!X10 / IF(AND(COUNT(Meeuwen2!$C10:$O10,Meeuwen2!$U10:X10) <= 3, ISNUMBER($C67)), $C67, $E67) * 10, 3)) | Y67: =IF(Meeuwen2!Y10="", "", ROUND(Meeuwen2!Y10 / IF(AND(COUNT(Meeuwen2!$C10:$O10,Meeuwen2!$U10:Y10) <= 3, ISNUMBER($C67)), $C67, $E67) * 10, 3)) | Z67: =IF(Meeuwen2!Z10="", "", ROUND(Meeuwen2!Z10 / IF(AND(COUNT(Meeuwen2!$C10:$O10,Meeuwen2!$U10:Z10) <= 3, ISNUMBER($C67)), $C67, $E67) * 10, 3)) | AA67: =IF(Meeuwen2!AA10="", "", ROUND(Meeuwen2!AA10 / IF(AND(COUNT(Meeuwen2!$C10:$O10,Meeuwen2!$U10:AA10) <= 3, ISNUMBER($C67)), $C67, $E67) * 10, 3)) | AB67: =IF(Meeuwen2!AB10="", "", ROUND(Meeuwen2!AB10 / IF(AND(COUNT(Meeuwen2!$C10:$O10,Meeuwen2!$U10:AB10) <= 3, ISNUMBER($C67)), $C67, $E67) * 10, 3)) | ... AG67: =IF(Meeuwen2!AG10="", "", ROUND(Meeuwen2!AG10 / IF(AND(COUNT(Meeuwen2!$C10:$O10,Meeuwen2!$U10:AG10) <= 3, ISNUMBER($C67)), $C67, $E67) * 10, 3))
A68: =IF(Meeuwen2!AM11=0, "", Meeuwen2!AM11) -> 4 | B68: =Meeuwen2!A11 -> Van Dorst Alfons | C68: =IFERROR(VALUE(MID($B68, SEARCH("[NS ", $B68)+4, 2)), "") | D68: =Meeuwen2!B11 -> 55 | E68: =Meeuwen2!T11 -> 55 | F68: =IF(Meeuwen2!AL11=0," ",SUM(H68:AG68)) -> 35.636 | H68: =IF(Meeuwen2!C11="", "", ROUND(Meeuwen2!C11 / IF(AND(COUNT(Meeuwen2!$C11:C11) <= 3, ISNUMBER($C68)), $C68, $D68) * 10, 3)) | I68: =IF(Meeuwen2!D11="", "", ROUND(Meeuwen2!D11 / IF(AND(COUNT(Meeuwen2!$C11:D11) <= 3, ISNUMBER($C68)), $C68, $D68) * 10, 3)) | J68: =IF(Meeuwen2!E11="", "", ROUND(Meeuwen2!E11 / IF(AND(COUNT(Meeuwen2!$C11:E11) <= 3, ISNUMBER($C68)), $C68, $D68) * 10, 3)) | K68: =IF(Meeuwen2!F11="", "", ROUND(Meeuwen2!F11 / IF(AND(COUNT(Meeuwen2!$C11:F11) <= 3, ISNUMBER($C68)), $C68, $D68) * 10, 3)) -> 11.091 | L68: =IF(Meeuwen2!G11="", "", ROUND(Meeuwen2!G11 / IF(AND(COUNT(Meeuwen2!$C11:G11) <= 3, ISNUMBER($C68)), $C68, $D68) * 10, 3)) -> 12 | M68: =IF(Meeuwen2!H11="", "", ROUND(Meeuwen2!H11 / IF(AND(COUNT(Meeuwen2!$C11:H11) <= 3, ISNUMBER($C68)), $C68, $D68) * 10, 3)) | N68: =IF(Meeuwen2!I11="", "", ROUND(Meeuwen2!I11 / IF(AND(COUNT(Meeuwen2!$C11:I11) <= 3, ISNUMBER($C68)), $C68, $D68) * 10, 3)) -> 6.909 | O68: =IF(Meeuwen2!J11="", "", ROUND(Meeuwen2!J11 / IF(AND(COUNT(Meeuwen2!$C11:J11) <= 3, ISNUMBER($C68)), $C68, $D68) * 10, 3)) -> 5.636 | ... T68: =IF(Meeuwen2!O11="", "", ROUND(Meeuwen2!O11 / IF(AND(COUNT(Meeuwen2!$C11:O11) <= 3, ISNUMBER($C68)), $C68, $D68) * 10, 3)) | U68: =IF(Meeuwen2!U11="", "", ROUND(Meeuwen2!U11 / IF(AND(COUNT(Meeuwen2!$C11:$O11,Meeuwen2!$U11:U11) <= 3, ISNUMBER($C68)), $C68, $E68) * 10, 3)) | V68: =IF(Meeuwen2!V11="", "", ROUND(Meeuwen2!V11 / IF(AND(COUNT(Meeuwen2!$C11:$O11,Meeuwen2!$U11:V11) <= 3, ISNUMBER($C68)), $C68, $E68) * 10, 3)) | W68: =IF(Meeuwen2!W11="", "", ROUND(Meeuwen2!W11 / IF(AND(COUNT(Meeuwen2!$C11:$O11,Meeuwen2!$U11:W11) <= 3, ISNUMBER($C68)), $C68, $E68) * 10, 3)) | X68: =IF(Meeuwen2!X11="", "", ROUND(Meeuwen2!X11 / IF(AND(COUNT(Meeuwen2!$C11:$O11,Meeuwen2!$U11:X11) <= 3, ISNUMBER($C68)), $C68, $E68) * 10, 3)) | Y68: =IF(Meeuwen2!Y11="", "", ROUND(Meeuwen2!Y11 / IF(AND(COUNT(Meeuwen2!$C11:$O11,Meeuwen2!$U11:Y11) <= 3, ISNUMBER($C68)), $C68, $E68) * 10, 3)) | Z68: =IF(Meeuwen2!Z11="", "", ROUND(Meeuwen2!Z11 / IF(AND(COUNT(Meeuwen2!$C11:$O11,Meeuwen2!$U11:Z11) <= 3, ISNUMBER($C68)), $C68, $E68) * 10, 3)) | AA68: =IF(Meeuwen2!AA11="", "", ROUND(Meeuwen2!AA11 / IF(AND(COUNT(Meeuwen2!$C11:$O11,Meeuwen2!$U11:AA11) <= 3, ISNUMBER($C68)), $C68, $E68) * 10, 3)) | AB68: =IF(Meeuwen2!AB11="", "", ROUND(Meeuwen2!AB11 / IF(AND(COUNT(Meeuwen2!$C11:$O11,Meeuwen2!$U11:AB11) <= 3, ISNUMBER($C68)), $C68, $E68) * 10, 3)) | ... AG68: =IF(Meeuwen2!AG11="", "", ROUND(Meeuwen2!AG11 / IF(AND(COUNT(Meeuwen2!$C11:$O11,Meeuwen2!$U11:AG11) <= 3, ISNUMBER($C68)), $C68, $E68) * 10, 3))
A69: =IF(Meeuwen2!AM12=0, "", Meeuwen2!AM12) | B69: =Meeuwen2!A12 -> Van Mastricht Rinus [NS 20] | C69: =IFERROR(VALUE(MID($B69, SEARCH("[NS ", $B69)+4, 2)), "") -> 20 | D69: =Meeuwen2!B12 -> 20 | E69: =Meeuwen2!T12 -> 20 | F69: =IF(Meeuwen2!AL12=0," ",SUM(H69:AG69)) | H69: =IF(Meeuwen2!C12="", "", ROUND(Meeuwen2!C12 / IF(AND(COUNT(Meeuwen2!$C12:C12) <= 3, ISNUMBER($C69)), $C69, $D69) * 10, 3)) | I69: =IF(Meeuwen2!D12="", "", ROUND(Meeuwen2!D12 / IF(AND(COUNT(Meeuwen2!$C12:D12) <= 3, ISNUMBER($C69)), $C69, $D69) * 10, 3)) | J69: =IF(Meeuwen2!E12="", "", ROUND(Meeuwen2!E12 / IF(AND(COUNT(Meeuwen2!$C12:E12) <= 3, ISNUMBER($C69)), $C69, $D69) * 10, 3)) | K69: =IF(Meeuwen2!F12="", "", ROUND(Meeuwen2!F12 / IF(AND(COUNT(Meeuwen2!$C12:F12) <= 3, ISNUMBER($C69)), $C69, $D69) * 10, 3)) | L69: =IF(Meeuwen2!G12="", "", ROUND(Meeuwen2!G12 / IF(AND(COUNT(Meeuwen2!$C12:G12) <= 3, ISNUMBER($C69)), $C69, $D69) * 10, 3)) | M69: =IF(Meeuwen2!H12="", "", ROUND(Meeuwen2!H12 / IF(AND(COUNT(Meeuwen2!$C12:H12) <= 3, ISNUMBER($C69)), $C69, $D69) * 10, 3)) | N69: =IF(Meeuwen2!I12="", "", ROUND(Meeuwen2!I12 / IF(AND(COUNT(Meeuwen2!$C12:I12) <= 3, ISNUMBER($C69)), $C69, $D69) * 10, 3)) | O69: =IF(Meeuwen2!J12="", "", ROUND(Meeuwen2!J12 / IF(AND(COUNT(Meeuwen2!$C12:J12) <= 3, ISNUMBER($C69)), $C69, $D69) * 10, 3)) | ... T69: =IF(Meeuwen2!O12="", "", ROUND(Meeuwen2!O12 / IF(AND(COUNT(Meeuwen2!$C12:O12) <= 3, ISNUMBER($C69)), $C69, $D69) * 10, 3)) | U69: =IF(Meeuwen2!U12="", "", ROUND(Meeuwen2!U12 / IF(AND(COUNT(Meeuwen2!$C12:$O12,Meeuwen2!$U12:U12) <= 3, ISNUMBER($C69)), $C69, $E69) * 10, 3)) | V69: =IF(Meeuwen2!V12="", "", ROUND(Meeuwen2!V12 / IF(AND(COUNT(Meeuwen2!$C12:$O12,Meeuwen2!$U12:V12) <= 3, ISNUMBER($C69)), $C69, $E69) * 10, 3)) | W69: =IF(Meeuwen2!W12="", "", ROUND(Meeuwen2!W12 / IF(AND(COUNT(Meeuwen2!$C12:$O12,Meeuwen2!$U12:W12) <= 3, ISNUMBER($C69)), $C69, $E69) * 10, 3)) | X69: =IF(Meeuwen2!X12="", "", ROUND(Meeuwen2!X12 / IF(AND(COUNT(Meeuwen2!$C12:$O12,Meeuwen2!$U12:X12) <= 3, ISNUMBER($C69)), $C69, $E69) * 10, 3)) | Y69: =IF(Meeuwen2!Y12="", "", ROUND(Meeuwen2!Y12 / IF(AND(COUNT(Meeuwen2!$C12:$O12,Meeuwen2!$U12:Y12) <= 3, ISNUMBER($C69)), $C69, $E69) * 10, 3)) | Z69: =IF(Meeuwen2!Z12="", "", ROUND(Meeuwen2!Z12 / IF(AND(COUNT(Meeuwen2!$C12:$O12,Meeuwen2!$U12:Z12) <= 3, ISNUMBER($C69)), $C69, $E69) * 10, 3)) | AA69: =IF(Meeuwen2!AA12="", "", ROUND(Meeuwen2!AA12 / IF(AND(COUNT(Meeuwen2!$C12:$O12,Meeuwen2!$U12:AA12) <= 3, ISNUMBER($C69)), $C69, $E69) * 10, 3)) | AB69: =IF(Meeuwen2!AB12="", "", ROUND(Meeuwen2!AB12 / IF(AND(COUNT(Meeuwen2!$C12:$O12,Meeuwen2!$U12:AB12) <= 3, ISNUMBER($C69)), $C69, $E69) * 10, 3)) | ... AG69: =IF(Meeuwen2!AG12="", "", ROUND(Meeuwen2!AG12 / IF(AND(COUNT(Meeuwen2!$C12:$O12,Meeuwen2!$U12:AG12) <= 3, ISNUMBER($C69)), $C69, $E69) * 10, 3))
A70: =IF(Meeuwen2!AM13=0, "", Meeuwen2!AM13) -> 5 | B70: =Meeuwen2!A13 -> Van Thillo Sis | C70: =IFERROR(VALUE(MID($B70, SEARCH("[NS ", $B70)+4, 2)), "") | D70: =Meeuwen2!B13 -> 32 | E70: =Meeuwen2!T13 -> 32 | F70: =IF(Meeuwen2!AL13=0," ",SUM(H70:AG70)) -> 50.626 | H70: =IF(Meeuwen2!C13="", "", ROUND(Meeuwen2!C13 / IF(AND(COUNT(Meeuwen2!$C13:C13) <= 3, ISNUMBER($C70)), $C70, $D70) * 10, 3)) -> 8.75 | I70: =IF(Meeuwen2!D13="", "", ROUND(Meeuwen2!D13 / IF(AND(COUNT(Meeuwen2!$C13:D13) <= 3, ISNUMBER($C70)), $C70, $D70) * 10, 3)) | J70: =IF(Meeuwen2!E13="", "", ROUND(Meeuwen2!E13 / IF(AND(COUNT(Meeuwen2!$C13:E13) <= 3, ISNUMBER($C70)), $C70, $D70) * 10, 3)) -> 11.875 | K70: =IF(Meeuwen2!F13="", "", ROUND(Meeuwen2!F13 / IF(AND(COUNT(Meeuwen2!$C13:F13) <= 3, ISNUMBER($C70)), $C70, $D70) * 10, 3)) -> 10.625 | L70: =IF(Meeuwen2!G13="", "", ROUND(Meeuwen2!G13 / IF(AND(COUNT(Meeuwen2!$C13:G13) <= 3, ISNUMBER($C70)), $C70, $D70) * 10, 3)) | M70: =IF(Meeuwen2!H13="", "", ROUND(Meeuwen2!H13 / IF(AND(COUNT(Meeuwen2!$C13:H13) <= 3, ISNUMBER($C70)), $C70, $D70) * 10, 3)) -> 13.438 | N70: =IF(Meeuwen2!I13="", "", ROUND(Meeuwen2!I13 / IF(AND(COUNT(Meeuwen2!$C13:I13) <= 3, ISNUMBER($C70)), $C70, $D70) * 10, 3)) | O70: =IF(Meeuwen2!J13="", "", ROUND(Meeuwen2!J13 / IF(AND(COUNT(Meeuwen2!$C13:J13) <= 3, ISNUMBER($C70)), $C70, $D70) * 10, 3)) -> 5.938 | ... T70: =IF(Meeuwen2!O13="", "", ROUND(Meeuwen2!O13 / IF(AND(COUNT(Meeuwen2!$C13:O13) <= 3, ISNUMBER($C70)), $C70, $D70) * 10, 3)) | U70: =IF(Meeuwen2!U13="", "", ROUND(Meeuwen2!U13 / IF(AND(COUNT(Meeuwen2!$C13:$O13,Meeuwen2!$U13:U13) <= 3, ISNUMBER($C70)), $C70, $E70) * 10, 3)) | V70: =IF(Meeuwen2!V13="", "", ROUND(Meeuwen2!V13 / IF(AND(COUNT(Meeuwen2!$C13:$O13,Meeuwen2!$U13:V13) <= 3, ISNUMBER($C70)), $C70, $E70) * 10, 3)) | W70: =IF(Meeuwen2!W13="", "", ROUND(Meeuwen2!W13 / IF(AND(COUNT(Meeuwen2!$C13:$O13,Meeuwen2!$U13:W13) <= 3, ISNUMBER($C70)), $C70, $E70) * 10, 3)) | X70: =IF(Meeuwen2!X13="", "", ROUND(Meeuwen2!X13 / IF(AND(COUNT(Meeuwen2!$C13:$O13,Meeuwen2!$U13:X13) <= 3, ISNUMBER($C70)), $C70, $E70) * 10, 3)) | Y70: =IF(Meeuwen2!Y13="", "", ROUND(Meeuwen2!Y13 / IF(AND(COUNT(Meeuwen2!$C13:$O13,Meeuwen2!$U13:Y13) <= 3, ISNUMBER($C70)), $C70, $E70) * 10, 3)) | Z70: =IF(Meeuwen2!Z13="", "", ROUND(Meeuwen2!Z13 / IF(AND(COUNT(Meeuwen2!$C13:$O13,Meeuwen2!$U13:Z13) <= 3, ISNUMBER($C70)), $C70, $E70) * 10, 3)) | AA70: =IF(Meeuwen2!AA13="", "", ROUND(Meeuwen2!AA13 / IF(AND(COUNT(Meeuwen2!$C13:$O13,Meeuwen2!$U13:AA13) <= 3, ISNUMBER($C70)), $C70, $E70) * 10, 3)) | AB70: =IF(Meeuwen2!AB13="", "", ROUND(Meeuwen2!AB13 / IF(AND(COUNT(Meeuwen2!$C13:$O13,Meeuwen2!$U13:AB13) <= 3, ISNUMBER($C70)), $C70, $E70) * 10, 3)) | ... AG70: =IF(Meeuwen2!AG13="", "", ROUND(Meeuwen2!AG13 / IF(AND(COUNT(Meeuwen2!$C13:$O13,Meeuwen2!$U13:AG13) <= 3, ISNUMBER($C70)), $C70, $E70) * 10, 3))
A71: =IF(Meeuwen2!AM14=0, "", Meeuwen2!AM14) -> 6 | B71: =Meeuwen2!A14 -> Vandersanden Lucien | C71: =IFERROR(VALUE(MID($B71, SEARCH("[NS ", $B71)+4, 2)), "") | D71: =Meeuwen2!B14 -> 35 | E71: =Meeuwen2!T14 -> 35 | F71: =IF(Meeuwen2!AL14=0," ",SUM(H71:AG71)) -> 50.287 | H71: =IF(Meeuwen2!C14="", "", ROUND(Meeuwen2!C14 / IF(AND(COUNT(Meeuwen2!$C14:C14) <= 3, ISNUMBER($C71)), $C71, $D71) * 10, 3)) -> 7.143 | I71: =IF(Meeuwen2!D14="", "", ROUND(Meeuwen2!D14 / IF(AND(COUNT(Meeuwen2!$C14:D14) <= 3, ISNUMBER($C71)), $C71, $D71) * 10, 3)) -> 8 | J71: =IF(Meeuwen2!E14="", "", ROUND(Meeuwen2!E14 / IF(AND(COUNT(Meeuwen2!$C14:E14) <= 3, ISNUMBER($C71)), $C71, $D71) * 10, 3)) -> 7.429 | K71: =IF(Meeuwen2!F14="", "", ROUND(Meeuwen2!F14 / IF(AND(COUNT(Meeuwen2!$C14:F14) <= 3, ISNUMBER($C71)), $C71, $D71) * 10, 3)) | L71: =IF(Meeuwen2!G14="", "", ROUND(Meeuwen2!G14 / IF(AND(COUNT(Meeuwen2!$C14:G14) <= 3, ISNUMBER($C71)), $C71, $D71) * 10, 3)) -> 12.286 | M71: =IF(Meeuwen2!H14="", "", ROUND(Meeuwen2!H14 / IF(AND(COUNT(Meeuwen2!$C14:H14) <= 3, ISNUMBER($C71)), $C71, $D71) * 10, 3)) -> 7.429 | N71: =IF(Meeuwen2!I14="", "", ROUND(Meeuwen2!I14 / IF(AND(COUNT(Meeuwen2!$C14:I14) <= 3, ISNUMBER($C71)), $C71, $D71) * 10, 3)) -> 8 | O71: =IF(Meeuwen2!J14="", "", ROUND(Meeuwen2!J14 / IF(AND(COUNT(Meeuwen2!$C14:J14) <= 3, ISNUMBER($C71)), $C71, $D71) * 10, 3)) | ... T71: =IF(Meeuwen2!O14="", "", ROUND(Meeuwen2!O14 / IF(AND(COUNT(Meeuwen2!$C14:O14) <= 3, ISNUMBER($C71)), $C71, $D71) * 10, 3)) | U71: =IF(Meeuwen2!U14="", "", ROUND(Meeuwen2!U14 / IF(AND(COUNT(Meeuwen2!$C14:$O14,Meeuwen2!$U14:U14) <= 3, ISNUMBER($C71)), $C71, $E71) * 10, 3)) | V71: =IF(Meeuwen2!V14="", "", ROUND(Meeuwen2!V14 / IF(AND(COUNT(Meeuwen2!$C14:$O14,Meeuwen2!$U14:V14) <= 3, ISNUMBER($C71)), $C71, $E71) * 10, 3)) | W71: =IF(Meeuwen2!W14="", "", ROUND(Meeuwen2!W14 / IF(AND(COUNT(Meeuwen2!$C14:$O14,Meeuwen2!$U14:W14) <= 3, ISNUMBER($C71)), $C71, $E71) * 10, 3)) | X71: =IF(Meeuwen2!X14="", "", ROUND(Meeuwen2!X14 / IF(AND(COUNT(Meeuwen2!$C14:$O14,Meeuwen2!$U14:X14) <= 3, ISNUMBER($C71)), $C71, $E71) * 10, 3)) | Y71: =IF(Meeuwen2!Y14="", "", ROUND(Meeuwen2!Y14 / IF(AND(COUNT(Meeuwen2!$C14:$O14,Meeuwen2!$U14:Y14) <= 3, ISNUMBER($C71)), $C71, $E71) * 10, 3)) | Z71: =IF(Meeuwen2!Z14="", "", ROUND(Meeuwen2!Z14 / IF(AND(COUNT(Meeuwen2!$C14:$O14,Meeuwen2!$U14:Z14) <= 3, ISNUMBER($C71)), $C71, $E71) * 10, 3)) | AA71: =IF(Meeuwen2!AA14="", "", ROUND(Meeuwen2!AA14 / IF(AND(COUNT(Meeuwen2!$C14:$O14,Meeuwen2!$U14:AA14) <= 3, ISNUMBER($C71)), $C71, $E71) * 10, 3)) | AB71: =IF(Meeuwen2!AB14="", "", ROUND(Meeuwen2!AB14 / IF(AND(COUNT(Meeuwen2!$C14:$O14,Meeuwen2!$U14:AB14) <= 3, ISNUMBER($C71)), $C71, $E71) * 10, 3)) | ... AG71: =IF(Meeuwen2!AG14="", "", ROUND(Meeuwen2!AG14 / IF(AND(COUNT(Meeuwen2!$C14:$O14,Meeuwen2!$U14:AG14) <= 3, ISNUMBER($C71)), $C71, $E71) * 10, 3))
A72: =IF(Meeuwen2!AM15=0, "", Meeuwen2!AM15) -> 4 | B72: =Meeuwen2!A15 -> Vroom Peter [NS 20] | C72: =IFERROR(VALUE(MID($B72, SEARCH("[NS ", $B72)+4, 2)), "") -> 20 | D72: =Meeuwen2!B15 -> 15 | E72: =Meeuwen2!T15 -> 15 | F72: =IF(Meeuwen2!AL15=0," ",SUM(H72:AG72)) -> 29.5 | H72: =IF(Meeuwen2!C15="", "", ROUND(Meeuwen2!C15 / IF(AND(COUNT(Meeuwen2!$C15:C15) <= 3, ISNUMBER($C72)), $C72, $D72) * 10, 3)) | I72: =IF(Meeuwen2!D15="", "", ROUND(Meeuwen2!D15 / IF(AND(COUNT(Meeuwen2!$C15:D15) <= 3, ISNUMBER($C72)), $C72, $D72) * 10, 3)) | J72: =IF(Meeuwen2!E15="", "", ROUND(Meeuwen2!E15 / IF(AND(COUNT(Meeuwen2!$C15:E15) <= 3, ISNUMBER($C72)), $C72, $D72) * 10, 3)) -> 5 | K72: =IF(Meeuwen2!F15="", "", ROUND(Meeuwen2!F15 / IF(AND(COUNT(Meeuwen2!$C15:F15) <= 3, ISNUMBER($C72)), $C72, $D72) * 10, 3)) | L72: =IF(Meeuwen2!G15="", "", ROUND(Meeuwen2!G15 / IF(AND(COUNT(Meeuwen2!$C15:G15) <= 3, ISNUMBER($C72)), $C72, $D72) * 10, 3)) -> 6 | M72: =IF(Meeuwen2!H15="", "", ROUND(Meeuwen2!H15 / IF(AND(COUNT(Meeuwen2!$C15:H15) <= 3, ISNUMBER($C72)), $C72, $D72) * 10, 3)) -> 8.5 | N72: =IF(Meeuwen2!I15="", "", ROUND(Meeuwen2!I15 / IF(AND(COUNT(Meeuwen2!$C15:I15) <= 3, ISNUMBER($C72)), $C72, $D72) * 10, 3)) | O72: =IF(Meeuwen2!J15="", "", ROUND(Meeuwen2!J15 / IF(AND(COUNT(Meeuwen2!$C15:J15) <= 3, ISNUMBER($C72)), $C72, $D72) * 10, 3)) -> 10 | ... T72: =IF(Meeuwen2!O15="", "", ROUND(Meeuwen2!O15 / IF(AND(COUNT(Meeuwen2!$C15:O15) <= 3, ISNUMBER($C72)), $C72, $D72) * 10, 3)) | U72: =IF(Meeuwen2!U15="", "", ROUND(Meeuwen2!U15 / IF(AND(COUNT(Meeuwen2!$C15:$O15,Meeuwen2!$U15:U15) <= 3, ISNUMBER($C72)), $C72, $E72) * 10, 3)) | V72: =IF(Meeuwen2!V15="", "", ROUND(Meeuwen2!V15 / IF(AND(COUNT(Meeuwen2!$C15:$O15,Meeuwen2!$U15:V15) <= 3, ISNUMBER($C72)), $C72, $E72) * 10, 3)) | W72: =IF(Meeuwen2!W15="", "", ROUND(Meeuwen2!W15 / IF(AND(COUNT(Meeuwen2!$C15:$O15,Meeuwen2!$U15:W15) <= 3, ISNUMBER($C72)), $C72, $E72) * 10, 3)) | X72: =IF(Meeuwen2!X15="", "", ROUND(Meeuwen2!X15 / IF(AND(COUNT(Meeuwen2!$C15:$O15,Meeuwen2!$U15:X15) <= 3, ISNUMBER($C72)), $C72, $E72) * 10, 3)) | Y72: =IF(Meeuwen2!Y15="", "", ROUND(Meeuwen2!Y15 / IF(AND(COUNT(Meeuwen2!$C15:$O15,Meeuwen2!$U15:Y15) <= 3, ISNUMBER($C72)), $C72, $E72) * 10, 3)) | Z72: =IF(Meeuwen2!Z15="", "", ROUND(Meeuwen2!Z15 / IF(AND(COUNT(Meeuwen2!$C15:$O15,Meeuwen2!$U15:Z15) <= 3, ISNUMBER($C72)), $C72, $E72) * 10, 3)) | AA72: =IF(Meeuwen2!AA15="", "", ROUND(Meeuwen2!AA15 / IF(AND(COUNT(Meeuwen2!$C15:$O15,Meeuwen2!$U15:AA15) <= 3, ISNUMBER($C72)), $C72, $E72) * 10, 3)) | AB72: =IF(Meeuwen2!AB15="", "", ROUND(Meeuwen2!AB15 / IF(AND(COUNT(Meeuwen2!$C15:$O15,Meeuwen2!$U15:AB15) <= 3, ISNUMBER($C72)), $C72, $E72) * 10, 3)) | ... AG72: =IF(Meeuwen2!AG15="", "", ROUND(Meeuwen2!AG15 / IF(AND(COUNT(Meeuwen2!$C15:$O15,Meeuwen2!$U15:AG15) <= 3, ISNUMBER($C72)), $C72, $E72) * 10, 3))
... A75: =IF(Meeuwen2!AM18=0, "", Meeuwen2!AM18) | B75: =Meeuwen2!A18 -> 0 | C75: =IFERROR(VALUE(MID($B75, SEARCH("[NS ", $B75)+4, 2)), "") | D75: =Meeuwen2!B18 -> 0 | E75: =Meeuwen2!T18 -> 0 | F75: =IF(Meeuwen2!AL18=0," ",SUM(H75:AG75)) | H75: =IF(Meeuwen2!C18="", "", ROUND(Meeuwen2!C18 / IF(AND(COUNT(Meeuwen2!$C18:C18) <= 3, ISNUMBER($C75)), $C75, $D75) * 10, 3)) | I75: =IF(Meeuwen2!D18="", "", ROUND(Meeuwen2!D18 / IF(AND(COUNT(Meeuwen2!$C18:D18) <= 3, ISNUMBER($C75)), $C75, $D75) * 10, 3)) | J75: =IF(Meeuwen2!E18="", "", ROUND(Meeuwen2!E18 / IF(AND(COUNT(Meeuwen2!$C18:E18) <= 3, ISNUMBER($C75)), $C75, $D75) * 10, 3)) | K75: =IF(Meeuwen2!F18="", "", ROUND(Meeuwen2!F18 / IF(AND(COUNT(Meeuwen2!$C18:F18) <= 3, ISNUMBER($C75)), $C75, $D75) * 10, 3)) | L75: =IF(Meeuwen2!G18="", "", ROUND(Meeuwen2!G18 / IF(AND(COUNT(Meeuwen2!$C18:G18) <= 3, ISNUMBER($C75)), $C75, $D75) * 10, 3)) | M75: =IF(Meeuwen2!H18="", "", ROUND(Meeuwen2!H18 / IF(AND(COUNT(Meeuwen2!$C18:H18) <= 3, ISNUMBER($C75)), $C75, $D75) * 10, 3)) | N75: =IF(Meeuwen2!I18="", "", ROUND(Meeuwen2!I18 / IF(AND(COUNT(Meeuwen2!$C18:I18) <= 3, ISNUMBER($C75)), $C75, $D75) * 10, 3)) | O75: =IF(Meeuwen2!J18="", "", ROUND(Meeuwen2!J18 / IF(AND(COUNT(Meeuwen2!$C18:J18) <= 3, ISNUMBER($C75)), $C75, $D75) * 10, 3)) | ... T75: =IF(Meeuwen2!O18="", "", ROUND(Meeuwen2!O18 / IF(AND(COUNT(Meeuwen2!$C18:O18) <= 3, ISNUMBER($C75)), $C75, $D75) * 10, 3)) | U75: =IF(Meeuwen2!U18="", "", ROUND(Meeuwen2!U18 / IF(AND(COUNT(Meeuwen2!$C18:$O18,Meeuwen2!$U18:U18) <= 3, ISNUMBER($C75)), $C75, $E75) * 10, 3)) | V75: =IF(Meeuwen2!V18="", "", ROUND(Meeuwen2!V18 / IF(AND(COUNT(Meeuwen2!$C18:$O18,Meeuwen2!$U18:V18) <= 3, ISNUMBER($C75)), $C75, $E75) * 10, 3)) | W75: =IF(Meeuwen2!W18="", "", ROUND(Meeuwen2!W18 / IF(AND(COUNT(Meeuwen2!$C18:$O18,Meeuwen2!$U18:W18) <= 3, ISNUMBER($C75)), $C75, $E75) * 10, 3)) | X75: =IF(Meeuwen2!X18="", "", ROUND(Meeuwen2!X18 / IF(AND(COUNT(Meeuwen2!$C18:$O18,Meeuwen2!$U18:X18) <= 3, ISNUMBER($C75)), $C75, $E75) * 10, 3)) | Y75: =IF(Meeuwen2!Y18="", "", ROUND(Meeuwen2!Y18 / IF(AND(COUNT(Meeuwen2!$C18:$O18,Meeuwen2!$U18:Y18) <= 3, ISNUMBER($C75)), $C75, $E75) * 10, 3)) | Z75: =IF(Meeuwen2!Z18="", "", ROUND(Meeuwen2!Z18 / IF(AND(COUNT(Meeuwen2!$C18:$O18,Meeuwen2!$U18:Z18) <= 3, ISNUMBER($C75)), $C75, $E75) * 10, 3)) | AA75: =IF(Meeuwen2!AA18="", "", ROUND(Meeuwen2!AA18 / IF(AND(COUNT(Meeuwen2!$C18:$O18,Meeuwen2!$U18:AA18) <= 3, ISNUMBER($C75)), $C75, $E75) * 10, 3)) | AB75: =IF(Meeuwen2!AB18="", "", ROUND(Meeuwen2!AB18 / IF(AND(COUNT(Meeuwen2!$C18:$O18,Meeuwen2!$U18:AB18) <= 3, ISNUMBER($C75)), $C75, $E75) * 10, 3)) | ... AG75: =IF(Meeuwen2!AG18="", "", ROUND(Meeuwen2!AG18 / IF(AND(COUNT(Meeuwen2!$C18:$O18,Meeuwen2!$U18:AG18) <= 3, ISNUMBER($C75)), $C75, $E75) * 10, 3))
F76: =B60 -> MEEUWEN 2 | H76: =IF(SUM(H61:H75)=0, "", SUM(H61:H75)) -> 51.613 | I76: =IF(SUM(I61:I75)=0, "", SUM(I61:I75)) -> 62.65 | J76: =IF(SUM(J61:J75)=0, "", SUM(J61:J75)) -> 59.298 | K76: =IF(SUM(K61:K75)=0, "", SUM(K61:K75)) -> 65.611 | L76: =IF(SUM(L61:L75)=0, "", SUM(L61:L75)) -> 53.45 | M76: =IF(SUM(M61:M75)=0, "", SUM(M61:M75)) -> 62.149 | N76: =IF(SUM(N61:N75)=0, "", SUM(N61:N75)) -> 47.399 | O76: =IF(SUM(O61:O75)=0, "", SUM(O61:O75)) -> 52.375 | ... AG76: =IF(SUM(AG61:AG75)=0, "", SUM(AG61:AG75))
B77: =ROWS(B61:B75) -> 15 | F77: =SUM(F61:F75) -> 454.545 | G77: =B60 -> MEEUWEN 2 | H77: =IF(SUM(H61:H75)=0, "", SUM(H61:H75)) -> 51.613 | I77: =IF(I76="", "", ROUND(SUM($H76:I76), 3)) -> 114.263 | J77: =IF(J76="", "", ROUND(SUM($H76:J76), 3)) -> 173.561 | K77: =IF(K76="", "", ROUND(SUM($H76:K76), 3)) -> 239.172 | L77: =IF(L76="", "", ROUND(SUM($H76:L76), 3)) -> 292.622 | M77: =IF(M76="", "", ROUND(SUM($H76:M76), 3)) -> 354.771 | N77: =IF(N76="", "", ROUND(SUM($H76:N76), 3)) -> 402.17 | O77: =IF(O76="", "", ROUND(SUM($H76:O76), 3)) -> 454.545 | P77: =IF(P76="", "", ROUND(SUM($H76:P76), 3)) | ... AG77: =IF(AG76="", "", ROUND(SUM($H76:AG76), 3))
B79: MOLENHEIKE | H79: 1 | I79: 2 | J79: 3 | K79: 4 | L79: 5 | M79: 6 | N79: 7 | O79: 8 | P79: 9 | Q79: 10 | R79: 11 | S79: 12 | T79: 13 | U79: 14 | V79: 15 | W79: 16 | X79: 17 | Y79: 18 | Z79: 19 | AA79: 20 | AB79: 21 | AC79: 22 | AD79: 23 | AE79: 24 | AF79: 25 | AG79: 26
A80: =IF(Molenheike!AM4=0, "", Molenheike!AM4) -> 4 | B80: =Molenheike!A4 -> Brauns Martin | C80: =IFERROR(VALUE(MID($B80, SEARCH("[NS ", $B80)+4, 2)), "") | D80: =Molenheike!B4 -> 34 | E80: =Molenheike!T4 -> 34 | F80: =IF(Molenheike!AL4=0," ",SUM(H80:AG80)) -> 36.764 | H80: =IF(Molenheike!C4="", "", ROUND(Molenheike!C4 / IF(AND(COUNT(Molenheike!$C4:C4) <= 3, ISNUMBER($C80)), $C80, $D80) * 10, 3)) | I80: =IF(Molenheike!D4="", "", ROUND(Molenheike!D4 / IF(AND(COUNT(Molenheike!$C4:D4) <= 3, ISNUMBER($C80)), $C80, $D80) * 10, 3)) | J80: =IF(Molenheike!E4="", "", ROUND(Molenheike!E4 / IF(AND(COUNT(Molenheike!$C4:E4) <= 3, ISNUMBER($C80)), $C80, $D80) * 10, 3)) -> 8.529 | K80: =IF(Molenheike!F4="", "", ROUND(Molenheike!F4 / IF(AND(COUNT(Molenheike!$C4:F4) <= 3, ISNUMBER($C80)), $C80, $D80) * 10, 3)) -> 6.176 | L80: =IF(Molenheike!G4="", "", ROUND(Molenheike!G4 / IF(AND(COUNT(Molenheike!$C4:G4) <= 3, ISNUMBER($C80)), $C80, $D80) * 10, 3)) | M80: =IF(Molenheike!H4="", "", ROUND(Molenheike!H4 / IF(AND(COUNT(Molenheike!$C4:H4) <= 3, ISNUMBER($C80)), $C80, $D80) * 10, 3)) | N80: =IF(Molenheike!I4="", "", ROUND(Molenheike!I4 / IF(AND(COUNT(Molenheike!$C4:I4) <= 3, ISNUMBER($C80)), $C80, $D80) * 10, 3)) -> 12.353 | O80: =IF(Molenheike!J4="", "", ROUND(Molenheike!J4 / IF(AND(COUNT(Molenheike!$C4:J4) <= 3, ISNUMBER($C80)), $C80, $D80) * 10, 3)) -> 9.706 | ... T80: =IF(Molenheike!O4="", "", ROUND(Molenheike!O4 / IF(AND(COUNT(Molenheike!$C4:O4) <= 3, ISNUMBER($C80)), $C80, $D80) * 10, 3)) | U80: =IF(Molenheike!U4="", "", ROUND(Molenheike!U4 / IF(AND(COUNT(Molenheike!$C4:$O4,Molenheike!$U4:U4) <= 3, ISNUMBER($C80)), $C80, $E80) * 10, 3)) | V80: =IF(Molenheike!V4="", "", ROUND(Molenheike!V4 / IF(AND(COUNT(Molenheike!$C4:$O4,Molenheike!$U4:V4) <= 3, ISNUMBER($C80)), $C80, $E80) * 10, 3)) | W80: =IF(Molenheike!W4="", "", ROUND(Molenheike!W4 / IF(AND(COUNT(Molenheike!$C4:$O4,Molenheike!$U4:W4) <= 3, ISNUMBER($C80)), $C80, $E80) * 10, 3)) | X80: =IF(Molenheike!X4="", "", ROUND(Molenheike!X4 / IF(AND(COUNT(Molenheike!$C4:$O4,Molenheike!$U4:X4) <= 3, ISNUMBER($C80)), $C80, $E80) * 10, 3)) | Y80: =IF(Molenheike!Y4="", "", ROUND(Molenheike!Y4 / IF(AND(COUNT(Molenheike!$C4:$O4,Molenheike!$U4:Y4) <= 3, ISNUMBER($C80)), $C80, $E80) * 10, 3)) | Z80: =IF(Molenheike!Z4="", "", ROUND(Molenheike!Z4 / IF(AND(COUNT(Molenheike!$C4:$O4,Molenheike!$U4:Z4) <= 3, ISNUMBER($C80)), $C80, $E80) * 10, 3)) | AA80: =IF(Molenheike!AA4="", "", ROUND(Molenheike!AA4 / IF(AND(COUNT(Molenheike!$C4:$O4,Molenheike!$U4:AA4) <= 3, ISNUMBER($C80)), $C80, $E80) * 10, 3)) | AB80: =IF(Molenheike!AB4="", "", ROUND(Molenheike!AB4 / IF(AND(COUNT(Molenheike!$C4:$O4,Molenheike!$U4:AB4) <= 3, ISNUMBER($C80)), $C80, $E80) * 10, 3)) | ... AG80: =IF(Molenheike!AG4="", "", ROUND(Molenheike!AG4 / IF(AND(COUNT(Molenheike!$C4:$O4,Molenheike!$U4:AG4) <= 3, ISNUMBER($C80)), $C80, $E80) * 10, 3))
A81: =IF(Molenheike!AM5=0, "", Molenheike!AM5) -> 5 | B81: =Molenheike!A5 -> Brosens Luc | C81: =IFERROR(VALUE(MID($B81, SEARCH("[NS ", $B81)+4, 2)), "") | D81: =Molenheike!B5 -> 56 | E81: =Molenheike!T5 -> 56 | F81: =IF(Molenheike!AL5=0," ",SUM(H81:AG81)) -> 42.857 | H81: =IF(Molenheike!C5="", "", ROUND(Molenheike!C5 / IF(AND(COUNT(Molenheike!$C5:C5) <= 3, ISNUMBER($C81)), $C81, $D81) * 10, 3)) | I81: =IF(Molenheike!D5="", "", ROUND(Molenheike!D5 / IF(AND(COUNT(Molenheike!$C5:D5) <= 3, ISNUMBER($C81)), $C81, $D81) * 10, 3)) -> 8.571 | J81: =IF(Molenheike!E5="", "", ROUND(Molenheike!E5 / IF(AND(COUNT(Molenheike!$C5:E5) <= 3, ISNUMBER($C81)), $C81, $D81) * 10, 3)) | K81: =IF(Molenheike!F5="", "", ROUND(Molenheike!F5 / IF(AND(COUNT(Molenheike!$C5:F5) <= 3, ISNUMBER($C81)), $C81, $D81) * 10, 3)) -> 9.107 | L81: =IF(Molenheike!G5="", "", ROUND(Molenheike!G5 / IF(AND(COUNT(Molenheike!$C5:G5) <= 3, ISNUMBER($C81)), $C81, $D81) * 10, 3)) -> 7.143 | M81: =IF(Molenheike!H5="", "", ROUND(Molenheike!H5 / IF(AND(COUNT(Molenheike!$C5:H5) <= 3, ISNUMBER($C81)), $C81, $D81) * 10, 3)) -> 9.643 | N81: =IF(Molenheike!I5="", "", ROUND(Molenheike!I5 / IF(AND(COUNT(Molenheike!$C5:I5) <= 3, ISNUMBER($C81)), $C81, $D81) * 10, 3)) -> 8.393 | O81: =IF(Molenheike!J5="", "", ROUND(Molenheike!J5 / IF(AND(COUNT(Molenheike!$C5:J5) <= 3, ISNUMBER($C81)), $C81, $D81) * 10, 3)) | ... T81: =IF(Molenheike!O5="", "", ROUND(Molenheike!O5 / IF(AND(COUNT(Molenheike!$C5:O5) <= 3, ISNUMBER($C81)), $C81, $D81) * 10, 3)) | U81: =IF(Molenheike!U5="", "", ROUND(Molenheike!U5 / IF(AND(COUNT(Molenheike!$C5:$O5,Molenheike!$U5:U5) <= 3, ISNUMBER($C81)), $C81, $E81) * 10, 3)) | V81: =IF(Molenheike!V5="", "", ROUND(Molenheike!V5 / IF(AND(COUNT(Molenheike!$C5:$O5,Molenheike!$U5:V5) <= 3, ISNUMBER($C81)), $C81, $E81) * 10, 3)) | W81: =IF(Molenheike!W5="", "", ROUND(Molenheike!W5 / IF(AND(COUNT(Molenheike!$C5:$O5,Molenheike!$U5:W5) <= 3, ISNUMBER($C81)), $C81, $E81) * 10, 3)) | X81: =IF(Molenheike!X5="", "", ROUND(Molenheike!X5 / IF(AND(COUNT(Molenheike!$C5:$O5,Molenheike!$U5:X5) <= 3, ISNUMBER($C81)), $C81, $E81) * 10, 3)) | Y81: =IF(Molenheike!Y5="", "", ROUND(Molenheike!Y5 / IF(AND(COUNT(Molenheike!$C5:$O5,Molenheike!$U5:Y5) <= 3, ISNUMBER($C81)), $C81, $E81) * 10, 3)) | Z81: =IF(Molenheike!Z5="", "", ROUND(Molenheike!Z5 / IF(AND(COUNT(Molenheike!$C5:$O5,Molenheike!$U5:Z5) <= 3, ISNUMBER($C81)), $C81, $E81) * 10, 3)) | AA81: =IF(Molenheike!AA5="", "", ROUND(Molenheike!AA5 / IF(AND(COUNT(Molenheike!$C5:$O5,Molenheike!$U5:AA5) <= 3, ISNUMBER($C81)), $C81, $E81) * 10, 3)) | AB81: =IF(Molenheike!AB5="", "", ROUND(Molenheike!AB5 / IF(AND(COUNT(Molenheike!$C5:$O5,Molenheike!$U5:AB5) <= 3, ISNUMBER($C81)), $C81, $E81) * 10, 3)) | ... AG81: =IF(Molenheike!AG5="", "", ROUND(Molenheike!AG5 / IF(AND(COUNT(Molenheike!$C5:$O5,Molenheike!$U5:AG5) <= 3, ISNUMBER($C81)), $C81, $E81) * 10, 3))
A82: =IF(Molenheike!AM6=0, "", Molenheike!AM6) -> 6 | B82: =Molenheike!A6 -> Dhooghe Jan | C82: =IFERROR(VALUE(MID($B82, SEARCH("[NS ", $B82)+4, 2)), "") | D82: =Molenheike!B6 -> 26 | E82: =Molenheike!T6 -> 26 | F82: =IF(Molenheike!AL6=0," ",SUM(H82:AG82)) -> 47.307 | H82: =IF(Molenheike!C6="", "", ROUND(Molenheike!C6 / IF(AND(COUNT(Molenheike!$C6:C6) <= 3, ISNUMBER($C82)), $C82, $D82) * 10, 3)) -> 5.769 | I82: =IF(Molenheike!D6="", "", ROUND(Molenheike!D6 / IF(AND(COUNT(Molenheike!$C6:D6) <= 3, ISNUMBER($C82)), $C82, $D82) * 10, 3)) -> 8.846 | J82: =IF(Molenheike!E6="", "", ROUND(Molenheike!E6 / IF(AND(COUNT(Molenheike!$C6:E6) <= 3, ISNUMBER($C82)), $C82, $D82) * 10, 3)) -> 10.769 | K82: =IF(Molenheike!F6="", "", ROUND(Molenheike!F6 / IF(AND(COUNT(Molenheike!$C6:F6) <= 3, ISNUMBER($C82)), $C82, $D82) * 10, 3)) | L82: =IF(Molenheike!G6="", "", ROUND(Molenheike!G6 / IF(AND(COUNT(Molenheike!$C6:G6) <= 3, ISNUMBER($C82)), $C82, $D82) * 10, 3)) -> 6.538 | M82: =IF(Molenheike!H6="", "", ROUND(Molenheike!H6 / IF(AND(COUNT(Molenheike!$C6:H6) <= 3, ISNUMBER($C82)), $C82, $D82) * 10, 3)) -> 10.385 | N82: =IF(Molenheike!I6="", "", ROUND(Molenheike!I6 / IF(AND(COUNT(Molenheike!$C6:I6) <= 3, ISNUMBER($C82)), $C82, $D82) * 10, 3)) -> 5 | O82: =IF(Molenheike!J6="", "", ROUND(Molenheike!J6 / IF(AND(COUNT(Molenheike!$C6:J6) <= 3, ISNUMBER($C82)), $C82, $D82) * 10, 3)) | ... T82: =IF(Molenheike!O6="", "", ROUND(Molenheike!O6 / IF(AND(COUNT(Molenheike!$C6:O6) <= 3, ISNUMBER($C82)), $C82, $D82) * 10, 3)) | U82: =IF(Molenheike!U6="", "", ROUND(Molenheike!U6 / IF(AND(COUNT(Molenheike!$C6:$O6,Molenheike!$U6:U6) <= 3, ISNUMBER($C82)), $C82, $E82) * 10, 3)) | V82: =IF(Molenheike!V6="", "", ROUND(Molenheike!V6 / IF(AND(COUNT(Molenheike!$C6:$O6,Molenheike!$U6:V6) <= 3, ISNUMBER($C82)), $C82, $E82) * 10, 3)) | W82: =IF(Molenheike!W6="", "", ROUND(Molenheike!W6 / IF(AND(COUNT(Molenheike!$C6:$O6,Molenheike!$U6:W6) <= 3, ISNUMBER($C82)), $C82, $E82) * 10, 3)) | X82: =IF(Molenheike!X6="", "", ROUND(Molenheike!X6 / IF(AND(COUNT(Molenheike!$C6:$O6,Molenheike!$U6:X6) <= 3, ISNUMBER($C82)), $C82, $E82) * 10, 3)) | Y82: =IF(Molenheike!Y6="", "", ROUND(Molenheike!Y6 / IF(AND(COUNT(Molenheike!$C6:$O6,Molenheike!$U6:Y6) <= 3, ISNUMBER($C82)), $C82, $E82) * 10, 3)) | Z82: =IF(Molenheike!Z6="", "", ROUND(Molenheike!Z6 / IF(AND(COUNT(Molenheike!$C6:$O6,Molenheike!$U6:Z6) <= 3, ISNUMBER($C82)), $C82, $E82) * 10, 3)) | AA82: =IF(Molenheike!AA6="", "", ROUND(Molenheike!AA6 / IF(AND(COUNT(Molenheike!$C6:$O6,Molenheike!$U6:AA6) <= 3, ISNUMBER($C82)), $C82, $E82) * 10, 3)) | AB82: =IF(Molenheike!AB6="", "", ROUND(Molenheike!AB6 / IF(AND(COUNT(Molenheike!$C6:$O6,Molenheike!$U6:AB6) <= 3, ISNUMBER($C82)), $C82, $E82) * 10, 3)) | ... AG82: =IF(Molenheike!AG6="", "", ROUND(Molenheike!AG6 / IF(AND(COUNT(Molenheike!$C6:$O6,Molenheike!$U6:AG6) <= 3, ISNUMBER($C82)), $C82, $E82) * 10, 3))
A83: =IF(Molenheike!AM7=0, "", Molenheike!AM7) -> 5 | B83: =Molenheike!A7 -> Keuppens Marc | C83: =IFERROR(VALUE(MID($B83, SEARCH("[NS ", $B83)+4, 2)), "") | D83: =Molenheike!B7 -> 35 | E83: =Molenheike!T7 -> 35 | F83: =IF(Molenheike!AL7=0," ",SUM(H83:AG83)) -> 39.142 | H83: =IF(Molenheike!C7="", "", ROUND(Molenheike!C7 / IF(AND(COUNT(Molenheike!$C7:C7) <= 3, ISNUMBER($C83)), $C83, $D83) * 10, 3)) -> 8.857 | I83: =IF(Molenheike!D7="", "", ROUND(Molenheike!D7 / IF(AND(COUNT(Molenheike!$C7:D7) <= 3, ISNUMBER($C83)), $C83, $D83) * 10, 3)) | J83: =IF(Molenheike!E7="", "", ROUND(Molenheike!E7 / IF(AND(COUNT(Molenheike!$C7:E7) <= 3, ISNUMBER($C83)), $C83, $D83) * 10, 3)) -> 7.714 | K83: =IF(Molenheike!F7="", "", ROUND(Molenheike!F7 / IF(AND(COUNT(Molenheike!$C7:F7) <= 3, ISNUMBER($C83)), $C83, $D83) * 10, 3)) -> 9.143 | L83: =IF(Molenheike!G7="", "", ROUND(Molenheike!G7 / IF(AND(COUNT(Molenheike!$C7:G7) <= 3, ISNUMBER($C83)), $C83, $D83) * 10, 3)) -> 5.714 | M83: =IF(Molenheike!H7="", "", ROUND(Molenheike!H7 / IF(AND(COUNT(Molenheike!$C7:H7) <= 3, ISNUMBER($C83)), $C83, $D83) * 10, 3)) | N83: =IF(Molenheike!I7="", "", ROUND(Molenheike!I7 / IF(AND(COUNT(Molenheike!$C7:I7) <= 3, ISNUMBER($C83)), $C83, $D83) * 10, 3)) -> 7.714 | O83: =IF(Molenheike!J7="", "", ROUND(Molenheike!J7 / IF(AND(COUNT(Molenheike!$C7:J7) <= 3, ISNUMBER($C83)), $C83, $D83) * 10, 3)) | ... T83: =IF(Molenheike!O7="", "", ROUND(Molenheike!O7 / IF(AND(COUNT(Molenheike!$C7:O7) <= 3, ISNUMBER($C83)), $C83, $D83) * 10, 3)) | U83: =IF(Molenheike!U7="", "", ROUND(Molenheike!U7 / IF(AND(COUNT(Molenheike!$C7:$O7,Molenheike!$U7:U7) <= 3, ISNUMBER($C83)), $C83, $E83) * 10, 3)) | V83: =IF(Molenheike!V7="", "", ROUND(Molenheike!V7 / IF(AND(COUNT(Molenheike!$C7:$O7,Molenheike!$U7:V7) <= 3, ISNUMBER($C83)), $C83, $E83) * 10, 3)) | W83: =IF(Molenheike!W7="", "", ROUND(Molenheike!W7 / IF(AND(COUNT(Molenheike!$C7:$O7,Molenheike!$U7:W7) <= 3, ISNUMBER($C83)), $C83, $E83) * 10, 3)) | X83: =IF(Molenheike!X7="", "", ROUND(Molenheike!X7 / IF(AND(COUNT(Molenheike!$C7:$O7,Molenheike!$U7:X7) <= 3, ISNUMBER($C83)), $C83, $E83) * 10, 3)) | Y83: =IF(Molenheike!Y7="", "", ROUND(Molenheike!Y7 / IF(AND(COUNT(Molenheike!$C7:$O7,Molenheike!$U7:Y7) <= 3, ISNUMBER($C83)), $C83, $E83) * 10, 3)) | Z83: =IF(Molenheike!Z7="", "", ROUND(Molenheike!Z7 / IF(AND(COUNT(Molenheike!$C7:$O7,Molenheike!$U7:Z7) <= 3, ISNUMBER($C83)), $C83, $E83) * 10, 3)) | AA83: =IF(Molenheike!AA7="", "", ROUND(Molenheike!AA7 / IF(AND(COUNT(Molenheike!$C7:$O7,Molenheike!$U7:AA7) <= 3, ISNUMBER($C83)), $C83, $E83) * 10, 3)) | AB83: =IF(Molenheike!AB7="", "", ROUND(Molenheike!AB7 / IF(AND(COUNT(Molenheike!$C7:$O7,Molenheike!$U7:AB7) <= 3, ISNUMBER($C83)), $C83, $E83) * 10, 3)) | ... AG83: =IF(Molenheike!AG7="", "", ROUND(Molenheike!AG7 / IF(AND(COUNT(Molenheike!$C7:$O7,Molenheike!$U7:AG7) <= 3, ISNUMBER($C83)), $C83, $E83) * 10, 3))
A84: =IF(Molenheike!AM8=0, "", Molenheike!AM8) -> 5 | B84: =Molenheike!A8 -> Neys Jan | C84: =IFERROR(VALUE(MID($B84, SEARCH("[NS ", $B84)+4, 2)), "") | D84: =Molenheike!B8 -> 25 | E84: =Molenheike!T8 -> 25 | F84: =IF(Molenheike!AL8=0," ",SUM(H84:AG84)) -> 49.6 | H84: =IF(Molenheike!C8="", "", ROUND(Molenheike!C8 / IF(AND(COUNT(Molenheike!$C8:C8) <= 3, ISNUMBER($C84)), $C84, $D84) * 10, 3)) -> 11.6 | I84: =IF(Molenheike!D8="", "", ROUND(Molenheike!D8 / IF(AND(COUNT(Molenheike!$C8:D8) <= 3, ISNUMBER($C84)), $C84, $D84) * 10, 3)) -> 10.4 | J84: =IF(Molenheike!E8="", "", ROUND(Molenheike!E8 / IF(AND(COUNT(Molenheike!$C8:E8) <= 3, ISNUMBER($C84)), $C84, $D84) * 10, 3)) -> 12.4 | K84: =IF(Molenheike!F8="", "", ROUND(Molenheike!F8 / IF(AND(COUNT(Molenheike!$C8:F8) <= 3, ISNUMBER($C84)), $C84, $D84) * 10, 3)) | L84: =IF(Molenheike!G8="", "", ROUND(Molenheike!G8 / IF(AND(COUNT(Molenheike!$C8:G8) <= 3, ISNUMBER($C84)), $C84, $D84) * 10, 3)) | M84: =IF(Molenheike!H8="", "", ROUND(Molenheike!H8 / IF(AND(COUNT(Molenheike!$C8:H8) <= 3, ISNUMBER($C84)), $C84, $D84) * 10, 3)) | N84: =IF(Molenheike!I8="", "", ROUND(Molenheike!I8 / IF(AND(COUNT(Molenheike!$C8:I8) <= 3, ISNUMBER($C84)), $C84, $D84) * 10, 3)) -> 7.6 | O84: =IF(Molenheike!J8="", "", ROUND(Molenheike!J8 / IF(AND(COUNT(Molenheike!$C8:J8) <= 3, ISNUMBER($C84)), $C84, $D84) * 10, 3)) -> 7.6 | ... T84: =IF(Molenheike!O8="", "", ROUND(Molenheike!O8 / IF(AND(COUNT(Molenheike!$C8:O8) <= 3, ISNUMBER($C84)), $C84, $D84) * 10, 3)) | U84: =IF(Molenheike!U8="", "", ROUND(Molenheike!U8 / IF(AND(COUNT(Molenheike!$C8:$O8,Molenheike!$U8:U8) <= 3, ISNUMBER($C84)), $C84, $E84) * 10, 3)) | V84: =IF(Molenheike!V8="", "", ROUND(Molenheike!V8 / IF(AND(COUNT(Molenheike!$C8:$O8,Molenheike!$U8:V8) <= 3, ISNUMBER($C84)), $C84, $E84) * 10, 3)) | W84: =IF(Molenheike!W8="", "", ROUND(Molenheike!W8 / IF(AND(COUNT(Molenheike!$C8:$O8,Molenheike!$U8:W8) <= 3, ISNUMBER($C84)), $C84, $E84) * 10, 3)) | X84: =IF(Molenheike!X8="", "", ROUND(Molenheike!X8 / IF(AND(COUNT(Molenheike!$C8:$O8,Molenheike!$U8:X8) <= 3, ISNUMBER($C84)), $C84, $E84) * 10, 3)) | Y84: =IF(Molenheike!Y8="", "", ROUND(Molenheike!Y8 / IF(AND(COUNT(Molenheike!$C8:$O8,Molenheike!$U8:Y8) <= 3, ISNUMBER($C84)), $C84, $E84) * 10, 3)) | Z84: =IF(Molenheike!Z8="", "", ROUND(Molenheike!Z8 / IF(AND(COUNT(Molenheike!$C8:$O8,Molenheike!$U8:Z8) <= 3, ISNUMBER($C84)), $C84, $E84) * 10, 3)) | AA84: =IF(Molenheike!AA8="", "", ROUND(Molenheike!AA8 / IF(AND(COUNT(Molenheike!$C8:$O8,Molenheike!$U8:AA8) <= 3, ISNUMBER($C84)), $C84, $E84) * 10, 3)) | AB84: =IF(Molenheike!AB8="", "", ROUND(Molenheike!AB8 / IF(AND(COUNT(Molenheike!$C8:$O8,Molenheike!$U8:AB8) <= 3, ISNUMBER($C84)), $C84, $E84) * 10, 3)) | ... AG84: =IF(Molenheike!AG8="", "", ROUND(Molenheike!AG8 / IF(AND(COUNT(Molenheike!$C8:$O8,Molenheike!$U8:AG8) <= 3, ISNUMBER($C84)), $C84, $E84) * 10, 3))
