Workbook

Sheet Rangschikking
A1: 0 | B1: Rangschikking 2026 - 2027
F2: Laatst gewijzigd
A3: 2 | B3: België - Nederland | F3: 46302
B4: =IF(A8=14,"EINDSTAND", "TUSSENSTAND" ) -> TUSSENSTAND
N5: CONTROLE T/M RONDE | O5: CONTROLE PER RONDE
A6: Gespeeld | C6: Ploeg | D6: Punten | F6: Caramboles | H6: CLUB-KAMPIOEN | K6: NIEUW GEMIDDELDE | L6: WEDSTRIJDEN GESPEELD | N6: 4 | O6: 4
A8: =COUNTIF(Punten!$H$115:'Punten'!$U$115,">0") -> 4 | B8: =IF(A8>0,"W", " ") -> W | C8: Wildert 1 | D8: =Punten!$F$116 -> 254.491 | F8: =Wildert1!$AA$20 -> 849 | H8: =IFERROR(INDEX(Wildert1!$B$5:$B$19,MATCH(MAX(Wildert1!$AE$5:$AE$19),Wildert1!$AE$5:$AE$19,0)),"") -> Buijk Jan | J8: =IFERROR(MAX(Wildert1!$AE$5:$AE$19),"") -> 129.46429 | K8: =IFERROR(VLOOKUP($H8,Wildert1!$B$5:$AC$19,28,0),"") -> 72.5 | L8: =IFERROR(VLOOKUP($H8,Wildert1!$B$5:$AC$19,27,0),"") -> 2 | N8: =VLOOKUP($C8,Punten!$G$3:$U$154,1+$N$6,0) -> 254.491 | O8: =VLOOKUP($C8,Punten!$F$3:$U$154,2+$O$6,0) -> 72.937
A9: =COUNTIF(Punten!$H$96:'Punten'!$U$96,">0") -> 4 | B9: =IF(A9>0,"W", " ") -> W | C9: Sen. Putte | D9: =Punten!$F$97 -> 247.167 | F9: =Putte!$AA$20 -> 838 | H9: =IFERROR(INDEX(Putte!$B$5:$B$19,MATCH(MAX(Putte!$AE$5:$AE$19),Putte!$AE$5:$AE$19,0)),"") -> De Clerck Ludo [NS 35] | J9: =IFERROR(MAX(Putte!$AE$5:$AE$19),"") -> 144.7619 | K9: =IFERROR(VLOOKUP($H9,Putte!$B$5:$AC$19,28,0),"") -> 50.666667 | L9: =IFERROR(VLOOKUP($H9,Putte!$B$5:$AC$19,27,0),"") -> 3 | N9: =VLOOKUP($C9,Punten!$G$3:$U$154,1+$N$6,0) -> 247.167 | O9: =VLOOKUP($C9,Punten!$F$3:$U$154,2+$O$6,0) -> 61.984
A10: =COUNTIF(Punten!$H$134:'Punten'!$U$134,">0") -> 4 | B10: =IF(A10>0,"W", " ") -> W | C10: Wildert 2 | D10: =Punten!$F$135 -> 240.273 | F10: =Wildert2!$AA$20 -> 850 | H10: =IFERROR(INDEX(Wildert2!$B$5:$B$19,MATCH(MAX(Wildert2!$AE$5:$AE$19),Wildert2!$AE$5:$AE$19,0)),"") -> Van Ginneken Ludo | J10: =IFERROR(MAX(Wildert2!$AE$5:$AE$19),"") -> 112.59259 | K10: =IFERROR(VLOOKUP($H10,Wildert2!$B$5:$AC$19,28,0),"") -> 50.666667 | L10: =IFERROR(VLOOKUP($H10,Wildert2!$B$5:$AC$19,27,0),"") -> 3 | N10: =VLOOKUP($C10,Punten!$G$3:$U$154,1+$N$6,0) -> 240.273 | O10: =VLOOKUP($C10,Punten!$F$3:$U$154,2+$O$6,0) -> 58.108
A11: =COUNTIF(Punten!$H$20:'Punten'!$U$20,">0") -> 4 | B11: =IF(A11>0,"W", " ") -> W | C11: Horendonk | D11: =Punten!$F$20 -> 239.199 | F11: =Horendonk!$AA$20 -> 611 | H11: =IFERROR(INDEX(Horendonk!$B$5:$B$19,MATCH(MAX(Horendonk!$AE$5:$AE$19),Horendonk!$AE$5:$AE$19,0)),"") -> Vergouwen René | J11: =IFERROR(MAX(Horendonk!$AE$5:$AE$19),"") -> 115.55556 | K11: =IFERROR(VLOOKUP($H11,Horendonk!$B$5:$AC$19,28,0),"") -> 34.666667 | L11: =IFERROR(VLOOKUP($H11,Horendonk!$B$5:$AC$19,27,0),"") -> 3 | N11: =VLOOKUP($C11,Punten!$G$3:$U$154,1+$N$6,0) -> 239.199 | O11: =VLOOKUP($C11,Punten!$F$3:$U$154,2+$O$6,0) -> 59.817
A12: =COUNTIF(Punten!$H$57:'Punten'!$U$57,">0") -> 4 | B12: =IF(A12>0,"W", " ") -> W | C12: Kerkuilen | D12: =Punten!$F$58 -> 223.376 | F12: =Kerkuilen!$AA$20 -> 903 | H12: =IFERROR(INDEX(Kerkuilen!$B$5:$B$19,MATCH(MAX(Kerkuilen!$AE$5:$AE$19),Kerkuilen!$AE$5:$AE$19,0)),"") -> Naulaerts Rik | J12: =IFERROR(MAX(Kerkuilen!$AE$5:$AE$19),"") -> 144.56522 | K12: =IFERROR(VLOOKUP($H12,Kerkuilen!$B$5:$AC$19,28,0),"") -> 66.5 | L12: =IFERROR(VLOOKUP($H12,Kerkuilen!$B$5:$AC$19,27,0),"") -> 2 | N12: =VLOOKUP($C12,Punten!$G$3:$U$154,1+$N$6,0) -> 223.376 | O12: =VLOOKUP($C12,Punten!$F$3:$U$154,2+$O$6,0) -> 57.696
A13: =COUNTIF(Punten!$H$76:'Punten'!$U$76,">0") -> 4 | B13: =IF(A13>0,"W", " ") -> W | C13: Oude Glorie | D13: =Punten!$F$77 -> 222.562 | F13: =Oudeglorie!$AA$20 -> 673 | H13: =IFERROR(INDEX(Oudeglorie!$B$5:$B$19,MATCH(MAX(Oudeglorie!$AE$5:$AE$19),Oudeglorie!$AE$5:$AE$19,0)),"") -> Braat Guido | J13: =IFERROR(MAX(Oudeglorie!$AE$5:$AE$19),"") -> 118.18182 | K13: =IFERROR(VLOOKUP($H13,Oudeglorie!$B$5:$AC$19,28,0),"") -> 39 | L13: =IFERROR(VLOOKUP($H13,Oudeglorie!$B$5:$AC$19,27,0),"") -> 2 | N13: =VLOOKUP($C13,Punten!$G$3:$U$154,1+$N$6,0) -> 222.562 | O13: =VLOOKUP($C13,Punten!$F$3:$U$154,2+$O$6,0) -> 56.465
A14: =COUNTIF(Punten!$H$38:'Punten'!$U$38,">0") -> 4 | B14: =IF(A14>0,"W", " ") -> W | C14: Sen. Nispen | D14: =Punten!$F$39 -> 205.518 | F14: =Nispen!$AA$20 -> 455 | H14: =IFERROR(INDEX(Nispen!$B$5:$B$19,MATCH(MAX(Nispen!$AE$5:$AE$19),Nispen!$AE$5:$AE$19,0)),"") -> Uijtdehaag Nico | J14: =IFERROR(MAX(Nispen!$AE$5:$AE$19),"") -> 127.27273 | K14: =IFERROR(VLOOKUP($H14,Nispen!$B$5:$AC$19,28,0),"") -> 28 | L14: =IFERROR(VLOOKUP($H14,Nispen!$B$5:$AC$19,27,0),"") -> 2 | N14: =VLOOKUP($C14,Punten!$G$3:$U$154,1+$N$6,0) -> 205.518 | O14: =VLOOKUP($C14,Punten!$F$3:$U$154,2+$O$6,0) -> 54.542
A15: =COUNTIF(Punten!$H$153:'Punten'!$U$153,">0") -> 4 | B15: =IF(A15>0,"W", " ") -> W | C15: De Spil | D15: =Punten!$F$154 -> 205.498 | F15: =DeSpil!$AA$20 -> 566 | H15: =IFERROR(INDEX(DeSpil!$B$5:$B$19,MATCH(MAX(DeSpil!$AE$5:$AE$19),DeSpil!$AE$5:$AE$19,0)),"") -> Stok Adrie | J15: =IFERROR(MAX(DeSpil!$AE$5:$AE$19),"") -> 109.72222 | K15: =IFERROR(VLOOKUP($H15,DeSpil!$B$5:$AC$19,28,0),"") -> 39.5 | L15: =IFERROR(VLOOKUP($H15,DeSpil!$B$5:$AC$19,27,0),"") -> 2 | N15: =VLOOKUP($C15,Punten!$G$3:$U$154,1+$N$6,0) -> 205.498 | O15: =VLOOKUP($C15,Punten!$F$3:$U$154,2+$O$6,0) -> 46.908
C21: Uitslagen en evoluties zijn wekelijks te volgen op:
C22: https://blog.seniorennet.be/GSE_Essen

Sheet Punten
A1: Aantal | F1: Totaal
A2: wedstrijden | F2: punten
B3: HORENDONK | H3: 1 | I3: 2 | J3: 3 | K3: 4 | L3: 5 | M3: 6 | N3: 7 | O3: 8 | P3: 9 | Q3: 10 | R3: 11 | S3: 12 | T3: 13 | U3: 14
A4: =IF(Horendonk!AB5=0, "", Horendonk!AB5) -> 3 | B4: =Horendonk!$B5 -> Ansems Ferre | C4: =IFERROR(VALUE(MID($B4, SEARCH("[NS ", $B4)+4, 2)), "") | D4: =Horendonk!C5 -> 23 | E4: =Horendonk!O5 -> 23 | F4: =IF(Horendonk!$AA5=0," ",SUM(H4:U4)) -> 30 | H4: =IF(Horendonk!D5="", "", ROUND(Horendonk!D5 / IF(AND(COUNT(Horendonk!$D5:D5) <= 3, ISNUMBER($C4)), $C4, $D4) * 10, 3)) -> 10.435 | I4: =IF(Horendonk!E5="", "", ROUND(Horendonk!E5 / IF(AND(COUNT(Horendonk!$D5:E5) <= 3, ISNUMBER($C4)), $C4, $D4) * 10, 3)) -> 8.261 | J4: =IF(Horendonk!F5="", "", ROUND(Horendonk!F5 / IF(AND(COUNT(Horendonk!$D5:F5) <= 3, ISNUMBER($C4)), $C4, $D4) * 10, 3)) | K4: =IF(Horendonk!G5="", "", ROUND(Horendonk!G5 / IF(AND(COUNT(Horendonk!$D5:G5) <= 3, ISNUMBER($C4)), $C4, $D4) * 10, 3)) -> 11.304 | L4: =IF(Horendonk!H5="", "", ROUND(Horendonk!H5 / IF(AND(COUNT(Horendonk!$D5:H5) <= 3, ISNUMBER($C4)), $C4, $D4) * 10, 3)) | M4: =IF(Horendonk!I5="", "", ROUND(Horendonk!I5 / IF(AND(COUNT(Horendonk!$D5:I5) <= 3, ISNUMBER($C4)), $C4, $D4) * 10, 3)) | N4: =IF(Horendonk!J5="", "", ROUND(Horendonk!J5 / IF(AND(COUNT(Horendonk!$D5:J5) <= 3, ISNUMBER($C4)), $C4, $D4) * 10, 3)) | O4: =IF(Horendonk!P5="", "", ROUND(Horendonk!P5 / IF(AND(COUNT(Horendonk!$D5:$J5,Horendonk!$P5:P5) <= 3, ISNUMBER($C4)), $C4, $E4) * 10, 3)) | P4: =IF(Horendonk!Q5="", "", ROUND(Horendonk!Q5 / IF(AND(COUNT(Horendonk!$D5:$J5,Horendonk!$P5:Q5) <= 3, ISNUMBER($C4)), $C4, $E4) * 10, 3)) | Q4: =IF(Horendonk!R5="", "", ROUND(Horendonk!R5 / IF(AND(COUNT(Horendonk!$D5:$J5,Horendonk!$P5:R5) <= 3, ISNUMBER($C4)), $C4, $E4) * 10, 3)) | R4: =IF(Horendonk!S5="", "", ROUND(Horendonk!S5 / IF(AND(COUNT(Horendonk!$D5:$J5,Horendonk!$P5:S5) <= 3, ISNUMBER($C4)), $C4, $E4) * 10, 3)) | S4: =IF(Horendonk!T5="", "", ROUND(Horendonk!T5 / IF(AND(COUNT(Horendonk!$D5:$J5,Horendonk!$P5:T5) <= 3, ISNUMBER($C4)), $C4, $E4) * 10, 3)) | T4: =IF(Horendonk!U5="", "", ROUND(Horendonk!U5 / IF(AND(COUNT(Horendonk!$D5:$J5,Horendonk!$P5:U5) <= 3, ISNUMBER($C4)), $C4, $E4) * 10, 3)) | U4: =IF(Horendonk!V5="", "", ROUND(Horendonk!V5 / IF(AND(COUNT(Horendonk!$D5:$J5,Horendonk!$P5:V5) <= 3, ISNUMBER($C4)), $C4, $E4) * 10, 3))
A5: =IF(Horendonk!AB6=0, "", Horendonk!AB6) | B5: =Horendonk!$B6 -> Arnouts Louis | C5: =IFERROR(VALUE(MID($B5, SEARCH("[NS ", $B5)+4, 2)), "") | D5: =Horendonk!C6 -> 47 | E5: =Horendonk!O6 -> 47 | F5: =IF(Horendonk!$AA6=0," ",SUM(H5:U5)) | H5: =IF(Horendonk!D6="", "", ROUND(Horendonk!D6 / IF(AND(COUNT(Horendonk!$D6:D6) <= 3, ISNUMBER($C5)), $C5, $D5) * 10, 3)) | I5: =IF(Horendonk!E6="", "", ROUND(Horendonk!E6 / IF(AND(COUNT(Horendonk!$D6:E6) <= 3, ISNUMBER($C5)), $C5, $D5) * 10, 3)) | J5: =IF(Horendonk!F6="", "", ROUND(Horendonk!F6 / IF(AND(COUNT(Horendonk!$D6:F6) <= 3, ISNUMBER($C5)), $C5, $D5) * 10, 3)) | K5: =IF(Horendonk!G6="", "", ROUND(Horendonk!G6 / IF(AND(COUNT(Horendonk!$D6:G6) <= 3, ISNUMBER($C5)), $C5, $D5) * 10, 3)) | L5: =IF(Horendonk!H6="", "", ROUND(Horendonk!H6 / IF(AND(COUNT(Horendonk!$D6:H6) <= 3, ISNUMBER($C5)), $C5, $D5) * 10, 3)) | M5: =IF(Horendonk!I6="", "", ROUND(Horendonk!I6 / IF(AND(COUNT(Horendonk!$D6:I6) <= 3, ISNUMBER($C5)), $C5, $D5) * 10, 3)) | N5: =IF(Horendonk!J6="", "", ROUND(Horendonk!J6 / IF(AND(COUNT(Horendonk!$D6:J6) <= 3, ISNUMBER($C5)), $C5, $D5) * 10, 3)) | O5: =IF(Horendonk!P6="", "", ROUND(Horendonk!P6 / IF(AND(COUNT(Horendonk!$D6:$J6,Horendonk!$P6:P6) <= 3, ISNUMBER($C5)), $C5, $E5) * 10, 3)) | P5: =IF(Horendonk!Q6="", "", ROUND(Horendonk!Q6 / IF(AND(COUNT(Horendonk!$D6:$J6,Horendonk!$P6:Q6) <= 3, ISNUMBER($C5)), $C5, $E5) * 10, 3)) | Q5: =IF(Horendonk!R6="", "", ROUND(Horendonk!R6 / IF(AND(COUNT(Horendonk!$D6:$J6,Horendonk!$P6:R6) <= 3, ISNUMBER($C5)), $C5, $E5) * 10, 3)) | R5: =IF(Horendonk!S6="", "", ROUND(Horendonk!S6 / IF(AND(COUNT(Horendonk!$D6:$J6,Horendonk!$P6:S6) <= 3, ISNUMBER($C5)), $C5, $E5) * 10, 3)) | S5: =IF(Horendonk!T6="", "", ROUND(Horendonk!T6 / IF(AND(COUNT(Horendonk!$D6:$J6,Horendonk!$P6:T6) <= 3, ISNUMBER($C5)), $C5, $E5) * 10, 3)) | T5: =IF(Horendonk!U6="", "", ROUND(Horendonk!U6 / IF(AND(COUNT(Horendonk!$D6:$J6,Horendonk!$P6:U6) <= 3, ISNUMBER($C5)), $C5, $E5) * 10, 3)) | U5: =IF(Horendonk!V6="", "", ROUND(Horendonk!V6 / IF(AND(COUNT(Horendonk!$D6:$J6,Horendonk!$P6:V6) <= 3, ISNUMBER($C5)), $C5, $E5) * 10, 3))
A6: =IF(Horendonk!AB7=0, "", Horendonk!AB7) -> 1 | B6: =Horendonk!$B7 -> De Backer Jef | C6: =IFERROR(VALUE(MID($B6, SEARCH("[NS ", $B6)+4, 2)), "") | D6: =Horendonk!C7 -> 23 | E6: =Horendonk!O7 -> 23 | F6: =IF(Horendonk!$AA7=0," ",SUM(H6:U6)) -> 10.435 | H6: =IF(Horendonk!D7="", "", ROUND(Horendonk!D7 / IF(AND(COUNT(Horendonk!$D7:D7) <= 3, ISNUMBER($C6)), $C6, $D6) * 10, 3)) -> 10.435 | I6: =IF(Horendonk!E7="", "", ROUND(Horendonk!E7 / IF(AND(COUNT(Horendonk!$D7:E7) <= 3, ISNUMBER($C6)), $C6, $D6) * 10, 3)) | J6: =IF(Horendonk!F7="", "", ROUND(Horendonk!F7 / IF(AND(COUNT(Horendonk!$D7:F7) <= 3, ISNUMBER($C6)), $C6, $D6) * 10, 3)) | K6: =IF(Horendonk!G7="", "", ROUND(Horendonk!G7 / IF(AND(COUNT(Horendonk!$D7:G7) <= 3, ISNUMBER($C6)), $C6, $D6) * 10, 3)) | L6: =IF(Horendonk!H7="", "", ROUND(Horendonk!H7 / IF(AND(COUNT(Horendonk!$D7:H7) <= 3, ISNUMBER($C6)), $C6, $D6) * 10, 3)) | M6: =IF(Horendonk!I7="", "", ROUND(Horendonk!I7 / IF(AND(COUNT(Horendonk!$D7:I7) <= 3, ISNUMBER($C6)), $C6, $D6) * 10, 3)) | N6: =IF(Horendonk!J7="", "", ROUND(Horendonk!J7 / IF(AND(COUNT(Horendonk!$D7:J7) <= 3, ISNUMBER($C6)), $C6, $D6) * 10, 3)) | O6: =IF(Horendonk!P7="", "", ROUND(Horendonk!P7 / IF(AND(COUNT(Horendonk!$D7:$J7,Horendonk!$P7:P7) <= 3, ISNUMBER($C6)), $C6, $E6) * 10, 3)) | P6: =IF(Horendonk!Q7="", "", ROUND(Horendonk!Q7 / IF(AND(COUNT(Horendonk!$D7:$J7,Horendonk!$P7:Q7) <= 3, ISNUMBER($C6)), $C6, $E6) * 10, 3)) | Q6: =IF(Horendonk!R7="", "", ROUND(Horendonk!R7 / IF(AND(COUNT(Horendonk!$D7:$J7,Horendonk!$P7:R7) <= 3, ISNUMBER($C6)), $C6, $E6) * 10, 3)) | R6: =IF(Horendonk!S7="", "", ROUND(Horendonk!S7 / IF(AND(COUNT(Horendonk!$D7:$J7,Horendonk!$P7:S7) <= 3, ISNUMBER($C6)), $C6, $E6) * 10, 3)) | S6: =IF(Horendonk!T7="", "", ROUND(Horendonk!T7 / IF(AND(COUNT(Horendonk!$D7:$J7,Horendonk!$P7:T7) <= 3, ISNUMBER($C6)), $C6, $E6) * 10, 3)) | T6: =IF(Horendonk!U7="", "", ROUND(Horendonk!U7 / IF(AND(COUNT(Horendonk!$D7:$J7,Horendonk!$P7:U7) <= 3, ISNUMBER($C6)), $C6, $E6) * 10, 3)) | U6: =IF(Horendonk!V7="", "", ROUND(Horendonk!V7 / IF(AND(COUNT(Horendonk!$D7:$J7,Horendonk!$P7:V7) <= 3, ISNUMBER($C6)), $C6, $E6) * 10, 3))
A7: =IF(Horendonk!AB8=0, "", Horendonk!AB8) -> 3 | B7: =Horendonk!$B8 -> Herreygers Remy | C7: =IFERROR(VALUE(MID($B7, SEARCH("[NS ", $B7)+4, 2)), "") | D7: =Horendonk!C8 -> 39 | E7: =Horendonk!O8 -> 39 | F7: =IF(Horendonk!$AA8=0," ",SUM(H7:U7)) -> 31.026 | H7: =IF(Horendonk!D8="", "", ROUND(Horendonk!D8 / IF(AND(COUNT(Horendonk!$D8:D8) <= 3, ISNUMBER($C7)), $C7, $D7) * 10, 3)) -> 7.436 | I7: =IF(Horendonk!E8="", "", ROUND(Horendonk!E8 / IF(AND(COUNT(Horendonk!$D8:E8) <= 3, ISNUMBER($C7)), $C7, $D7) * 10, 3)) | J7: =IF(Horendonk!F8="", "", ROUND(Horendonk!F8 / IF(AND(COUNT(Horendonk!$D8:F8) <= 3, ISNUMBER($C7)), $C7, $D7) * 10, 3)) -> 11.282 | K7: =IF(Horendonk!G8="", "", ROUND(Horendonk!G8 / IF(AND(COUNT(Horendonk!$D8:G8) <= 3, ISNUMBER($C7)), $C7, $D7) * 10, 3)) -> 12.308 | L7: =IF(Horendonk!H8="", "", ROUND(Horendonk!H8 / IF(AND(COUNT(Horendonk!$D8:H8) <= 3, ISNUMBER($C7)), $C7, $D7) * 10, 3)) | M7: =IF(Horendonk!I8="", "", ROUND(Horendonk!I8 / IF(AND(COUNT(Horendonk!$D8:I8) <= 3, ISNUMBER($C7)), $C7, $D7) * 10, 3)) | N7: =IF(Horendonk!J8="", "", ROUND(Horendonk!J8 / IF(AND(COUNT(Horendonk!$D8:J8) <= 3, ISNUMBER($C7)), $C7, $D7) * 10, 3)) | O7: =IF(Horendonk!P8="", "", ROUND(Horendonk!P8 / IF(AND(COUNT(Horendonk!$D8:$J8,Horendonk!$P8:P8) <= 3, ISNUMBER($C7)), $C7, $E7) * 10, 3)) | P7: =IF(Horendonk!Q8="", "", ROUND(Horendonk!Q8 / IF(AND(COUNT(Horendonk!$D8:$J8,Horendonk!$P8:Q8) <= 3, ISNUMBER($C7)), $C7, $E7) * 10, 3)) | Q7: =IF(Horendonk!R8="", "", ROUND(Horendonk!R8 / IF(AND(COUNT(Horendonk!$D8:$J8,Horendonk!$P8:R8) <= 3, ISNUMBER($C7)), $C7, $E7) * 10, 3)) | R7: =IF(Horendonk!S8="", "", ROUND(Horendonk!S8 / IF(AND(COUNT(Horendonk!$D8:$J8,Horendonk!$P8:S8) <= 3, ISNUMBER($C7)), $C7, $E7) * 10, 3)) | S7: =IF(Horendonk!T8="", "", ROUND(Horendonk!T8 / IF(AND(COUNT(Horendonk!$D8:$J8,Horendonk!$P8:T8) <= 3, ISNUMBER($C7)), $C7, $E7) * 10, 3)) | T7: =IF(Horendonk!U8="", "", ROUND(Horendonk!U8 / IF(AND(COUNT(Horendonk!$D8:$J8,Horendonk!$P8:U8) <= 3, ISNUMBER($C7)), $C7, $E7) * 10, 3)) | U7: =IF(Horendonk!V8="", "", ROUND(Horendonk!V8 / IF(AND(COUNT(Horendonk!$D8:$J8,Horendonk!$P8:V8) <= 3, ISNUMBER($C7)), $C7, $E7) * 10, 3))
A8: =IF(Horendonk!AB9=0, "", Horendonk!AB9) -> 2 | B8: =Horendonk!$B9 -> Maas Guy | C8: =IFERROR(VALUE(MID($B8, SEARCH("[NS ", $B8)+4, 2)), "") | D8: =Horendonk!C9 -> 20 | E8: =Horendonk!O9 -> 20 | F8: =IF(Horendonk!$AA9=0," ",SUM(H8:U8)) -> 17 | H8: =IF(Horendonk!D9="", "", ROUND(Horendonk!D9 / IF(AND(COUNT(Horendonk!$D9:D9) <= 3, ISNUMBER($C8)), $C8, $D8) * 10, 3)) | I8: =IF(Horendonk!E9="", "", ROUND(Horendonk!E9 / IF(AND(COUNT(Horendonk!$D9:E9) <= 3, ISNUMBER($C8)), $C8, $D8) * 10, 3)) -> 9.5 | J8: =IF(Horendonk!F9="", "", ROUND(Horendonk!F9 / IF(AND(COUNT(Horendonk!$D9:F9) <= 3, ISNUMBER($C8)), $C8, $D8) * 10, 3)) -> 7.5 | K8: =IF(Horendonk!G9="", "", ROUND(Horendonk!G9 / IF(AND(COUNT(Horendonk!$D9:G9) <= 3, ISNUMBER($C8)), $C8, $D8) * 10, 3)) | L8: =IF(Horendonk!H9="", "", ROUND(Horendonk!H9 / IF(AND(COUNT(Horendonk!$D9:H9) <= 3, ISNUMBER($C8)), $C8, $D8) * 10, 3)) | M8: =IF(Horendonk!I9="", "", ROUND(Horendonk!I9 / IF(AND(COUNT(Horendonk!$D9:I9) <= 3, ISNUMBER($C8)), $C8, $D8) * 10, 3)) | N8: =IF(Horendonk!J9="", "", ROUND(Horendonk!J9 / IF(AND(COUNT(Horendonk!$D9:J9) <= 3, ISNUMBER($C8)), $C8, $D8) * 10, 3)) | O8: =IF(Horendonk!P9="", "", ROUND(Horendonk!P9 / IF(AND(COUNT(Horendonk!$D9:$J9,Horendonk!$P9:P9) <= 3, ISNUMBER($C8)), $C8, $E8) * 10, 3)) | P8: =IF(Horendonk!Q9="", "", ROUND(Horendonk!Q9 / IF(AND(COUNT(Horendonk!$D9:$J9,Horendonk!$P9:Q9) <= 3, ISNUMBER($C8)), $C8, $E8) * 10, 3)) | Q8: =IF(Horendonk!R9="", "", ROUND(Horendonk!R9 / IF(AND(COUNT(Horendonk!$D9:$J9,Horendonk!$P9:R9) <= 3, ISNUMBER($C8)), $C8, $E8) * 10, 3)) | R8: =IF(Horendonk!S9="", "", ROUND(Horendonk!S9 / IF(AND(COUNT(Horendonk!$D9:$J9,Horendonk!$P9:S9) <= 3, ISNUMBER($C8)), $C8, $E8) * 10, 3)) | S8: =IF(Horendonk!T9="", "", ROUND(Horendonk!T9 / IF(AND(COUNT(Horendonk!$D9:$J9,Horendonk!$P9:T9) <= 3, ISNUMBER($C8)), $C8, $E8) * 10, 3)) | T8: =IF(Horendonk!U9="", "", ROUND(Horendonk!U9 / IF(AND(COUNT(Horendonk!$D9:$J9,Horendonk!$P9:U9) <= 3, ISNUMBER($C8)), $C8, $E8) * 10, 3)) | U8: =IF(Horendonk!V9="", "", ROUND(Horendonk!V9 / IF(AND(COUNT(Horendonk!$D9:$J9,Horendonk!$P9:V9) <= 3, ISNUMBER($C8)), $C8, $E8) * 10, 3))
A9: =IF(Horendonk!AB10=0, "", Horendonk!AB10) -> 3 | B9: =Horendonk!$B10 -> Nelen Johan | C9: =IFERROR(VALUE(MID($B9, SEARCH("[NS ", $B9)+4, 2)), "") | D9: =Horendonk!C10 -> 15 | E9: =Horendonk!O10 -> 15 | F9: =IF(Horendonk!$AA10=0," ",SUM(H9:U9)) -> 29.334 | H9: =IF(Horendonk!D10="", "", ROUND(Horendonk!D10 / IF(AND(COUNT(Horendonk!$D10:D10) <= 3, ISNUMBER($C9)), $C9, $D9) * 10, 3)) -> 4.667 | I9: =IF(Horendonk!E10="", "", ROUND(Horendonk!E10 / IF(AND(COUNT(Horendonk!$D10:E10) <= 3, ISNUMBER($C9)), $C9, $D9) * 10, 3)) -> 16 | J9: =IF(Horendonk!F10="", "", ROUND(Horendonk!F10 / IF(AND(COUNT(Horendonk!$D10:F10) <= 3, ISNUMBER($C9)), $C9, $D9) * 10, 3)) | K9: =IF(Horendonk!G10="", "", ROUND(Horendonk!G10 / IF(AND(COUNT(Horendonk!$D10:G10) <= 3, ISNUMBER($C9)), $C9, $D9) * 10, 3)) -> 8.667 | L9: =IF(Horendonk!H10="", "", ROUND(Horendonk!H10 / IF(AND(COUNT(Horendonk!$D10:H10) <= 3, ISNUMBER($C9)), $C9, $D9) * 10, 3)) | M9: =IF(Horendonk!I10="", "", ROUND(Horendonk!I10 / IF(AND(COUNT(Horendonk!$D10:I10) <= 3, ISNUMBER($C9)), $C9, $D9) * 10, 3)) | N9: =IF(Horendonk!J10="", "", ROUND(Horendonk!J10 / IF(AND(COUNT(Horendonk!$D10:J10) <= 3, ISNUMBER($C9)), $C9, $D9) * 10, 3)) | O9: =IF(Horendonk!P10="", "", ROUND(Horendonk!P10 / IF(AND(COUNT(Horendonk!$D10:$J10,Horendonk!$P10:P10) <= 3, ISNUMBER($C9)), $C9, $E9) * 10, 3)) | P9: =IF(Horendonk!Q10="", "", ROUND(Horendonk!Q10 / IF(AND(COUNT(Horendonk!$D10:$J10,Horendonk!$P10:Q10) <= 3, ISNUMBER($C9)), $C9, $E9) * 10, 3)) | Q9: =IF(Horendonk!R10="", "", ROUND(Horendonk!R10 / IF(AND(COUNT(Horendonk!$D10:$J10,Horendonk!$P10:R10) <= 3, ISNUMBER($C9)), $C9, $E9) * 10, 3)) | R9: =IF(Horendonk!S10="", "", ROUND(Horendonk!S10 / IF(AND(COUNT(Horendonk!$D10:$J10,Horendonk!$P10:S10) <= 3, ISNUMBER($C9)), $C9, $E9) * 10, 3)) | S9: =IF(Horendonk!T10="", "", ROUND(Horendonk!T10 / IF(AND(COUNT(Horendonk!$D10:$J10,Horendonk!$P10:T10) <= 3, ISNUMBER($C9)), $C9, $E9) * 10, 3)) | T9: =IF(Horendonk!U10="", "", ROUND(Horendonk!U10 / IF(AND(COUNT(Horendonk!$D10:$J10,Horendonk!$P10:U10) <= 3, ISNUMBER($C9)), $C9, $E9) * 10, 3)) | U9: =IF(Horendonk!V10="", "", ROUND(Horendonk!V10 / IF(AND(COUNT(Horendonk!$D10:$J10,Horendonk!$P10:V10) <= 3, ISNUMBER($C9)), $C9, $E9) * 10, 3))
A10: =IF(Horendonk!AB11=0, "", Horendonk!AB11) -> 4 | B10: =Horendonk!$B11 -> Oerlemans Willy | C10: =IFERROR(VALUE(MID($B10, SEARCH("[NS ", $B10)+4, 2)), "") | D10: =Horendonk!C11 -> 26 | E10: =Horendonk!O11 -> 26 | F10: =IF(Horendonk!$AA11=0," ",SUM(H10:U10)) -> 39.615 | H10: =IF(Horendonk!D11="", "", ROUND(Horendonk!D11 / IF(AND(COUNT(Horendonk!$D11:D11) <= 3, ISNUMBER($C10)), $C10, $D10) * 10, 3)) -> 10.769 | I10: =IF(Horendonk!E11="", "", ROUND(Horendonk!E11 / IF(AND(COUNT(Horendonk!$D11:E11) <= 3, ISNUMBER($C10)), $C10, $D10) * 10, 3)) -> 15 | J10: =IF(Horendonk!F11="", "", ROUND(Horendonk!F11 / IF(AND(COUNT(Horendonk!$D11:F11) <= 3, ISNUMBER($C10)), $C10, $D10) * 10, 3)) -> 7.308 | K10: =IF(Horendonk!G11="", "", ROUND(Horendonk!G11 / IF(AND(COUNT(Horendonk!$D11:G11) <= 3, ISNUMBER($C10)), $C10, $D10) * 10, 3)) -> 6.538 | L10: =IF(Horendonk!H11="", "", ROUND(Horendonk!H11 / IF(AND(COUNT(Horendonk!$D11:H11) <= 3, ISNUMBER($C10)), $C10, $D10) * 10, 3)) | M10: =IF(Horendonk!I11="", "", ROUND(Horendonk!I11 / IF(AND(COUNT(Horendonk!$D11:I11) <= 3, ISNUMBER($C10)), $C10, $D10) * 10, 3)) | N10: =IF(Horendonk!J11="", "", ROUND(Horendonk!J11 / IF(AND(COUNT(Horendonk!$D11:J11) <= 3, ISNUMBER($C10)), $C10, $D10) * 10, 3)) | O10: =IF(Horendonk!P11="", "", ROUND(Horendonk!P11 / IF(AND(COUNT(Horendonk!$D11:$J11,Horendonk!$P11:P11) <= 3, ISNUMBER($C10)), $C10, $E10) * 10, 3)) | P10: =IF(Horendonk!Q11="", "", ROUND(Horendonk!Q11 / IF(AND(COUNT(Horendonk!$D11:$J11,Horendonk!$P11:Q11) <= 3, ISNUMBER($C10)), $C10, $E10) * 10, 3)) | Q10: =IF(Horendonk!R11="", "", ROUND(Horendonk!R11 / IF(AND(COUNT(Horendonk!$D11:$J11,Horendonk!$P11:R11) <= 3, ISNUMBER($C10)), $C10, $E10) * 10, 3)) | R10: =IF(Horendonk!S11="", "", ROUND(Horendonk!S11 / IF(AND(COUNT(Horendonk!$D11:$J11,Horendonk!$P11:S11) <= 3, ISNUMBER($C10)), $C10, $E10) * 10, 3)) | S10: =IF(Horendonk!T11="", "", ROUND(Horendonk!T11 / IF(AND(COUNT(Horendonk!$D11:$J11,Horendonk!$P11:T11) <= 3, ISNUMBER($C10)), $C10, $E10) * 10, 3)) | T10: =IF(Horendonk!U11="", "", ROUND(Horendonk!U11 / IF(AND(COUNT(Horendonk!$D11:$J11,Horendonk!$P11:U11) <= 3, ISNUMBER($C10)), $C10, $E10) * 10, 3)) | U10: =IF(Horendonk!V11="", "", ROUND(Horendonk!V11 / IF(AND(COUNT(Horendonk!$D11:$J11,Horendonk!$P11:V11) <= 3, ISNUMBER($C10)), $C10, $E10) * 10, 3))
A11: =IF(Horendonk!AB12=0, "", Horendonk!AB12) -> 3 | B11: =Horendonk!$B12 -> Siemons Jos | C11: =IFERROR(VALUE(MID($B11, SEARCH("[NS ", $B11)+4, 2)), "") | D11: =Horendonk!C12 -> 23 | E11: =Horendonk!O12 -> 23 | F11: =IF(Horendonk!$AA12=0," ",SUM(H11:U11)) -> 34.348 | H11: =IF(Horendonk!D12="", "", ROUND(Horendonk!D12 / IF(AND(COUNT(Horendonk!$D12:D12) <= 3, ISNUMBER($C11)), $C11, $D11) * 10, 3)) -> 13.913 | I11: =IF(Horendonk!E12="", "", ROUND(Horendonk!E12 / IF(AND(COUNT(Horendonk!$D12:E12) <= 3, ISNUMBER($C11)), $C11, $D11) * 10, 3)) -> 11.739 | J11: =IF(Horendonk!F12="", "", ROUND(Horendonk!F12 / IF(AND(COUNT(Horendonk!$D12:F12) <= 3, ISNUMBER($C11)), $C11, $D11) * 10, 3)) -> 8.696 | K11: =IF(Horendonk!G12="", "", ROUND(Horendonk!G12 / IF(AND(COUNT(Horendonk!$D12:G12) <= 3, ISNUMBER($C11)), $C11, $D11) * 10, 3)) | L11: =IF(Horendonk!H12="", "", ROUND(Horendonk!H12 / IF(AND(COUNT(Horendonk!$D12:H12) <= 3, ISNUMBER($C11)), $C11, $D11) * 10, 3)) | M11: =IF(Horendonk!I12="", "", ROUND(Horendonk!I12 / IF(AND(COUNT(Horendonk!$D12:I12) <= 3, ISNUMBER($C11)), $C11, $D11) * 10, 3)) | N11: =IF(Horendonk!J12="", "", ROUND(Horendonk!J12 / IF(AND(COUNT(Horendonk!$D12:J12) <= 3, ISNUMBER($C11)), $C11, $D11) * 10, 3)) | O11: =IF(Horendonk!P12="", "", ROUND(Horendonk!P12 / IF(AND(COUNT(Horendonk!$D12:$J12,Horendonk!$P12:P12) <= 3, ISNUMBER($C11)), $C11, $E11) * 10, 3)) | P11: =IF(Horendonk!Q12="", "", ROUND(Horendonk!Q12 / IF(AND(COUNT(Horendonk!$D12:$J12,Horendonk!$P12:Q12) <= 3, ISNUMBER($C11)), $C11, $E11) * 10, 3)) | Q11: =IF(Horendonk!R12="", "", ROUND(Horendonk!R12 / IF(AND(COUNT(Horendonk!$D12:$J12,Horendonk!$P12:R12) <= 3, ISNUMBER($C11)), $C11, $E11) * 10, 3)) | R11: =IF(Horendonk!S12="", "", ROUND(Horendonk!S12 / IF(AND(COUNT(Horendonk!$D12:$J12,Horendonk!$P12:S12) <= 3, ISNUMBER($C11)), $C11, $E11) * 10, 3)) | S11: =IF(Horendonk!T12="", "", ROUND(Horendonk!T12 / IF(AND(COUNT(Horendonk!$D12:$J12,Horendonk!$P12:T12) <= 3, ISNUMBER($C11)), $C11, $E11) * 10, 3)) | T11: =IF(Horendonk!U12="", "", ROUND(Horendonk!U12 / IF(AND(COUNT(Horendonk!$D12:$J12,Horendonk!$P12:U12) <= 3, ISNUMBER($C11)), $C11, $E11) * 10, 3)) | U11: =IF(Horendonk!V12="", "", ROUND(Horendonk!V12 / IF(AND(COUNT(Horendonk!$D12:$J12,Horendonk!$P12:V12) <= 3, ISNUMBER($C11)), $C11, $E11) * 10, 3))
A12: =IF(Horendonk!AB13=0, "", Horendonk!AB13) -> 1 | B12: =Horendonk!$B13 -> Van Aert André | C12: =IFERROR(VALUE(MID($B12, SEARCH("[NS ", $B12)+4, 2)), "") | D12: =Horendonk!C13 -> 31 | E12: =Horendonk!O13 -> 31 | F12: =IF(Horendonk!$AA13=0," ",SUM(H12:U12)) -> 6.774 | H12: =IF(Horendonk!D13="", "", ROUND(Horendonk!D13 / IF(AND(COUNT(Horendonk!$D13:D13) <= 3, ISNUMBER($C12)), $C12, $D12) * 10, 3)) | I12: =IF(Horendonk!E13="", "", ROUND(Horendonk!E13 / IF(AND(COUNT(Horendonk!$D13:E13) <= 3, ISNUMBER($C12)), $C12, $D12) * 10, 3)) | J12: =IF(Horendonk!F13="", "", ROUND(Horendonk!F13 / IF(AND(COUNT(Horendonk!$D13:F13) <= 3, ISNUMBER($C12)), $C12, $D12) * 10, 3)) -> 6.774 | K12: =IF(Horendonk!G13="", "", ROUND(Horendonk!G13 / IF(AND(COUNT(Horendonk!$D13:G13) <= 3, ISNUMBER($C12)), $C12, $D12) * 10, 3)) | L12: =IF(Horendonk!H13="", "", ROUND(Horendonk!H13 / IF(AND(COUNT(Horendonk!$D13:H13) <= 3, ISNUMBER($C12)), $C12, $D12) * 10, 3)) | M12: =IF(Horendonk!I13="", "", ROUND(Horendonk!I13 / IF(AND(COUNT(Horendonk!$D13:I13) <= 3, ISNUMBER($C12)), $C12, $D12) * 10, 3)) | N12: =IF(Horendonk!J13="", "", ROUND(Horendonk!J13 / IF(AND(COUNT(Horendonk!$D13:J13) <= 3, ISNUMBER($C12)), $C12, $D12) * 10, 3)) | O12: =IF(Horendonk!P13="", "", ROUND(Horendonk!P13 / IF(AND(COUNT(Horendonk!$D13:$J13,Horendonk!$P13:P13) <= 3, ISNUMBER($C12)), $C12, $E12) * 10, 3)) | P12: =IF(Horendonk!Q13="", "", ROUND(Horendonk!Q13 / IF(AND(COUNT(Horendonk!$D13:$J13,Horendonk!$P13:Q13) <= 3, ISNUMBER($C12)), $C12, $E12) * 10, 3)) | Q12: =IF(Horendonk!R13="", "", ROUND(Horendonk!R13 / IF(AND(COUNT(Horendonk!$D13:$J13,Horendonk!$P13:R13) <= 3, ISNUMBER($C12)), $C12, $E12) * 10, 3)) | R12: =IF(Horendonk!S13="", "", ROUND(Horendonk!S13 / IF(AND(COUNT(Horendonk!$D13:$J13,Horendonk!$P13:S13) <= 3, ISNUMBER($C12)), $C12, $E12) * 10, 3)) | S12: =IF(Horendonk!T13="", "", ROUND(Horendonk!T13 / IF(AND(COUNT(Horendonk!$D13:$J13,Horendonk!$P13:T13) <= 3, ISNUMBER($C12)), $C12, $E12) * 10, 3)) | T12: =IF(Horendonk!U13="", "", ROUND(Horendonk!U13 / IF(AND(COUNT(Horendonk!$D13:$J13,Horendonk!$P13:U13) <= 3, ISNUMBER($C12)), $C12, $E12) * 10, 3)) | U12: =IF(Horendonk!V13="", "", ROUND(Horendonk!V13 / IF(AND(COUNT(Horendonk!$D13:$J13,Horendonk!$P13:V13) <= 3, ISNUMBER($C12)), $C12, $E12) * 10, 3))
A13: =IF(Horendonk!AB14=0, "", Horendonk!AB14) -> 1 | B13: =Horendonk!$B14 -> Van De Pas Erik [NS 20] | C13: =IFERROR(VALUE(MID($B13, SEARCH("[NS ", $B13)+4, 2)), "") -> 20 | D13: =Horendonk!C14 -> 20 | E13: =Horendonk!O14 -> 20 | F13: =IF(Horendonk!$AA14=0," ",SUM(H13:U13)) -> 6 | H13: =IF(Horendonk!D14="", "", ROUND(Horendonk!D14 / IF(AND(COUNT(Horendonk!$D14:D14) <= 3, ISNUMBER($C13)), $C13, $D13) * 10, 3)) | I13: =IF(Horendonk!E14="", "", ROUND(Horendonk!E14 / IF(AND(COUNT(Horendonk!$D14:E14) <= 3, ISNUMBER($C13)), $C13, $D13) * 10, 3)) | J13: =IF(Horendonk!F14="", "", ROUND(Horendonk!F14 / IF(AND(COUNT(Horendonk!$D14:F14) <= 3, ISNUMBER($C13)), $C13, $D13) * 10, 3)) | K13: =IF(Horendonk!G14="", "", ROUND(Horendonk!G14 / IF(AND(COUNT(Horendonk!$D14:G14) <= 3, ISNUMBER($C13)), $C13, $D13) * 10, 3)) -> 6 | L13: =IF(Horendonk!H14="", "", ROUND(Horendonk!H14 / IF(AND(COUNT(Horendonk!$D14:H14) <= 3, ISNUMBER($C13)), $C13, $D13) * 10, 3)) | M13: =IF(Horendonk!I14="", "", ROUND(Horendonk!I14 / IF(AND(COUNT(Horendonk!$D14:I14) <= 3, ISNUMBER($C13)), $C13, $D13) * 10, 3)) | N13: =IF(Horendonk!J14="", "", ROUND(Horendonk!J14 / IF(AND(COUNT(Horendonk!$D14:J14) <= 3, ISNUMBER($C13)), $C13, $D13) * 10, 3)) | O13: =IF(Horendonk!P14="", "", ROUND(Horendonk!P14 / IF(AND(COUNT(Horendonk!$D14:$J14,Horendonk!$P14:P14) <= 3, ISNUMBER($C13)), $C13, $E13) * 10, 3)) | P13: =IF(Horendonk!Q14="", "", ROUND(Horendonk!Q14 / IF(AND(COUNT(Horendonk!$D14:$J14,Horendonk!$P14:Q14) <= 3, ISNUMBER($C13)), $C13, $E13) * 10, 3)) | Q13: =IF(Horendonk!R14="", "", ROUND(Horendonk!R14 / IF(AND(COUNT(Horendonk!$D14:$J14,Horendonk!$P14:R14) <= 3, ISNUMBER($C13)), $C13, $E13) * 10, 3)) | R13: =IF(Horendonk!S14="", "", ROUND(Horendonk!S14 / IF(AND(COUNT(Horendonk!$D14:$J14,Horendonk!$P14:S14) <= 3, ISNUMBER($C13)), $C13, $E13) * 10, 3)) | S13: =IF(Horendonk!T14="", "", ROUND(Horendonk!T14 / IF(AND(COUNT(Horendonk!$D14:$J14,Horendonk!$P14:T14) <= 3, ISNUMBER($C13)), $C13, $E13) * 10, 3)) | T13: =IF(Horendonk!U14="", "", ROUND(Horendonk!U14 / IF(AND(COUNT(Horendonk!$D14:$J14,Horendonk!$P14:U14) <= 3, ISNUMBER($C13)), $C13, $E13) * 10, 3)) | U13: =IF(Horendonk!V14="", "", ROUND(Horendonk!V14 / IF(AND(COUNT(Horendonk!$D14:$J14,Horendonk!$P14:V14) <= 3, ISNUMBER($C13)), $C13, $E13) * 10, 3))
A14: =IF(Horendonk!AB15=0, "", Horendonk!AB15) -> 3 | B14: =Horendonk!$B15 -> Vergouwen René | C14: =IFERROR(VALUE(MID($B14, SEARCH("[NS ", $B14)+4, 2)), "") | D14: =Horendonk!C15 -> 30 | E14: =Horendonk!O15 -> 30 | F14: =IF(Horendonk!$AA15=0," ",SUM(H14:U14)) -> 34.667 | H14: =IF(Horendonk!D15="", "", ROUND(Horendonk!D15 / IF(AND(COUNT(Horendonk!$D15:D15) <= 3, ISNUMBER($C14)), $C14, $D14) * 10, 3)) | I14: =IF(Horendonk!E15="", "", ROUND(Horendonk!E15 / IF(AND(COUNT(Horendonk!$D15:E15) <= 3, ISNUMBER($C14)), $C14, $D14) * 10, 3)) -> 9 | J14: =IF(Horendonk!F15="", "", ROUND(Horendonk!F15 / IF(AND(COUNT(Horendonk!$D15:F15) <= 3, ISNUMBER($C14)), $C14, $D14) * 10, 3)) -> 10.667 | K14: =IF(Horendonk!G15="", "", ROUND(Horendonk!G15 / IF(AND(COUNT(Horendonk!$D15:G15) <= 3, ISNUMBER($C14)), $C14, $D14) * 10, 3)) -> 15 | L14: =IF(Horendonk!H15="", "", ROUND(Horendonk!H15 / IF(AND(COUNT(Horendonk!$D15:H15) <= 3, ISNUMBER($C14)), $C14, $D14) * 10, 3)) | M14: =IF(Horendonk!I15="", "", ROUND(Horendonk!I15 / IF(AND(COUNT(Horendonk!$D15:I15) <= 3, ISNUMBER($C14)), $C14, $D14) * 10, 3)) | N14: =IF(Horendonk!J15="", "", ROUND(Horendonk!J15 / IF(AND(COUNT(Horendonk!$D15:J15) <= 3, ISNUMBER($C14)), $C14, $D14) * 10, 3)) | O14: =IF(Horendonk!P15="", "", ROUND(Horendonk!P15 / IF(AND(COUNT(Horendonk!$D15:$J15,Horendonk!$P15:P15) <= 3, ISNUMBER($C14)), $C14, $E14) * 10, 3)) | P14: =IF(Horendonk!Q15="", "", ROUND(Horendonk!Q15 / IF(AND(COUNT(Horendonk!$D15:$J15,Horendonk!$P15:Q15) <= 3, ISNUMBER($C14)), $C14, $E14) * 10, 3)) | Q14: =IF(Horendonk!R15="", "", ROUND(Horendonk!R15 / IF(AND(COUNT(Horendonk!$D15:$J15,Horendonk!$P15:R15) <= 3, ISNUMBER($C14)), $C14, $E14) * 10, 3)) | R14: =IF(Horendonk!S15="", "", ROUND(Horendonk!S15 / IF(AND(COUNT(Horendonk!$D15:$J15,Horendonk!$P15:S15) <= 3, ISNUMBER($C14)), $C14, $E14) * 10, 3)) | S14: =IF(Horendonk!T15="", "", ROUND(Horendonk!T15 / IF(AND(COUNT(Horendonk!$D15:$J15,Horendonk!$P15:T15) <= 3, ISNUMBER($C14)), $C14, $E14) * 10, 3)) | T14: =IF(Horendonk!U15="", "", ROUND(Horendonk!U15 / IF(AND(COUNT(Horendonk!$D15:$J15,Horendonk!$P15:U15) <= 3, ISNUMBER($C14)), $C14, $E14) * 10, 3)) | U14: =IF(Horendonk!V15="", "", ROUND(Horendonk!V15 / IF(AND(COUNT(Horendonk!$D15:$J15,Horendonk!$P15:V15) <= 3, ISNUMBER($C14)), $C14, $E14) * 10, 3))
A15: =IF(Horendonk!AB16=0, "", Horendonk!AB16) | B15: =Horendonk!$B16 -> 0 | C15: =IFERROR(VALUE(MID($B15, SEARCH("[NS ", $B15)+4, 2)), "") | D15: =Horendonk!C16 -> 0 | E15: =Horendonk!O16 -> 0 | F15: =IF(Horendonk!$AA16=0," ",SUM(H15:U15)) | H15: =IF(Horendonk!D16="", "", ROUND(Horendonk!D16 / IF(AND(COUNT(Horendonk!$D16:D16) <= 3, ISNUMBER($C15)), $C15, $D15) * 10, 3)) | I15: =IF(Horendonk!E16="", "", ROUND(Horendonk!E16 / IF(AND(COUNT(Horendonk!$D16:E16) <= 3, ISNUMBER($C15)), $C15, $D15) * 10, 3)) | J15: =IF(Horendonk!F16="", "", ROUND(Horendonk!F16 / IF(AND(COUNT(Horendonk!$D16:F16) <= 3, ISNUMBER($C15)), $C15, $D15) * 10, 3)) | K15: =IF(Horendonk!G16="", "", ROUND(Horendonk!G16 / IF(AND(COUNT(Horendonk!$D16:G16) <= 3, ISNUMBER($C15)), $C15, $D15) * 10, 3)) | L15: =IF(Horendonk!H16="", "", ROUND(Horendonk!H16 / IF(AND(COUNT(Horendonk!$D16:H16) <= 3, ISNUMBER($C15)), $C15, $D15) * 10, 3)) | M15: =IF(Horendonk!I16="", "", ROUND(Horendonk!I16 / IF(AND(COUNT(Horendonk!$D16:I16) <= 3, ISNUMBER($C15)), $C15, $D15) * 10, 3)) | N15: =IF(Horendonk!J16="", "", ROUND(Horendonk!J16 / IF(AND(COUNT(Horendonk!$D16:J16) <= 3, ISNUMBER($C15)), $C15, $D15) * 10, 3)) | O15: =IF(Horendonk!P16="", "", ROUND(Horendonk!P16 / IF(AND(COUNT(Horendonk!$D16:$J16,Horendonk!$P16:P16) <= 3, ISNUMBER($C15)), $C15, $E15) * 10, 3)) | P15: =IF(Horendonk!Q16="", "", ROUND(Horendonk!Q16 / IF(AND(COUNT(Horendonk!$D16:$J16,Horendonk!$P16:Q16) <= 3, ISNUMBER($C15)), $C15, $E15) * 10, 3)) | Q15: =IF(Horendonk!R16="", "", ROUND(Horendonk!R16 / IF(AND(COUNT(Horendonk!$D16:$J16,Horendonk!$P16:R16) <= 3, ISNUMBER($C15)), $C15, $E15) * 10, 3)) | R15: =IF(Horendonk!S16="", "", ROUND(Horendonk!S16 / IF(AND(COUNT(Horendonk!$D16:$J16,Horendonk!$P16:S16) <= 3, ISNUMBER($C15)), $C15, $E15) * 10, 3)) | S15: =IF(Horendonk!T16="", "", ROUND(Horendonk!T16 / IF(AND(COUNT(Horendonk!$D16:$J16,Horendonk!$P16:T16) <= 3, ISNUMBER($C15)), $C15, $E15) * 10, 3)) | T15: =IF(Horendonk!U16="", "", ROUND(Horendonk!U16 / IF(AND(COUNT(Horendonk!$D16:$J16,Horendonk!$P16:U16) <= 3, ISNUMBER($C15)), $C15, $E15) * 10, 3)) | U15: =IF(Horendonk!V16="", "", ROUND(Horendonk!V16 / IF(AND(COUNT(Horendonk!$D16:$J16,Horendonk!$P16:V16) <= 3, ISNUMBER($C15)), $C15, $E15) * 10, 3))
... A18: =IF(Horendonk!AB19=0, "", Horendonk!AB19) | B18: =Horendonk!$B19 -> 0 | C18: =IFERROR(VALUE(MID($B18, SEARCH("[NS ", $B18)+4, 2)), "") | D18: =Horendonk!C19 -> 0 | E18: =Horendonk!O19 -> 0 | F18: =IF(Horendonk!$AA19=0," ",SUM(H18:U18)) | H18: =IF(Horendonk!D19="", "", ROUND(Horendonk!D19 / IF(AND(COUNT(Horendonk!$D19:D19) <= 3, ISNUMBER($C18)), $C18, $D18) * 10, 3)) | I18: =IF(Horendonk!E19="", "", ROUND(Horendonk!E19 / IF(AND(COUNT(Horendonk!$D19:E19) <= 3, ISNUMBER($C18)), $C18, $D18) * 10, 3)) | J18: =IF(Horendonk!F19="", "", ROUND(Horendonk!F19 / IF(AND(COUNT(Horendonk!$D19:F19) <= 3, ISNUMBER($C18)), $C18, $D18) * 10, 3)) | K18: =IF(Horendonk!G19="", "", ROUND(Horendonk!G19 / IF(AND(COUNT(Horendonk!$D19:G19) <= 3, ISNUMBER($C18)), $C18, $D18) * 10, 3)) | L18: =IF(Horendonk!H19="", "", ROUND(Horendonk!H19 / IF(AND(COUNT(Horendonk!$D19:H19) <= 3, ISNUMBER($C18)), $C18, $D18) * 10, 3)) | M18: =IF(Horendonk!I19="", "", ROUND(Horendonk!I19 / IF(AND(COUNT(Horendonk!$D19:I19) <= 3, ISNUMBER($C18)), $C18, $D18) * 10, 3)) | N18: =IF(Horendonk!J19="", "", ROUND(Horendonk!J19 / IF(AND(COUNT(Horendonk!$D19:J19) <= 3, ISNUMBER($C18)), $C18, $D18) * 10, 3)) | O18: =IF(Horendonk!P19="", "", ROUND(Horendonk!P19 / IF(AND(COUNT(Horendonk!$D19:$J19,Horendonk!$P19:P19) <= 3, ISNUMBER($C18)), $C18, $E18) * 10, 3)) | P18: =IF(Horendonk!Q19="", "", ROUND(Horendonk!Q19 / IF(AND(COUNT(Horendonk!$D19:$J19,Horendonk!$P19:Q19) <= 3, ISNUMBER($C18)), $C18, $E18) * 10, 3)) | Q18: =IF(Horendonk!R19="", "", ROUND(Horendonk!R19 / IF(AND(COUNT(Horendonk!$D19:$J19,Horendonk!$P19:R19) <= 3, ISNUMBER($C18)), $C18, $E18) * 10, 3)) | R18: =IF(Horendonk!S19="", "", ROUND(Horendonk!S19 / IF(AND(COUNT(Horendonk!$D19:$J19,Horendonk!$P19:S19) <= 3, ISNUMBER($C18)), $C18, $E18) * 10, 3)) | S18: =IF(Horendonk!T19="", "", ROUND(Horendonk!T19 / IF(AND(COUNT(Horendonk!$D19:$J19,Horendonk!$P19:T19) <= 3, ISNUMBER($C18)), $C18, $E18) * 10, 3)) | T18: =IF(Horendonk!U19="", "", ROUND(Horendonk!U19 / IF(AND(COUNT(Horendonk!$D19:$J19,Horendonk!$P19:U19) <= 3, ISNUMBER($C18)), $C18, $E18) * 10, 3)) | U18: =IF(Horendonk!V19="", "", ROUND(Horendonk!V19 / IF(AND(COUNT(Horendonk!$D19:$J19,Horendonk!$P19:V19) <= 3, ISNUMBER($C18)), $C18, $E18) * 10, 3))
F19: Horendonk | G19: 5 | H19: =IF(SUM(H4:H18)=0, "", SUM(H4:H18)) -> 57.655 | I19: =IF(SUM(I4:I18)=0, "", SUM(I4:I18)) -> 69.5 | J19: =IF(SUM(J4:J18)=0, "", SUM(J4:J18)) -> 52.227 | K19: =IF(SUM(K4:K18)=0, "", SUM(K4:K18)) -> 59.817 | L19: =IF(SUM(L4:L18)=0, "", SUM(L4:L18)) | M19: =IF(SUM(M4:M18)=0, "", SUM(M4:M18)) | N19: =IF(SUM(N4:N18)=0, "", SUM(N4:N18)) | O19: =IF(SUM(O4:O18)=0, "", SUM(O4:O18)) | ... U19: =IF(SUM(U4:U18)=0, "", SUM(U4:U18))
B20: =ROWS(B4:B18) -> 15 | F20: =SUM(F4:F18) -> 239.199 | G20: =B3 -> HORENDONK | H20: =IF(SUM(H4:H18)=0, "", SUM(H4:H18)) -> 57.655 | I20: =IF(I19="", "", ROUND(SUM($H19:I19), 3)) -> 127.155 | J20: =IF(J19="", "", ROUND(SUM($H19:J19), 3)) -> 179.382 | K20: =IF(K19="", "", ROUND(SUM($H19:K19), 3)) -> 239.199 | L20: =IF(L19="", "", ROUND(SUM($H19:L19), 3)) | M20: =IF(M19="", "", ROUND(SUM($H19:M19), 3)) | N20: =IF(N19="", "", ROUND(SUM($H19:N19), 3)) | O20: =IF(O19="", "", ROUND(SUM($H19:O19), 3)) | P20: =IF(P19="", "", ROUND(SUM($H19:P19), 3)) | ... U20: =IF(U19="", "", ROUND(SUM($H19:U19), 3))
B22: Sen. NISPEN | H22: 1 | I22: 2 | J22: 3 | K22: 4 | L22: 5 | M22: 6 | N22: 7 | O22: 8 | P22: 9 | Q22: 10 | R22: 11 | S22: 12 | T22: 13 | U22: 14
A23: =IF(Nispen!AB5=0, "", Nispen!AB5) -> 3 | B23: =Nispen!B5 -> Kerstens Jac | C23: =IFERROR(VALUE(MID($B23, SEARCH("[NS ", $B23)+4, 2)), "") | D23: =Nispen!C5 -> 36 | E23: =Nispen!O5 -> 36 | F23: =IF(Nispen!AA5=0," ",SUM(H23:U23)) -> 26.945 | H23: =IF(Nispen!D5="", "", ROUND(Nispen!D5 / IF(AND(COUNT(Nispen!$D5:D5) <= 3, ISNUMBER($C23)), $C23, $D23) * 10, 3)) -> 3.611 | I23: =IF(Nispen!E5="", "", ROUND(Nispen!E5 / IF(AND(COUNT(Nispen!$D5:E5) <= 3, ISNUMBER($C23)), $C23, $D23) * 10, 3)) -> 5.556 | J23: =IF(Nispen!F5="", "", ROUND(Nispen!F5 / IF(AND(COUNT(Nispen!$D5:F5) <= 3, ISNUMBER($C23)), $C23, $D23) * 10, 3)) | K23: =IF(Nispen!G5="", "", ROUND(Nispen!G5 / IF(AND(COUNT(Nispen!$D5:G5) <= 3, ISNUMBER($C23)), $C23, $D23) * 10, 3)) -> 17.778 | L23: =IF(Nispen!H5="", "", ROUND(Nispen!H5 / IF(AND(COUNT(Nispen!$D5:H5) <= 3, ISNUMBER($C23)), $C23, $D23) * 10, 3)) | M23: =IF(Nispen!I5="", "", ROUND(Nispen!I5 / IF(AND(COUNT(Nispen!$D5:I5) <= 3, ISNUMBER($C23)), $C23, $D23) * 10, 3)) | N23: =IF(Nispen!J5="", "", ROUND(Nispen!J5 / IF(AND(COUNT(Nispen!$D5:J5) <= 3, ISNUMBER($C23)), $C23, $D23) * 10, 3)) | O23: =IF(Nispen!P5="", "", ROUND(Nispen!P5 / IF(AND(COUNT(Nispen!$D5:$J5,Nispen!$P5:P5) <= 3, ISNUMBER($C23)), $C23, $E23) * 10, 3)) | P23: =IF(Nispen!Q5="", "", ROUND(Nispen!Q5 / IF(AND(COUNT(Nispen!$D5:$J5,Nispen!$P5:Q5) <= 3, ISNUMBER($C23)), $C23, $E23) * 10, 3)) | Q23: =IF(Nispen!R5="", "", ROUND(Nispen!R5 / IF(AND(COUNT(Nispen!$D5:$J5,Nispen!$P5:R5) <= 3, ISNUMBER($C23)), $C23, $E23) * 10, 3)) | R23: =IF(Nispen!S5="", "", ROUND(Nispen!S5 / IF(AND(COUNT(Nispen!$D5:$J5,Nispen!$P5:S5) <= 3, ISNUMBER($C23)), $C23, $E23) * 10, 3)) | S23: =IF(Nispen!T5="", "", ROUND(Nispen!T5 / IF(AND(COUNT(Nispen!$D5:$J5,Nispen!$P5:T5) <= 3, ISNUMBER($C23)), $C23, $E23) * 10, 3)) | T23: =IF(Nispen!U5="", "", ROUND(Nispen!U5 / IF(AND(COUNT(Nispen!$D5:$J5,Nispen!$P5:U5) <= 3, ISNUMBER($C23)), $C23, $E23) * 10, 3)) | U23: =IF(Nispen!V5="", "", ROUND(Nispen!V5 / IF(AND(COUNT(Nispen!$D5:$J5,Nispen!$P5:V5) <= 3, ISNUMBER($C23)), $C23, $E23) * 10, 3))
A24: =IF(Nispen!AB6=0, "", Nispen!AB6) -> 4 | B24: =Nispen!B6 -> Martens Gerrit | C24: =IFERROR(VALUE(MID($B24, SEARCH("[NS ", $B24)+4, 2)), "") | D24: =Nispen!C6 -> 16 | E24: =Nispen!O6 -> 16 | F24: =IF(Nispen!AA6=0," ",SUM(H24:U24)) -> 29.375 | H24: =IF(Nispen!D6="", "", ROUND(Nispen!D6 / IF(AND(COUNT(Nispen!$D6:D6) <= 3, ISNUMBER($C24)), $C24, $D24) * 10, 3)) -> 6.25 | I24: =IF(Nispen!E6="", "", ROUND(Nispen!E6 / IF(AND(COUNT(Nispen!$D6:E6) <= 3, ISNUMBER($C24)), $C24, $D24) * 10, 3)) -> 10 | J24: =IF(Nispen!F6="", "", ROUND(Nispen!F6 / IF(AND(COUNT(Nispen!$D6:F6) <= 3, ISNUMBER($C24)), $C24, $D24) * 10, 3)) -> 6.875 | K24: =IF(Nispen!G6="", "", ROUND(Nispen!G6 / IF(AND(COUNT(Nispen!$D6:G6) <= 3, ISNUMBER($C24)), $C24, $D24) * 10, 3)) -> 6.25 | L24: =IF(Nispen!H6="", "", ROUND(Nispen!H6 / IF(AND(COUNT(Nispen!$D6:H6) <= 3, ISNUMBER($C24)), $C24, $D24) * 10, 3)) | M24: =IF(Nispen!I6="", "", ROUND(Nispen!I6 / IF(AND(COUNT(Nispen!$D6:I6) <= 3, ISNUMBER($C24)), $C24, $D24) * 10, 3)) | N24: =IF(Nispen!J6="", "", ROUND(Nispen!J6 / IF(AND(COUNT(Nispen!$D6:J6) <= 3, ISNUMBER($C24)), $C24, $D24) * 10, 3)) | O24: =IF(Nispen!P6="", "", ROUND(Nispen!P6 / IF(AND(COUNT(Nispen!$D6:$J6,Nispen!$P6:P6) <= 3, ISNUMBER($C24)), $C24, $E24) * 10, 3)) | P24: =IF(Nispen!Q6="", "", ROUND(Nispen!Q6 / IF(AND(COUNT(Nispen!$D6:$J6,Nispen!$P6:Q6) <= 3, ISNUMBER($C24)), $C24, $E24) * 10, 3)) | Q24: =IF(Nispen!R6="", "", ROUND(Nispen!R6 / IF(AND(COUNT(Nispen!$D6:$J6,Nispen!$P6:R6) <= 3, ISNUMBER($C24)), $C24, $E24) * 10, 3)) | R24: =IF(Nispen!S6="", "", ROUND(Nispen!S6 / IF(AND(COUNT(Nispen!$D6:$J6,Nispen!$P6:S6) <= 3, ISNUMBER($C24)), $C24, $E24) * 10, 3)) | S24: =IF(Nispen!T6="", "", ROUND(Nispen!T6 / IF(AND(COUNT(Nispen!$D6:$J6,Nispen!$P6:T6) <= 3, ISNUMBER($C24)), $C24, $E24) * 10, 3)) | T24: =IF(Nispen!U6="", "", ROUND(Nispen!U6 / IF(AND(COUNT(Nispen!$D6:$J6,Nispen!$P6:U6) <= 3, ISNUMBER($C24)), $C24, $E24) * 10, 3)) | U24: =IF(Nispen!V6="", "", ROUND(Nispen!V6 / IF(AND(COUNT(Nispen!$D6:$J6,Nispen!$P6:V6) <= 3, ISNUMBER($C24)), $C24, $E24) * 10, 3))
A25: =IF(Nispen!AB7=0, "", Nispen!AB7) -> 2 | B25: =Nispen!B7 -> Raats Antoon | C25: =IFERROR(VALUE(MID($B25, SEARCH("[NS ", $B25)+4, 2)), "") | D25: =Nispen!C7 -> 20 | E25: =Nispen!O7 -> 20 | F25: =IF(Nispen!AA7=0," ",SUM(H25:U25)) -> 16 | H25: =IF(Nispen!D7="", "", ROUND(Nispen!D7 / IF(AND(COUNT(Nispen!$D7:D7) <= 3, ISNUMBER($C25)), $C25, $D25) * 10, 3)) | I25: =IF(Nispen!E7="", "", ROUND(Nispen!E7 / IF(AND(COUNT(Nispen!$D7:E7) <= 3, ISNUMBER($C25)), $C25, $D25) * 10, 3)) -> 12.5 | J25: =IF(Nispen!F7="", "", ROUND(Nispen!F7 / IF(AND(COUNT(Nispen!$D7:F7) <= 3, ISNUMBER($C25)), $C25, $D25) * 10, 3)) | K25: =IF(Nispen!G7="", "", ROUND(Nispen!G7 / IF(AND(COUNT(Nispen!$D7:G7) <= 3, ISNUMBER($C25)), $C25, $D25) * 10, 3)) -> 3.5 | L25: =IF(Nispen!H7="", "", ROUND(Nispen!H7 / IF(AND(COUNT(Nispen!$D7:H7) <= 3, ISNUMBER($C25)), $C25, $D25) * 10, 3)) | M25: =IF(Nispen!I7="", "", ROUND(Nispen!I7 / IF(AND(COUNT(Nispen!$D7:I7) <= 3, ISNUMBER($C25)), $C25, $D25) * 10, 3)) | N25: =IF(Nispen!J7="", "", ROUND(Nispen!J7 / IF(AND(COUNT(Nispen!$D7:J7) <= 3, ISNUMBER($C25)), $C25, $D25) * 10, 3)) | O25: =IF(Nispen!P7="", "", ROUND(Nispen!P7 / IF(AND(COUNT(Nispen!$D7:$J7,Nispen!$P7:P7) <= 3, ISNUMBER($C25)), $C25, $E25) * 10, 3)) | P25: =IF(Nispen!Q7="", "", ROUND(Nispen!Q7 / IF(AND(COUNT(Nispen!$D7:$J7,Nispen!$P7:Q7) <= 3, ISNUMBER($C25)), $C25, $E25) * 10, 3)) | Q25: =IF(Nispen!R7="", "", ROUND(Nispen!R7 / IF(AND(COUNT(Nispen!$D7:$J7,Nispen!$P7:R7) <= 3, ISNUMBER($C25)), $C25, $E25) * 10, 3)) | R25: =IF(Nispen!S7="", "", ROUND(Nispen!S7 / IF(AND(COUNT(Nispen!$D7:$J7,Nispen!$P7:S7) <= 3, ISNUMBER($C25)), $C25, $E25) * 10, 3)) | S25: =IF(Nispen!T7="", "", ROUND(Nispen!T7 / IF(AND(COUNT(Nispen!$D7:$J7,Nispen!$P7:T7) <= 3, ISNUMBER($C25)), $C25, $E25) * 10, 3)) | T25: =IF(Nispen!U7="", "", ROUND(Nispen!U7 / IF(AND(COUNT(Nispen!$D7:$J7,Nispen!$P7:U7) <= 3, ISNUMBER($C25)), $C25, $E25) * 10, 3)) | U25: =IF(Nispen!V7="", "", ROUND(Nispen!V7 / IF(AND(COUNT(Nispen!$D7:$J7,Nispen!$P7:V7) <= 3, ISNUMBER($C25)), $C25, $E25) * 10, 3))
A26: =IF(Nispen!AB8=0, "", Nispen!AB8) -> 4 | B26: =Nispen!B8 -> Schrauwen Jeanne | C26: =IFERROR(VALUE(MID($B26, SEARCH("[NS ", $B26)+4, 2)), "") | D26: =Nispen!C8 -> 17 | E26: =Nispen!O8 -> 17 | F26: =IF(Nispen!AA8=0," ",SUM(H26:U26)) -> 32.353 | H26: =IF(Nispen!D8="", "", ROUND(Nispen!D8 / IF(AND(COUNT(Nispen!$D8:D8) <= 3, ISNUMBER($C26)), $C26, $D26) * 10, 3)) -> 10.588 | I26: =IF(Nispen!E8="", "", ROUND(Nispen!E8 / IF(AND(COUNT(Nispen!$D8:E8) <= 3, ISNUMBER($C26)), $C26, $D26) * 10, 3)) -> 10.588 | J26: =IF(Nispen!F8="", "", ROUND(Nispen!F8 / IF(AND(COUNT(Nispen!$D8:F8) <= 3, ISNUMBER($C26)), $C26, $D26) * 10, 3)) -> 2.353 | K26: =IF(Nispen!G8="", "", ROUND(Nispen!G8 / IF(AND(COUNT(Nispen!$D8:G8) <= 3, ISNUMBER($C26)), $C26, $D26) * 10, 3)) -> 8.824 | L26: =IF(Nispen!H8="", "", ROUND(Nispen!H8 / IF(AND(COUNT(Nispen!$D8:H8) <= 3, ISNUMBER($C26)), $C26, $D26) * 10, 3)) | M26: =IF(Nispen!I8="", "", ROUND(Nispen!I8 / IF(AND(COUNT(Nispen!$D8:I8) <= 3, ISNUMBER($C26)), $C26, $D26) * 10, 3)) | N26: =IF(Nispen!J8="", "", ROUND(Nispen!J8 / IF(AND(COUNT(Nispen!$D8:J8) <= 3, ISNUMBER($C26)), $C26, $D26) * 10, 3)) | O26: =IF(Nispen!P8="", "", ROUND(Nispen!P8 / IF(AND(COUNT(Nispen!$D8:$J8,Nispen!$P8:P8) <= 3, ISNUMBER($C26)), $C26, $E26) * 10, 3)) | P26: =IF(Nispen!Q8="", "", ROUND(Nispen!Q8 / IF(AND(COUNT(Nispen!$D8:$J8,Nispen!$P8:Q8) <= 3, ISNUMBER($C26)), $C26, $E26) * 10, 3)) | Q26: =IF(Nispen!R8="", "", ROUND(Nispen!R8 / IF(AND(COUNT(Nispen!$D8:$J8,Nispen!$P8:R8) <= 3, ISNUMBER($C26)), $C26, $E26) * 10, 3)) | R26: =IF(Nispen!S8="", "", ROUND(Nispen!S8 / IF(AND(COUNT(Nispen!$D8:$J8,Nispen!$P8:S8) <= 3, ISNUMBER($C26)), $C26, $E26) * 10, 3)) | S26: =IF(Nispen!T8="", "", ROUND(Nispen!T8 / IF(AND(COUNT(Nispen!$D8:$J8,Nispen!$P8:T8) <= 3, ISNUMBER($C26)), $C26, $E26) * 10, 3)) | T26: =IF(Nispen!U8="", "", ROUND(Nispen!U8 / IF(AND(COUNT(Nispen!$D8:$J8,Nispen!$P8:U8) <= 3, ISNUMBER($C26)), $C26, $E26) * 10, 3)) | U26: =IF(Nispen!V8="", "", ROUND(Nispen!V8 / IF(AND(COUNT(Nispen!$D8:$J8,Nispen!$P8:V8) <= 3, ISNUMBER($C26)), $C26, $E26) * 10, 3))
A27: =IF(Nispen!AB9=0, "", Nispen!AB9) | B27: =Nispen!B9 -> Swaanen Piet | C27: =IFERROR(VALUE(MID($B27, SEARCH("[NS ", $B27)+4, 2)), "") | D27: =Nispen!C9 -> 59 | E27: =Nispen!O9 -> 59 | F27: =IF(Nispen!AA9=0," ",SUM(H27:U27)) | H27: =IF(Nispen!D9="", "", ROUND(Nispen!D9 / IF(AND(COUNT(Nispen!$D9:D9) <= 3, ISNUMBER($C27)), $C27, $D27) * 10, 3)) | I27: =IF(Nispen!E9="", "", ROUND(Nispen!E9 / IF(AND(COUNT(Nispen!$D9:E9) <= 3, ISNUMBER($C27)), $C27, $D27) * 10, 3)) | J27: =IF(Nispen!F9="", "", ROUND(Nispen!F9 / IF(AND(COUNT(Nispen!$D9:F9) <= 3, ISNUMBER($C27)), $C27, $D27) * 10, 3)) | K27: =IF(Nispen!G9="", "", ROUND(Nispen!G9 / IF(AND(COUNT(Nispen!$D9:G9) <= 3, ISNUMBER($C27)), $C27, $D27) * 10, 3)) | L27: =IF(Nispen!H9="", "", ROUND(Nispen!H9 / IF(AND(COUNT(Nispen!$D9:H9) <= 3, ISNUMBER($C27)), $C27, $D27) * 10, 3)) | M27: =IF(Nispen!I9="", "", ROUND(Nispen!I9 / IF(AND(COUNT(Nispen!$D9:I9) <= 3, ISNUMBER($C27)), $C27, $D27) * 10, 3)) | N27: =IF(Nispen!J9="", "", ROUND(Nispen!J9 / IF(AND(COUNT(Nispen!$D9:J9) <= 3, ISNUMBER($C27)), $C27, $D27) * 10, 3)) | O27: =IF(Nispen!P9="", "", ROUND(Nispen!P9 / IF(AND(COUNT(Nispen!$D9:$J9,Nispen!$P9:P9) <= 3, ISNUMBER($C27)), $C27, $E27) * 10, 3)) | P27: =IF(Nispen!Q9="", "", ROUND(Nispen!Q9 / IF(AND(COUNT(Nispen!$D9:$J9,Nispen!$P9:Q9) <= 3, ISNUMBER($C27)), $C27, $E27) * 10, 3)) | Q27: =IF(Nispen!R9="", "", ROUND(Nispen!R9 / IF(AND(COUNT(Nispen!$D9:$J9,Nispen!$P9:R9) <= 3, ISNUMBER($C27)), $C27, $E27) * 10, 3)) | R27: =IF(Nispen!S9="", "", ROUND(Nispen!S9 / IF(AND(COUNT(Nispen!$D9:$J9,Nispen!$P9:S9) <= 3, ISNUMBER($C27)), $C27, $E27) * 10, 3)) | S27: =IF(Nispen!T9="", "", ROUND(Nispen!T9 / IF(AND(COUNT(Nispen!$D9:$J9,Nispen!$P9:T9) <= 3, ISNUMBER($C27)), $C27, $E27) * 10, 3)) | T27: =IF(Nispen!U9="", "", ROUND(Nispen!U9 / IF(AND(COUNT(Nispen!$D9:$J9,Nispen!$P9:U9) <= 3, ISNUMBER($C27)), $C27, $E27) * 10, 3)) | U27: =IF(Nispen!V9="", "", ROUND(Nispen!V9 / IF(AND(COUNT(Nispen!$D9:$J9,Nispen!$P9:V9) <= 3, ISNUMBER($C27)), $C27, $E27) * 10, 3))
A28: =IF(Nispen!AB10=0, "", Nispen!AB10) | B28: =Nispen!B10 -> Talboom Ad | C28: =IFERROR(VALUE(MID($B28, SEARCH("[NS ", $B28)+4, 2)), "") | D28: =Nispen!C10 -> 15 | E28: =Nispen!O10 -> 15 | F28: =IF(Nispen!AA10=0," ",SUM(H28:U28)) | H28: =IF(Nispen!D10="", "", ROUND(Nispen!D10 / IF(AND(COUNT(Nispen!$D10:D10) <= 3, ISNUMBER($C28)), $C28, $D28) * 10, 3)) | I28: =IF(Nispen!E10="", "", ROUND(Nispen!E10 / IF(AND(COUNT(Nispen!$D10:E10) <= 3, ISNUMBER($C28)), $C28, $D28) * 10, 3)) | J28: =IF(Nispen!F10="", "", ROUND(Nispen!F10 / IF(AND(COUNT(Nispen!$D10:F10) <= 3, ISNUMBER($C28)), $C28, $D28) * 10, 3)) | K28: =IF(Nispen!G10="", "", ROUND(Nispen!G10 / IF(AND(COUNT(Nispen!$D10:G10) <= 3, ISNUMBER($C28)), $C28, $D28) * 10, 3)) | L28: =IF(Nispen!H10="", "", ROUND(Nispen!H10 / IF(AND(COUNT(Nispen!$D10:H10) <= 3, ISNUMBER($C28)), $C28, $D28) * 10, 3)) | M28: =IF(Nispen!I10="", "", ROUND(Nispen!I10 / IF(AND(COUNT(Nispen!$D10:I10) <= 3, ISNUMBER($C28)), $C28, $D28) * 10, 3)) | N28: =IF(Nispen!J10="", "", ROUND(Nispen!J10 / IF(AND(COUNT(Nispen!$D10:J10) <= 3, ISNUMBER($C28)), $C28, $D28) * 10, 3)) | O28: =IF(Nispen!P10="", "", ROUND(Nispen!P10 / IF(AND(COUNT(Nispen!$D10:$J10,Nispen!$P10:P10) <= 3, ISNUMBER($C28)), $C28, $E28) * 10, 3)) | P28: =IF(Nispen!Q10="", "", ROUND(Nispen!Q10 / IF(AND(COUNT(Nispen!$D10:$J10,Nispen!$P10:Q10) <= 3, ISNUMBER($C28)), $C28, $E28) * 10, 3)) | Q28: =IF(Nispen!R10="", "", ROUND(Nispen!R10 / IF(AND(COUNT(Nispen!$D10:$J10,Nispen!$P10:R10) <= 3, ISNUMBER($C28)), $C28, $E28) * 10, 3)) | R28: =IF(Nispen!S10="", "", ROUND(Nispen!S10 / IF(AND(COUNT(Nispen!$D10:$J10,Nispen!$P10:S10) <= 3, ISNUMBER($C28)), $C28, $E28) * 10, 3)) | S28: =IF(Nispen!T10="", "", ROUND(Nispen!T10 / IF(AND(COUNT(Nispen!$D10:$J10,Nispen!$P10:T10) <= 3, ISNUMBER($C28)), $C28, $E28) * 10, 3)) | T28: =IF(Nispen!U10="", "", ROUND(Nispen!U10 / IF(AND(COUNT(Nispen!$D10:$J10,Nispen!$P10:U10) <= 3, ISNUMBER($C28)), $C28, $E28) * 10, 3)) | U28: =IF(Nispen!V10="", "", ROUND(Nispen!V10 / IF(AND(COUNT(Nispen!$D10:$J10,Nispen!$P10:V10) <= 3, ISNUMBER($C28)), $C28, $E28) * 10, 3))
A29: =IF(Nispen!AB11=0, "", Nispen!AB11) -> 5 | B29: =Nispen!B11 -> Thielen Jef | C29: =IFERROR(VALUE(MID($B29, SEARCH("[NS ", $B29)+4, 2)), "") | D29: =Nispen!C11 -> 25 | E29: =Nispen!O11 -> 25 | F29: =IF(Nispen!AA11=0," ",SUM(H29:U29)) -> 47.2 | H29: =IF(Nispen!D11="", "", ROUND(Nispen!D11 / IF(AND(COUNT(Nispen!$D11:D11) <= 3, ISNUMBER($C29)), $C29, $D29) * 10, 3)) -> 11.2 | I29: =IF(Nispen!E11="", "", ROUND(Nispen!E11 / IF(AND(COUNT(Nispen!$D11:E11) <= 3, ISNUMBER($C29)), $C29, $D29) * 10, 3)) -> 6.8 | J29: =IF(Nispen!F11="", "", ROUND(Nispen!F11 / IF(AND(COUNT(Nispen!$D11:F11) <= 3, ISNUMBER($C29)), $C29, $D29) * 10, 3)) -> 10.8 | K29: =IF(Nispen!G11="", "", ROUND(Nispen!G11 / IF(AND(COUNT(Nispen!$D11:G11) <= 3, ISNUMBER($C29)), $C29, $D29) * 10, 3)) -> 12 | L29: =IF(Nispen!H11="", "", ROUND(Nispen!H11 / IF(AND(COUNT(Nispen!$D11:H11) <= 3, ISNUMBER($C29)), $C29, $D29) * 10, 3)) | M29: =IF(Nispen!I11="", "", ROUND(Nispen!I11 / IF(AND(COUNT(Nispen!$D11:I11) <= 3, ISNUMBER($C29)), $C29, $D29) * 10, 3)) | N29: =IF(Nispen!J11="", "", ROUND(Nispen!J11 / IF(AND(COUNT(Nispen!$D11:J11) <= 3, ISNUMBER($C29)), $C29, $D29) * 10, 3)) -> 6.4 | O29: =IF(Nispen!P11="", "", ROUND(Nispen!P11 / IF(AND(COUNT(Nispen!$D11:$J11,Nispen!$P11:P11) <= 3, ISNUMBER($C29)), $C29, $E29) * 10, 3)) | P29: =IF(Nispen!Q11="", "", ROUND(Nispen!Q11 / IF(AND(COUNT(Nispen!$D11:$J11,Nispen!$P11:Q11) <= 3, ISNUMBER($C29)), $C29, $E29) * 10, 3)) | Q29: =IF(Nispen!R11="", "", ROUND(Nispen!R11 / IF(AND(COUNT(Nispen!$D11:$J11,Nispen!$P11:R11) <= 3, ISNUMBER($C29)), $C29, $E29) * 10, 3)) | R29: =IF(Nispen!S11="", "", ROUND(Nispen!S11 / IF(AND(COUNT(Nispen!$D11:$J11,Nispen!$P11:S11) <= 3, ISNUMBER($C29)), $C29, $E29) * 10, 3)) | S29: =IF(Nispen!T11="", "", ROUND(Nispen!T11 / IF(AND(COUNT(Nispen!$D11:$J11,Nispen!$P11:T11) <= 3, ISNUMBER($C29)), $C29, $E29) * 10, 3)) | T29: =IF(Nispen!U11="", "", ROUND(Nispen!U11 / IF(AND(COUNT(Nispen!$D11:$J11,Nispen!$P11:U11) <= 3, ISNUMBER($C29)), $C29, $E29) * 10, 3)) | U29: =IF(Nispen!V11="", "", ROUND(Nispen!V11 / IF(AND(COUNT(Nispen!$D11:$J11,Nispen!$P11:V11) <= 3, ISNUMBER($C29)), $C29, $E29) * 10, 3))
A30: =IF(Nispen!AB12=0, "", Nispen!AB12) -> 2 | B30: =Nispen!B12 -> Uijtdehaag Nico | C30: =IFERROR(VALUE(MID($B30, SEARCH("[NS ", $B30)+4, 2)), "") | D30: =Nispen!C12 -> 22 | E30: =Nispen!O12 -> 22 | F30: =IF(Nispen!AA12=0," ",SUM(H30:U30)) -> 25.455 | H30: =IF(Nispen!D12="", "", ROUND(Nispen!D12 / IF(AND(COUNT(Nispen!$D12:D12) <= 3, ISNUMBER($C30)), $C30, $D30) * 10, 3)) -> 10 | I30: =IF(Nispen!E12="", "", ROUND(Nispen!E12 / IF(AND(COUNT(Nispen!$D12:E12) <= 3, ISNUMBER($C30)), $C30, $D30) * 10, 3)) | J30: =IF(Nispen!F12="", "", ROUND(Nispen!F12 / IF(AND(COUNT(Nispen!$D12:F12) <= 3, ISNUMBER($C30)), $C30, $D30) * 10, 3)) -> 15.455 | K30: =IF(Nispen!G12="", "", ROUND(Nispen!G12 / IF(AND(COUNT(Nispen!$D12:G12) <= 3, ISNUMBER($C30)), $C30, $D30) * 10, 3)) | L30: =IF(Nispen!H12="", "", ROUND(Nispen!H12 / IF(AND(COUNT(Nispen!$D12:H12) <= 3, ISNUMBER($C30)), $C30, $D30) * 10, 3)) | M30: =IF(Nispen!I12="", "", ROUND(Nispen!I12 / IF(AND(COUNT(Nispen!$D12:I12) <= 3, ISNUMBER($C30)), $C30, $D30) * 10, 3)) | N30: =IF(Nispen!J12="", "", ROUND(Nispen!J12 / IF(AND(COUNT(Nispen!$D12:J12) <= 3, ISNUMBER($C30)), $C30, $D30) * 10, 3)) | O30: =IF(Nispen!P12="", "", ROUND(Nispen!P12 / IF(AND(COUNT(Nispen!$D12:$J12,Nispen!$P12:P12) <= 3, ISNUMBER($C30)), $C30, $E30) * 10, 3)) | P30: =IF(Nispen!Q12="", "", ROUND(Nispen!Q12 / IF(AND(COUNT(Nispen!$D12:$J12,Nispen!$P12:Q12) <= 3, ISNUMBER($C30)), $C30, $E30) * 10, 3)) | Q30: =IF(Nispen!R12="", "", ROUND(Nispen!R12 / IF(AND(COUNT(Nispen!$D12:$J12,Nispen!$P12:R12) <= 3, ISNUMBER($C30)), $C30, $E30) * 10, 3)) | R30: =IF(Nispen!S12="", "", ROUND(Nispen!S12 / IF(AND(COUNT(Nispen!$D12:$J12,Nispen!$P12:S12) <= 3, ISNUMBER($C30)), $C30, $E30) * 10, 3)) | S30: =IF(Nispen!T12="", "", ROUND(Nispen!T12 / IF(AND(COUNT(Nispen!$D12:$J12,Nispen!$P12:T12) <= 3, ISNUMBER($C30)), $C30, $E30) * 10, 3)) | T30: =IF(Nispen!U12="", "", ROUND(Nispen!U12 / IF(AND(COUNT(Nispen!$D12:$J12,Nispen!$P12:U12) <= 3, ISNUMBER($C30)), $C30, $E30) * 10, 3)) | U30: =IF(Nispen!V12="", "", ROUND(Nispen!V12 / IF(AND(COUNT(Nispen!$D12:$J12,Nispen!$P12:V12) <= 3, ISNUMBER($C30)), $C30, $E30) * 10, 3))
A31: =IF(Nispen!AB13=0, "", Nispen!AB13) -> 2 | B31: =Nispen!B13 -> Van Turnhout Herman | C31: =IFERROR(VALUE(MID($B31, SEARCH("[NS ", $B31)+4, 2)), "") | D31: =Nispen!C13 -> 15 | E31: =Nispen!O13 -> 15 | F31: =IF(Nispen!AA13=0," ",SUM(H31:U31)) -> 15.333 | H31: =IF(Nispen!D13="", "", ROUND(Nispen!D13 / IF(AND(COUNT(Nispen!$D13:D13) <= 3, ISNUMBER($C31)), $C31, $D31) * 10, 3)) | I31: =IF(Nispen!E13="", "", ROUND(Nispen!E13 / IF(AND(COUNT(Nispen!$D13:E13) <= 3, ISNUMBER($C31)), $C31, $D31) * 10, 3)) -> 8 | J31: =IF(Nispen!F13="", "", ROUND(Nispen!F13 / IF(AND(COUNT(Nispen!$D13:F13) <= 3, ISNUMBER($C31)), $C31, $D31) * 10, 3)) -> 7.333 | K31: =IF(Nispen!G13="", "", ROUND(Nispen!G13 / IF(AND(COUNT(Nispen!$D13:G13) <= 3, ISNUMBER($C31)), $C31, $D31) * 10, 3)) | L31: =IF(Nispen!H13="", "", ROUND(Nispen!H13 / IF(AND(COUNT(Nispen!$D13:H13) <= 3, ISNUMBER($C31)), $C31, $D31) * 10, 3)) | M31: =IF(Nispen!I13="", "", ROUND(Nispen!I13 / IF(AND(COUNT(Nispen!$D13:I13) <= 3, ISNUMBER($C31)), $C31, $D31) * 10, 3)) | N31: =IF(Nispen!J13="", "", ROUND(Nispen!J13 / IF(AND(COUNT(Nispen!$D13:J13) <= 3, ISNUMBER($C31)), $C31, $D31) * 10, 3)) | O31: =IF(Nispen!P13="", "", ROUND(Nispen!P13 / IF(AND(COUNT(Nispen!$D13:$J13,Nispen!$P13:P13) <= 3, ISNUMBER($C31)), $C31, $E31) * 10, 3)) | P31: =IF(Nispen!Q13="", "", ROUND(Nispen!Q13 / IF(AND(COUNT(Nispen!$D13:$J13,Nispen!$P13:Q13) <= 3, ISNUMBER($C31)), $C31, $E31) * 10, 3)) | Q31: =IF(Nispen!R13="", "", ROUND(Nispen!R13 / IF(AND(COUNT(Nispen!$D13:$J13,Nispen!$P13:R13) <= 3, ISNUMBER($C31)), $C31, $E31) * 10, 3)) | R31: =IF(Nispen!S13="", "", ROUND(Nispen!S13 / IF(AND(COUNT(Nispen!$D13:$J13,Nispen!$P13:S13) <= 3, ISNUMBER($C31)), $C31, $E31) * 10, 3)) | S31: =IF(Nispen!T13="", "", ROUND(Nispen!T13 / IF(AND(COUNT(Nispen!$D13:$J13,Nispen!$P13:T13) <= 3, ISNUMBER($C31)), $C31, $E31) * 10, 3)) | T31: =IF(Nispen!U13="", "", ROUND(Nispen!U13 / IF(AND(COUNT(Nispen!$D13:$J13,Nispen!$P13:U13) <= 3, ISNUMBER($C31)), $C31, $E31) * 10, 3)) | U31: =IF(Nispen!V13="", "", ROUND(Nispen!V13 / IF(AND(COUNT(Nispen!$D13:$J13,Nispen!$P13:V13) <= 3, ISNUMBER($C31)), $C31, $E31) * 10, 3))
A32: =IF(Nispen!AB14=0, "", Nispen!AB14) -> 2 | B32: =Nispen!B14 -> Van Wesel Jos | C32: =IFERROR(VALUE(MID($B32, SEARCH("[NS ", $B32)+4, 2)), "") | D32: =Nispen!C14 -> 21 | E32: =Nispen!O14 -> 21 | F32: =IF(Nispen!AA14=0," ",SUM(H32:U32)) -> 12.857 | H32: =IF(Nispen!D14="", "", ROUND(Nispen!D14 / IF(AND(COUNT(Nispen!$D14:D14) <= 3, ISNUMBER($C32)), $C32, $D32) * 10, 3)) | I32: =IF(Nispen!E14="", "", ROUND(Nispen!E14 / IF(AND(COUNT(Nispen!$D14:E14) <= 3, ISNUMBER($C32)), $C32, $D32) * 10, 3)) | J32: =IF(Nispen!F14="", "", ROUND(Nispen!F14 / IF(AND(COUNT(Nispen!$D14:F14) <= 3, ISNUMBER($C32)), $C32, $D32) * 10, 3)) -> 6.667 | K32: =IF(Nispen!G14="", "", ROUND(Nispen!G14 / IF(AND(COUNT(Nispen!$D14:G14) <= 3, ISNUMBER($C32)), $C32, $D32) * 10, 3)) -> 6.19 | L32: =IF(Nispen!H14="", "", ROUND(Nispen!H14 / IF(AND(COUNT(Nispen!$D14:H14) <= 3, ISNUMBER($C32)), $C32, $D32) * 10, 3)) | M32: =IF(Nispen!I14="", "", ROUND(Nispen!I14 / IF(AND(COUNT(Nispen!$D14:I14) <= 3, ISNUMBER($C32)), $C32, $D32) * 10, 3)) | N32: =IF(Nispen!J14="", "", ROUND(Nispen!J14 / IF(AND(COUNT(Nispen!$D14:J14) <= 3, ISNUMBER($C32)), $C32, $D32) * 10, 3)) | O32: =IF(Nispen!P14="", "", ROUND(Nispen!P14 / IF(AND(COUNT(Nispen!$D14:$J14,Nispen!$P14:P14) <= 3, ISNUMBER($C32)), $C32, $E32) * 10, 3)) | P32: =IF(Nispen!Q14="", "", ROUND(Nispen!Q14 / IF(AND(COUNT(Nispen!$D14:$J14,Nispen!$P14:Q14) <= 3, ISNUMBER($C32)), $C32, $E32) * 10, 3)) | Q32: =IF(Nispen!R14="", "", ROUND(Nispen!R14 / IF(AND(COUNT(Nispen!$D14:$J14,Nispen!$P14:R14) <= 3, ISNUMBER($C32)), $C32, $E32) * 10, 3)) | R32: =IF(Nispen!S14="", "", ROUND(Nispen!S14 / IF(AND(COUNT(Nispen!$D14:$J14,Nispen!$P14:S14) <= 3, ISNUMBER($C32)), $C32, $E32) * 10, 3)) | S32: =IF(Nispen!T14="", "", ROUND(Nispen!T14 / IF(AND(COUNT(Nispen!$D14:$J14,Nispen!$P14:T14) <= 3, ISNUMBER($C32)), $C32, $E32) * 10, 3)) | T32: =IF(Nispen!U14="", "", ROUND(Nispen!U14 / IF(AND(COUNT(Nispen!$D14:$J14,Nispen!$P14:U14) <= 3, ISNUMBER($C32)), $C32, $E32) * 10, 3)) | U32: =IF(Nispen!V14="", "", ROUND(Nispen!V14 / IF(AND(COUNT(Nispen!$D14:$J14,Nispen!$P14:V14) <= 3, ISNUMBER($C32)), $C32, $E32) * 10, 3))
A33: =IF(Nispen!AB15=0, "", Nispen!AB15) | B33: =Nispen!B15 -> 0 | C33: =IFERROR(VALUE(MID($B33, SEARCH("[NS ", $B33)+4, 2)), "") | D33: =Nispen!C15 -> 0 | E33: =Nispen!O15 -> 0 | F33: =IF(Nispen!AA15=0," ",SUM(H33:U33)) | H33: =IF(Nispen!D15="", "", ROUND(Nispen!D15 / IF(AND(COUNT(Nispen!$D15:D15) <= 3, ISNUMBER($C33)), $C33, $D33) * 10, 3)) | I33: =IF(Nispen!E15="", "", ROUND(Nispen!E15 / IF(AND(COUNT(Nispen!$D15:E15) <= 3, ISNUMBER($C33)), $C33, $D33) * 10, 3)) | J33: =IF(Nispen!F15="", "", ROUND(Nispen!F15 / IF(AND(COUNT(Nispen!$D15:F15) <= 3, ISNUMBER($C33)), $C33, $D33) * 10, 3)) | K33: =IF(Nispen!G15="", "", ROUND(Nispen!G15 / IF(AND(COUNT(Nispen!$D15:G15) <= 3, ISNUMBER($C33)), $C33, $D33) * 10, 3)) | L33: =IF(Nispen!H15="", "", ROUND(Nispen!H15 / IF(AND(COUNT(Nispen!$D15:H15) <= 3, ISNUMBER($C33)), $C33, $D33) * 10, 3)) | M33: =IF(Nispen!I15="", "", ROUND(Nispen!I15 / IF(AND(COUNT(Nispen!$D15:I15) <= 3, ISNUMBER($C33)), $C33, $D33) * 10, 3)) | N33: =IF(Nispen!J15="", "", ROUND(Nispen!J15 / IF(AND(COUNT(Nispen!$D15:J15) <= 3, ISNUMBER($C33)), $C33, $D33) * 10, 3)) | O33: =IF(Nispen!P15="", "", ROUND(Nispen!P15 / IF(AND(COUNT(Nispen!$D15:$J15,Nispen!$P15:P15) <= 3, ISNUMBER($C33)), $C33, $E33) * 10, 3)) | P33: =IF(Nispen!Q15="", "", ROUND(Nispen!Q15 / IF(AND(COUNT(Nispen!$D15:$J15,Nispen!$P15:Q15) <= 3, ISNUMBER($C33)), $C33, $E33) * 10, 3)) | Q33: =IF(Nispen!R15="", "", ROUND(Nispen!R15 / IF(AND(COUNT(Nispen!$D15:$J15,Nispen!$P15:R15) <= 3, ISNUMBER($C33)), $C33, $E33) * 10, 3)) | R33: =IF(Nispen!S15="", "", ROUND(Nispen!S15 / IF(AND(COUNT(Nispen!$D15:$J15,Nispen!$P15:S15) <= 3, ISNUMBER($C33)), $C33, $E33) * 10, 3)) | S33: =IF(Nispen!T15="", "", ROUND(Nispen!T15 / IF(AND(COUNT(Nispen!$D15:$J15,Nispen!$P15:T15) <= 3, ISNUMBER($C33)), $C33, $E33) * 10, 3)) | T33: =IF(Nispen!U15="", "", ROUND(Nispen!U15 / IF(AND(COUNT(Nispen!$D15:$J15,Nispen!$P15:U15) <= 3, ISNUMBER($C33)), $C33, $E33) * 10, 3)) | U33: =IF(Nispen!V15="", "", ROUND(Nispen!V15 / IF(AND(COUNT(Nispen!$D15:$J15,Nispen!$P15:V15) <= 3, ISNUMBER($C33)), $C33, $E33) * 10, 3))
