Workbook

Sheet Rangschikking
A1: 0 | B1: Rangschikking 2026 - 2027
F2: Laatst gewijzigd
A3: 2 | B3: België - Nederland | F3: 46302
B4: =IF(A8=14,"EINDSTAND", "TUSSENSTAND" ) -> TUSSENSTAND
N5: CONTROLE T/M RONDE | O5: CONTROLE PER RONDE
A6: Gespeeld | C6: Ploeg | D6: Punten | F6: Caramboles | H6: CLUB-KAMPIOEN | K6: NIEUW GEMIDDELDE | L6: WEDSTRIJDEN GESPEELD | N6: 4 | O6: 4
A8: =COUNTIF(Punten!$H$115:'Punten'!$U$115,">0") -> 4 | B8: =IF(A8>0,"W", " ") -> W | C8: Wildert 1 | D8: =Punten!$F$116 -> 254.491 | F8: =Wildert1!$AA$20 -> 849 | H8: =IFERROR(INDEX(Wildert1!$B$5:$B$19,MATCH(MAX(Wildert1!$AE$5:$AE$19),Wildert1!$AE$5:$AE$19,0)),"") -> Buijk Jan | J8: =IFERROR(MAX(Wildert1!$AE$5:$AE$19),"") -> 129.46429 | K8: =IFERROR(VLOOKUP($H8,Wildert1!$B$5:$AC$19,28,0),"") -> 72.5 | L8: =IFERROR(VLOOKUP($H8,Wildert1!$B$5:$AC$19,27,0),"") -> 2 | N8: =VLOOKUP($C8,Punten!$G$3:$U$154,1+$N$6,0) -> 254.491 | O8: =VLOOKUP($C8,Punten!$F$3:$U$154,2+$O$6,0) -> 72.937
A9: =COUNTIF(Punten!$H$96:'Punten'!$U$96,">0") -> 4 | B9: =IF(A9>0,"W", " ") -> W | C9: Sen. Putte | D9: =Punten!$F$97 -> 247.167 | F9: =Putte!$AA$20 -> 838 | H9: =IFERROR(INDEX(Putte!$B$5:$B$19,MATCH(MAX(Putte!$AE$5:$AE$19),Putte!$AE$5:$AE$19,0)),"") -> De Clerck Ludo [NS 35] | J9: =IFERROR(MAX(Putte!$AE$5:$AE$19),"") -> 144.7619 | K9: =IFERROR(VLOOKUP($H9,Putte!$B$5:$AC$19,28,0),"") -> 50.666667 | L9: =IFERROR(VLOOKUP($H9,Putte!$B$5:$AC$19,27,0),"") -> 3 | N9: =VLOOKUP($C9,Punten!$G$3:$U$154,1+$N$6,0) -> 247.167 | O9: =VLOOKUP($C9,Punten!$F$3:$U$154,2+$O$6,0) -> 61.984
A10: =COUNTIF(Punten!$H$134:'Punten'!$U$134,">0") -> 4 | B10: =IF(A10>0,"W", " ") -> W | C10: Wildert 2 | D10: =Punten!$F$135 -> 240.273 | F10: =Wildert2!$AA$20 -> 850 | H10: =IFERROR(INDEX(Wildert2!$B$5:$B$19,MATCH(MAX(Wildert2!$AE$5:$AE$19),Wildert2!$AE$5:$AE$19,0)),"") -> Van Ginneken Ludo | J10: =IFERROR(MAX(Wildert2!$AE$5:$AE$19),"") -> 112.59259 | K10: =IFERROR(VLOOKUP($H10,Wildert2!$B$5:$AC$19,28,0),"") -> 50.666667 | L10: =IFERROR(VLOOKUP($H10,Wildert2!$B$5:$AC$19,27,0),"") -> 3 | N10: =VLOOKUP($C10,Punten!$G$3:$U$154,1+$N$6,0) -> 240.273 | O10: =VLOOKUP($C10,Punten!$F$3:$U$154,2+$O$6,0) -> 58.108
A11: =COUNTIF(Punten!$H$20:'Punten'!$U$20,">0") -> 4 | B11: =IF(A11>0,"W", " ") -> W | C11: Horendonk | D11: =Punten!$F$20 -> 239.199 | F11: =Horendonk!$AA$20 -> 611 | H11: =IFERROR(INDEX(Horendonk!$B$5:$B$19,MATCH(MAX(Horendonk!$AE$5:$AE$19),Horendonk!$AE$5:$AE$19,0)),"") -> Vergouwen René | J11: =IFERROR(MAX(Horendonk!$AE$5:$AE$19),"") -> 115.55556 | K11: =IFERROR(VLOOKUP($H11,Horendonk!$B$5:$AC$19,28,0),"") -> 34.666667 | L11: =IFERROR(VLOOKUP($H11,Horendonk!$B$5:$AC$19,27,0),"") -> 3 | N11: =VLOOKUP($C11,Punten!$G$3:$U$154,1+$N$6,0) -> 239.199 | O11: =VLOOKUP($C11,Punten!$F$3:$U$154,2+$O$6,0) -> 59.817
A12: =COUNTIF(Punten!$H$57:'Punten'!$U$57,">0") -> 4 | B12: =IF(A12>0,"W", " ") -> W | C12: Kerkuilen | D12: =Punten!$F$58 -> 223.376 | F12: =Kerkuilen!$AA$20 -> 903 | H12: =IFERROR(INDEX(Kerkuilen!$B$5:$B$19,MATCH(MAX(Kerkuilen!$AE$5:$AE$19),Kerkuilen!$AE$5:$AE$19,0)),"") -> Naulaerts Rik | J12: =IFERROR(MAX(Kerkuilen!$AE$5:$AE$19),"") -> 144.56522 | K12: =IFERROR(VLOOKUP($H12,Kerkuilen!$B$5:$AC$19,28,0),"") -> 66.5 | L12: =IFERROR(VLOOKUP($H12,Kerkuilen!$B$5:$AC$19,27,0),"") -> 2 | N12: =VLOOKUP($C12,Punten!$G$3:$U$154,1+$N$6,0) -> 223.376 | O12: =VLOOKUP($C12,Punten!$F$3:$U$154,2+$O$6,0) -> 57.696
A13: =COUNTIF(Punten!$H$76:'Punten'!$U$76,">0") -> 4 | B13: =IF(A13>0,"W", " ") -> W | C13: Oude Glorie | D13: =Punten!$F$77 -> 222.562 | F13: =Oudeglorie!$AA$20 -> 673 | H13: =IFERROR(INDEX(Oudeglorie!$B$5:$B$19,MATCH(MAX(Oudeglorie!$AE$5:$AE$19),Oudeglorie!$AE$5:$AE$19,0)),"") -> Braat Guido | J13: =IFERROR(MAX(Oudeglorie!$AE$5:$AE$19),"") -> 118.18182 | K13: =IFERROR(VLOOKUP($H13,Oudeglorie!$B$5:$AC$19,28,0),"") -> 39 | L13: =IFERROR(VLOOKUP($H13,Oudeglorie!$B$5:$AC$19,27,0),"") -> 2 | N13: =VLOOKUP($C13,Punten!$G$3:$U$154,1+$N$6,0) -> 222.562 | O13: =VLOOKUP($C13,Punten!$F$3:$U$154,2+$O$6,0) -> 56.465
A14: =COUNTIF(Punten!$H$38:'Punten'!$U$38,">0") -> 4 | B14: =IF(A14>0,"W", " ") -> W | C14: Sen. Nispen | D14: =Punten!$F$39 -> 205.518 | F14: =Nispen!$AA$20 -> 455 | H14: =IFERROR(INDEX(Nispen!$B$5:$B$19,MATCH(MAX(Nispen!$AE$5:$AE$19),Nispen!$AE$5:$AE$19,0)),"") -> Uijtdehaag Nico | J14: =IFERROR(MAX(Nispen!$AE$5:$AE$19),"") -> 127.27273 | K14: =IFERROR(VLOOKUP($H14,Nispen!$B$5:$AC$19,28,0),"") -> 28 | L14: =IFERROR(VLOOKUP($H14,Nispen!$B$5:$AC$19,27,0),"") -> 2 | N14: =VLOOKUP($C14,Punten!$G$3:$U$154,1+$N$6,0) -> 205.518 | O14: =VLOOKUP($C14,Punten!$F$3:$U$154,2+$O$6,0) -> 54.542
A15: =COUNTIF(Punten!$H$153:'Punten'!$U$153,">0") -> 4 | B15: =IF(A15>0,"W", " ") -> W | C15: De Spil | D15: =Punten!$F$154 -> 205.498 | F15: =DeSpil!$AA$20 -> 566 | H15: =IFERROR(INDEX(DeSpil!$B$5:$B$19,MATCH(MAX(DeSpil!$AE$5:$AE$19),DeSpil!$AE$5:$AE$19,0)),"") -> Stok Adrie | J15: =IFERROR(MAX(DeSpil!$AE$5:$AE$19),"") -> 109.72222 | K15: =IFERROR(VLOOKUP($H15,DeSpil!$B$5:$AC$19,28,0),"") -> 39.5 | L15: =IFERROR(VLOOKUP($H15,DeSpil!$B$5:$AC$19,27,0),"") -> 2 | N15: =VLOOKUP($C15,Punten!$G$3:$U$154,1+$N$6,0) -> 205.498 | O15: =VLOOKUP($C15,Punten!$F$3:$U$154,2+$O$6,0) -> 46.908
C21: Uitslagen en evoluties zijn wekelijks te volgen op:
C22: https://blog.seniorennet.be/GSE_Essen

Sheet Punten
A1: Aantal | F1: Totaal
A2: wedstrijden | F2: punten
B3: HORENDONK | H3: 1 | I3: 2 | J3: 3 | K3: 4 | L3: 5 | M3: 6 | N3: 7 | O3: 8 | P3: 9 | Q3: 10 | R3: 11 | S3: 12 | T3: 13 | U3: 14
A4: =IF(Horendonk!AB5=0, "", Horendonk!AB5) -> 3 | B4: =Horendonk!$B5 -> Ansems Ferre | C4: =IFERROR(VALUE(MID($B4, SEARCH("[NS ", $B4)+4, 2)), "") | D4: =Horendonk!C5 -> 23 | E4: =Horendonk!O5 -> 23 | F4: =IF(Horendonk!$AA5=0," ",SUM(H4:U4)) -> 30 | H4: =IF(Horendonk!D5="", "", ROUND(Horendonk!D5 / IF(AND(COUNT(Horendonk!$D5:D5) <= 3, ISNUMBER($C4)), $C4, $D4) * 10, 3)) -> 10.435 | I4: =IF(Horendonk!E5="", "", ROUND(Horendonk!E5 / IF(AND(COUNT(Horendonk!$D5:E5) <= 3, ISNUMBER($C4)), $C4, $D4) * 10, 3)) -> 8.261 | J4: =IF(Horendonk!F5="", "", ROUND(Horendonk!F5 / IF(AND(COUNT(Horendonk!$D5:F5) <= 3, ISNUMBER($C4)), $C4, $D4) * 10, 3)) | K4: =IF(Horendonk!G5="", "", ROUND(Horendonk!G5 / IF(AND(COUNT(Horendonk!$D5:G5) <= 3, ISNUMBER($C4)), $C4, $D4) * 10, 3)) -> 11.304 | L4: =IF(Horendonk!H5="", "", ROUND(Horendonk!H5 / IF(AND(COUNT(Horendonk!$D5:H5) <= 3, ISNUMBER($C4)), $C4, $D4) * 10, 3)) | M4: =IF(Horendonk!I5="", "", ROUND(Horendonk!I5 / IF(AND(COUNT(Horendonk!$D5:I5) <= 3, ISNUMBER($C4)), $C4, $D4) * 10, 3)) | N4: =IF(Horendonk!J5="", "", ROUND(Horendonk!J5 / IF(AND(COUNT(Horendonk!$D5:J5) <= 3, ISNUMBER($C4)), $C4, $D4) * 10, 3)) | O4: =IF(Horendonk!P5="", "", ROUND(Horendonk!P5 / IF(AND(COUNT(Horendonk!$D5:$J5,Horendonk!$P5:P5) <= 3, ISNUMBER($C4)), $C4, $E4) * 10, 3)) | P4: =IF(Horendonk!Q5="", "", ROUND(Horendonk!Q5 / IF(AND(COUNT(Horendonk!$D5:$J5,Horendonk!$P5:Q5) <= 3, ISNUMBER($C4)), $C4, $E4) * 10, 3)) | Q4: =IF(Horendonk!R5="", "", ROUND(Horendonk!R5 / IF(AND(COUNT(Horendonk!$D5:$J5,Horendonk!$P5:R5) <= 3, ISNUMBER($C4)), $C4, $E4) * 10, 3)) | R4: =IF(Horendonk!S5="", "", ROUND(Horendonk!S5 / IF(AND(COUNT(Horendonk!$D5:$J5,Horendonk!$P5:S5) <= 3, ISNUMBER($C4)), $C4, $E4) * 10, 3)) | S4: =IF(Horendonk!T5="", "", ROUND(Horendonk!T5 / IF(AND(COUNT(Horendonk!$D5:$J5,Horendonk!$P5:T5) <= 3, ISNUMBER($C4)), $C4, $E4) * 10, 3)) | T4: =IF(Horendonk!U5="", "", ROUND(Horendonk!U5 / IF(AND(COUNT(Horendonk!$D5:$J5,Horendonk!$P5:U5) <= 3, ISNUMBER($C4)), $C4, $E4) * 10, 3)) | U4: =IF(Horendonk!V5="", "", ROUND(Horendonk!V5 / IF(AND(COUNT(Horendonk!$D5:$J5,Horendonk!$P5:V5) <= 3, ISNUMBER($C4)), $C4, $E4) * 10, 3))
A5: =IF(Horendonk!AB6=0, "", Horendonk!AB6) | B5: =Horendonk!$B6 -> Arnouts Louis | C5: =IFERROR(VALUE(MID($B5, SEARCH("[NS ", $B5)+4, 2)), "") | D5: =Horendonk!C6 -> 47 | E5: =Horendonk!O6 -> 47 | F5: =IF(Horendonk!$AA6=0," ",SUM(H5:U5)) | H5: =IF(Horendonk!D6="", "", ROUND(Horendonk!D6 / IF(AND(COUNT(Horendonk!$D6:D6) <= 3, ISNUMBER($C5)), $C5, $D5) * 10, 3)) | I5: =IF(Horendonk!E6="", "", ROUND(Horendonk!E6 / IF(AND(COUNT(Horendonk!$D6:E6) <= 3, ISNUMBER($C5)), $C5, $D5) * 10, 3)) | J5: =IF(Horendonk!F6="", "", ROUND(Horendonk!F6 / IF(AND(COUNT(Horendonk!$D6:F6) <= 3, ISNUMBER($C5)), $C5, $D5) * 10, 3)) | K5: =IF(Horendonk!G6="", "", ROUND(Horendonk!G6 / IF(AND(COUNT(Horendonk!$D6:G6) <= 3, ISNUMBER($C5)), $C5, $D5) * 10, 3)) | L5: =IF(Horendonk!H6="", "", ROUND(Horendonk!H6 / IF(AND(COUNT(Horendonk!$D6:H6) <= 3, ISNUMBER($C5)), $C5, $D5) * 10, 3)) | M5: =IF(Horendonk!I6="", "", ROUND(Horendonk!I6 / IF(AND(COUNT(Horendonk!$D6:I6) <= 3, ISNUMBER($C5)), $C5, $D5) * 10, 3)) | N5: =IF(Horendonk!J6="", "", ROUND(Horendonk!J6 / IF(AND(COUNT(Horendonk!$D6:J6) <= 3, ISNUMBER($C5)), $C5, $D5) * 10, 3)) | O5: =IF(Horendonk!P6="", "", ROUND(Horendonk!P6 / IF(AND(COUNT(Horendonk!$D6:$J6,Horendonk!$P6:P6) <= 3, ISNUMBER($C5)), $C5, $E5) * 10, 3)) | P5: =IF(Horendonk!Q6="", "", ROUND(Horendonk!Q6 / IF(AND(COUNT(Horendonk!$D6:$J6,Horendonk!$P6:Q6) <= 3, ISNUMBER($C5)), $C5, $E5) * 10, 3)) | Q5: =IF(Horendonk!R6="", "", ROUND(Horendonk!R6 / IF(AND(COUNT(Horendonk!$D6:$J6,Horendonk!$P6:R6) <= 3, ISNUMBER($C5)), $C5, $E5) * 10, 3)) | R5: =IF(Horendonk!S6="", "", ROUND(Horendonk!S6 / IF(AND(COUNT(Horendonk!$D6:$J6,Horendonk!$P6:S6) <= 3, ISNUMBER($C5)), $C5, $E5) * 10, 3)) | S5: =IF(Horendonk!T6="", "", ROUND(Horendonk!T6 / IF(AND(COUNT(Horendonk!$D6:$J6,Horendonk!$P6:T6) <= 3, ISNUMBER($C5)), $C5, $E5) * 10, 3)) | T5: =IF(Horendonk!U6="", "", ROUND(Horendonk!U6 / IF(AND(COUNT(Horendonk!$D6:$J6,Horendonk!$P6:U6) <= 3, ISNUMBER($C5)), $C5, $E5) * 10, 3)) | U5: =IF(Horendonk!V6="", "", ROUND(Horendonk!V6 / IF(AND(COUNT(Horendonk!$D6:$J6,Horendonk!$P6:V6) <= 3, ISNUMBER($C5)), $C5, $E5) * 10, 3))
A6: =IF(Horendonk!AB7=0, "", Horendonk!AB7) -> 1 | B6: =Horendonk!$B7 -> De Backer Jef | C6: =IFERROR(VALUE(MID($B6, SEARCH("[NS ", $B6)+4, 2)), "") | D6: =Horendonk!C7 -> 23 | E6: =Horendonk!O7 -> 23 | F6: =IF(Horendonk!$AA7=0," ",SUM(H6:U6)) -> 10.435 | H6: =IF(Horendonk!D7="", "", ROUND(Horendonk!D7 / IF(AND(COUNT(Horendonk!$D7:D7) <= 3, ISNUMBER($C6)), $C6, $D6) * 10, 3)) -> 10.435 | I6: =IF(Horendonk!E7="", "", ROUND(Horendonk!E7 / IF(AND(COUNT(Horendonk!$D7:E7) <= 3, ISNUMBER($C6)), $C6, $D6) * 10, 3)) | J6: =IF(Horendonk!F7="", "", ROUND(Horendonk!F7 / IF(AND(COUNT(Horendonk!$D7:F7) <= 3, ISNUMBER($C6)), $C6, $D6) * 10, 3)) | K6: =IF(Horendonk!G7="", "", ROUND(Horendonk!G7 / IF(AND(COUNT(Horendonk!$D7:G7) <= 3, ISNUMBER($C6)), $C6, $D6) * 10, 3)) | L6: =IF(Horendonk!H7="", "", ROUND(Horendonk!H7 / IF(AND(COUNT(Horendonk!$D7:H7) <= 3, ISNUMBER($C6)), $C6, $D6) * 10, 3)) | M6: =IF(Horendonk!I7="", "", ROUND(Horendonk!I7 / IF(AND(COUNT(Horendonk!$D7:I7) <= 3, ISNUMBER($C6)), $C6, $D6) * 10, 3)) | N6: =IF(Horendonk!J7="", "", ROUND(Horendonk!J7 / IF(AND(COUNT(Horendonk!$D7:J7) <= 3, ISNUMBER($C6)), $C6, $D6) * 10, 3)) | O6: =IF(Horendonk!P7="", "", ROUND(Horendonk!P7 / IF(AND(COUNT(Horendonk!$D7:$J7,Horendonk!$P7:P7) <= 3, ISNUMBER($C6)), $C6, $E6) * 10, 3)) | P6: =IF(Horendonk!Q7="", "", ROUND(Horendonk!Q7 / IF(AND(COUNT(Horendonk!$D7:$J7,Horendonk!$P7:Q7) <= 3, ISNUMBER($C6)), $C6, $E6) * 10, 3)) | Q6: =IF(Horendonk!R7="", "", ROUND(Horendonk!R7 / IF(AND(COUNT(Horendonk!$D7:$J7,Horendonk!$P7:R7) <= 3, ISNUMBER($C6)), $C6, $E6) * 10, 3)) | R6: =IF(Horendonk!S7="", "", ROUND(Horendonk!S7 / IF(AND(COUNT(Horendonk!$D7:$J7,Horendonk!$P7:S7) <= 3, ISNUMBER($C6)), $C6, $E6) * 10, 3)) | S6: =IF(Horendonk!T7="", "", ROUND(Horendonk!T7 / IF(AND(COUNT(Horendonk!$D7:$J7,Horendonk!$P7:T7) <= 3, ISNUMBER($C6)), $C6, $E6) * 10, 3)) | T6: =IF(Horendonk!U7="", "", ROUND(Horendonk!U7 / IF(AND(COUNT(Horendonk!$D7:$J7,Horendonk!$P7:U7) <= 3, ISNUMBER($C6)), $C6, $E6) * 10, 3)) | U6: =IF(Horendonk!V7="", "", ROUND(Horendonk!V7 / IF(AND(COUNT(Horendonk!$D7:$J7,Horendonk!$P7:V7) <= 3, ISNUMBER($C6)), $C6, $E6) * 10, 3))
A7: =IF(Horendonk!AB8=0, "", Horendonk!AB8) -> 3 | B7: =Horendonk!$B8 -> Herreygers Remy | C7: =IFERROR(VALUE(MID($B7, SEARCH("[NS ", $B7)+4, 2)), "") | D7: =Horendonk!C8 -> 39 | E7: =Horendonk!O8 -> 39 | F7: =IF(Horendonk!$AA8=0," ",SUM(H7:U7)) -> 31.026 | H7: =IF(Horendonk!D8="", "", ROUND(Horendonk!D8 / IF(AND(COUNT(Horendonk!$D8:D8) <= 3, ISNUMBER($C7)), $C7, $D7) * 10, 3)) -> 7.436 | I7: =IF(Horendonk!E8="", "", ROUND(Horendonk!E8 / IF(AND(COUNT(Horendonk!$D8:E8) <= 3, ISNUMBER($C7)), $C7, $D7) * 10, 3)) | J7: =IF(Horendonk!F8="", "", ROUND(Horendonk!F8 / IF(AND(COUNT(Horendonk!$D8:F8) <= 3, ISNUMBER($C7)), $C7, $D7) * 10, 3)) -> 11.282 | K7: =IF(Horendonk!G8="", "", ROUND(Horendonk!G8 / IF(AND(COUNT(Horendonk!$D8:G8) <= 3, ISNUMBER($C7)), $C7, $D7) * 10, 3)) -> 12.308 | L7: =IF(Horendonk!H8="", "", ROUND(Horendonk!H8 / IF(AND(COUNT(Horendonk!$D8:H8) <= 3, ISNUMBER($C7)), $C7, $D7) * 10, 3)) | M7: =IF(Horendonk!I8="", "", ROUND(Horendonk!I8 / IF(AND(COUNT(Horendonk!$D8:I8) <= 3, ISNUMBER($C7)), $C7, $D7) * 10, 3)) | N7: =IF(Horendonk!J8="", "", ROUND(Horendonk!J8 / IF(AND(COUNT(Horendonk!$D8:J8) <= 3, ISNUMBER($C7)), $C7, $D7) * 10, 3)) | O7: =IF(Horendonk!P8="", "", ROUND(Horendonk!P8 / IF(AND(COUNT(Horendonk!$D8:$J8,Horendonk!$P8:P8) <= 3, ISNUMBER($C7)), $C7, $E7) * 10, 3)) | P7: =IF(Horendonk!Q8="", "", ROUND(Horendonk!Q8 / IF(AND(COUNT(Horendonk!$D8:$J8,Horendonk!$P8:Q8) <= 3, ISNUMBER($C7)), $C7, $E7) * 10, 3)) | Q7: =IF(Horendonk!R8="", "", ROUND(Horendonk!R8 / IF(AND(COUNT(Horendonk!$D8:$J8,Horendonk!$P8:R8) <= 3, ISNUMBER($C7)), $C7, $E7) * 10, 3)) | R7: =IF(Horendonk!S8="", "", ROUND(Horendonk!S8 / IF(AND(COUNT(Horendonk!$D8:$J8,Horendonk!$P8:S8) <= 3, ISNUMBER($C7)), $C7, $E7) * 10, 3)) | S7: =IF(Horendonk!T8="", "", ROUND(Horendonk!T8 / IF(AND(COUNT(Horendonk!$D8:$J8,Horendonk!$P8:T8) <= 3, ISNUMBER($C7)), $C7, $E7) * 10, 3)) | T7: =IF(Horendonk!U8="", "", ROUND(Horendonk!U8 / IF(AND(COUNT(Horendonk!$D8:$J8,Horendonk!$P8:U8) <= 3, ISNUMBER($C7)), $C7, $E7) * 10, 3)) | U7: =IF(Horendonk!V8="", "", ROUND(Horendonk!V8 / IF(AND(COUNT(Horendonk!$D8:$J8,Horendonk!$P8:V8) <= 3, ISNUMBER($C7)), $C7, $E7) * 10, 3))
A8: =IF(Horendonk!AB9=0, "", Horendonk!AB9) -> 2 | B8: =Horendonk!$B9 -> Maas Guy | C8: =IFERROR(VALUE(MID($B8, SEARCH("[NS ", $B8)+4, 2)), "") | D8: =Horendonk!C9 -> 20 | E8: =Horendonk!O9 -> 20 | F8: =IF(Horendonk!$AA9=0," ",SUM(H8:U8)) -> 17 | H8: =IF(Horendonk!D9="", "", ROUND(Horendonk!D9 / IF(AND(COUNT(Horendonk!$D9:D9) <= 3, ISNUMBER($C8)), $C8, $D8) * 10, 3)) | I8: =IF(Horendonk!E9="", "", ROUND(Horendonk!E9 / IF(AND(COUNT(Horendonk!$D9:E9) <= 3, ISNUMBER($C8)), $C8, $D8) * 10, 3)) -> 9.5 | J8: =IF(Horendonk!F9="", "", ROUND(Horendonk!F9 / IF(AND(COUNT(Horendonk!$D9:F9) <= 3, ISNUMBER($C8)), $C8, $D8) * 10, 3)) -> 7.5 | K8: =IF(Horendonk!G9="", "", ROUND(Horendonk!G9 / IF(AND(COUNT(Horendonk!$D9:G9) <= 3, ISNUMBER($C8)), $C8, $D8) * 10, 3)) | L8: =IF(Horendonk!H9="", "", ROUND(Horendonk!H9 / IF(AND(COUNT(Horendonk!$D9:H9) <= 3, ISNUMBER($C8)), $C8, $D8) * 10, 3)) | M8: =IF(Horendonk!I9="", "", ROUND(Horendonk!I9 / IF(AND(COUNT(Horendonk!$D9:I9) <= 3, ISNUMBER($C8)), $C8, $D8) * 10, 3)) | N8: =IF(Horendonk!J9="", "", ROUND(Horendonk!J9 / IF(AND(COUNT(Horendonk!$D9:J9) <= 3, ISNUMBER($C8)), $C8, $D8) * 10, 3)) | O8: =IF(Horendonk!P9="", "", ROUND(Horendonk!P9 / IF(AND(COUNT(Horendonk!$D9:$J9,Horendonk!$P9:P9) <= 3, ISNUMBER($C8)), $C8, $E8) * 10, 3)) | P8: =IF(Horendonk!Q9="", "", ROUND(Horendonk!Q9 / IF(AND(COUNT(Horendonk!$D9:$J9,Horendonk!$P9:Q9) <= 3, ISNUMBER($C8)), $C8, $E8) * 10, 3)) | Q8: =IF(Horendonk!R9="", "", ROUND(Horendonk!R9 / IF(AND(COUNT(Horendonk!$D9:$J9,Horendonk!$P9:R9) <= 3, ISNUMBER($C8)), $C8, $E8) * 10, 3)) | R8: =IF(Horendonk!S9="", "", ROUND(Horendonk!S9 / IF(AND(COUNT(Horendonk!$D9:$J9,Horendonk!$P9:S9) <= 3, ISNUMBER($C8)), $C8, $E8) * 10, 3)) | S8: =IF(Horendonk!T9="", "", ROUND(Horendonk!T9 / IF(AND(COUNT(Horendonk!$D9:$J9,Horendonk!$P9:T9) <= 3, ISNUMBER($C8)), $C8, $E8) * 10, 3)) | T8: =IF(Horendonk!U9="", "", ROUND(Horendonk!U9 / IF(AND(COUNT(Horendonk!$D9:$J9,Horendonk!$P9:U9) <= 3, ISNUMBER($C8)), $C8, $E8) * 10, 3)) | U8: =IF(Horendonk!V9="", "", ROUND(Horendonk!V9 / IF(AND(COUNT(Horendonk!$D9:$J9,Horendonk!$P9:V9) <= 3, ISNUMBER($C8)), $C8, $E8) * 10, 3))
A9: =IF(Horendonk!AB10=0, "", Horendonk!AB10) -> 3 | B9: =Horendonk!$B10 -> Nelen Johan | C9: =IFERROR(VALUE(MID($B9, SEARCH("[NS ", $B9)+4, 2)), "") | D9: =Horendonk!C10 -> 15 | E9: =Horendonk!O10 -> 15 | F9: =IF(Horendonk!$AA10=0," ",SUM(H9:U9)) -> 29.334 | H9: =IF(Horendonk!D10="", "", ROUND(Horendonk!D10 / IF(AND(COUNT(Horendonk!$D10:D10) <= 3, ISNUMBER($C9)), $C9, $D9) * 10, 3)) -> 4.667 | I9: =IF(Horendonk!E10="", "", ROUND(Horendonk!E10 / IF(AND(COUNT(Horendonk!$D10:E10) <= 3, ISNUMBER($C9)), $C9, $D9) * 10, 3)) -> 16 | J9: =IF(Horendonk!F10="", "", ROUND(Horendonk!F10 / IF(AND(COUNT(Horendonk!$D10:F10) <= 3, ISNUMBER($C9)), $C9, $D9) * 10, 3)) | K9: =IF(Horendonk!G10="", "", ROUND(Horendonk!G10 / IF(AND(COUNT(Horendonk!$D10:G10) <= 3, ISNUMBER($C9)), $C9, $D9) * 10, 3)) -> 8.667 | L9: =IF(Horendonk!H10="", "", ROUND(Horendonk!H10 / IF(AND(COUNT(Horendonk!$D10:H10) <= 3, ISNUMBER($C9)), $C9, $D9) * 10, 3)) | M9: =IF(Horendonk!I10="", "", ROUND(Horendonk!I10 / IF(AND(COUNT(Horendonk!$D10:I10) <= 3, ISNUMBER($C9)), $C9, $D9) * 10, 3)) | N9: =IF(Horendonk!J10="", "", ROUND(Horendonk!J10 / IF(AND(COUNT(Horendonk!$D10:J10) <= 3, ISNUMBER($C9)), $C9, $D9) * 10, 3)) | O9: =IF(Horendonk!P10="", "", ROUND(Horendonk!P10 / IF(AND(COUNT(Horendonk!$D10:$J10,Horendonk!$P10:P10) <= 3, ISNUMBER($C9)), $C9, $E9) * 10, 3)) | P9: =IF(Horendonk!Q10="", "", ROUND(Horendonk!Q10 / IF(AND(COUNT(Horendonk!$D10:$J10,Horendonk!$P10:Q10) <= 3, ISNUMBER($C9)), $C9, $E9) * 10, 3)) | Q9: =IF(Horendonk!R10="", "", ROUND(Horendonk!R10 / IF(AND(COUNT(Horendonk!$D10:$J10,Horendonk!$P10:R10) <= 3, ISNUMBER($C9)), $C9, $E9) * 10, 3)) | R9: =IF(Horendonk!S10="", "", ROUND(Horendonk!S10 / IF(AND(COUNT(Horendonk!$D10:$J10,Horendonk!$P10:S10) <= 3, ISNUMBER($C9)), $C9, $E9) * 10, 3)) | S9: =IF(Horendonk!T10="", "", ROUND(Horendonk!T10 / IF(AND(COUNT(Horendonk!$D10:$J10,Horendonk!$P10:T10) <= 3, ISNUMBER($C9)), $C9, $E9) * 10, 3)) | T9: =IF(Horendonk!U10="", "", ROUND(Horendonk!U10 / IF(AND(COUNT(Horendonk!$D10:$J10,Horendonk!$P10:U10) <= 3, ISNUMBER($C9)), $C9, $E9) * 10, 3)) | U9: =IF(Horendonk!V10="", "", ROUND(Horendonk!V10 / IF(AND(COUNT(Horendonk!$D10:$J10,Horendonk!$P10:V10) <= 3, ISNUMBER($C9)), $C9, $E9) * 10, 3))
A10: =IF(Horendonk!AB11=0, "", Horendonk!AB11) -> 4 | B10: =Horendonk!$B11 -> Oerlemans Willy | C10: =IFERROR(VALUE(MID($B10, SEARCH("[NS ", $B10)+4, 2)), "") | D10: =Horendonk!C11 -> 26 | E10: =Horendonk!O11 -> 26 | F10: =IF(Horendonk!$AA11=0," ",SUM(H10:U10)) -> 39.615 | H10: =IF(Horendonk!D11="", "", ROUND(Horendonk!D11 / IF(AND(COUNT(Horendonk!$D11:D11) <= 3, ISNUMBER($C10)), $C10, $D10) * 10, 3)) -> 10.769 | I10: =IF(Horendonk!E11="", "", ROUND(Horendonk!E11 / IF(AND(COUNT(Horendonk!$D11:E11) <= 3, ISNUMBER($C10)), $C10, $D10) * 10, 3)) -> 15 | J10: =IF(Horendonk!F11="", "", ROUND(Horendonk!F11 / IF(AND(COUNT(Horendonk!$D11:F11) <= 3, ISNUMBER($C10)), $C10, $D10) * 10, 3)) -> 7.308 | K10: =IF(Horendonk!G11="", "", ROUND(Horendonk!G11 / IF(AND(COUNT(Horendonk!$D11:G11) <= 3, ISNUMBER($C10)), $C10, $D10) * 10, 3)) -> 6.538 | L10: =IF(Horendonk!H11="", "", ROUND(Horendonk!H11 / IF(AND(COUNT(Horendonk!$D11:H11) <= 3, ISNUMBER($C10)), $C10, $D10) * 10, 3)) | M10: =IF(Horendonk!I11="", "", ROUND(Horendonk!I11 / IF(AND(COUNT(Horendonk!$D11:I11) <= 3, ISNUMBER($C10)), $C10, $D10) * 10, 3)) | N10: =IF(Horendonk!J11="", "", ROUND(Horendonk!J11 / IF(AND(COUNT(Horendonk!$D11:J11) <= 3, ISNUMBER($C10)), $C10, $D10) * 10, 3)) | O10: =IF(Horendonk!P11="", "", ROUND(Horendonk!P11 / IF(AND(COUNT(Horendonk!$D11:$J11,Horendonk!$P11:P11) <= 3, ISNUMBER($C10)), $C10, $E10) * 10, 3)) | P10: =IF(Horendonk!Q11="", "", ROUND(Horendonk!Q11 / IF(AND(COUNT(Horendonk!$D11:$J11,Horendonk!$P11:Q11) <= 3, ISNUMBER($C10)), $C10, $E10) * 10, 3)) | Q10: =IF(Horendonk!R11="", "", ROUND(Horendonk!R11 / IF(AND(COUNT(Horendonk!$D11:$J11,Horendonk!$P11:R11) <= 3, ISNUMBER($C10)), $C10, $E10) * 10, 3)) | R10: =IF(Horendonk!S11="", "", ROUND(Horendonk!S11 / IF(AND(COUNT(Horendonk!$D11:$J11,Horendonk!$P11:S11) <= 3, ISNUMBER($C10)), $C10, $E10) * 10, 3)) | S10: =IF(Horendonk!T11="", "", ROUND(Horendonk!T11 / IF(AND(COUNT(Horendonk!$D11:$J11,Horendonk!$P11:T11) <= 3, ISNUMBER($C10)), $C10, $E10) * 10, 3)) | T10: =IF(Horendonk!U11="", "", ROUND(Horendonk!U11 / IF(AND(COUNT(Horendonk!$D11:$J11,Horendonk!$P11:U11) <= 3, ISNUMBER($C10)), $C10, $E10) * 10, 3)) | U10: =IF(Horendonk!V11="", "", ROUND(Horendonk!V11 / IF(AND(COUNT(Horendonk!$D11:$J11,Horendonk!$P11:V11) <= 3, ISNUMBER($C10)), $C10, $E10) * 10, 3))
A11: =IF(Horendonk!AB12=0, "", Horendonk!AB12) -> 3 | B11: =Horendonk!$B12 -> Siemons Jos | C11: =IFERROR(VALUE(MID($B11, SEARCH("[NS ", $B11)+4, 2)), "") | D11: =Horendonk!C12 -> 23 | E11: =Horendonk!O12 -> 23 | F11: =IF(Horendonk!$AA12=0," ",SUM(H11:U11)) -> 34.348 | H11: =IF(Horendonk!D12="", "", ROUND(Horendonk!D12 / IF(AND(COUNT(Horendonk!$D12:D12) <= 3, ISNUMBER($C11)), $C11, $D11) * 10, 3)) -> 13.913 | I11: =IF(Horendonk!E12="", "", ROUND(Horendonk!E12 / IF(AND(COUNT(Horendonk!$D12:E12) <= 3, ISNUMBER($C11)), $C11, $D11) * 10, 3)) -> 11.739 | J11: =IF(Horendonk!F12="", "", ROUND(Horendonk!F12 / IF(AND(COUNT(Horendonk!$D12:F12) <= 3, ISNUMBER($C11)), $C11, $D11) * 10, 3)) -> 8.696 | K11: =IF(Horendonk!G12="", "", ROUND(Horendonk!G12 / IF(AND(COUNT(Horendonk!$D12:G12) <= 3, ISNUMBER($C11)), $C11, $D11) * 10, 3)) | L11: =IF(Horendonk!H12="", "", ROUND(Horendonk!H12 / IF(AND(COUNT(Horendonk!$D12:H12) <= 3, ISNUMBER($C11)), $C11, $D11) * 10, 3)) | M11: =IF(Horendonk!I12="", "", ROUND(Horendonk!I12 / IF(AND(COUNT(Horendonk!$D12:I12) <= 3, ISNUMBER($C11)), $C11, $D11) * 10, 3)) | N11: =IF(Horendonk!J12="", "", ROUND(Horendonk!J12 / IF(AND(COUNT(Horendonk!$D12:J12) <= 3, ISNUMBER($C11)), $C11, $D11) * 10, 3)) | O11: =IF(Horendonk!P12="", "", ROUND(Horendonk!P12 / IF(AND(COUNT(Horendonk!$D12:$J12,Horendonk!$P12:P12) <= 3, ISNUMBER($C11)), $C11, $E11) * 10, 3)) | P11: =IF(Horendonk!Q12="", "", ROUND(Horendonk!Q12 / IF(AND(COUNT(Horendonk!$D12:$J12,Horendonk!$P12:Q12) <= 3, ISNUMBER($C11)), $C11, $E11) * 10, 3)) | Q11: =IF(Horendonk!R12="", "", ROUND(Horendonk!R12 / IF(AND(COUNT(Horendonk!$D12:$J12,Horendonk!$P12:R12) <= 3, ISNUMBER($C11)), $C11, $E11) * 10, 3)) | R11: =IF(Horendonk!S12="", "", ROUND(Horendonk!S12 / IF(AND(COUNT(Horendonk!$D12:$J12,Horendonk!$P12:S12) <= 3, ISNUMBER($C11)), $C11, $E11) * 10, 3)) | S11: =IF(Horendonk!T12="", "", ROUND(Horendonk!T12 / IF(AND(COUNT(Horendonk!$D12:$J12,Horendonk!$P12:T12) <= 3, ISNUMBER($C11)), $C11, $E11) * 10, 3)) | T11: =IF(Horendonk!U12="", "", ROUND(Horendonk!U12 / IF(AND(COUNT(Horendonk!$D12:$J12,Horendonk!$P12:U12) <= 3, ISNUMBER($C11)), $C11, $E11) * 10, 3)) | U11: =IF(Horendonk!V12="", "", ROUND(Horendonk!V12 / IF(AND(COUNT(Horendonk!$D12:$J12,Horendonk!$P12:V12) <= 3, ISNUMBER($C11)), $C11, $E11) * 10, 3))
A12: =IF(Horendonk!AB13=0, "", Horendonk!AB13) -> 1 | B12: =Horendonk!$B13 -> Van Aert André | C12: =IFERROR(VALUE(MID($B12, SEARCH("[NS ", $B12)+4, 2)), "") | D12: =Horendonk!C13 -> 31 | E12: =Horendonk!O13 -> 31 | F12: =IF(Horendonk!$AA13=0," ",SUM(H12:U12)) -> 6.774 | H12: =IF(Horendonk!D13="", "", ROUND(Horendonk!D13 / IF(AND(COUNT(Horendonk!$D13:D13) <= 3, ISNUMBER($C12)), $C12, $D12) * 10, 3)) | I12: =IF(Horendonk!E13="", "", ROUND(Horendonk!E13 / IF(AND(COUNT(Horendonk!$D13:E13) <= 3, ISNUMBER($C12)), $C12, $D12) * 10, 3)) | J12: =IF(Horendonk!F13="", "", ROUND(Horendonk!F13 / IF(AND(COUNT(Horendonk!$D13:F13) <= 3, ISNUMBER($C12)), $C12, $D12) * 10, 3)) -> 6.774 | K12: =IF(Horendonk!G13="", "", ROUND(Horendonk!G13 / IF(AND(COUNT(Horendonk!$D13:G13) <= 3, ISNUMBER($C12)), $C12, $D12) * 10, 3)) | L12: =IF(Horendonk!H13="", "", ROUND(Horendonk!H13 / IF(AND(COUNT(Horendonk!$D13:H13) <= 3, ISNUMBER($C12)), $C12, $D12) * 10, 3)) | M12: =IF(Horendonk!I13="", "", ROUND(Horendonk!I13 / IF(AND(COUNT(Horendonk!$D13:I13) <= 3, ISNUMBER($C12)), $C12, $D12) * 10, 3)) | N12: =IF(Horendonk!J13="", "", ROUND(Horendonk!J13 / IF(AND(COUNT(Horendonk!$D13:J13) <= 3, ISNUMBER($C12)), $C12, $D12) * 10, 3)) | O12: =IF(Horendonk!P13="", "", ROUND(Horendonk!P13 / IF(AND(COUNT(Horendonk!$D13:$J13,Horendonk!$P13:P13) <= 3, ISNUMBER($C12)), $C12, $E12) * 10, 3)) | P12: =IF(Horendonk!Q13="", "", ROUND(Horendonk!Q13 / IF(AND(COUNT(Horendonk!$D13:$J13,Horendonk!$P13:Q13) <= 3, ISNUMBER($C12)), $C12, $E12) * 10, 3)) | Q12: =IF(Horendonk!R13="", "", ROUND(Horendonk!R13 / IF(AND(COUNT(Horendonk!$D13:$J13,Horendonk!$P13:R13) <= 3, ISNUMBER($C12)), $C12, $E12) * 10, 3)) | R12: =IF(Horendonk!S13="", "", ROUND(Horendonk!S13 / IF(AND(COUNT(Horendonk!$D13:$J13,Horendonk!$P13:S13) <= 3, ISNUMBER($C12)), $C12, $E12) * 10, 3)) | S12: =IF(Horendonk!T13="", "", ROUND(Horendonk!T13 / IF(AND(COUNT(Horendonk!$D13:$J13,Horendonk!$P13:T13) <= 3, ISNUMBER($C12)), $C12, $E12) * 10, 3)) | T12: =IF(Horendonk!U13="", "", ROUND(Horendonk!U13 / IF(AND(COUNT(Horendonk!$D13:$J13,Horendonk!$P13:U13) <= 3, ISNUMBER($C12)), $C12, $E12) * 10, 3)) | U12: =IF(Horendonk!V13="", "", ROUND(Horendonk!V13 / IF(AND(COUNT(Horendonk!$D13:$J13,Horendonk!$P13:V13) <= 3, ISNUMBER($C12)), $C12, $E12) * 10, 3))
A13: =IF(Horendonk!AB14=0, "", Horendonk!AB14) -> 1 | B13: =Horendonk!$B14 -> Van De Pas Erik [NS 20] | C13: =IFERROR(VALUE(MID($B13, SEARCH("[NS ", $B13)+4, 2)), "") -> 20 | D13: =Horendonk!C14 -> 20 | E13: =Horendonk!O14 -> 20 | F13: =IF(Horendonk!$AA14=0," ",SUM(H13:U13)) -> 6 | H13: =IF(Horendonk!D14="", "", ROUND(Horendonk!D14 / IF(AND(COUNT(Horendonk!$D14:D14) <= 3, ISNUMBER($C13)), $C13, $D13) * 10, 3)) | I13: =IF(Horendonk!E14="", "", ROUND(Horendonk!E14 / IF(AND(COUNT(Horendonk!$D14:E14) <= 3, ISNUMBER($C13)), $C13, $D13) * 10, 3)) | J13: =IF(Horendonk!F14="", "", ROUND(Horendonk!F14 / IF(AND(COUNT(Horendonk!$D14:F14) <= 3, ISNUMBER($C13)), $C13, $D13) * 10, 3)) | K13: =IF(Horendonk!G14="", "", ROUND(Horendonk!G14 / IF(AND(COUNT(Horendonk!$D14:G14) <= 3, ISNUMBER($C13)), $C13, $D13) * 10, 3)) -> 6 | L13: =IF(Horendonk!H14="", "", ROUND(Horendonk!H14 / IF(AND(COUNT(Horendonk!$D14:H14) <= 3, ISNUMBER($C13)), $C13, $D13) * 10, 3)) | M13: =IF(Horendonk!I14="", "", ROUND(Horendonk!I14 / IF(AND(COUNT(Horendonk!$D14:I14) <= 3, ISNUMBER($C13)), $C13, $D13) * 10, 3)) | N13: =IF(Horendonk!J14="", "", ROUND(Horendonk!J14 / IF(AND(COUNT(Horendonk!$D14:J14) <= 3, ISNUMBER($C13)), $C13, $D13) * 10, 3)) | O13: =IF(Horendonk!P14="", "", ROUND(Horendonk!P14 / IF(AND(COUNT(Horendonk!$D14:$J14,Horendonk!$P14:P14) <= 3, ISNUMBER($C13)), $C13, $E13) * 10, 3)) | P13: =IF(Horendonk!Q14="", "", ROUND(Horendonk!Q14 / IF(AND(COUNT(Horendonk!$D14:$J14,Horendonk!$P14:Q14) <= 3, ISNUMBER($C13)), $C13, $E13) * 10, 3)) | Q13: =IF(Horendonk!R14="", "", ROUND(Horendonk!R14 / IF(AND(COUNT(Horendonk!$D14:$J14,Horendonk!$P14:R14) <= 3, ISNUMBER($C13)), $C13, $E13) * 10, 3)) | R13: =IF(Horendonk!S14="", "", ROUND(Horendonk!S14 / IF(AND(COUNT(Horendonk!$D14:$J14,Horendonk!$P14:S14) <= 3, ISNUMBER($C13)), $C13, $E13) * 10, 3)) | S13: =IF(Horendonk!T14="", "", ROUND(Horendonk!T14 / IF(AND(COUNT(Horendonk!$D14:$J14,Horendonk!$P14:T14) <= 3, ISNUMBER($C13)), $C13, $E13) * 10, 3)) | T13: =IF(Horendonk!U14="", "", ROUND(Horendonk!U14 / IF(AND(COUNT(Horendonk!$D14:$J14,Horendonk!$P14:U14) <= 3, ISNUMBER($C13)), $C13, $E13) * 10, 3)) | U13: =IF(Horendonk!V14="", "", ROUND(Horendonk!V14 / IF(AND(COUNT(Horendonk!$D14:$J14,Horendonk!$P14:V14) <= 3, ISNUMBER($C13)), $C13, $E13) * 10, 3))
A14: =IF(Horendonk!AB15=0, "", Horendonk!AB15) -> 3 | B14: =Horendonk!$B15 -> Vergouwen René | C14: =IFERROR(VALUE(MID($B14, SEARCH("[NS ", $B14)+4, 2)), "") | D14: =Horendonk!C15 -> 30 | E14: =Horendonk!O15 -> 30 | F14: =IF(Horendonk!$AA15=0," ",SUM(H14:U14)) -> 34.667 | H14: =IF(Horendonk!D15="", "", ROUND(Horendonk!D15 / IF(AND(COUNT(Horendonk!$D15:D15) <= 3, ISNUMBER($C14)), $C14, $D14) * 10, 3)) | I14: =IF(Horendonk!E15="", "", ROUND(Horendonk!E15 / IF(AND(COUNT(Horendonk!$D15:E15) <= 3, ISNUMBER($C14)), $C14, $D14) * 10, 3)) -> 9 | J14: =IF(Horendonk!F15="", "", ROUND(Horendonk!F15 / IF(AND(COUNT(Horendonk!$D15:F15) <= 3, ISNUMBER($C14)), $C14, $D14) * 10, 3)) -> 10.667 | K14: =IF(Horendonk!G15="", "", ROUND(Horendonk!G15 / IF(AND(COUNT(Horendonk!$D15:G15) <= 3, ISNUMBER($C14)), $C14, $D14) * 10, 3)) -> 15 | L14: =IF(Horendonk!H15="", "", ROUND(Horendonk!H15 / IF(AND(COUNT(Horendonk!$D15:H15) <= 3, ISNUMBER($C14)), $C14, $D14) * 10, 3)) | M14: =IF(Horendonk!I15="", "", ROUND(Horendonk!I15 / IF(AND(COUNT(Horendonk!$D15:I15) <= 3, ISNUMBER($C14)), $C14, $D14) * 10, 3)) | N14: =IF(Horendonk!J15="", "", ROUND(Horendonk!J15 / IF(AND(COUNT(Horendonk!$D15:J15) <= 3, ISNUMBER($C14)), $C14, $D14) * 10, 3)) | O14: =IF(Horendonk!P15="", "", ROUND(Horendonk!P15 / IF(AND(COUNT(Horendonk!$D15:$J15,Horendonk!$P15:P15) <= 3, ISNUMBER($C14)), $C14, $E14) * 10, 3)) | P14: =IF(Horendonk!Q15="", "", ROUND(Horendonk!Q15 / IF(AND(COUNT(Horendonk!$D15:$J15,Horendonk!$P15:Q15) <= 3, ISNUMBER($C14)), $C14, $E14) * 10, 3)) | Q14: =IF(Horendonk!R15="", "", ROUND(Horendonk!R15 / IF(AND(COUNT(Horendonk!$D15:$J15,Horendonk!$P15:R15) <= 3, ISNUMBER($C14)), $C14, $E14) * 10, 3)) | R14: =IF(Horendonk!S15="", "", ROUND(Horendonk!S15 / IF(AND(COUNT(Horendonk!$D15:$J15,Horendonk!$P15:S15) <= 3, ISNUMBER($C14)), $C14, $E14) * 10, 3)) | S14: =IF(Horendonk!T15="", "", ROUND(Horendonk!T15 / IF(AND(COUNT(Horendonk!$D15:$J15,Horendonk!$P15:T15) <= 3, ISNUMBER($C14)), $C14, $E14) * 10, 3)) | T14: =IF(Horendonk!U15="", "", ROUND(Horendonk!U15 / IF(AND(COUNT(Horendonk!$D15:$J15,Horendonk!$P15:U15) <= 3, ISNUMBER($C14)), $C14, $E14) * 10, 3)) | U14: =IF(Horendonk!V15="", "", ROUND(Horendonk!V15 / IF(AND(COUNT(Horendonk!$D15:$J15,Horendonk!$P15:V15) <= 3, ISNUMBER($C14)), $C14, $E14) * 10, 3))
A15: =IF(Horendonk!AB16=0, "", Horendonk!AB16) | B15: =Horendonk!$B16 -> 0 | C15: =IFERROR(VALUE(MID($B15, SEARCH("[NS ", $B15)+4, 2)), "") | D15: =Horendonk!C16 -> 0 | E15: =Horendonk!O16 -> 0 | F15: =IF(Horendonk!$AA16=0," ",SUM(H15:U15)) | H15: =IF(Horendonk!D16="", "", ROUND(Horendonk!D16 / IF(AND(COUNT(Horendonk!$D16:D16) <= 3, ISNUMBER($C15)), $C15, $D15) * 10, 3)) | I15: =IF(Horendonk!E16="", "", ROUND(Horendonk!E16 / IF(AND(COUNT(Horendonk!$D16:E16) <= 3, ISNUMBER($C15)), $C15, $D15) * 10, 3)) | J15: =IF(Horendonk!F16="", "", ROUND(Horendonk!F16 / IF(AND(COUNT(Horendonk!$D16:F16) <= 3, ISNUMBER($C15)), $C15, $D15) * 10, 3)) | K15: =IF(Horendonk!G16="", "", ROUND(Horendonk!G16 / IF(AND(COUNT(Horendonk!$D16:G16) <= 3, ISNUMBER($C15)), $C15, $D15) * 10, 3)) | L15: =IF(Horendonk!H16="", "", ROUND(Horendonk!H16 / IF(AND(COUNT(Horendonk!$D16:H16) <= 3, ISNUMBER($C15)), $C15, $D15) * 10, 3)) | M15: =IF(Horendonk!I16="", "", ROUND(Horendonk!I16 / IF(AND(COUNT(Horendonk!$D16:I16) <= 3, ISNUMBER($C15)), $C15, $D15) * 10, 3)) | N15: =IF(Horendonk!J16="", "", ROUND(Horendonk!J16 / IF(AND(COUNT(Horendonk!$D16:J16) <= 3, ISNUMBER($C15)), $C15, $D15) * 10, 3)) | O15: =IF(Horendonk!P16="", "", ROUND(Horendonk!P16 / IF(AND(COUNT(Horendonk!$D16:$J16,Horendonk!$P16:P16) <= 3, ISNUMBER($C15)), $C15, $E15) * 10, 3)) | P15: =IF(Horendonk!Q16="", "", ROUND(Horendonk!Q16 / IF(AND(COUNT(Horendonk!$D16:$J16,Horendonk!$P16:Q16) <= 3, ISNUMBER($C15)), $C15, $E15) * 10, 3)) | Q15: =IF(Horendonk!R16="", "", ROUND(Horendonk!R16 / IF(AND(COUNT(Horendonk!$D16:$J16,Horendonk!$P16:R16) <= 3, ISNUMBER($C15)), $C15, $E15) * 10, 3)) | R15: =IF(Horendonk!S16="", "", ROUND(Horendonk!S16 / IF(AND(COUNT(Horendonk!$D16:$J16,Horendonk!$P16:S16) <= 3, ISNUMBER($C15)), $C15, $E15) * 10, 3)) | S15: =IF(Horendonk!T16="", "", ROUND(Horendonk!T16 / IF(AND(COUNT(Horendonk!$D16:$J16,Horendonk!$P16:T16) <= 3, ISNUMBER($C15)), $C15, $E15) * 10, 3)) | T15: =IF(Horendonk!U16="", "", ROUND(Horendonk!U16 / IF(AND(COUNT(Horendonk!$D16:$J16,Horendonk!$P16:U16) <= 3, ISNUMBER($C15)), $C15, $E15) * 10, 3)) | U15: =IF(Horendonk!V16="", "", ROUND(Horendonk!V16 / IF(AND(COUNT(Horendonk!$D16:$J16,Horendonk!$P16:V16) <= 3, ISNUMBER($C15)), $C15, $E15) * 10, 3))
... A18: =IF(Horendonk!AB19=0, "", Horendonk!AB19) | B18: =Horendonk!$B19 -> 0 | C18: =IFERROR(VALUE(MID($B18, SEARCH("[NS ", $B18)+4, 2)), "") | D18: =Horendonk!C19 -> 0 | E18: =Horendonk!O19 -> 0 | F18: =IF(Horendonk!$AA19=0," ",SUM(H18:U18)) | H18: =IF(Horendonk!D19="", "", ROUND(Horendonk!D19 / IF(AND(COUNT(Horendonk!$D19:D19) <= 3, ISNUMBER($C18)), $C18, $D18) * 10, 3)) | I18: =IF(Horendonk!E19="", "", ROUND(Horendonk!E19 / IF(AND(COUNT(Horendonk!$D19:E19) <= 3, ISNUMBER($C18)), $C18, $D18) * 10, 3)) | J18: =IF(Horendonk!F19="", "", ROUND(Horendonk!F19 / IF(AND(COUNT(Horendonk!$D19:F19) <= 3, ISNUMBER($C18)), $C18, $D18) * 10, 3)) | K18: =IF(Horendonk!G19="", "", ROUND(Horendonk!G19 / IF(AND(COUNT(Horendonk!$D19:G19) <= 3, ISNUMBER($C18)), $C18, $D18) * 10, 3)) | L18: =IF(Horendonk!H19="", "", ROUND(Horendonk!H19 / IF(AND(COUNT(Horendonk!$D19:H19) <= 3, ISNUMBER($C18)), $C18, $D18) * 10, 3)) | M18: =IF(Horendonk!I19="", "", ROUND(Horendonk!I19 / IF(AND(COUNT(Horendonk!$D19:I19) <= 3, ISNUMBER($C18)), $C18, $D18) * 10, 3)) | N18: =IF(Horendonk!J19="", "", ROUND(Horendonk!J19 / IF(AND(COUNT(Horendonk!$D19:J19) <= 3, ISNUMBER($C18)), $C18, $D18) * 10, 3)) | O18: =IF(Horendonk!P19="", "", ROUND(Horendonk!P19 / IF(AND(COUNT(Horendonk!$D19:$J19,Horendonk!$P19:P19) <= 3, ISNUMBER($C18)), $C18, $E18) * 10, 3)) | P18: =IF(Horendonk!Q19="", "", ROUND(Horendonk!Q19 / IF(AND(COUNT(Horendonk!$D19:$J19,Horendonk!$P19:Q19) <= 3, ISNUMBER($C18)), $C18, $E18) * 10, 3)) | Q18: =IF(Horendonk!R19="", "", ROUND(Horendonk!R19 / IF(AND(COUNT(Horendonk!$D19:$J19,Horendonk!$P19:R19) <= 3, ISNUMBER($C18)), $C18, $E18) * 10, 3)) | R18: =IF(Horendonk!S19="", "", ROUND(Horendonk!S19 / IF(AND(COUNT(Horendonk!$D19:$J19,Horendonk!$P19:S19) <= 3, ISNUMBER($C18)), $C18, $E18) * 10, 3)) | S18: =IF(Horendonk!T19="", "", ROUND(Horendonk!T19 / IF(AND(COUNT(Horendonk!$D19:$J19,Horendonk!$P19:T19) <= 3, ISNUMBER($C18)), $C18, $E18) * 10, 3)) | T18: =IF(Horendonk!U19="", "", ROUND(Horendonk!U19 / IF(AND(COUNT(Horendonk!$D19:$J19,Horendonk!$P19:U19) <= 3, ISNUMBER($C18)), $C18, $E18) * 10, 3)) | U18: =IF(Horendonk!V19="", "", ROUND(Horendonk!V19 / IF(AND(COUNT(Horendonk!$D19:$J19,Horendonk!$P19:V19) <= 3, ISNUMBER($C18)), $C18, $E18) * 10, 3))
F19: Horendonk | G19: 5 | H19: =IF(SUM(H4:H18)=0, "", SUM(H4:H18)) -> 57.655 | I19: =IF(SUM(I4:I18)=0, "", SUM(I4:I18)) -> 69.5 | J19: =IF(SUM(J4:J18)=0, "", SUM(J4:J18)) -> 52.227 | K19: =IF(SUM(K4:K18)=0, "", SUM(K4:K18)) -> 59.817 | L19: =IF(SUM(L4:L18)=0, "", SUM(L4:L18)) | M19: =IF(SUM(M4:M18)=0, "", SUM(M4:M18)) | N19: =IF(SUM(N4:N18)=0, "", SUM(N4:N18)) | O19: =IF(SUM(O4:O18)=0, "", SUM(O4:O18)) | ... U19: =IF(SUM(U4:U18)=0, "", SUM(U4:U18))
B20: =ROWS(B4:B18) -> 15 | F20: =SUM(F4:F18) -> 239.199 | G20: =B3 -> HORENDONK | H20: =IF(SUM(H4:H18)=0, "", SUM(H4:H18)) -> 57.655 | I20: =IF(I19="", "", ROUND(SUM($H19:I19), 3)) -> 127.155 | J20: =IF(J19="", "", ROUND(SUM($H19:J19), 3)) -> 179.382 | K20: =IF(K19="", "", ROUND(SUM($H19:K19), 3)) -> 239.199 | L20: =IF(L19="", "", ROUND(SUM($H19:L19), 3)) | M20: =IF(M19="", "", ROUND(SUM($H19:M19), 3)) | N20: =IF(N19="", "", ROUND(SUM($H19:N19), 3)) | O20: =IF(O19="", "", ROUND(SUM($H19:O19), 3)) | P20: =IF(P19="", "", ROUND(SUM($H19:P19), 3)) | ... U20: =IF(U19="", "", ROUND(SUM($H19:U19), 3))
B22: Sen. NISPEN | H22: 1 | I22: 2 | J22: 3 | K22: 4 | L22: 5 | M22: 6 | N22: 7 | O22: 8 | P22: 9 | Q22: 10 | R22: 11 | S22: 12 | T22: 13 | U22: 14
A23: =IF(Nispen!AB5=0, "", Nispen!AB5) -> 3 | B23: =Nispen!B5 -> Kerstens Jac | C23: =IFERROR(VALUE(MID($B23, SEARCH("[NS ", $B23)+4, 2)), "") | D23: =Nispen!C5 -> 36 | E23: =Nispen!O5 -> 36 | F23: =IF(Nispen!AA5=0," ",SUM(H23:U23)) -> 26.945 | H23: =IF(Nispen!D5="", "", ROUND(Nispen!D5 / IF(AND(COUNT(Nispen!$D5:D5) <= 3, ISNUMBER($C23)), $C23, $D23) * 10, 3)) -> 3.611 | I23: =IF(Nispen!E5="", "", ROUND(Nispen!E5 / IF(AND(COUNT(Nispen!$D5:E5) <= 3, ISNUMBER($C23)), $C23, $D23) * 10, 3)) -> 5.556 | J23: =IF(Nispen!F5="", "", ROUND(Nispen!F5 / IF(AND(COUNT(Nispen!$D5:F5) <= 3, ISNUMBER($C23)), $C23, $D23) * 10, 3)) | K23: =IF(Nispen!G5="", "", ROUND(Nispen!G5 / IF(AND(COUNT(Nispen!$D5:G5) <= 3, ISNUMBER($C23)), $C23, $D23) * 10, 3)) -> 17.778 | L23: =IF(Nispen!H5="", "", ROUND(Nispen!H5 / IF(AND(COUNT(Nispen!$D5:H5) <= 3, ISNUMBER($C23)), $C23, $D23) * 10, 3)) | M23: =IF(Nispen!I5="", "", ROUND(Nispen!I5 / IF(AND(COUNT(Nispen!$D5:I5) <= 3, ISNUMBER($C23)), $C23, $D23) * 10, 3)) | N23: =IF(Nispen!J5="", "", ROUND(Nispen!J5 / IF(AND(COUNT(Nispen!$D5:J5) <= 3, ISNUMBER($C23)), $C23, $D23) * 10, 3)) | O23: =IF(Nispen!P5="", "", ROUND(Nispen!P5 / IF(AND(COUNT(Nispen!$D5:$J5,Nispen!$P5:P5) <= 3, ISNUMBER($C23)), $C23, $E23) * 10, 3)) | P23: =IF(Nispen!Q5="", "", ROUND(Nispen!Q5 / IF(AND(COUNT(Nispen!$D5:$J5,Nispen!$P5:Q5) <= 3, ISNUMBER($C23)), $C23, $E23) * 10, 3)) | Q23: =IF(Nispen!R5="", "", ROUND(Nispen!R5 / IF(AND(COUNT(Nispen!$D5:$J5,Nispen!$P5:R5) <= 3, ISNUMBER($C23)), $C23, $E23) * 10, 3)) | R23: =IF(Nispen!S5="", "", ROUND(Nispen!S5 / IF(AND(COUNT(Nispen!$D5:$J5,Nispen!$P5:S5) <= 3, ISNUMBER($C23)), $C23, $E23) * 10, 3)) | S23: =IF(Nispen!T5="", "", ROUND(Nispen!T5 / IF(AND(COUNT(Nispen!$D5:$J5,Nispen!$P5:T5) <= 3, ISNUMBER($C23)), $C23, $E23) * 10, 3)) | T23: =IF(Nispen!U5="", "", ROUND(Nispen!U5 / IF(AND(COUNT(Nispen!$D5:$J5,Nispen!$P5:U5) <= 3, ISNUMBER($C23)), $C23, $E23) * 10, 3)) | U23: =IF(Nispen!V5="", "", ROUND(Nispen!V5 / IF(AND(COUNT(Nispen!$D5:$J5,Nispen!$P5:V5) <= 3, ISNUMBER($C23)), $C23, $E23) * 10, 3))
A24: =IF(Nispen!AB6=0, "", Nispen!AB6) -> 4 | B24: =Nispen!B6 -> Martens Gerrit | C24: =IFERROR(VALUE(MID($B24, SEARCH("[NS ", $B24)+4, 2)), "") | D24: =Nispen!C6 -> 16 | E24: =Nispen!O6 -> 16 | F24: =IF(Nispen!AA6=0," ",SUM(H24:U24)) -> 29.375 | H24: =IF(Nispen!D6="", "", ROUND(Nispen!D6 / IF(AND(COUNT(Nispen!$D6:D6) <= 3, ISNUMBER($C24)), $C24, $D24) * 10, 3)) -> 6.25 | I24: =IF(Nispen!E6="", "", ROUND(Nispen!E6 / IF(AND(COUNT(Nispen!$D6:E6) <= 3, ISNUMBER($C24)), $C24, $D24) * 10, 3)) -> 10 | J24: =IF(Nispen!F6="", "", ROUND(Nispen!F6 / IF(AND(COUNT(Nispen!$D6:F6) <= 3, ISNUMBER($C24)), $C24, $D24) * 10, 3)) -> 6.875 | K24: =IF(Nispen!G6="", "", ROUND(Nispen!G6 / IF(AND(COUNT(Nispen!$D6:G6) <= 3, ISNUMBER($C24)), $C24, $D24) * 10, 3)) -> 6.25 | L24: =IF(Nispen!H6="", "", ROUND(Nispen!H6 / IF(AND(COUNT(Nispen!$D6:H6) <= 3, ISNUMBER($C24)), $C24, $D24) * 10, 3)) | M24: =IF(Nispen!I6="", "", ROUND(Nispen!I6 / IF(AND(COUNT(Nispen!$D6:I6) <= 3, ISNUMBER($C24)), $C24, $D24) * 10, 3)) | N24: =IF(Nispen!J6="", "", ROUND(Nispen!J6 / IF(AND(COUNT(Nispen!$D6:J6) <= 3, ISNUMBER($C24)), $C24, $D24) * 10, 3)) | O24: =IF(Nispen!P6="", "", ROUND(Nispen!P6 / IF(AND(COUNT(Nispen!$D6:$J6,Nispen!$P6:P6) <= 3, ISNUMBER($C24)), $C24, $E24) * 10, 3)) | P24: =IF(Nispen!Q6="", "", ROUND(Nispen!Q6 / IF(AND(COUNT(Nispen!$D6:$J6,Nispen!$P6:Q6) <= 3, ISNUMBER($C24)), $C24, $E24) * 10, 3)) | Q24: =IF(Nispen!R6="", "", ROUND(Nispen!R6 / IF(AND(COUNT(Nispen!$D6:$J6,Nispen!$P6:R6) <= 3, ISNUMBER($C24)), $C24, $E24) * 10, 3)) | R24: =IF(Nispen!S6="", "", ROUND(Nispen!S6 / IF(AND(COUNT(Nispen!$D6:$J6,Nispen!$P6:S6) <= 3, ISNUMBER($C24)), $C24, $E24) * 10, 3)) | S24: =IF(Nispen!T6="", "", ROUND(Nispen!T6 / IF(AND(COUNT(Nispen!$D6:$J6,Nispen!$P6:T6) <= 3, ISNUMBER($C24)), $C24, $E24) * 10, 3)) | T24: =IF(Nispen!U6="", "", ROUND(Nispen!U6 / IF(AND(COUNT(Nispen!$D6:$J6,Nispen!$P6:U6) <= 3, ISNUMBER($C24)), $C24, $E24) * 10, 3)) | U24: =IF(Nispen!V6="", "", ROUND(Nispen!V6 / IF(AND(COUNT(Nispen!$D6:$J6,Nispen!$P6:V6) <= 3, ISNUMBER($C24)), $C24, $E24) * 10, 3))
A25: =IF(Nispen!AB7=0, "", Nispen!AB7) -> 2 | B25: =Nispen!B7 -> Raats Antoon | C25: =IFERROR(VALUE(MID($B25, SEARCH("[NS ", $B25)+4, 2)), "") | D25: =Nispen!C7 -> 20 | E25: =Nispen!O7 -> 20 | F25: =IF(Nispen!AA7=0," ",SUM(H25:U25)) -> 16 | H25: =IF(Nispen!D7="", "", ROUND(Nispen!D7 / IF(AND(COUNT(Nispen!$D7:D7) <= 3, ISNUMBER($C25)), $C25, $D25) * 10, 3)) | I25: =IF(Nispen!E7="", "", ROUND(Nispen!E7 / IF(AND(COUNT(Nispen!$D7:E7) <= 3, ISNUMBER($C25)), $C25, $D25) * 10, 3)) -> 12.5 | J25: =IF(Nispen!F7="", "", ROUND(Nispen!F7 / IF(AND(COUNT(Nispen!$D7:F7) <= 3, ISNUMBER($C25)), $C25, $D25) * 10, 3)) | K25: =IF(Nispen!G7="", "", ROUND(Nispen!G7 / IF(AND(COUNT(Nispen!$D7:G7) <= 3, ISNUMBER($C25)), $C25, $D25) * 10, 3)) -> 3.5 | L25: =IF(Nispen!H7="", "", ROUND(Nispen!H7 / IF(AND(COUNT(Nispen!$D7:H7) <= 3, ISNUMBER($C25)), $C25, $D25) * 10, 3)) | M25: =IF(Nispen!I7="", "", ROUND(Nispen!I7 / IF(AND(COUNT(Nispen!$D7:I7) <= 3, ISNUMBER($C25)), $C25, $D25) * 10, 3)) | N25: =IF(Nispen!J7="", "", ROUND(Nispen!J7 / IF(AND(COUNT(Nispen!$D7:J7) <= 3, ISNUMBER($C25)), $C25, $D25) * 10, 3)) | O25: =IF(Nispen!P7="", "", ROUND(Nispen!P7 / IF(AND(COUNT(Nispen!$D7:$J7,Nispen!$P7:P7) <= 3, ISNUMBER($C25)), $C25, $E25) * 10, 3)) | P25: =IF(Nispen!Q7="", "", ROUND(Nispen!Q7 / IF(AND(COUNT(Nispen!$D7:$J7,Nispen!$P7:Q7) <= 3, ISNUMBER($C25)), $C25, $E25) * 10, 3)) | Q25: =IF(Nispen!R7="", "", ROUND(Nispen!R7 / IF(AND(COUNT(Nispen!$D7:$J7,Nispen!$P7:R7) <= 3, ISNUMBER($C25)), $C25, $E25) * 10, 3)) | R25: =IF(Nispen!S7="", "", ROUND(Nispen!S7 / IF(AND(COUNT(Nispen!$D7:$J7,Nispen!$P7:S7) <= 3, ISNUMBER($C25)), $C25, $E25) * 10, 3)) | S25: =IF(Nispen!T7="", "", ROUND(Nispen!T7 / IF(AND(COUNT(Nispen!$D7:$J7,Nispen!$P7:T7) <= 3, ISNUMBER($C25)), $C25, $E25) * 10, 3)) | T25: =IF(Nispen!U7="", "", ROUND(Nispen!U7 / IF(AND(COUNT(Nispen!$D7:$J7,Nispen!$P7:U7) <= 3, ISNUMBER($C25)), $C25, $E25) * 10, 3)) | U25: =IF(Nispen!V7="", "", ROUND(Nispen!V7 / IF(AND(COUNT(Nispen!$D7:$J7,Nispen!$P7:V7) <= 3, ISNUMBER($C25)), $C25, $E25) * 10, 3))
A26: =IF(Nispen!AB8=0, "", Nispen!AB8) -> 4 | B26: =Nispen!B8 -> Schrauwen Jeanne | C26: =IFERROR(VALUE(MID($B26, SEARCH("[NS ", $B26)+4, 2)), "") | D26: =Nispen!C8 -> 17 | E26: =Nispen!O8 -> 17 | F26: =IF(Nispen!AA8=0," ",SUM(H26:U26)) -> 32.353 | H26: =IF(Nispen!D8="", "", ROUND(Nispen!D8 / IF(AND(COUNT(Nispen!$D8:D8) <= 3, ISNUMBER($C26)), $C26, $D26) * 10, 3)) -> 10.588 | I26: =IF(Nispen!E8="", "", ROUND(Nispen!E8 / IF(AND(COUNT(Nispen!$D8:E8) <= 3, ISNUMBER($C26)), $C26, $D26) * 10, 3)) -> 10.588 | J26: =IF(Nispen!F8="", "", ROUND(Nispen!F8 / IF(AND(COUNT(Nispen!$D8:F8) <= 3, ISNUMBER($C26)), $C26, $D26) * 10, 3)) -> 2.353 | K26: =IF(Nispen!G8="", "", ROUND(Nispen!G8 / IF(AND(COUNT(Nispen!$D8:G8) <= 3, ISNUMBER($C26)), $C26, $D26) * 10, 3)) -> 8.824 | L26: =IF(Nispen!H8="", "", ROUND(Nispen!H8 / IF(AND(COUNT(Nispen!$D8:H8) <= 3, ISNUMBER($C26)), $C26, $D26) * 10, 3)) | M26: =IF(Nispen!I8="", "", ROUND(Nispen!I8 / IF(AND(COUNT(Nispen!$D8:I8) <= 3, ISNUMBER($C26)), $C26, $D26) * 10, 3)) | N26: =IF(Nispen!J8="", "", ROUND(Nispen!J8 / IF(AND(COUNT(Nispen!$D8:J8) <= 3, ISNUMBER($C26)), $C26, $D26) * 10, 3)) | O26: =IF(Nispen!P8="", "", ROUND(Nispen!P8 / IF(AND(COUNT(Nispen!$D8:$J8,Nispen!$P8:P8) <= 3, ISNUMBER($C26)), $C26, $E26) * 10, 3)) | P26: =IF(Nispen!Q8="", "", ROUND(Nispen!Q8 / IF(AND(COUNT(Nispen!$D8:$J8,Nispen!$P8:Q8) <= 3, ISNUMBER($C26)), $C26, $E26) * 10, 3)) | Q26: =IF(Nispen!R8="", "", ROUND(Nispen!R8 / IF(AND(COUNT(Nispen!$D8:$J8,Nispen!$P8:R8) <= 3, ISNUMBER($C26)), $C26, $E26) * 10, 3)) | R26: =IF(Nispen!S8="", "", ROUND(Nispen!S8 / IF(AND(COUNT(Nispen!$D8:$J8,Nispen!$P8:S8) <= 3, ISNUMBER($C26)), $C26, $E26) * 10, 3)) | S26: =IF(Nispen!T8="", "", ROUND(Nispen!T8 / IF(AND(COUNT(Nispen!$D8:$J8,Nispen!$P8:T8) <= 3, ISNUMBER($C26)), $C26, $E26) * 10, 3)) | T26: =IF(Nispen!U8="", "", ROUND(Nispen!U8 / IF(AND(COUNT(Nispen!$D8:$J8,Nispen!$P8:U8) <= 3, ISNUMBER($C26)), $C26, $E26) * 10, 3)) | U26: =IF(Nispen!V8="", "", ROUND(Nispen!V8 / IF(AND(COUNT(Nispen!$D8:$J8,Nispen!$P8:V8) <= 3, ISNUMBER($C26)), $C26, $E26) * 10, 3))
A27: =IF(Nispen!AB9=0, "", Nispen!AB9) | B27: =Nispen!B9 -> Swaanen Piet | C27: =IFERROR(VALUE(MID($B27, SEARCH("[NS ", $B27)+4, 2)), "") | D27: =Nispen!C9 -> 59 | E27: =Nispen!O9 -> 59 | F27: =IF(Nispen!AA9=0," ",SUM(H27:U27)) | H27: =IF(Nispen!D9="", "", ROUND(Nispen!D9 / IF(AND(COUNT(Nispen!$D9:D9) <= 3, ISNUMBER($C27)), $C27, $D27) * 10, 3)) | I27: =IF(Nispen!E9="", "", ROUND(Nispen!E9 / IF(AND(COUNT(Nispen!$D9:E9) <= 3, ISNUMBER($C27)), $C27, $D27) * 10, 3)) | J27: =IF(Nispen!F9="", "", ROUND(Nispen!F9 / IF(AND(COUNT(Nispen!$D9:F9) <= 3, ISNUMBER($C27)), $C27, $D27) * 10, 3)) | K27: =IF(Nispen!G9="", "", ROUND(Nispen!G9 / IF(AND(COUNT(Nispen!$D9:G9) <= 3, ISNUMBER($C27)), $C27, $D27) * 10, 3)) | L27: =IF(Nispen!H9="", "", ROUND(Nispen!H9 / IF(AND(COUNT(Nispen!$D9:H9) <= 3, ISNUMBER($C27)), $C27, $D27) * 10, 3)) | M27: =IF(Nispen!I9="", "", ROUND(Nispen!I9 / IF(AND(COUNT(Nispen!$D9:I9) <= 3, ISNUMBER($C27)), $C27, $D27) * 10, 3)) | N27: =IF(Nispen!J9="", "", ROUND(Nispen!J9 / IF(AND(COUNT(Nispen!$D9:J9) <= 3, ISNUMBER($C27)), $C27, $D27) * 10, 3)) | O27: =IF(Nispen!P9="", "", ROUND(Nispen!P9 / IF(AND(COUNT(Nispen!$D9:$J9,Nispen!$P9:P9) <= 3, ISNUMBER($C27)), $C27, $E27) * 10, 3)) | P27: =IF(Nispen!Q9="", "", ROUND(Nispen!Q9 / IF(AND(COUNT(Nispen!$D9:$J9,Nispen!$P9:Q9) <= 3, ISNUMBER($C27)), $C27, $E27) * 10, 3)) | Q27: =IF(Nispen!R9="", "", ROUND(Nispen!R9 / IF(AND(COUNT(Nispen!$D9:$J9,Nispen!$P9:R9) <= 3, ISNUMBER($C27)), $C27, $E27) * 10, 3)) | R27: =IF(Nispen!S9="", "", ROUND(Nispen!S9 / IF(AND(COUNT(Nispen!$D9:$J9,Nispen!$P9:S9) <= 3, ISNUMBER($C27)), $C27, $E27) * 10, 3)) | S27: =IF(Nispen!T9="", "", ROUND(Nispen!T9 / IF(AND(COUNT(Nispen!$D9:$J9,Nispen!$P9:T9) <= 3, ISNUMBER($C27)), $C27, $E27) * 10, 3)) | T27: =IF(Nispen!U9="", "", ROUND(Nispen!U9 / IF(AND(COUNT(Nispen!$D9:$J9,Nispen!$P9:U9) <= 3, ISNUMBER($C27)), $C27, $E27) * 10, 3)) | U27: =IF(Nispen!V9="", "", ROUND(Nispen!V9 / IF(AND(COUNT(Nispen!$D9:$J9,Nispen!$P9:V9) <= 3, ISNUMBER($C27)), $C27, $E27) * 10, 3))
A28: =IF(Nispen!AB10=0, "", Nispen!AB10) | B28: =Nispen!B10 -> Talboom Ad | C28: =IFERROR(VALUE(MID($B28, SEARCH("[NS ", $B28)+4, 2)), "") | D28: =Nispen!C10 -> 15 | E28: =Nispen!O10 -> 15 | F28: =IF(Nispen!AA10=0," ",SUM(H28:U28)) | H28: =IF(Nispen!D10="", "", ROUND(Nispen!D10 / IF(AND(COUNT(Nispen!$D10:D10) <= 3, ISNUMBER($C28)), $C28, $D28) * 10, 3)) | I28: =IF(Nispen!E10="", "", ROUND(Nispen!E10 / IF(AND(COUNT(Nispen!$D10:E10) <= 3, ISNUMBER($C28)), $C28, $D28) * 10, 3)) | J28: =IF(Nispen!F10="", "", ROUND(Nispen!F10 / IF(AND(COUNT(Nispen!$D10:F10) <= 3, ISNUMBER($C28)), $C28, $D28) * 10, 3)) | K28: =IF(Nispen!G10="", "", ROUND(Nispen!G10 / IF(AND(COUNT(Nispen!$D10:G10) <= 3, ISNUMBER($C28)), $C28, $D28) * 10, 3)) | L28: =IF(Nispen!H10="", "", ROUND(Nispen!H10 / IF(AND(COUNT(Nispen!$D10:H10) <= 3, ISNUMBER($C28)), $C28, $D28) * 10, 3)) | M28: =IF(Nispen!I10="", "", ROUND(Nispen!I10 / IF(AND(COUNT(Nispen!$D10:I10) <= 3, ISNUMBER($C28)), $C28, $D28) * 10, 3)) | N28: =IF(Nispen!J10="", "", ROUND(Nispen!J10 / IF(AND(COUNT(Nispen!$D10:J10) <= 3, ISNUMBER($C28)), $C28, $D28) * 10, 3)) | O28: =IF(Nispen!P10="", "", ROUND(Nispen!P10 / IF(AND(COUNT(Nispen!$D10:$J10,Nispen!$P10:P10) <= 3, ISNUMBER($C28)), $C28, $E28) * 10, 3)) | P28: =IF(Nispen!Q10="", "", ROUND(Nispen!Q10 / IF(AND(COUNT(Nispen!$D10:$J10,Nispen!$P10:Q10) <= 3, ISNUMBER($C28)), $C28, $E28) * 10, 3)) | Q28: =IF(Nispen!R10="", "", ROUND(Nispen!R10 / IF(AND(COUNT(Nispen!$D10:$J10,Nispen!$P10:R10) <= 3, ISNUMBER($C28)), $C28, $E28) * 10, 3)) | R28: =IF(Nispen!S10="", "", ROUND(Nispen!S10 / IF(AND(COUNT(Nispen!$D10:$J10,Nispen!$P10:S10) <= 3, ISNUMBER($C28)), $C28, $E28) * 10, 3)) | S28: =IF(Nispen!T10="", "", ROUND(Nispen!T10 / IF(AND(COUNT(Nispen!$D10:$J10,Nispen!$P10:T10) <= 3, ISNUMBER($C28)), $C28, $E28) * 10, 3)) | T28: =IF(Nispen!U10="", "", ROUND(Nispen!U10 / IF(AND(COUNT(Nispen!$D10:$J10,Nispen!$P10:U10) <= 3, ISNUMBER($C28)), $C28, $E28) * 10, 3)) | U28: =IF(Nispen!V10="", "", ROUND(Nispen!V10 / IF(AND(COUNT(Nispen!$D10:$J10,Nispen!$P10:V10) <= 3, ISNUMBER($C28)), $C28, $E28) * 10, 3))
A29: =IF(Nispen!AB11=0, "", Nispen!AB11) -> 5 | B29: =Nispen!B11 -> Thielen Jef | C29: =IFERROR(VALUE(MID($B29, SEARCH("[NS ", $B29)+4, 2)), "") | D29: =Nispen!C11 -> 25 | E29: =Nispen!O11 -> 25 | F29: =IF(Nispen!AA11=0," ",SUM(H29:U29)) -> 47.2 | H29: =IF(Nispen!D11="", "", ROUND(Nispen!D11 / IF(AND(COUNT(Nispen!$D11:D11) <= 3, ISNUMBER($C29)), $C29, $D29) * 10, 3)) -> 11.2 | I29: =IF(Nispen!E11="", "", ROUND(Nispen!E11 / IF(AND(COUNT(Nispen!$D11:E11) <= 3, ISNUMBER($C29)), $C29, $D29) * 10, 3)) -> 6.8 | J29: =IF(Nispen!F11="", "", ROUND(Nispen!F11 / IF(AND(COUNT(Nispen!$D11:F11) <= 3, ISNUMBER($C29)), $C29, $D29) * 10, 3)) -> 10.8 | K29: =IF(Nispen!G11="", "", ROUND(Nispen!G11 / IF(AND(COUNT(Nispen!$D11:G11) <= 3, ISNUMBER($C29)), $C29, $D29) * 10, 3)) -> 12 | L29: =IF(Nispen!H11="", "", ROUND(Nispen!H11 / IF(AND(COUNT(Nispen!$D11:H11) <= 3, ISNUMBER($C29)), $C29, $D29) * 10, 3)) | M29: =IF(Nispen!I11="", "", ROUND(Nispen!I11 / IF(AND(COUNT(Nispen!$D11:I11) <= 3, ISNUMBER($C29)), $C29, $D29) * 10, 3)) | N29: =IF(Nispen!J11="", "", ROUND(Nispen!J11 / IF(AND(COUNT(Nispen!$D11:J11) <= 3, ISNUMBER($C29)), $C29, $D29) * 10, 3)) -> 6.4 | O29: =IF(Nispen!P11="", "", ROUND(Nispen!P11 / IF(AND(COUNT(Nispen!$D11:$J11,Nispen!$P11:P11) <= 3, ISNUMBER($C29)), $C29, $E29) * 10, 3)) | P29: =IF(Nispen!Q11="", "", ROUND(Nispen!Q11 / IF(AND(COUNT(Nispen!$D11:$J11,Nispen!$P11:Q11) <= 3, ISNUMBER($C29)), $C29, $E29) * 10, 3)) | Q29: =IF(Nispen!R11="", "", ROUND(Nispen!R11 / IF(AND(COUNT(Nispen!$D11:$J11,Nispen!$P11:R11) <= 3, ISNUMBER($C29)), $C29, $E29) * 10, 3)) | R29: =IF(Nispen!S11="", "", ROUND(Nispen!S11 / IF(AND(COUNT(Nispen!$D11:$J11,Nispen!$P11:S11) <= 3, ISNUMBER($C29)), $C29, $E29) * 10, 3)) | S29: =IF(Nispen!T11="", "", ROUND(Nispen!T11 / IF(AND(COUNT(Nispen!$D11:$J11,Nispen!$P11:T11) <= 3, ISNUMBER($C29)), $C29, $E29) * 10, 3)) | T29: =IF(Nispen!U11="", "", ROUND(Nispen!U11 / IF(AND(COUNT(Nispen!$D11:$J11,Nispen!$P11:U11) <= 3, ISNUMBER($C29)), $C29, $E29) * 10, 3)) | U29: =IF(Nispen!V11="", "", ROUND(Nispen!V11 / IF(AND(COUNT(Nispen!$D11:$J11,Nispen!$P11:V11) <= 3, ISNUMBER($C29)), $C29, $E29) * 10, 3))
A30: =IF(Nispen!AB12=0, "", Nispen!AB12) -> 2 | B30: =Nispen!B12 -> Uijtdehaag Nico | C30: =IFERROR(VALUE(MID($B30, SEARCH("[NS ", $B30)+4, 2)), "") | D30: =Nispen!C12 -> 22 | E30: =Nispen!O12 -> 22 | F30: =IF(Nispen!AA12=0," ",SUM(H30:U30)) -> 25.455 | H30: =IF(Nispen!D12="", "", ROUND(Nispen!D12 / IF(AND(COUNT(Nispen!$D12:D12) <= 3, ISNUMBER($C30)), $C30, $D30) * 10, 3)) -> 10 | I30: =IF(Nispen!E12="", "", ROUND(Nispen!E12 / IF(AND(COUNT(Nispen!$D12:E12) <= 3, ISNUMBER($C30)), $C30, $D30) * 10, 3)) | J30: =IF(Nispen!F12="", "", ROUND(Nispen!F12 / IF(AND(COUNT(Nispen!$D12:F12) <= 3, ISNUMBER($C30)), $C30, $D30) * 10, 3)) -> 15.455 | K30: =IF(Nispen!G12="", "", ROUND(Nispen!G12 / IF(AND(COUNT(Nispen!$D12:G12) <= 3, ISNUMBER($C30)), $C30, $D30) * 10, 3)) | L30: =IF(Nispen!H12="", "", ROUND(Nispen!H12 / IF(AND(COUNT(Nispen!$D12:H12) <= 3, ISNUMBER($C30)), $C30, $D30) * 10, 3)) | M30: =IF(Nispen!I12="", "", ROUND(Nispen!I12 / IF(AND(COUNT(Nispen!$D12:I12) <= 3, ISNUMBER($C30)), $C30, $D30) * 10, 3)) | N30: =IF(Nispen!J12="", "", ROUND(Nispen!J12 / IF(AND(COUNT(Nispen!$D12:J12) <= 3, ISNUMBER($C30)), $C30, $D30) * 10, 3)) | O30: =IF(Nispen!P12="", "", ROUND(Nispen!P12 / IF(AND(COUNT(Nispen!$D12:$J12,Nispen!$P12:P12) <= 3, ISNUMBER($C30)), $C30, $E30) * 10, 3)) | P30: =IF(Nispen!Q12="", "", ROUND(Nispen!Q12 / IF(AND(COUNT(Nispen!$D12:$J12,Nispen!$P12:Q12) <= 3, ISNUMBER($C30)), $C30, $E30) * 10, 3)) | Q30: =IF(Nispen!R12="", "", ROUND(Nispen!R12 / IF(AND(COUNT(Nispen!$D12:$J12,Nispen!$P12:R12) <= 3, ISNUMBER($C30)), $C30, $E30) * 10, 3)) | R30: =IF(Nispen!S12="", "", ROUND(Nispen!S12 / IF(AND(COUNT(Nispen!$D12:$J12,Nispen!$P12:S12) <= 3, ISNUMBER($C30)), $C30, $E30) * 10, 3)) | S30: =IF(Nispen!T12="", "", ROUND(Nispen!T12 / IF(AND(COUNT(Nispen!$D12:$J12,Nispen!$P12:T12) <= 3, ISNUMBER($C30)), $C30, $E30) * 10, 3)) | T30: =IF(Nispen!U12="", "", ROUND(Nispen!U12 / IF(AND(COUNT(Nispen!$D12:$J12,Nispen!$P12:U12) <= 3, ISNUMBER($C30)), $C30, $E30) * 10, 3)) | U30: =IF(Nispen!V12="", "", ROUND(Nispen!V12 / IF(AND(COUNT(Nispen!$D12:$J12,Nispen!$P12:V12) <= 3, ISNUMBER($C30)), $C30, $E30) * 10, 3))
A31: =IF(Nispen!AB13=0, "", Nispen!AB13) -> 2 | B31: =Nispen!B13 -> Van Turnhout Herman | C31: =IFERROR(VALUE(MID($B31, SEARCH("[NS ", $B31)+4, 2)), "") | D31: =Nispen!C13 -> 15 | E31: =Nispen!O13 -> 15 | F31: =IF(Nispen!AA13=0," ",SUM(H31:U31)) -> 15.333 | H31: =IF(Nispen!D13="", "", ROUND(Nispen!D13 / IF(AND(COUNT(Nispen!$D13:D13) <= 3, ISNUMBER($C31)), $C31, $D31) * 10, 3)) | I31: =IF(Nispen!E13="", "", ROUND(Nispen!E13 / IF(AND(COUNT(Nispen!$D13:E13) <= 3, ISNUMBER($C31)), $C31, $D31) * 10, 3)) -> 8 | J31: =IF(Nispen!F13="", "", ROUND(Nispen!F13 / IF(AND(COUNT(Nispen!$D13:F13) <= 3, ISNUMBER($C31)), $C31, $D31) * 10, 3)) -> 7.333 | K31: =IF(Nispen!G13="", "", ROUND(Nispen!G13 / IF(AND(COUNT(Nispen!$D13:G13) <= 3, ISNUMBER($C31)), $C31, $D31) * 10, 3)) | L31: =IF(Nispen!H13="", "", ROUND(Nispen!H13 / IF(AND(COUNT(Nispen!$D13:H13) <= 3, ISNUMBER($C31)), $C31, $D31) * 10, 3)) | M31: =IF(Nispen!I13="", "", ROUND(Nispen!I13 / IF(AND(COUNT(Nispen!$D13:I13) <= 3, ISNUMBER($C31)), $C31, $D31) * 10, 3)) | N31: =IF(Nispen!J13="", "", ROUND(Nispen!J13 / IF(AND(COUNT(Nispen!$D13:J13) <= 3, ISNUMBER($C31)), $C31, $D31) * 10, 3)) | O31: =IF(Nispen!P13="", "", ROUND(Nispen!P13 / IF(AND(COUNT(Nispen!$D13:$J13,Nispen!$P13:P13) <= 3, ISNUMBER($C31)), $C31, $E31) * 10, 3)) | P31: =IF(Nispen!Q13="", "", ROUND(Nispen!Q13 / IF(AND(COUNT(Nispen!$D13:$J13,Nispen!$P13:Q13) <= 3, ISNUMBER($C31)), $C31, $E31) * 10, 3)) | Q31: =IF(Nispen!R13="", "", ROUND(Nispen!R13 / IF(AND(COUNT(Nispen!$D13:$J13,Nispen!$P13:R13) <= 3, ISNUMBER($C31)), $C31, $E31) * 10, 3)) | R31: =IF(Nispen!S13="", "", ROUND(Nispen!S13 / IF(AND(COUNT(Nispen!$D13:$J13,Nispen!$P13:S13) <= 3, ISNUMBER($C31)), $C31, $E31) * 10, 3)) | S31: =IF(Nispen!T13="", "", ROUND(Nispen!T13 / IF(AND(COUNT(Nispen!$D13:$J13,Nispen!$P13:T13) <= 3, ISNUMBER($C31)), $C31, $E31) * 10, 3)) | T31: =IF(Nispen!U13="", "", ROUND(Nispen!U13 / IF(AND(COUNT(Nispen!$D13:$J13,Nispen!$P13:U13) <= 3, ISNUMBER($C31)), $C31, $E31) * 10, 3)) | U31: =IF(Nispen!V13="", "", ROUND(Nispen!V13 / IF(AND(COUNT(Nispen!$D13:$J13,Nispen!$P13:V13) <= 3, ISNUMBER($C31)), $C31, $E31) * 10, 3))
A32: =IF(Nispen!AB14=0, "", Nispen!AB14) -> 2 | B32: =Nispen!B14 -> Van Wesel Jos | C32: =IFERROR(VALUE(MID($B32, SEARCH("[NS ", $B32)+4, 2)), "") | D32: =Nispen!C14 -> 21 | E32: =Nispen!O14 -> 21 | F32: =IF(Nispen!AA14=0," ",SUM(H32:U32)) -> 12.857 | H32: =IF(Nispen!D14="", "", ROUND(Nispen!D14 / IF(AND(COUNT(Nispen!$D14:D14) <= 3, ISNUMBER($C32)), $C32, $D32) * 10, 3)) | I32: =IF(Nispen!E14="", "", ROUND(Nispen!E14 / IF(AND(COUNT(Nispen!$D14:E14) <= 3, ISNUMBER($C32)), $C32, $D32) * 10, 3)) | J32: =IF(Nispen!F14="", "", ROUND(Nispen!F14 / IF(AND(COUNT(Nispen!$D14:F14) <= 3, ISNUMBER($C32)), $C32, $D32) * 10, 3)) -> 6.667 | K32: =IF(Nispen!G14="", "", ROUND(Nispen!G14 / IF(AND(COUNT(Nispen!$D14:G14) <= 3, ISNUMBER($C32)), $C32, $D32) * 10, 3)) -> 6.19 | L32: =IF(Nispen!H14="", "", ROUND(Nispen!H14 / IF(AND(COUNT(Nispen!$D14:H14) <= 3, ISNUMBER($C32)), $C32, $D32) * 10, 3)) | M32: =IF(Nispen!I14="", "", ROUND(Nispen!I14 / IF(AND(COUNT(Nispen!$D14:I14) <= 3, ISNUMBER($C32)), $C32, $D32) * 10, 3)) | N32: =IF(Nispen!J14="", "", ROUND(Nispen!J14 / IF(AND(COUNT(Nispen!$D14:J14) <= 3, ISNUMBER($C32)), $C32, $D32) * 10, 3)) | O32: =IF(Nispen!P14="", "", ROUND(Nispen!P14 / IF(AND(COUNT(Nispen!$D14:$J14,Nispen!$P14:P14) <= 3, ISNUMBER($C32)), $C32, $E32) * 10, 3)) | P32: =IF(Nispen!Q14="", "", ROUND(Nispen!Q14 / IF(AND(COUNT(Nispen!$D14:$J14,Nispen!$P14:Q14) <= 3, ISNUMBER($C32)), $C32, $E32) * 10, 3)) | Q32: =IF(Nispen!R14="", "", ROUND(Nispen!R14 / IF(AND(COUNT(Nispen!$D14:$J14,Nispen!$P14:R14) <= 3, ISNUMBER($C32)), $C32, $E32) * 10, 3)) | R32: =IF(Nispen!S14="", "", ROUND(Nispen!S14 / IF(AND(COUNT(Nispen!$D14:$J14,Nispen!$P14:S14) <= 3, ISNUMBER($C32)), $C32, $E32) * 10, 3)) | S32: =IF(Nispen!T14="", "", ROUND(Nispen!T14 / IF(AND(COUNT(Nispen!$D14:$J14,Nispen!$P14:T14) <= 3, ISNUMBER($C32)), $C32, $E32) * 10, 3)) | T32: =IF(Nispen!U14="", "", ROUND(Nispen!U14 / IF(AND(COUNT(Nispen!$D14:$J14,Nispen!$P14:U14) <= 3, ISNUMBER($C32)), $C32, $E32) * 10, 3)) | U32: =IF(Nispen!V14="", "", ROUND(Nispen!V14 / IF(AND(COUNT(Nispen!$D14:$J14,Nispen!$P14:V14) <= 3, ISNUMBER($C32)), $C32, $E32) * 10, 3))
A33: =IF(Nispen!AB15=0, "", Nispen!AB15) | B33: =Nispen!B15 -> 0 | C33: =IFERROR(VALUE(MID($B33, SEARCH("[NS ", $B33)+4, 2)), "") | D33: =Nispen!C15 -> 0 | E33: =Nispen!O15 -> 0 | F33: =IF(Nispen!AA15=0," ",SUM(H33:U33)) | H33: =IF(Nispen!D15="", "", ROUND(Nispen!D15 / IF(AND(COUNT(Nispen!$D15:D15) <= 3, ISNUMBER($C33)), $C33, $D33) * 10, 3)) | I33: =IF(Nispen!E15="", "", ROUND(Nispen!E15 / IF(AND(COUNT(Nispen!$D15:E15) <= 3, ISNUMBER($C33)), $C33, $D33) * 10, 3)) | J33: =IF(Nispen!F15="", "", ROUND(Nispen!F15 / IF(AND(COUNT(Nispen!$D15:F15) <= 3, ISNUMBER($C33)), $C33, $D33) * 10, 3)) | K33: =IF(Nispen!G15="", "", ROUND(Nispen!G15 / IF(AND(COUNT(Nispen!$D15:G15) <= 3, ISNUMBER($C33)), $C33, $D33) * 10, 3)) | L33: =IF(Nispen!H15="", "", ROUND(Nispen!H15 / IF(AND(COUNT(Nispen!$D15:H15) <= 3, ISNUMBER($C33)), $C33, $D33) * 10, 3)) | M33: =IF(Nispen!I15="", "", ROUND(Nispen!I15 / IF(AND(COUNT(Nispen!$D15:I15) <= 3, ISNUMBER($C33)), $C33, $D33) * 10, 3)) | N33: =IF(Nispen!J15="", "", ROUND(Nispen!J15 / IF(AND(COUNT(Nispen!$D15:J15) <= 3, ISNUMBER($C33)), $C33, $D33) * 10, 3)) | O33: =IF(Nispen!P15="", "", ROUND(Nispen!P15 / IF(AND(COUNT(Nispen!$D15:$J15,Nispen!$P15:P15) <= 3, ISNUMBER($C33)), $C33, $E33) * 10, 3)) | P33: =IF(Nispen!Q15="", "", ROUND(Nispen!Q15 / IF(AND(COUNT(Nispen!$D15:$J15,Nispen!$P15:Q15) <= 3, ISNUMBER($C33)), $C33, $E33) * 10, 3)) | Q33: =IF(Nispen!R15="", "", ROUND(Nispen!R15 / IF(AND(COUNT(Nispen!$D15:$J15,Nispen!$P15:R15) <= 3, ISNUMBER($C33)), $C33, $E33) * 10, 3)) | R33: =IF(Nispen!S15="", "", ROUND(Nispen!S15 / IF(AND(COUNT(Nispen!$D15:$J15,Nispen!$P15:S15) <= 3, ISNUMBER($C33)), $C33, $E33) * 10, 3)) | S33: =IF(Nispen!T15="", "", ROUND(Nispen!T15 / IF(AND(COUNT(Nispen!$D15:$J15,Nispen!$P15:T15) <= 3, ISNUMBER($C33)), $C33, $E33) * 10, 3)) | T33: =IF(Nispen!U15="", "", ROUND(Nispen!U15 / IF(AND(COUNT(Nispen!$D15:$J15,Nispen!$P15:U15) <= 3, ISNUMBER($C33)), $C33, $E33) * 10, 3)) | U33: =IF(Nispen!V15="", "", ROUND(Nispen!V15 / IF(AND(COUNT(Nispen!$D15:$J15,Nispen!$P15:V15) <= 3, ISNUMBER($C33)), $C33, $E33) * 10, 3))
A34: =IF(Nispen!AB16=0, "", Nispen!AB16) | B34: =Nispen!B16 -> 0 | C34: =IFERROR(VALUE(MID($B34, SEARCH("[NS ", $B34)+4, 2)), "") | D34: =Nispen!C16 -> 0 | E34: =Nispen!O16 -> 0 | F34: =IF(Nispen!AA16=0," ",SUM(H34:U34)) | H34: =IF(Nispen!D16="", "", ROUND(Nispen!D16 / IF(AND(COUNT(Nispen!$D16:D16) <= 3, ISNUMBER($C34)), $C34, $D34) * 10, 3)) | I34: =IF(Nispen!E16="", "", ROUND(Nispen!E16 / IF(AND(COUNT(Nispen!$D16:E16) <= 3, ISNUMBER($C34)), $C34, $D34) * 10, 3)) | J34: =IF(Nispen!F16="", "", ROUND(Nispen!F16 / IF(AND(COUNT(Nispen!$D16:F16) <= 3, ISNUMBER($C34)), $C34, $D34) * 10, 3)) | K34: =IF(Nispen!G16="", "", ROUND(Nispen!G16 / IF(AND(COUNT(Nispen!$D16:G16) <= 3, ISNUMBER($C34)), $C34, $D34) * 10, 3)) | L34: =IF(Nispen!H16="", "", ROUND(Nispen!H16 / IF(AND(COUNT(Nispen!$D16:H16) <= 3, ISNUMBER($C34)), $C34, $D34) * 10, 3)) | M34: =IF(Nispen!I16="", "", ROUND(Nispen!I16 / IF(AND(COUNT(Nispen!$D16:I16) <= 3, ISNUMBER($C34)), $C34, $D34) * 10, 3)) | N34: =IF(Nispen!J16="", "", ROUND(Nispen!J16 / IF(AND(COUNT(Nispen!$D16:J16) <= 3, ISNUMBER($C34)), $C34, $D34) * 10, 3)) | O34: =IF(Nispen!P16="", "", ROUND(Nispen!P16 / IF(AND(COUNT(Nispen!$D16:$J16,Nispen!$P16:P16) <= 3, ISNUMBER($C34)), $C34, $E34) * 10, 3)) | P34: =IF(Nispen!Q16="", "", ROUND(Nispen!Q16 / IF(AND(COUNT(Nispen!$D16:$J16,Nispen!$P16:Q16) <= 3, ISNUMBER($C34)), $C34, $E34) * 10, 3)) | Q34: =IF(Nispen!R16="", "", ROUND(Nispen!R16 / IF(AND(COUNT(Nispen!$D16:$J16,Nispen!$P16:R16) <= 3, ISNUMBER($C34)), $C34, $E34) * 10, 3)) | R34: =IF(Nispen!S16="", "", ROUND(Nispen!S16 / IF(AND(COUNT(Nispen!$D16:$J16,Nispen!$P16:S16) <= 3, ISNUMBER($C34)), $C34, $E34) * 10, 3)) | S34: =IF(Nispen!T16="", "", ROUND(Nispen!T16 / IF(AND(COUNT(Nispen!$D16:$J16,Nispen!$P16:T16) <= 3, ISNUMBER($C34)), $C34, $E34) * 10, 3)) | T34: =IF(Nispen!U16="", "", ROUND(Nispen!U16 / IF(AND(COUNT(Nispen!$D16:$J16,Nispen!$P16:U16) <= 3, ISNUMBER($C34)), $C34, $E34) * 10, 3)) | U34: =IF(Nispen!V16="", "", ROUND(Nispen!V16 / IF(AND(COUNT(Nispen!$D16:$J16,Nispen!$P16:V16) <= 3, ISNUMBER($C34)), $C34, $E34) * 10, 3))
... A37: =IF(Nispen!AB19=0, "", Nispen!AB19) | B37: =Nispen!B19 -> 0 | C37: =IFERROR(VALUE(MID($B37, SEARCH("[NS ", $B37)+4, 2)), "") | D37: =Nispen!C19 -> 0 | E37: =Nispen!O19 -> 0 | F37: =IF(Nispen!AA19=0," ",SUM(H37:U37)) | H37: =IF(Nispen!D19="", "", ROUND(Nispen!D19 / IF(AND(COUNT(Nispen!$D19:D19) <= 3, ISNUMBER($C37)), $C37, $D37) * 10, 3)) | I37: =IF(Nispen!E19="", "", ROUND(Nispen!E19 / IF(AND(COUNT(Nispen!$D19:E19) <= 3, ISNUMBER($C37)), $C37, $D37) * 10, 3)) | J37: =IF(Nispen!F19="", "", ROUND(Nispen!F19 / IF(AND(COUNT(Nispen!$D19:F19) <= 3, ISNUMBER($C37)), $C37, $D37) * 10, 3)) | K37: =IF(Nispen!G19="", "", ROUND(Nispen!G19 / IF(AND(COUNT(Nispen!$D19:G19) <= 3, ISNUMBER($C37)), $C37, $D37) * 10, 3)) | L37: =IF(Nispen!H19="", "", ROUND(Nispen!H19 / IF(AND(COUNT(Nispen!$D19:H19) <= 3, ISNUMBER($C37)), $C37, $D37) * 10, 3)) | M37: =IF(Nispen!I19="", "", ROUND(Nispen!I19 / IF(AND(COUNT(Nispen!$D19:I19) <= 3, ISNUMBER($C37)), $C37, $D37) * 10, 3)) | N37: =IF(Nispen!J19="", "", ROUND(Nispen!J19 / IF(AND(COUNT(Nispen!$D19:J19) <= 3, ISNUMBER($C37)), $C37, $D37) * 10, 3)) | O37: =IF(Nispen!P19="", "", ROUND(Nispen!P19 / IF(AND(COUNT(Nispen!$D19:$J19,Nispen!$P19:P19) <= 3, ISNUMBER($C37)), $C37, $E37) * 10, 3)) | P37: =IF(Nispen!Q19="", "", ROUND(Nispen!Q19 / IF(AND(COUNT(Nispen!$D19:$J19,Nispen!$P19:Q19) <= 3, ISNUMBER($C37)), $C37, $E37) * 10, 3)) | Q37: =IF(Nispen!R19="", "", ROUND(Nispen!R19 / IF(AND(COUNT(Nispen!$D19:$J19,Nispen!$P19:R19) <= 3, ISNUMBER($C37)), $C37, $E37) * 10, 3)) | R37: =IF(Nispen!S19="", "", ROUND(Nispen!S19 / IF(AND(COUNT(Nispen!$D19:$J19,Nispen!$P19:S19) <= 3, ISNUMBER($C37)), $C37, $E37) * 10, 3)) | S37: =IF(Nispen!T19="", "", ROUND(Nispen!T19 / IF(AND(COUNT(Nispen!$D19:$J19,Nispen!$P19:T19) <= 3, ISNUMBER($C37)), $C37, $E37) * 10, 3)) | T37: =IF(Nispen!U19="", "", ROUND(Nispen!U19 / IF(AND(COUNT(Nispen!$D19:$J19,Nispen!$P19:U19) <= 3, ISNUMBER($C37)), $C37, $E37) * 10, 3)) | U37: =IF(Nispen!V19="", "", ROUND(Nispen!V19 / IF(AND(COUNT(Nispen!$D19:$J19,Nispen!$P19:V19) <= 3, ISNUMBER($C37)), $C37, $E37) * 10, 3))
F38: =B22 -> Sen. NISPEN | G38: 5 | H38: =IF(SUM(H23:H37)=0, "", SUM(H23:H37))+N29 -> 48.049 | I38: =IF(SUM(I23:I37)=0, "", SUM(I23:I37)) -> 53.444 | J38: =IF(SUM(J23:J37)=0, "", SUM(J23:J37)) -> 49.483 | K38: =IF(SUM(K23:K37)=0, "", SUM(K23:K37)) -> 54.542 | L38: =IF(SUM(L23:L37)=0, "", SUM(L23:L37)) | M38: =IF(SUM(M23:M37)=0, "", SUM(M23:M37)) | N38: =IF(SUM(N23:N37)=0, "", SUM(N23:N37))-N29 -> 0 | O38: =IF(SUM(O23:O37)=0, "", SUM(O23:O37)) | P38: =IF(SUM(P23:P37)=0, "", SUM(P23:P37)) | Q38: =IF(SUM(Q23:Q37)=0, "", SUM(Q23:Q37)) | R38: =IF(SUM(R23:R37)=0, "", SUM(R23:R37)) | S38: =IF(SUM(S23:S37)=0, "", SUM(S23:S37)) | T38: =IF(SUM(T23:T37)=0, "", SUM(T23:T37)) | U38: =IF(SUM(U23:U37)=0, "", SUM(U23:U37))
B39: =ROWS(B23:B37) -> 15 | F39: =SUM(F23:F37) -> 205.518 | G39: =B22 -> Sen. NISPEN | H39: =IF(SUM(H23:H37)=0, "", SUM(H23:H37))+N29 -> 48.049 | I39: =IF(I38="", "", ROUND(SUM($H38:I38), 3)) -> 101.493 | J39: =IF(J38="", "", ROUND(SUM($H38:J38), 3)) -> 150.976 | K39: =IF(K38="", "", ROUND(SUM($H38:K38), 3)) -> 205.518 | L39: =IF(L38="", "", ROUND(SUM($H38:L38), 3)) | M39: =IF(M38="", "", ROUND(SUM($H38:M38), 3)) | N39: =IF(N38="", "", ROUND(SUM($H38:N38), 3)) -> 205.518 | O39: =IF(O38="", "", ROUND(SUM($H38:O38), 3)) | P39: =IF(P38="", "", ROUND(SUM($H38:P38), 3)) | ... U39: =IF(U38="", "", ROUND(SUM($H38:U38), 3))
B41: KERKUILEN | H41: 1 | I41: 2 | J41: 3 | K41: 4 | L41: 5 | M41: 6 | N41: 7 | O41: 8 | P41: 9 | Q41: 10 | R41: 11 | S41: 12 | T41: 13 | U41: 14
A42: =IF(Kerkuilen!AB5=0, "", Kerkuilen!AB5) | B42: =Kerkuilen!B5 -> Antonissen Gust | C42: =IFERROR(VALUE(MID($B42, SEARCH("[NS ", $B42)+4, 2)), "") | D42: =Kerkuilen!C5 -> 38 | E42: =Kerkuilen!O5 -> 38 | F42: =IF(Kerkuilen!AA5=0," ",SUM(H42:U42)) | H42: =IF(Kerkuilen!D5="", "", ROUND(Kerkuilen!D5 / IF(AND(COUNT(Kerkuilen!$D5:D5) <= 3, ISNUMBER($C42)), $C42, $D42) * 10, 3)) | I42: =IF(Kerkuilen!E5="", "", ROUND(Kerkuilen!E5 / IF(AND(COUNT(Kerkuilen!$D5:E5) <= 3, ISNUMBER($C42)), $C42, $D42) * 10, 3)) | J42: =IF(Kerkuilen!F5="", "", ROUND(Kerkuilen!F5 / IF(AND(COUNT(Kerkuilen!$D5:F5) <= 3, ISNUMBER($C42)), $C42, $D42) * 10, 3)) | K42: =IF(Kerkuilen!G5="", "", ROUND(Kerkuilen!G5 / IF(AND(COUNT(Kerkuilen!$D5:G5) <= 3, ISNUMBER($C42)), $C42, $D42) * 10, 3)) | L42: =IF(Kerkuilen!H5="", "", ROUND(Kerkuilen!H5 / IF(AND(COUNT(Kerkuilen!$D5:H5) <= 3, ISNUMBER($C42)), $C42, $D42) * 10, 3)) | M42: =IF(Kerkuilen!I5="", "", ROUND(Kerkuilen!I5 / IF(AND(COUNT(Kerkuilen!$D5:I5) <= 3, ISNUMBER($C42)), $C42, $D42) * 10, 3)) | N42: =IF(Kerkuilen!J5="", "", ROUND(Kerkuilen!J5 / IF(AND(COUNT(Kerkuilen!$D5:J5) <= 3, ISNUMBER($C42)), $C42, $D42) * 10, 3)) | O42: =IF(Kerkuilen!P5="", "", ROUND(Kerkuilen!P5 / IF(AND(COUNT(Kerkuilen!$D5:$J5,Kerkuilen!$P5:P5) <= 3, ISNUMBER($C42)), $C42, $E42) * 10, 3)) | P42: =IF(Kerkuilen!Q5="", "", ROUND(Kerkuilen!Q5 / IF(AND(COUNT(Kerkuilen!$D5:$J5,Kerkuilen!$P5:Q5) <= 3, ISNUMBER($C42)), $C42, $E42) * 10, 3)) | Q42: =IF(Kerkuilen!R5="", "", ROUND(Kerkuilen!R5 / IF(AND(COUNT(Kerkuilen!$D5:$J5,Kerkuilen!$P5:R5) <= 3, ISNUMBER($C42)), $C42, $E42) * 10, 3)) | R42: =IF(Kerkuilen!S5="", "", ROUND(Kerkuilen!S5 / IF(AND(COUNT(Kerkuilen!$D5:$J5,Kerkuilen!$P5:S5) <= 3, ISNUMBER($C42)), $C42, $E42) * 10, 3)) | S42: =IF(Kerkuilen!T5="", "", ROUND(Kerkuilen!T5 / IF(AND(COUNT(Kerkuilen!$D5:$J5,Kerkuilen!$P5:T5) <= 3, ISNUMBER($C42)), $C42, $E42) * 10, 3)) | T42: =IF(Kerkuilen!U5="", "", ROUND(Kerkuilen!U5 / IF(AND(COUNT(Kerkuilen!$D5:$J5,Kerkuilen!$P5:U5) <= 3, ISNUMBER($C42)), $C42, $E42) * 10, 3)) | U42: =IF(Kerkuilen!V5="", "", ROUND(Kerkuilen!V5 / IF(AND(COUNT(Kerkuilen!$D5:$J5,Kerkuilen!$P5:V5) <= 3, ISNUMBER($C42)), $C42, $E42) * 10, 3))
A43: =IF(Kerkuilen!AB6=0, "", Kerkuilen!AB6) -> 3 | B43: =Kerkuilen!B6 -> De Kaey Piet | C43: =IFERROR(VALUE(MID($B43, SEARCH("[NS ", $B43)+4, 2)), "") | D43: =Kerkuilen!C6 -> 58 | E43: =Kerkuilen!O6 -> 58 | F43: =IF(Kerkuilen!AA6=0," ",SUM(H43:U43)) -> 24.137 | H43: =IF(Kerkuilen!D6="", "", ROUND(Kerkuilen!D6 / IF(AND(COUNT(Kerkuilen!$D6:D6) <= 3, ISNUMBER($C43)), $C43, $D43) * 10, 3)) | I43: =IF(Kerkuilen!E6="", "", ROUND(Kerkuilen!E6 / IF(AND(COUNT(Kerkuilen!$D6:E6) <= 3, ISNUMBER($C43)), $C43, $D43) * 10, 3)) -> 10.172 | J43: =IF(Kerkuilen!F6="", "", ROUND(Kerkuilen!F6 / IF(AND(COUNT(Kerkuilen!$D6:F6) <= 3, ISNUMBER($C43)), $C43, $D43) * 10, 3)) -> 7.241 | K43: =IF(Kerkuilen!G6="", "", ROUND(Kerkuilen!G6 / IF(AND(COUNT(Kerkuilen!$D6:G6) <= 3, ISNUMBER($C43)), $C43, $D43) * 10, 3)) -> 6.724 | L43: =IF(Kerkuilen!H6="", "", ROUND(Kerkuilen!H6 / IF(AND(COUNT(Kerkuilen!$D6:H6) <= 3, ISNUMBER($C43)), $C43, $D43) * 10, 3)) | M43: =IF(Kerkuilen!I6="", "", ROUND(Kerkuilen!I6 / IF(AND(COUNT(Kerkuilen!$D6:I6) <= 3, ISNUMBER($C43)), $C43, $D43) * 10, 3)) | N43: =IF(Kerkuilen!J6="", "", ROUND(Kerkuilen!J6 / IF(AND(COUNT(Kerkuilen!$D6:J6) <= 3, ISNUMBER($C43)), $C43, $D43) * 10, 3)) | O43: =IF(Kerkuilen!P6="", "", ROUND(Kerkuilen!P6 / IF(AND(COUNT(Kerkuilen!$D6:$J6,Kerkuilen!$P6:P6) <= 3, ISNUMBER($C43)), $C43, $E43) * 10, 3)) | P43: =IF(Kerkuilen!Q6="", "", ROUND(Kerkuilen!Q6 / IF(AND(COUNT(Kerkuilen!$D6:$J6,Kerkuilen!$P6:Q6) <= 3, ISNUMBER($C43)), $C43, $E43) * 10, 3)) | Q43: =IF(Kerkuilen!R6="", "", ROUND(Kerkuilen!R6 / IF(AND(COUNT(Kerkuilen!$D6:$J6,Kerkuilen!$P6:R6) <= 3, ISNUMBER($C43)), $C43, $E43) * 10, 3)) | R43: =IF(Kerkuilen!S6="", "", ROUND(Kerkuilen!S6 / IF(AND(COUNT(Kerkuilen!$D6:$J6,Kerkuilen!$P6:S6) <= 3, ISNUMBER($C43)), $C43, $E43) * 10, 3)) | S43: =IF(Kerkuilen!T6="", "", ROUND(Kerkuilen!T6 / IF(AND(COUNT(Kerkuilen!$D6:$J6,Kerkuilen!$P6:T6) <= 3, ISNUMBER($C43)), $C43, $E43) * 10, 3)) | T43: =IF(Kerkuilen!U6="", "", ROUND(Kerkuilen!U6 / IF(AND(COUNT(Kerkuilen!$D6:$J6,Kerkuilen!$P6:U6) <= 3, ISNUMBER($C43)), $C43, $E43) * 10, 3)) | U43: =IF(Kerkuilen!V6="", "", ROUND(Kerkuilen!V6 / IF(AND(COUNT(Kerkuilen!$D6:$J6,Kerkuilen!$P6:V6) <= 3, ISNUMBER($C43)), $C43, $E43) * 10, 3))
A44: =IF(Kerkuilen!AB7=0, "", Kerkuilen!AB7) | B44: =Kerkuilen!B7 -> Elst Stan | C44: =IFERROR(VALUE(MID($B44, SEARCH("[NS ", $B44)+4, 2)), "") | D44: =Kerkuilen!C7 -> 38 | E44: =Kerkuilen!O7 -> 38 | F44: =IF(Kerkuilen!AA7=0," ",SUM(H44:U44)) | H44: =IF(Kerkuilen!D7="", "", ROUND(Kerkuilen!D7 / IF(AND(COUNT(Kerkuilen!$D7:D7) <= 3, ISNUMBER($C44)), $C44, $D44) * 10, 3)) | I44: =IF(Kerkuilen!E7="", "", ROUND(Kerkuilen!E7 / IF(AND(COUNT(Kerkuilen!$D7:E7) <= 3, ISNUMBER($C44)), $C44, $D44) * 10, 3)) | J44: =IF(Kerkuilen!F7="", "", ROUND(Kerkuilen!F7 / IF(AND(COUNT(Kerkuilen!$D7:F7) <= 3, ISNUMBER($C44)), $C44, $D44) * 10, 3)) | K44: =IF(Kerkuilen!G7="", "", ROUND(Kerkuilen!G7 / IF(AND(COUNT(Kerkuilen!$D7:G7) <= 3, ISNUMBER($C44)), $C44, $D44) * 10, 3)) | L44: =IF(Kerkuilen!H7="", "", ROUND(Kerkuilen!H7 / IF(AND(COUNT(Kerkuilen!$D7:H7) <= 3, ISNUMBER($C44)), $C44, $D44) * 10, 3)) | M44: =IF(Kerkuilen!I7="", "", ROUND(Kerkuilen!I7 / IF(AND(COUNT(Kerkuilen!$D7:I7) <= 3, ISNUMBER($C44)), $C44, $D44) * 10, 3)) | N44: =IF(Kerkuilen!J7="", "", ROUND(Kerkuilen!J7 / IF(AND(COUNT(Kerkuilen!$D7:J7) <= 3, ISNUMBER($C44)), $C44, $D44) * 10, 3)) | O44: =IF(Kerkuilen!P7="", "", ROUND(Kerkuilen!P7 / IF(AND(COUNT(Kerkuilen!$D7:$J7,Kerkuilen!$P7:P7) <= 3, ISNUMBER($C44)), $C44, $E44) * 10, 3)) | P44: =IF(Kerkuilen!Q7="", "", ROUND(Kerkuilen!Q7 / IF(AND(COUNT(Kerkuilen!$D7:$J7,Kerkuilen!$P7:Q7) <= 3, ISNUMBER($C44)), $C44, $E44) * 10, 3)) | Q44: =IF(Kerkuilen!R7="", "", ROUND(Kerkuilen!R7 / IF(AND(COUNT(Kerkuilen!$D7:$J7,Kerkuilen!$P7:R7) <= 3, ISNUMBER($C44)), $C44, $E44) * 10, 3)) | R44: =IF(Kerkuilen!S7="", "", ROUND(Kerkuilen!S7 / IF(AND(COUNT(Kerkuilen!$D7:$J7,Kerkuilen!$P7:S7) <= 3, ISNUMBER($C44)), $C44, $E44) * 10, 3)) | S44: =IF(Kerkuilen!T7="", "", ROUND(Kerkuilen!T7 / IF(AND(COUNT(Kerkuilen!$D7:$J7,Kerkuilen!$P7:T7) <= 3, ISNUMBER($C44)), $C44, $E44) * 10, 3)) | T44: =IF(Kerkuilen!U7="", "", ROUND(Kerkuilen!U7 / IF(AND(COUNT(Kerkuilen!$D7:$J7,Kerkuilen!$P7:U7) <= 3, ISNUMBER($C44)), $C44, $E44) * 10, 3)) | U44: =IF(Kerkuilen!V7="", "", ROUND(Kerkuilen!V7 / IF(AND(COUNT(Kerkuilen!$D7:$J7,Kerkuilen!$P7:V7) <= 3, ISNUMBER($C44)), $C44, $E44) * 10, 3))
A45: =IF(Kerkuilen!AB8=0, "", Kerkuilen!AB8) -> 3 | B45: =Kerkuilen!B8 -> Hectors Hugo | C45: =IFERROR(VALUE(MID($B45, SEARCH("[NS ", $B45)+4, 2)), "") | D45: =Kerkuilen!C8 -> 18 | E45: =Kerkuilen!O8 -> 18 | F45: =IF(Kerkuilen!AA8=0," ",SUM(H45:U45)) -> 23.333 | H45: =IF(Kerkuilen!D8="", "", ROUND(Kerkuilen!D8 / IF(AND(COUNT(Kerkuilen!$D8:D8) <= 3, ISNUMBER($C45)), $C45, $D45) * 10, 3)) | I45: =IF(Kerkuilen!E8="", "", ROUND(Kerkuilen!E8 / IF(AND(COUNT(Kerkuilen!$D8:E8) <= 3, ISNUMBER($C45)), $C45, $D45) * 10, 3)) -> 3.889 | J45: =IF(Kerkuilen!F8="", "", ROUND(Kerkuilen!F8 / IF(AND(COUNT(Kerkuilen!$D8:F8) <= 3, ISNUMBER($C45)), $C45, $D45) * 10, 3)) -> 9.444 | K45: =IF(Kerkuilen!G8="", "", ROUND(Kerkuilen!G8 / IF(AND(COUNT(Kerkuilen!$D8:G8) <= 3, ISNUMBER($C45)), $C45, $D45) * 10, 3)) -> 10 | L45: =IF(Kerkuilen!H8="", "", ROUND(Kerkuilen!H8 / IF(AND(COUNT(Kerkuilen!$D8:H8) <= 3, ISNUMBER($C45)), $C45, $D45) * 10, 3)) | M45: =IF(Kerkuilen!I8="", "", ROUND(Kerkuilen!I8 / IF(AND(COUNT(Kerkuilen!$D8:I8) <= 3, ISNUMBER($C45)), $C45, $D45) * 10, 3)) | N45: =IF(Kerkuilen!J8="", "", ROUND(Kerkuilen!J8 / IF(AND(COUNT(Kerkuilen!$D8:J8) <= 3, ISNUMBER($C45)), $C45, $D45) * 10, 3)) | O45: =IF(Kerkuilen!P8="", "", ROUND(Kerkuilen!P8 / IF(AND(COUNT(Kerkuilen!$D8:$J8,Kerkuilen!$P8:P8) <= 3, ISNUMBER($C45)), $C45, $E45) * 10, 3)) | P45: =IF(Kerkuilen!Q8="", "", ROUND(Kerkuilen!Q8 / IF(AND(COUNT(Kerkuilen!$D8:$J8,Kerkuilen!$P8:Q8) <= 3, ISNUMBER($C45)), $C45, $E45) * 10, 3)) | Q45: =IF(Kerkuilen!R8="", "", ROUND(Kerkuilen!R8 / IF(AND(COUNT(Kerkuilen!$D8:$J8,Kerkuilen!$P8:R8) <= 3, ISNUMBER($C45)), $C45, $E45) * 10, 3)) | R45: =IF(Kerkuilen!S8="", "", ROUND(Kerkuilen!S8 / IF(AND(COUNT(Kerkuilen!$D8:$J8,Kerkuilen!$P8:S8) <= 3, ISNUMBER($C45)), $C45, $E45) * 10, 3)) | S45: =IF(Kerkuilen!T8="", "", ROUND(Kerkuilen!T8 / IF(AND(COUNT(Kerkuilen!$D8:$J8,Kerkuilen!$P8:T8) <= 3, ISNUMBER($C45)), $C45, $E45) * 10, 3)) | T45: =IF(Kerkuilen!U8="", "", ROUND(Kerkuilen!U8 / IF(AND(COUNT(Kerkuilen!$D8:$J8,Kerkuilen!$P8:U8) <= 3, ISNUMBER($C45)), $C45, $E45) * 10, 3)) | U45: =IF(Kerkuilen!V8="", "", ROUND(Kerkuilen!V8 / IF(AND(COUNT(Kerkuilen!$D8:$J8,Kerkuilen!$P8:V8) <= 3, ISNUMBER($C45)), $C45, $E45) * 10, 3))
A46: =IF(Kerkuilen!AB9=0, "", Kerkuilen!AB9) | B46: =Kerkuilen!B9 -> Jacobis Martin | C46: =IFERROR(VALUE(MID($B46, SEARCH("[NS ", $B46)+4, 2)), "") | D46: =Kerkuilen!C9 -> 30 | E46: =Kerkuilen!O9 -> 30 | F46: =IF(Kerkuilen!AA9=0," ",SUM(H46:U46)) | H46: =IF(Kerkuilen!D9="", "", ROUND(Kerkuilen!D9 / IF(AND(COUNT(Kerkuilen!$D9:D9) <= 3, ISNUMBER($C46)), $C46, $D46) * 10, 3)) | I46: =IF(Kerkuilen!E9="", "", ROUND(Kerkuilen!E9 / IF(AND(COUNT(Kerkuilen!$D9:E9) <= 3, ISNUMBER($C46)), $C46, $D46) * 10, 3)) | J46: =IF(Kerkuilen!F9="", "", ROUND(Kerkuilen!F9 / IF(AND(COUNT(Kerkuilen!$D9:F9) <= 3, ISNUMBER($C46)), $C46, $D46) * 10, 3)) | K46: =IF(Kerkuilen!G9="", "", ROUND(Kerkuilen!G9 / IF(AND(COUNT(Kerkuilen!$D9:G9) <= 3, ISNUMBER($C46)), $C46, $D46) * 10, 3)) | L46: =IF(Kerkuilen!H9="", "", ROUND(Kerkuilen!H9 / IF(AND(COUNT(Kerkuilen!$D9:H9) <= 3, ISNUMBER($C46)), $C46, $D46) * 10, 3)) | M46: =IF(Kerkuilen!I9="", "", ROUND(Kerkuilen!I9 / IF(AND(COUNT(Kerkuilen!$D9:I9) <= 3, ISNUMBER($C46)), $C46, $D46) * 10, 3)) | N46: =IF(Kerkuilen!J9="", "", ROUND(Kerkuilen!J9 / IF(AND(COUNT(Kerkuilen!$D9:J9) <= 3, ISNUMBER($C46)), $C46, $D46) * 10, 3)) | O46: =IF(Kerkuilen!P9="", "", ROUND(Kerkuilen!P9 / IF(AND(COUNT(Kerkuilen!$D9:$J9,Kerkuilen!$P9:P9) <= 3, ISNUMBER($C46)), $C46, $E46) * 10, 3)) | P46: =IF(Kerkuilen!Q9="", "", ROUND(Kerkuilen!Q9 / IF(AND(COUNT(Kerkuilen!$D9:$J9,Kerkuilen!$P9:Q9) <= 3, ISNUMBER($C46)), $C46, $E46) * 10, 3)) | Q46: =IF(Kerkuilen!R9="", "", ROUND(Kerkuilen!R9 / IF(AND(COUNT(Kerkuilen!$D9:$J9,Kerkuilen!$P9:R9) <= 3, ISNUMBER($C46)), $C46, $E46) * 10, 3)) | R46: =IF(Kerkuilen!S9="", "", ROUND(Kerkuilen!S9 / IF(AND(COUNT(Kerkuilen!$D9:$J9,Kerkuilen!$P9:S9) <= 3, ISNUMBER($C46)), $C46, $E46) * 10, 3)) | S46: =IF(Kerkuilen!T9="", "", ROUND(Kerkuilen!T9 / IF(AND(COUNT(Kerkuilen!$D9:$J9,Kerkuilen!$P9:T9) <= 3, ISNUMBER($C46)), $C46, $E46) * 10, 3)) | T46: =IF(Kerkuilen!U9="", "", ROUND(Kerkuilen!U9 / IF(AND(COUNT(Kerkuilen!$D9:$J9,Kerkuilen!$P9:U9) <= 3, ISNUMBER($C46)), $C46, $E46) * 10, 3)) | U46: =IF(Kerkuilen!V9="", "", ROUND(Kerkuilen!V9 / IF(AND(COUNT(Kerkuilen!$D9:$J9,Kerkuilen!$P9:V9) <= 3, ISNUMBER($C46)), $C46, $E46) * 10, 3))
A47: =IF(Kerkuilen!AB10=0, "", Kerkuilen!AB10) -> 2 | B47: =Kerkuilen!B10 -> Lambrechts Jef | C47: =IFERROR(VALUE(MID($B47, SEARCH("[NS ", $B47)+4, 2)), "") | D47: =Kerkuilen!C10 -> 57 | E47: =Kerkuilen!O10 -> 57 | F47: =IF(Kerkuilen!AA10=0," ",SUM(H47:U47)) -> 16.14 | H47: =IF(Kerkuilen!D10="", "", ROUND(Kerkuilen!D10 / IF(AND(COUNT(Kerkuilen!$D10:D10) <= 3, ISNUMBER($C47)), $C47, $D47) * 10, 3)) -> 6.842 | I47: =IF(Kerkuilen!E10="", "", ROUND(Kerkuilen!E10 / IF(AND(COUNT(Kerkuilen!$D10:E10) <= 3, ISNUMBER($C47)), $C47, $D47) * 10, 3)) | J47: =IF(Kerkuilen!F10="", "", ROUND(Kerkuilen!F10 / IF(AND(COUNT(Kerkuilen!$D10:F10) <= 3, ISNUMBER($C47)), $C47, $D47) * 10, 3)) -> 9.298 | K47: =IF(Kerkuilen!G10="", "", ROUND(Kerkuilen!G10 / IF(AND(COUNT(Kerkuilen!$D10:G10) <= 3, ISNUMBER($C47)), $C47, $D47) * 10, 3)) | L47: =IF(Kerkuilen!H10="", "", ROUND(Kerkuilen!H10 / IF(AND(COUNT(Kerkuilen!$D10:H10) <= 3, ISNUMBER($C47)), $C47, $D47) * 10, 3)) | M47: =IF(Kerkuilen!I10="", "", ROUND(Kerkuilen!I10 / IF(AND(COUNT(Kerkuilen!$D10:I10) <= 3, ISNUMBER($C47)), $C47, $D47) * 10, 3)) | N47: =IF(Kerkuilen!J10="", "", ROUND(Kerkuilen!J10 / IF(AND(COUNT(Kerkuilen!$D10:J10) <= 3, ISNUMBER($C47)), $C47, $D47) * 10, 3)) | O47: =IF(Kerkuilen!P10="", "", ROUND(Kerkuilen!P10 / IF(AND(COUNT(Kerkuilen!$D10:$J10,Kerkuilen!$P10:P10) <= 3, ISNUMBER($C47)), $C47, $E47) * 10, 3)) | P47: =IF(Kerkuilen!Q10="", "", ROUND(Kerkuilen!Q10 / IF(AND(COUNT(Kerkuilen!$D10:$J10,Kerkuilen!$P10:Q10) <= 3, ISNUMBER($C47)), $C47, $E47) * 10, 3)) | Q47: =IF(Kerkuilen!R10="", "", ROUND(Kerkuilen!R10 / IF(AND(COUNT(Kerkuilen!$D10:$J10,Kerkuilen!$P10:R10) <= 3, ISNUMBER($C47)), $C47, $E47) * 10, 3)) | R47: =IF(Kerkuilen!S10="", "", ROUND(Kerkuilen!S10 / IF(AND(COUNT(Kerkuilen!$D10:$J10,Kerkuilen!$P10:S10) <= 3, ISNUMBER($C47)), $C47, $E47) * 10, 3)) | S47: =IF(Kerkuilen!T10="", "", ROUND(Kerkuilen!T10 / IF(AND(COUNT(Kerkuilen!$D10:$J10,Kerkuilen!$P10:T10) <= 3, ISNUMBER($C47)), $C47, $E47) * 10, 3)) | T47: =IF(Kerkuilen!U10="", "", ROUND(Kerkuilen!U10 / IF(AND(COUNT(Kerkuilen!$D10:$J10,Kerkuilen!$P10:U10) <= 3, ISNUMBER($C47)), $C47, $E47) * 10, 3)) | U47: =IF(Kerkuilen!V10="", "", ROUND(Kerkuilen!V10 / IF(AND(COUNT(Kerkuilen!$D10:$J10,Kerkuilen!$P10:V10) <= 3, ISNUMBER($C47)), $C47, $E47) * 10, 3))
A48: =IF(Kerkuilen!AB11=0, "", Kerkuilen!AB11) -> 2 | B48: =Kerkuilen!B11 -> Naulaerts Rik | C48: =IFERROR(VALUE(MID($B48, SEARCH("[NS ", $B48)+4, 2)), "") | D48: =Kerkuilen!C11 -> 46 | E48: =Kerkuilen!O11 -> 46 | F48: =IF(Kerkuilen!AA11=0," ",SUM(H48:U48)) -> 28.913 | H48: =IF(Kerkuilen!D11="", "", ROUND(Kerkuilen!D11 / IF(AND(COUNT(Kerkuilen!$D11:D11) <= 3, ISNUMBER($C48)), $C48, $D48) * 10, 3)) -> 13.913 | I48: =IF(Kerkuilen!E11="", "", ROUND(Kerkuilen!E11 / IF(AND(COUNT(Kerkuilen!$D11:E11) <= 3, ISNUMBER($C48)), $C48, $D48) * 10, 3)) | J48: =IF(Kerkuilen!F11="", "", ROUND(Kerkuilen!F11 / IF(AND(COUNT(Kerkuilen!$D11:F11) <= 3, ISNUMBER($C48)), $C48, $D48) * 10, 3)) | K48: =IF(Kerkuilen!G11="", "", ROUND(Kerkuilen!G11 / IF(AND(COUNT(Kerkuilen!$D11:G11) <= 3, ISNUMBER($C48)), $C48, $D48) * 10, 3)) -> 15 | L48: =IF(Kerkuilen!H11="", "", ROUND(Kerkuilen!H11 / IF(AND(COUNT(Kerkuilen!$D11:H11) <= 3, ISNUMBER($C48)), $C48, $D48) * 10, 3)) | M48: =IF(Kerkuilen!I11="", "", ROUND(Kerkuilen!I11 / IF(AND(COUNT(Kerkuilen!$D11:I11) <= 3, ISNUMBER($C48)), $C48, $D48) * 10, 3)) | N48: =IF(Kerkuilen!J11="", "", ROUND(Kerkuilen!J11 / IF(AND(COUNT(Kerkuilen!$D11:J11) <= 3, ISNUMBER($C48)), $C48, $D48) * 10, 3)) | O48: =IF(Kerkuilen!P11="", "", ROUND(Kerkuilen!P11 / IF(AND(COUNT(Kerkuilen!$D11:$J11,Kerkuilen!$P11:P11) <= 3, ISNUMBER($C48)), $C48, $E48) * 10, 3)) | P48: =IF(Kerkuilen!Q11="", "", ROUND(Kerkuilen!Q11 / IF(AND(COUNT(Kerkuilen!$D11:$J11,Kerkuilen!$P11:Q11) <= 3, ISNUMBER($C48)), $C48, $E48) * 10, 3)) | Q48: =IF(Kerkuilen!R11="", "", ROUND(Kerkuilen!R11 / IF(AND(COUNT(Kerkuilen!$D11:$J11,Kerkuilen!$P11:R11) <= 3, ISNUMBER($C48)), $C48, $E48) * 10, 3)) | R48: =IF(Kerkuilen!S11="", "", ROUND(Kerkuilen!S11 / IF(AND(COUNT(Kerkuilen!$D11:$J11,Kerkuilen!$P11:S11) <= 3, ISNUMBER($C48)), $C48, $E48) * 10, 3)) | S48: =IF(Kerkuilen!T11="", "", ROUND(Kerkuilen!T11 / IF(AND(COUNT(Kerkuilen!$D11:$J11,Kerkuilen!$P11:T11) <= 3, ISNUMBER($C48)), $C48, $E48) * 10, 3)) | T48: =IF(Kerkuilen!U11="", "", ROUND(Kerkuilen!U11 / IF(AND(COUNT(Kerkuilen!$D11:$J11,Kerkuilen!$P11:U11) <= 3, ISNUMBER($C48)), $C48, $E48) * 10, 3)) | U48: =IF(Kerkuilen!V11="", "", ROUND(Kerkuilen!V11 / IF(AND(COUNT(Kerkuilen!$D11:$J11,Kerkuilen!$P11:V11) <= 3, ISNUMBER($C48)), $C48, $E48) * 10, 3))
A49: =IF(Kerkuilen!AB12=0, "", Kerkuilen!AB12) -> 1 | B49: =Kerkuilen!B12 -> Peeters Wies | C49: =IFERROR(VALUE(MID($B49, SEARCH("[NS ", $B49)+4, 2)), "") | D49: =Kerkuilen!C12 -> 29 | E49: =Kerkuilen!O12 -> 29 | F49: =IF(Kerkuilen!AA12=0," ",SUM(H49:U49)) -> 5.172 | H49: =IF(Kerkuilen!D12="", "", ROUND(Kerkuilen!D12 / IF(AND(COUNT(Kerkuilen!$D12:D12) <= 3, ISNUMBER($C49)), $C49, $D49) * 10, 3)) | I49: =IF(Kerkuilen!E12="", "", ROUND(Kerkuilen!E12 / IF(AND(COUNT(Kerkuilen!$D12:E12) <= 3, ISNUMBER($C49)), $C49, $D49) * 10, 3)) | J49: =IF(Kerkuilen!F12="", "", ROUND(Kerkuilen!F12 / IF(AND(COUNT(Kerkuilen!$D12:F12) <= 3, ISNUMBER($C49)), $C49, $D49) * 10, 3)) | K49: =IF(Kerkuilen!G12="", "", ROUND(Kerkuilen!G12 / IF(AND(COUNT(Kerkuilen!$D12:G12) <= 3, ISNUMBER($C49)), $C49, $D49) * 10, 3)) -> 5.172 | L49: =IF(Kerkuilen!H12="", "", ROUND(Kerkuilen!H12 / IF(AND(COUNT(Kerkuilen!$D12:H12) <= 3, ISNUMBER($C49)), $C49, $D49) * 10, 3)) | M49: =IF(Kerkuilen!I12="", "", ROUND(Kerkuilen!I12 / IF(AND(COUNT(Kerkuilen!$D12:I12) <= 3, ISNUMBER($C49)), $C49, $D49) * 10, 3)) | N49: =IF(Kerkuilen!J12="", "", ROUND(Kerkuilen!J12 / IF(AND(COUNT(Kerkuilen!$D12:J12) <= 3, ISNUMBER($C49)), $C49, $D49) * 10, 3)) | O49: =IF(Kerkuilen!P12="", "", ROUND(Kerkuilen!P12 / IF(AND(COUNT(Kerkuilen!$D12:$J12,Kerkuilen!$P12:P12) <= 3, ISNUMBER($C49)), $C49, $E49) * 10, 3)) | P49: =IF(Kerkuilen!Q12="", "", ROUND(Kerkuilen!Q12 / IF(AND(COUNT(Kerkuilen!$D12:$J12,Kerkuilen!$P12:Q12) <= 3, ISNUMBER($C49)), $C49, $E49) * 10, 3)) | Q49: =IF(Kerkuilen!R12="", "", ROUND(Kerkuilen!R12 / IF(AND(COUNT(Kerkuilen!$D12:$J12,Kerkuilen!$P12:R12) <= 3, ISNUMBER($C49)), $C49, $E49) * 10, 3)) | R49: =IF(Kerkuilen!S12="", "", ROUND(Kerkuilen!S12 / IF(AND(COUNT(Kerkuilen!$D12:$J12,Kerkuilen!$P12:S12) <= 3, ISNUMBER($C49)), $C49, $E49) * 10, 3)) | S49: =IF(Kerkuilen!T12="", "", ROUND(Kerkuilen!T12 / IF(AND(COUNT(Kerkuilen!$D12:$J12,Kerkuilen!$P12:T12) <= 3, ISNUMBER($C49)), $C49, $E49) * 10, 3)) | T49: =IF(Kerkuilen!U12="", "", ROUND(Kerkuilen!U12 / IF(AND(COUNT(Kerkuilen!$D12:$J12,Kerkuilen!$P12:U12) <= 3, ISNUMBER($C49)), $C49, $E49) * 10, 3)) | U49: =IF(Kerkuilen!V12="", "", ROUND(Kerkuilen!V12 / IF(AND(COUNT(Kerkuilen!$D12:$J12,Kerkuilen!$P12:V12) <= 3, ISNUMBER($C49)), $C49, $E49) * 10, 3))
A50: =IF(Kerkuilen!AB13=0, "", Kerkuilen!AB13) -> 2 | B50: =Kerkuilen!B13 -> Pleysier Luc | C50: =IFERROR(VALUE(MID($B50, SEARCH("[NS ", $B50)+4, 2)), "") | D50: =Kerkuilen!C13 -> 82 | E50: =Kerkuilen!O13 -> 82 | F50: =IF(Kerkuilen!AA13=0," ",SUM(H50:U50)) -> 12.317 | H50: =IF(Kerkuilen!D13="", "", ROUND(Kerkuilen!D13 / IF(AND(COUNT(Kerkuilen!$D13:D13) <= 3, ISNUMBER($C50)), $C50, $D50) * 10, 3)) -> 8.415 | I50: =IF(Kerkuilen!E13="", "", ROUND(Kerkuilen!E13 / IF(AND(COUNT(Kerkuilen!$D13:E13) <= 3, ISNUMBER($C50)), $C50, $D50) * 10, 3)) -> 3.902 | J50: =IF(Kerkuilen!F13="", "", ROUND(Kerkuilen!F13 / IF(AND(COUNT(Kerkuilen!$D13:F13) <= 3, ISNUMBER($C50)), $C50, $D50) * 10, 3)) | K50: =IF(Kerkuilen!G13="", "", ROUND(Kerkuilen!G13 / IF(AND(COUNT(Kerkuilen!$D13:G13) <= 3, ISNUMBER($C50)), $C50, $D50) * 10, 3)) | L50: =IF(Kerkuilen!H13="", "", ROUND(Kerkuilen!H13 / IF(AND(COUNT(Kerkuilen!$D13:H13) <= 3, ISNUMBER($C50)), $C50, $D50) * 10, 3)) | M50: =IF(Kerkuilen!I13="", "", ROUND(Kerkuilen!I13 / IF(AND(COUNT(Kerkuilen!$D13:I13) <= 3, ISNUMBER($C50)), $C50, $D50) * 10, 3)) | N50: =IF(Kerkuilen!J13="", "", ROUND(Kerkuilen!J13 / IF(AND(COUNT(Kerkuilen!$D13:J13) <= 3, ISNUMBER($C50)), $C50, $D50) * 10, 3)) | O50: =IF(Kerkuilen!P13="", "", ROUND(Kerkuilen!P13 / IF(AND(COUNT(Kerkuilen!$D13:$J13,Kerkuilen!$P13:P13) <= 3, ISNUMBER($C50)), $C50, $E50) * 10, 3)) | P50: =IF(Kerkuilen!Q13="", "", ROUND(Kerkuilen!Q13 / IF(AND(COUNT(Kerkuilen!$D13:$J13,Kerkuilen!$P13:Q13) <= 3, ISNUMBER($C50)), $C50, $E50) * 10, 3)) | Q50: =IF(Kerkuilen!R13="", "", ROUND(Kerkuilen!R13 / IF(AND(COUNT(Kerkuilen!$D13:$J13,Kerkuilen!$P13:R13) <= 3, ISNUMBER($C50)), $C50, $E50) * 10, 3)) | R50: =IF(Kerkuilen!S13="", "", ROUND(Kerkuilen!S13 / IF(AND(COUNT(Kerkuilen!$D13:$J13,Kerkuilen!$P13:S13) <= 3, ISNUMBER($C50)), $C50, $E50) * 10, 3)) | S50: =IF(Kerkuilen!T13="", "", ROUND(Kerkuilen!T13 / IF(AND(COUNT(Kerkuilen!$D13:$J13,Kerkuilen!$P13:T13) <= 3, ISNUMBER($C50)), $C50, $E50) * 10, 3)) | T50: =IF(Kerkuilen!U13="", "", ROUND(Kerkuilen!U13 / IF(AND(COUNT(Kerkuilen!$D13:$J13,Kerkuilen!$P13:U13) <= 3, ISNUMBER($C50)), $C50, $E50) * 10, 3)) | U50: =IF(Kerkuilen!V13="", "", ROUND(Kerkuilen!V13 / IF(AND(COUNT(Kerkuilen!$D13:$J13,Kerkuilen!$P13:V13) <= 3, ISNUMBER($C50)), $C50, $E50) * 10, 3))
A51: =IF(Kerkuilen!AB14=0, "", Kerkuilen!AB14) -> 3 | B51: =Kerkuilen!B14 -> Quick Gerard | C51: =IFERROR(VALUE(MID($B51, SEARCH("[NS ", $B51)+4, 2)), "") | D51: =Kerkuilen!C14 -> 25 | E51: =Kerkuilen!O14 -> 25 | F51: =IF(Kerkuilen!AA14=0," ",SUM(H51:U51)) -> 32 | H51: =IF(Kerkuilen!D14="", "", ROUND(Kerkuilen!D14 / IF(AND(COUNT(Kerkuilen!$D14:D14) <= 3, ISNUMBER($C51)), $C51, $D51) * 10, 3)) | I51: =IF(Kerkuilen!E14="", "", ROUND(Kerkuilen!E14 / IF(AND(COUNT(Kerkuilen!$D14:E14) <= 3, ISNUMBER($C51)), $C51, $D51) * 10, 3)) -> 10.8 | J51: =IF(Kerkuilen!F14="", "", ROUND(Kerkuilen!F14 / IF(AND(COUNT(Kerkuilen!$D14:F14) <= 3, ISNUMBER($C51)), $C51, $D51) * 10, 3)) -> 10.8 | K51: =IF(Kerkuilen!G14="", "", ROUND(Kerkuilen!G14 / IF(AND(COUNT(Kerkuilen!$D14:G14) <= 3, ISNUMBER($C51)), $C51, $D51) * 10, 3)) -> 10.4 | L51: =IF(Kerkuilen!H14="", "", ROUND(Kerkuilen!H14 / IF(AND(COUNT(Kerkuilen!$D14:H14) <= 3, ISNUMBER($C51)), $C51, $D51) * 10, 3)) | M51: =IF(Kerkuilen!I14="", "", ROUND(Kerkuilen!I14 / IF(AND(COUNT(Kerkuilen!$D14:I14) <= 3, ISNUMBER($C51)), $C51, $D51) * 10, 3)) | N51: =IF(Kerkuilen!J14="", "", ROUND(Kerkuilen!J14 / IF(AND(COUNT(Kerkuilen!$D14:J14) <= 3, ISNUMBER($C51)), $C51, $D51) * 10, 3)) | O51: =IF(Kerkuilen!P14="", "", ROUND(Kerkuilen!P14 / IF(AND(COUNT(Kerkuilen!$D14:$J14,Kerkuilen!$P14:P14) <= 3, ISNUMBER($C51)), $C51, $E51) * 10, 3)) | P51: =IF(Kerkuilen!Q14="", "", ROUND(Kerkuilen!Q14 / IF(AND(COUNT(Kerkuilen!$D14:$J14,Kerkuilen!$P14:Q14) <= 3, ISNUMBER($C51)), $C51, $E51) * 10, 3)) | Q51: =IF(Kerkuilen!R14="", "", ROUND(Kerkuilen!R14 / IF(AND(COUNT(Kerkuilen!$D14:$J14,Kerkuilen!$P14:R14) <= 3, ISNUMBER($C51)), $C51, $E51) * 10, 3)) | R51: =IF(Kerkuilen!S14="", "", ROUND(Kerkuilen!S14 / IF(AND(COUNT(Kerkuilen!$D14:$J14,Kerkuilen!$P14:S14) <= 3, ISNUMBER($C51)), $C51, $E51) * 10, 3)) | S51: =IF(Kerkuilen!T14="", "", ROUND(Kerkuilen!T14 / IF(AND(COUNT(Kerkuilen!$D14:$J14,Kerkuilen!$P14:T14) <= 3, ISNUMBER($C51)), $C51, $E51) * 10, 3)) | T51: =IF(Kerkuilen!U14="", "", ROUND(Kerkuilen!U14 / IF(AND(COUNT(Kerkuilen!$D14:$J14,Kerkuilen!$P14:U14) <= 3, ISNUMBER($C51)), $C51, $E51) * 10, 3)) | U51: =IF(Kerkuilen!V14="", "", ROUND(Kerkuilen!V14 / IF(AND(COUNT(Kerkuilen!$D14:$J14,Kerkuilen!$P14:V14) <= 3, ISNUMBER($C51)), $C51, $E51) * 10, 3))
A52: =IF(Kerkuilen!AB15=0, "", Kerkuilen!AB15) -> 2 | B52: =Kerkuilen!B15 -> Schrooyen Jef | C52: =IFERROR(VALUE(MID($B52, SEARCH("[NS ", $B52)+4, 2)), "") | D52: =Kerkuilen!C15 -> 52 | E52: =Kerkuilen!O15 -> 52 | F52: =IF(Kerkuilen!AA15=0," ",SUM(H52:U52)) -> 21.346 | H52: =IF(Kerkuilen!D15="", "", ROUND(Kerkuilen!D15 / IF(AND(COUNT(Kerkuilen!$D15:D15) <= 3, ISNUMBER($C52)), $C52, $D52) * 10, 3)) -> 13.077 | I52: =IF(Kerkuilen!E15="", "", ROUND(Kerkuilen!E15 / IF(AND(COUNT(Kerkuilen!$D15:E15) <= 3, ISNUMBER($C52)), $C52, $D52) * 10, 3)) -> 8.269 | J52: =IF(Kerkuilen!F15="", "", ROUND(Kerkuilen!F15 / IF(AND(COUNT(Kerkuilen!$D15:F15) <= 3, ISNUMBER($C52)), $C52, $D52) * 10, 3)) | K52: =IF(Kerkuilen!G15="", "", ROUND(Kerkuilen!G15 / IF(AND(COUNT(Kerkuilen!$D15:G15) <= 3, ISNUMBER($C52)), $C52, $D52) * 10, 3)) | L52: =IF(Kerkuilen!H15="", "", ROUND(Kerkuilen!H15 / IF(AND(COUNT(Kerkuilen!$D15:H15) <= 3, ISNUMBER($C52)), $C52, $D52) * 10, 3)) | M52: =IF(Kerkuilen!I15="", "", ROUND(Kerkuilen!I15 / IF(AND(COUNT(Kerkuilen!$D15:I15) <= 3, ISNUMBER($C52)), $C52, $D52) * 10, 3)) | N52: =IF(Kerkuilen!J15="", "", ROUND(Kerkuilen!J15 / IF(AND(COUNT(Kerkuilen!$D15:J15) <= 3, ISNUMBER($C52)), $C52, $D52) * 10, 3)) | O52: =IF(Kerkuilen!P15="", "", ROUND(Kerkuilen!P15 / IF(AND(COUNT(Kerkuilen!$D15:$J15,Kerkuilen!$P15:P15) <= 3, ISNUMBER($C52)), $C52, $E52) * 10, 3)) | P52: =IF(Kerkuilen!Q15="", "", ROUND(Kerkuilen!Q15 / IF(AND(COUNT(Kerkuilen!$D15:$J15,Kerkuilen!$P15:Q15) <= 3, ISNUMBER($C52)), $C52, $E52) * 10, 3)) | Q52: =IF(Kerkuilen!R15="", "", ROUND(Kerkuilen!R15 / IF(AND(COUNT(Kerkuilen!$D15:$J15,Kerkuilen!$P15:R15) <= 3, ISNUMBER($C52)), $C52, $E52) * 10, 3)) | R52: =IF(Kerkuilen!S15="", "", ROUND(Kerkuilen!S15 / IF(AND(COUNT(Kerkuilen!$D15:$J15,Kerkuilen!$P15:S15) <= 3, ISNUMBER($C52)), $C52, $E52) * 10, 3)) | S52: =IF(Kerkuilen!T15="", "", ROUND(Kerkuilen!T15 / IF(AND(COUNT(Kerkuilen!$D15:$J15,Kerkuilen!$P15:T15) <= 3, ISNUMBER($C52)), $C52, $E52) * 10, 3)) | T52: =IF(Kerkuilen!U15="", "", ROUND(Kerkuilen!U15 / IF(AND(COUNT(Kerkuilen!$D15:$J15,Kerkuilen!$P15:U15) <= 3, ISNUMBER($C52)), $C52, $E52) * 10, 3)) | U52: =IF(Kerkuilen!V15="", "", ROUND(Kerkuilen!V15 / IF(AND(COUNT(Kerkuilen!$D15:$J15,Kerkuilen!$P15:V15) <= 3, ISNUMBER($C52)), $C52, $E52) * 10, 3))
A53: =IF(Kerkuilen!AB16=0, "", Kerkuilen!AB16) -> 2 | B53: =Kerkuilen!B16 -> Uytdewilligen Hubert | C53: =IFERROR(VALUE(MID($B53, SEARCH("[NS ", $B53)+4, 2)), "") | D53: =Kerkuilen!C16 -> 32 | E53: =Kerkuilen!O16 -> 32 | F53: =IF(Kerkuilen!AA16=0," ",SUM(H53:U53)) -> 18.126 | H53: =IF(Kerkuilen!D16="", "", ROUND(Kerkuilen!D16 / IF(AND(COUNT(Kerkuilen!$D16:D16) <= 3, ISNUMBER($C53)), $C53, $D53) * 10, 3)) -> 7.188 | I53: =IF(Kerkuilen!E16="", "", ROUND(Kerkuilen!E16 / IF(AND(COUNT(Kerkuilen!$D16:E16) <= 3, ISNUMBER($C53)), $C53, $D53) * 10, 3)) | J53: =IF(Kerkuilen!F16="", "", ROUND(Kerkuilen!F16 / IF(AND(COUNT(Kerkuilen!$D16:F16) <= 3, ISNUMBER($C53)), $C53, $D53) * 10, 3)) -> 10.938 | K53: =IF(Kerkuilen!G16="", "", ROUND(Kerkuilen!G16 / IF(AND(COUNT(Kerkuilen!$D16:G16) <= 3, ISNUMBER($C53)), $C53, $D53) * 10, 3)) | L53: =IF(Kerkuilen!H16="", "", ROUND(Kerkuilen!H16 / IF(AND(COUNT(Kerkuilen!$D16:H16) <= 3, ISNUMBER($C53)), $C53, $D53) * 10, 3)) | M53: =IF(Kerkuilen!I16="", "", ROUND(Kerkuilen!I16 / IF(AND(COUNT(Kerkuilen!$D16:I16) <= 3, ISNUMBER($C53)), $C53, $D53) * 10, 3)) | N53: =IF(Kerkuilen!J16="", "", ROUND(Kerkuilen!J16 / IF(AND(COUNT(Kerkuilen!$D16:J16) <= 3, ISNUMBER($C53)), $C53, $D53) * 10, 3)) | O53: =IF(Kerkuilen!P16="", "", ROUND(Kerkuilen!P16 / IF(AND(COUNT(Kerkuilen!$D16:$J16,Kerkuilen!$P16:P16) <= 3, ISNUMBER($C53)), $C53, $E53) * 10, 3)) | P53: =IF(Kerkuilen!Q16="", "", ROUND(Kerkuilen!Q16 / IF(AND(COUNT(Kerkuilen!$D16:$J16,Kerkuilen!$P16:Q16) <= 3, ISNUMBER($C53)), $C53, $E53) * 10, 3)) | Q53: =IF(Kerkuilen!R16="", "", ROUND(Kerkuilen!R16 / IF(AND(COUNT(Kerkuilen!$D16:$J16,Kerkuilen!$P16:R16) <= 3, ISNUMBER($C53)), $C53, $E53) * 10, 3)) | R53: =IF(Kerkuilen!S16="", "", ROUND(Kerkuilen!S16 / IF(AND(COUNT(Kerkuilen!$D16:$J16,Kerkuilen!$P16:S16) <= 3, ISNUMBER($C53)), $C53, $E53) * 10, 3)) | S53: =IF(Kerkuilen!T16="", "", ROUND(Kerkuilen!T16 / IF(AND(COUNT(Kerkuilen!$D16:$J16,Kerkuilen!$P16:T16) <= 3, ISNUMBER($C53)), $C53, $E53) * 10, 3)) | T53: =IF(Kerkuilen!U16="", "", ROUND(Kerkuilen!U16 / IF(AND(COUNT(Kerkuilen!$D16:$J16,Kerkuilen!$P16:U16) <= 3, ISNUMBER($C53)), $C53, $E53) * 10, 3)) | U53: =IF(Kerkuilen!V16="", "", ROUND(Kerkuilen!V16 / IF(AND(COUNT(Kerkuilen!$D16:$J16,Kerkuilen!$P16:V16) <= 3, ISNUMBER($C53)), $C53, $E53) * 10, 3))
... A56: =IF(Kerkuilen!AB19=0, "", Kerkuilen!AB19) | B56: =Kerkuilen!B19 -> 0 | C56: =IFERROR(VALUE(MID($B56, SEARCH("[NS ", $B56)+4, 2)), "") | D56: =Kerkuilen!C19 -> 0 | E56: =Kerkuilen!O19 -> 0 | F56: =IF(Kerkuilen!AA19=0," ",SUM(H56:U56)) | H56: =IF(Kerkuilen!D19="", "", ROUND(Kerkuilen!D19 / IF(AND(COUNT(Kerkuilen!$D19:D19) <= 3, ISNUMBER($C56)), $C56, $D56) * 10, 3)) | I56: =IF(Kerkuilen!E19="", "", ROUND(Kerkuilen!E19 / IF(AND(COUNT(Kerkuilen!$D19:E19) <= 3, ISNUMBER($C56)), $C56, $D56) * 10, 3)) | J56: =IF(Kerkuilen!F19="", "", ROUND(Kerkuilen!F19 / IF(AND(COUNT(Kerkuilen!$D19:F19) <= 3, ISNUMBER($C56)), $C56, $D56) * 10, 3)) | K56: =IF(Kerkuilen!G19="", "", ROUND(Kerkuilen!G19 / IF(AND(COUNT(Kerkuilen!$D19:G19) <= 3, ISNUMBER($C56)), $C56, $D56) * 10, 3)) | L56: =IF(Kerkuilen!H19="", "", ROUND(Kerkuilen!H19 / IF(AND(COUNT(Kerkuilen!$D19:H19) <= 3, ISNUMBER($C56)), $C56, $D56) * 10, 3)) | M56: =IF(Kerkuilen!I19="", "", ROUND(Kerkuilen!I19 / IF(AND(COUNT(Kerkuilen!$D19:I19) <= 3, ISNUMBER($C56)), $C56, $D56) * 10, 3)) | N56: =IF(Kerkuilen!J19="", "", ROUND(Kerkuilen!J19 / IF(AND(COUNT(Kerkuilen!$D19:J19) <= 3, ISNUMBER($C56)), $C56, $D56) * 10, 3)) | O56: =IF(Kerkuilen!P19="", "", ROUND(Kerkuilen!P19 / IF(AND(COUNT(Kerkuilen!$D19:$J19,Kerkuilen!$P19:P19) <= 3, ISNUMBER($C56)), $C56, $E56) * 10, 3)) | P56: =IF(Kerkuilen!Q19="", "", ROUND(Kerkuilen!Q19 / IF(AND(COUNT(Kerkuilen!$D19:$J19,Kerkuilen!$P19:Q19) <= 3, ISNUMBER($C56)), $C56, $E56) * 10, 3)) | Q56: =IF(Kerkuilen!R19="", "", ROUND(Kerkuilen!R19 / IF(AND(COUNT(Kerkuilen!$D19:$J19,Kerkuilen!$P19:R19) <= 3, ISNUMBER($C56)), $C56, $E56) * 10, 3)) | R56: =IF(Kerkuilen!S19="", "", ROUND(Kerkuilen!S19 / IF(AND(COUNT(Kerkuilen!$D19:$J19,Kerkuilen!$P19:S19) <= 3, ISNUMBER($C56)), $C56, $E56) * 10, 3)) | S56: =IF(Kerkuilen!T19="", "", ROUND(Kerkuilen!T19 / IF(AND(COUNT(Kerkuilen!$D19:$J19,Kerkuilen!$P19:T19) <= 3, ISNUMBER($C56)), $C56, $E56) * 10, 3)) | T56: =IF(Kerkuilen!U19="", "", ROUND(Kerkuilen!U19 / IF(AND(COUNT(Kerkuilen!$D19:$J19,Kerkuilen!$P19:U19) <= 3, ISNUMBER($C56)), $C56, $E56) * 10, 3)) | U56: =IF(Kerkuilen!V19="", "", ROUND(Kerkuilen!V19 / IF(AND(COUNT(Kerkuilen!$D19:$J19,Kerkuilen!$P19:V19) <= 3, ISNUMBER($C56)), $C56, $E56) * 10, 3))
F57: =B41 -> KERKUILEN | G57: 5 | H57: =IF(SUM(H42:H56)=0, "", SUM(H42:H56)) -> 61.597 | I57: =IF(SUM(I42:I56)=0, "", SUM(I42:I56)) -> 46.762 | J57: =IF(SUM(J42:J56)=0, "", SUM(J42:J56)) -> 57.321 | K57: =IF(SUM(K42:K56)=0, "", SUM(K42:K56)) -> 57.696 | L57: =IF(SUM(L42:L56)=0, "", SUM(L42:L56)) | M57: =IF(SUM(M42:M56)=0, "", SUM(M42:M56)) | N57: =IF(SUM(N42:N56)=0, "", SUM(N42:N56)) | O57: =IF(SUM(O42:O56)=0, "", SUM(O42:O56)) | ... U57: =IF(SUM(U42:U56)=0, "", SUM(U42:U56))
B58: =ROWS(B42:B56) -> 15 | F58: =SUM(F42:F56) -> 223.376 | G58: =B41 -> KERKUILEN | H58: =IF(SUM(H42:H56)=0, "", SUM(H42:H56)) -> 61.597 | I58: =IF(I57="", "", ROUND(SUM($H57:I57), 3)) -> 108.359 | J58: =IF(J57="", "", ROUND(SUM($H57:J57), 3)) -> 165.68 | K58: =IF(K57="", "", ROUND(SUM($H57:K57), 3)) -> 223.376 | L58: =IF(L57="", "", ROUND(SUM($H57:L57), 3)) | M58: =IF(M57="", "", ROUND(SUM($H57:M57), 3)) | N58: =IF(N57="", "", ROUND(SUM($H57:N57), 3)) | O58: =IF(O57="", "", ROUND(SUM($H57:O57), 3)) | P58: =IF(P57="", "", ROUND(SUM($H57:P57), 3)) | ... U58: =IF(U57="", "", ROUND(SUM($H57:U57), 3))
B60: OUDE GLORIE | H60: 1 | I60: 2 | J60: 3 | K60: 4 | L60: 5 | M60: 6 | N60: 7 | O60: 8 | P60: 9 | Q60: 10 | R60: 11 | S60: 12 | T60: 13 | U60: 14
A61: =IF(Oudeglorie!AB5=0, "", Oudeglorie!AB5) -> 1 | B61: =Oudeglorie!B5 -> Aerden Carl | C61: =IFERROR(VALUE(MID($B61, SEARCH("[NS ", $B61)+4, 2)), "") | D61: =Oudeglorie!C5 -> 23 | E61: =Oudeglorie!O5 -> 23 | F61: =IF(Oudeglorie!AA5=0," ",SUM(H61:U61)) -> 9.13 | H61: =IF(Oudeglorie!D5="", "", ROUND(Oudeglorie!D5 / IF(AND(COUNT(Oudeglorie!$D5:D5) <= 3, ISNUMBER($C61)), $C61, $D61) * 10, 3)) | I61: =IF(Oudeglorie!E5="", "", ROUND(Oudeglorie!E5 / IF(AND(COUNT(Oudeglorie!$D5:E5) <= 3, ISNUMBER($C61)), $C61, $D61) * 10, 3)) -> 9.13 | J61: =IF(Oudeglorie!F5="", "", ROUND(Oudeglorie!F5 / IF(AND(COUNT(Oudeglorie!$D5:F5) <= 3, ISNUMBER($C61)), $C61, $D61) * 10, 3)) | K61: =IF(Oudeglorie!G5="", "", ROUND(Oudeglorie!G5 / IF(AND(COUNT(Oudeglorie!$D5:G5) <= 3, ISNUMBER($C61)), $C61, $D61) * 10, 3)) | L61: =IF(Oudeglorie!H5="", "", ROUND(Oudeglorie!H5 / IF(AND(COUNT(Oudeglorie!$D5:H5) <= 3, ISNUMBER($C61)), $C61, $D61) * 10, 3)) | M61: =IF(Oudeglorie!I5="", "", ROUND(Oudeglorie!I5 / IF(AND(COUNT(Oudeglorie!$D5:I5) <= 3, ISNUMBER($C61)), $C61, $D61) * 10, 3)) | N61: =IF(Oudeglorie!J5="", "", ROUND(Oudeglorie!J5 / IF(AND(COUNT(Oudeglorie!$D5:J5) <= 3, ISNUMBER($C61)), $C61, $D61) * 10, 3)) | O61: =IF(Oudeglorie!P5="", "", ROUND(Oudeglorie!P5 / IF(AND(COUNT(Oudeglorie!$D5:$J5,Oudeglorie!$P5:P5) <= 3, ISNUMBER($C61)), $C61, $E61) * 10, 3)) | P61: =IF(Oudeglorie!Q5="", "", ROUND(Oudeglorie!Q5 / IF(AND(COUNT(Oudeglorie!$D5:$J5,Oudeglorie!$P5:Q5) <= 3, ISNUMBER($C61)), $C61, $E61) * 10, 3)) | Q61: =IF(Oudeglorie!R5="", "", ROUND(Oudeglorie!R5 / IF(AND(COUNT(Oudeglorie!$D5:$J5,Oudeglorie!$P5:R5) <= 3, ISNUMBER($C61)), $C61, $E61) * 10, 3)) | R61: =IF(Oudeglorie!S5="", "", ROUND(Oudeglorie!S5 / IF(AND(COUNT(Oudeglorie!$D5:$J5,Oudeglorie!$P5:S5) <= 3, ISNUMBER($C61)), $C61, $E61) * 10, 3)) | S61: =IF(Oudeglorie!T5="", "", ROUND(Oudeglorie!T5 / IF(AND(COUNT(Oudeglorie!$D5:$J5,Oudeglorie!$P5:T5) <= 3, ISNUMBER($C61)), $C61, $E61) * 10, 3)) | T61: =IF(Oudeglorie!U5="", "", ROUND(Oudeglorie!U5 / IF(AND(COUNT(Oudeglorie!$D5:$J5,Oudeglorie!$P5:U5) <= 3, ISNUMBER($C61)), $C61, $E61) * 10, 3)) | U61: =IF(Oudeglorie!V5="", "", ROUND(Oudeglorie!V5 / IF(AND(COUNT(Oudeglorie!$D5:$J5,Oudeglorie!$P5:V5) <= 3, ISNUMBER($C61)), $C61, $E61) * 10, 3))
A62: =IF(Oudeglorie!AB6=0, "", Oudeglorie!AB6) -> 3 | B62: =Oudeglorie!B6 -> Beyers Jos | C62: =IFERROR(VALUE(MID($B62, SEARCH("[NS ", $B62)+4, 2)), "") | D62: =Oudeglorie!C6 -> 27 | E62: =Oudeglorie!O6 -> 27 | F62: =IF(Oudeglorie!AA6=0," ",SUM(H62:U62)) -> 29.259 | H62: =IF(Oudeglorie!D6="", "", ROUND(Oudeglorie!D6 / IF(AND(COUNT(Oudeglorie!$D6:D6) <= 3, ISNUMBER($C62)), $C62, $D62) * 10, 3)) -> 10.37 | I62: =IF(Oudeglorie!E6="", "", ROUND(Oudeglorie!E6 / IF(AND(COUNT(Oudeglorie!$D6:E6) <= 3, ISNUMBER($C62)), $C62, $D62) * 10, 3)) -> 11.111 | J62: =IF(Oudeglorie!F6="", "", ROUND(Oudeglorie!F6 / IF(AND(COUNT(Oudeglorie!$D6:F6) <= 3, ISNUMBER($C62)), $C62, $D62) * 10, 3)) | K62: =IF(Oudeglorie!G6="", "", ROUND(Oudeglorie!G6 / IF(AND(COUNT(Oudeglorie!$D6:G6) <= 3, ISNUMBER($C62)), $C62, $D62) * 10, 3)) -> 7.778 | L62: =IF(Oudeglorie!H6="", "", ROUND(Oudeglorie!H6 / IF(AND(COUNT(Oudeglorie!$D6:H6) <= 3, ISNUMBER($C62)), $C62, $D62) * 10, 3)) | M62: =IF(Oudeglorie!I6="", "", ROUND(Oudeglorie!I6 / IF(AND(COUNT(Oudeglorie!$D6:I6) <= 3, ISNUMBER($C62)), $C62, $D62) * 10, 3)) | N62: =IF(Oudeglorie!J6="", "", ROUND(Oudeglorie!J6 / IF(AND(COUNT(Oudeglorie!$D6:J6) <= 3, ISNUMBER($C62)), $C62, $D62) * 10, 3)) | O62: =IF(Oudeglorie!P6="", "", ROUND(Oudeglorie!P6 / IF(AND(COUNT(Oudeglorie!$D6:$J6,Oudeglorie!$P6:P6) <= 3, ISNUMBER($C62)), $C62, $E62) * 10, 3)) | P62: =IF(Oudeglorie!Q6="", "", ROUND(Oudeglorie!Q6 / IF(AND(COUNT(Oudeglorie!$D6:$J6,Oudeglorie!$P6:Q6) <= 3, ISNUMBER($C62)), $C62, $E62) * 10, 3)) | Q62: =IF(Oudeglorie!R6="", "", ROUND(Oudeglorie!R6 / IF(AND(COUNT(Oudeglorie!$D6:$J6,Oudeglorie!$P6:R6) <= 3, ISNUMBER($C62)), $C62, $E62) * 10, 3)) | R62: =IF(Oudeglorie!S6="", "", ROUND(Oudeglorie!S6 / IF(AND(COUNT(Oudeglorie!$D6:$J6,Oudeglorie!$P6:S6) <= 3, ISNUMBER($C62)), $C62, $E62) * 10, 3)) | S62: =IF(Oudeglorie!T6="", "", ROUND(Oudeglorie!T6 / IF(AND(COUNT(Oudeglorie!$D6:$J6,Oudeglorie!$P6:T6) <= 3, ISNUMBER($C62)), $C62, $E62) * 10, 3)) | T62: =IF(Oudeglorie!U6="", "", ROUND(Oudeglorie!U6 / IF(AND(COUNT(Oudeglorie!$D6:$J6,Oudeglorie!$P6:U6) <= 3, ISNUMBER($C62)), $C62, $E62) * 10, 3)) | U62: =IF(Oudeglorie!V6="", "", ROUND(Oudeglorie!V6 / IF(AND(COUNT(Oudeglorie!$D6:$J6,Oudeglorie!$P6:V6) <= 3, ISNUMBER($C62)), $C62, $E62) * 10, 3))
A63: =IF(Oudeglorie!AB7=0, "", Oudeglorie!AB7) -> 1 | B63: =Oudeglorie!B7 -> Beyers Roger | C63: =IFERROR(VALUE(MID($B63, SEARCH("[NS ", $B63)+4, 2)), "") | D63: =Oudeglorie!C7 -> 54 | E63: =Oudeglorie!O7 -> 54 | F63: =IF(Oudeglorie!AA7=0," ",SUM(H63:U63)) -> 8.889 | H63: =IF(Oudeglorie!D7="", "", ROUND(Oudeglorie!D7 / IF(AND(COUNT(Oudeglorie!$D7:D7) <= 3, ISNUMBER($C63)), $C63, $D63) * 10, 3)) | I63: =IF(Oudeglorie!E7="", "", ROUND(Oudeglorie!E7 / IF(AND(COUNT(Oudeglorie!$D7:E7) <= 3, ISNUMBER($C63)), $C63, $D63) * 10, 3)) | J63: =IF(Oudeglorie!F7="", "", ROUND(Oudeglorie!F7 / IF(AND(COUNT(Oudeglorie!$D7:F7) <= 3, ISNUMBER($C63)), $C63, $D63) * 10, 3)) | K63: =IF(Oudeglorie!G7="", "", ROUND(Oudeglorie!G7 / IF(AND(COUNT(Oudeglorie!$D7:G7) <= 3, ISNUMBER($C63)), $C63, $D63) * 10, 3)) -> 8.889 | L63: =IF(Oudeglorie!H7="", "", ROUND(Oudeglorie!H7 / IF(AND(COUNT(Oudeglorie!$D7:H7) <= 3, ISNUMBER($C63)), $C63, $D63) * 10, 3)) | M63: =IF(Oudeglorie!I7="", "", ROUND(Oudeglorie!I7 / IF(AND(COUNT(Oudeglorie!$D7:I7) <= 3, ISNUMBER($C63)), $C63, $D63) * 10, 3)) | N63: =IF(Oudeglorie!J7="", "", ROUND(Oudeglorie!J7 / IF(AND(COUNT(Oudeglorie!$D7:J7) <= 3, ISNUMBER($C63)), $C63, $D63) * 10, 3)) | O63: =IF(Oudeglorie!P7="", "", ROUND(Oudeglorie!P7 / IF(AND(COUNT(Oudeglorie!$D7:$J7,Oudeglorie!$P7:P7) <= 3, ISNUMBER($C63)), $C63, $E63) * 10, 3)) | P63: =IF(Oudeglorie!Q7="", "", ROUND(Oudeglorie!Q7 / IF(AND(COUNT(Oudeglorie!$D7:$J7,Oudeglorie!$P7:Q7) <= 3, ISNUMBER($C63)), $C63, $E63) * 10, 3)) | Q63: =IF(Oudeglorie!R7="", "", ROUND(Oudeglorie!R7 / IF(AND(COUNT(Oudeglorie!$D7:$J7,Oudeglorie!$P7:R7) <= 3, ISNUMBER($C63)), $C63, $E63) * 10, 3)) | R63: =IF(Oudeglorie!S7="", "", ROUND(Oudeglorie!S7 / IF(AND(COUNT(Oudeglorie!$D7:$J7,Oudeglorie!$P7:S7) <= 3, ISNUMBER($C63)), $C63, $E63) * 10, 3)) | S63: =IF(Oudeglorie!T7="", "", ROUND(Oudeglorie!T7 / IF(AND(COUNT(Oudeglorie!$D7:$J7,Oudeglorie!$P7:T7) <= 3, ISNUMBER($C63)), $C63, $E63) * 10, 3)) | T63: =IF(Oudeglorie!U7="", "", ROUND(Oudeglorie!U7 / IF(AND(COUNT(Oudeglorie!$D7:$J7,Oudeglorie!$P7:U7) <= 3, ISNUMBER($C63)), $C63, $E63) * 10, 3)) | U63: =IF(Oudeglorie!V7="", "", ROUND(Oudeglorie!V7 / IF(AND(COUNT(Oudeglorie!$D7:$J7,Oudeglorie!$P7:V7) <= 3, ISNUMBER($C63)), $C63, $E63) * 10, 3))
A64: =IF(Oudeglorie!AB8=0, "", Oudeglorie!AB8) -> 2 | B64: =Oudeglorie!B8 -> Braat Guido | C64: =IFERROR(VALUE(MID($B64, SEARCH("[NS ", $B64)+4, 2)), "") | D64: =Oudeglorie!C8 -> 33 | E64: =Oudeglorie!O8 -> 33 | F64: =IF(Oudeglorie!AA8=0," ",SUM(H64:U64)) -> 23.636 | H64: =IF(Oudeglorie!D8="", "", ROUND(Oudeglorie!D8 / IF(AND(COUNT(Oudeglorie!$D8:D8) <= 3, ISNUMBER($C64)), $C64, $D64) * 10, 3)) -> 9.394 | I64: =IF(Oudeglorie!E8="", "", ROUND(Oudeglorie!E8 / IF(AND(COUNT(Oudeglorie!$D8:E8) <= 3, ISNUMBER($C64)), $C64, $D64) * 10, 3)) | J64: =IF(Oudeglorie!F8="", "", ROUND(Oudeglorie!F8 / IF(AND(COUNT(Oudeglorie!$D8:F8) <= 3, ISNUMBER($C64)), $C64, $D64) * 10, 3)) | K64: =IF(Oudeglorie!G8="", "", ROUND(Oudeglorie!G8 / IF(AND(COUNT(Oudeglorie!$D8:G8) <= 3, ISNUMBER($C64)), $C64, $D64) * 10, 3)) -> 14.242 | L64: =IF(Oudeglorie!H8="", "", ROUND(Oudeglorie!H8 / IF(AND(COUNT(Oudeglorie!$D8:H8) <= 3, ISNUMBER($C64)), $C64, $D64) * 10, 3)) | M64: =IF(Oudeglorie!I8="", "", ROUND(Oudeglorie!I8 / IF(AND(COUNT(Oudeglorie!$D8:I8) <= 3, ISNUMBER($C64)), $C64, $D64) * 10, 3)) | N64: =IF(Oudeglorie!J8="", "", ROUND(Oudeglorie!J8 / IF(AND(COUNT(Oudeglorie!$D8:J8) <= 3, ISNUMBER($C64)), $C64, $D64) * 10, 3)) | O64: =IF(Oudeglorie!P8="", "", ROUND(Oudeglorie!P8 / IF(AND(COUNT(Oudeglorie!$D8:$J8,Oudeglorie!$P8:P8) <= 3, ISNUMBER($C64)), $C64, $E64) * 10, 3)) | P64: =IF(Oudeglorie!Q8="", "", ROUND(Oudeglorie!Q8 / IF(AND(COUNT(Oudeglorie!$D8:$J8,Oudeglorie!$P8:Q8) <= 3, ISNUMBER($C64)), $C64, $E64) * 10, 3)) | Q64: =IF(Oudeglorie!R8="", "", ROUND(Oudeglorie!R8 / IF(AND(COUNT(Oudeglorie!$D8:$J8,Oudeglorie!$P8:R8) <= 3, ISNUMBER($C64)), $C64, $E64) * 10, 3)) | R64: =IF(Oudeglorie!S8="", "", ROUND(Oudeglorie!S8 / IF(AND(COUNT(Oudeglorie!$D8:$J8,Oudeglorie!$P8:S8) <= 3, ISNUMBER($C64)), $C64, $E64) * 10, 3)) | S64: =IF(Oudeglorie!T8="", "", ROUND(Oudeglorie!T8 / IF(AND(COUNT(Oudeglorie!$D8:$J8,Oudeglorie!$P8:T8) <= 3, ISNUMBER($C64)), $C64, $E64) * 10, 3)) | T64: =IF(Oudeglorie!U8="", "", ROUND(Oudeglorie!U8 / IF(AND(COUNT(Oudeglorie!$D8:$J8,Oudeglorie!$P8:U8) <= 3, ISNUMBER($C64)), $C64, $E64) * 10, 3)) | U64: =IF(Oudeglorie!V8="", "", ROUND(Oudeglorie!V8 / IF(AND(COUNT(Oudeglorie!$D8:$J8,Oudeglorie!$P8:V8) <= 3, ISNUMBER($C64)), $C64, $E64) * 10, 3))
A65: =IF(Oudeglorie!AB9=0, "", Oudeglorie!AB9) -> 1 | B65: =Oudeglorie!B9 -> Cleeren Guido | C65: =IFERROR(VALUE(MID($B65, SEARCH("[NS ", $B65)+4, 2)), "") | D65: =Oudeglorie!C9 -> 18 | E65: =Oudeglorie!O9 -> 18 | F65: =IF(Oudeglorie!AA9=0," ",SUM(H65:U65)) -> 10.556 | H65: =IF(Oudeglorie!D9="", "", ROUND(Oudeglorie!D9 / IF(AND(COUNT(Oudeglorie!$D9:D9) <= 3, ISNUMBER($C65)), $C65, $D65) * 10, 3)) | I65: =IF(Oudeglorie!E9="", "", ROUND(Oudeglorie!E9 / IF(AND(COUNT(Oudeglorie!$D9:E9) <= 3, ISNUMBER($C65)), $C65, $D65) * 10, 3)) | J65: =IF(Oudeglorie!F9="", "", ROUND(Oudeglorie!F9 / IF(AND(COUNT(Oudeglorie!$D9:F9) <= 3, ISNUMBER($C65)), $C65, $D65) * 10, 3)) | K65: =IF(Oudeglorie!G9="", "", ROUND(Oudeglorie!G9 / IF(AND(COUNT(Oudeglorie!$D9:G9) <= 3, ISNUMBER($C65)), $C65, $D65) * 10, 3)) -> 10.556 | L65: =IF(Oudeglorie!H9="", "", ROUND(Oudeglorie!H9 / IF(AND(COUNT(Oudeglorie!$D9:H9) <= 3, ISNUMBER($C65)), $C65, $D65) * 10, 3)) | M65: =IF(Oudeglorie!I9="", "", ROUND(Oudeglorie!I9 / IF(AND(COUNT(Oudeglorie!$D9:I9) <= 3, ISNUMBER($C65)), $C65, $D65) * 10, 3)) | N65: =IF(Oudeglorie!J9="", "", ROUND(Oudeglorie!J9 / IF(AND(COUNT(Oudeglorie!$D9:J9) <= 3, ISNUMBER($C65)), $C65, $D65) * 10, 3)) | O65: =IF(Oudeglorie!P9="", "", ROUND(Oudeglorie!P9 / IF(AND(COUNT(Oudeglorie!$D9:$J9,Oudeglorie!$P9:P9) <= 3, ISNUMBER($C65)), $C65, $E65) * 10, 3)) | P65: =IF(Oudeglorie!Q9="", "", ROUND(Oudeglorie!Q9 / IF(AND(COUNT(Oudeglorie!$D9:$J9,Oudeglorie!$P9:Q9) <= 3, ISNUMBER($C65)), $C65, $E65) * 10, 3)) | Q65: =IF(Oudeglorie!R9="", "", ROUND(Oudeglorie!R9 / IF(AND(COUNT(Oudeglorie!$D9:$J9,Oudeglorie!$P9:R9) <= 3, ISNUMBER($C65)), $C65, $E65) * 10, 3)) | R65: =IF(Oudeglorie!S9="", "", ROUND(Oudeglorie!S9 / IF(AND(COUNT(Oudeglorie!$D9:$J9,Oudeglorie!$P9:S9) <= 3, ISNUMBER($C65)), $C65, $E65) * 10, 3)) | S65: =IF(Oudeglorie!T9="", "", ROUND(Oudeglorie!T9 / IF(AND(COUNT(Oudeglorie!$D9:$J9,Oudeglorie!$P9:T9) <= 3, ISNUMBER($C65)), $C65, $E65) * 10, 3)) | T65: =IF(Oudeglorie!U9="", "", ROUND(Oudeglorie!U9 / IF(AND(COUNT(Oudeglorie!$D9:$J9,Oudeglorie!$P9:U9) <= 3, ISNUMBER($C65)), $C65, $E65) * 10, 3)) | U65: =IF(Oudeglorie!V9="", "", ROUND(Oudeglorie!V9 / IF(AND(COUNT(Oudeglorie!$D9:$J9,Oudeglorie!$P9:V9) <= 3, ISNUMBER($C65)), $C65, $E65) * 10, 3))
A66: =IF(Oudeglorie!AB10=0, "", Oudeglorie!AB10) -> 2 | B66: =Oudeglorie!B10 -> Gommers Jac | C66: =IFERROR(VALUE(MID($B66, SEARCH("[NS ", $B66)+4, 2)), "") | D66: =Oudeglorie!C10 -> 22 | E66: =Oudeglorie!O10 -> 22 | F66: =IF(Oudeglorie!AA10=0," ",SUM(H66:U66)) -> 12.727 | H66: =IF(Oudeglorie!D10="", "", ROUND(Oudeglorie!D10 / IF(AND(COUNT(Oudeglorie!$D10:D10) <= 3, ISNUMBER($C66)), $C66, $D66) * 10, 3)) -> 5 | I66: =IF(Oudeglorie!E10="", "", ROUND(Oudeglorie!E10 / IF(AND(COUNT(Oudeglorie!$D10:E10) <= 3, ISNUMBER($C66)), $C66, $D66) * 10, 3)) | J66: =IF(Oudeglorie!F10="", "", ROUND(Oudeglorie!F10 / IF(AND(COUNT(Oudeglorie!$D10:F10) <= 3, ISNUMBER($C66)), $C66, $D66) * 10, 3)) -> 7.727 | K66: =IF(Oudeglorie!G10="", "", ROUND(Oudeglorie!G10 / IF(AND(COUNT(Oudeglorie!$D10:G10) <= 3, ISNUMBER($C66)), $C66, $D66) * 10, 3)) | L66: =IF(Oudeglorie!H10="", "", ROUND(Oudeglorie!H10 / IF(AND(COUNT(Oudeglorie!$D10:H10) <= 3, ISNUMBER($C66)), $C66, $D66) * 10, 3)) | M66: =IF(Oudeglorie!I10="", "", ROUND(Oudeglorie!I10 / IF(AND(COUNT(Oudeglorie!$D10:I10) <= 3, ISNUMBER($C66)), $C66, $D66) * 10, 3)) | N66: =IF(Oudeglorie!J10="", "", ROUND(Oudeglorie!J10 / IF(AND(COUNT(Oudeglorie!$D10:J10) <= 3, ISNUMBER($C66)), $C66, $D66) * 10, 3)) | O66: =IF(Oudeglorie!P10="", "", ROUND(Oudeglorie!P10 / IF(AND(COUNT(Oudeglorie!$D10:$J10,Oudeglorie!$P10:P10) <= 3, ISNUMBER($C66)), $C66, $E66) * 10, 3)) | P66: =IF(Oudeglorie!Q10="", "", ROUND(Oudeglorie!Q10 / IF(AND(COUNT(Oudeglorie!$D10:$J10,Oudeglorie!$P10:Q10) <= 3, ISNUMBER($C66)), $C66, $E66) * 10, 3)) | Q66: =IF(Oudeglorie!R10="", "", ROUND(Oudeglorie!R10 / IF(AND(COUNT(Oudeglorie!$D10:$J10,Oudeglorie!$P10:R10) <= 3, ISNUMBER($C66)), $C66, $E66) * 10, 3)) | R66: =IF(Oudeglorie!S10="", "", ROUND(Oudeglorie!S10 / IF(AND(COUNT(Oudeglorie!$D10:$J10,Oudeglorie!$P10:S10) <= 3, ISNUMBER($C66)), $C66, $E66) * 10, 3)) | S66: =IF(Oudeglorie!T10="", "", ROUND(Oudeglorie!T10 / IF(AND(COUNT(Oudeglorie!$D10:$J10,Oudeglorie!$P10:T10) <= 3, ISNUMBER($C66)), $C66, $E66) * 10, 3)) | T66: =IF(Oudeglorie!U10="", "", ROUND(Oudeglorie!U10 / IF(AND(COUNT(Oudeglorie!$D10:$J10,Oudeglorie!$P10:U10) <= 3, ISNUMBER($C66)), $C66, $E66) * 10, 3)) | U66: =IF(Oudeglorie!V10="", "", ROUND(Oudeglorie!V10 / IF(AND(COUNT(Oudeglorie!$D10:$J10,Oudeglorie!$P10:V10) <= 3, ISNUMBER($C66)), $C66, $E66) * 10, 3))
A67: =IF(Oudeglorie!AB11=0, "", Oudeglorie!AB11) -> 3 | B67: =Oudeglorie!B11 -> Jacobs Alfons | C67: =IFERROR(VALUE(MID($B67, SEARCH("[NS ", $B67)+4, 2)), "") | D67: =Oudeglorie!C11 -> 24 | E67: =Oudeglorie!O11 -> 24 | F67: =IF(Oudeglorie!AA11=0," ",SUM(H67:U67)) -> 29.167 | H67: =IF(Oudeglorie!D11="", "", ROUND(Oudeglorie!D11 / IF(AND(COUNT(Oudeglorie!$D11:D11) <= 3, ISNUMBER($C67)), $C67, $D67) * 10, 3)) -> 13.75 | I67: =IF(Oudeglorie!E11="", "", ROUND(Oudeglorie!E11 / IF(AND(COUNT(Oudeglorie!$D11:E11) <= 3, ISNUMBER($C67)), $C67, $D67) * 10, 3)) -> 7.5 | J67: =IF(Oudeglorie!F11="", "", ROUND(Oudeglorie!F11 / IF(AND(COUNT(Oudeglorie!$D11:F11) <= 3, ISNUMBER($C67)), $C67, $D67) * 10, 3)) | K67: =IF(Oudeglorie!G11="", "", ROUND(Oudeglorie!G11 / IF(AND(COUNT(Oudeglorie!$D11:G11) <= 3, ISNUMBER($C67)), $C67, $D67) * 10, 3)) -> 7.917 | L67: =IF(Oudeglorie!H11="", "", ROUND(Oudeglorie!H11 / IF(AND(COUNT(Oudeglorie!$D11:H11) <= 3, ISNUMBER($C67)), $C67, $D67) * 10, 3)) | M67: =IF(Oudeglorie!I11="", "", ROUND(Oudeglorie!I11 / IF(AND(COUNT(Oudeglorie!$D11:I11) <= 3, ISNUMBER($C67)), $C67, $D67) * 10, 3)) | N67: =IF(Oudeglorie!J11="", "", ROUND(Oudeglorie!J11 / IF(AND(COUNT(Oudeglorie!$D11:J11) <= 3, ISNUMBER($C67)), $C67, $D67) * 10, 3)) | O67: =IF(Oudeglorie!P11="", "", ROUND(Oudeglorie!P11 / IF(AND(COUNT(Oudeglorie!$D11:$J11,Oudeglorie!$P11:P11) <= 3, ISNUMBER($C67)), $C67, $E67) * 10, 3)) | P67: =IF(Oudeglorie!Q11="", "", ROUND(Oudeglorie!Q11 / IF(AND(COUNT(Oudeglorie!$D11:$J11,Oudeglorie!$P11:Q11) <= 3, ISNUMBER($C67)), $C67, $E67) * 10, 3)) | Q67: =IF(Oudeglorie!R11="", "", ROUND(Oudeglorie!R11 / IF(AND(COUNT(Oudeglorie!$D11:$J11,Oudeglorie!$P11:R11) <= 3, ISNUMBER($C67)), $C67, $E67) * 10, 3)) | R67: =IF(Oudeglorie!S11="", "", ROUND(Oudeglorie!S11 / IF(AND(COUNT(Oudeglorie!$D11:$J11,Oudeglorie!$P11:S11) <= 3, ISNUMBER($C67)), $C67, $E67) * 10, 3)) | S67: =IF(Oudeglorie!T11="", "", ROUND(Oudeglorie!T11 / IF(AND(COUNT(Oudeglorie!$D11:$J11,Oudeglorie!$P11:T11) <= 3, ISNUMBER($C67)), $C67, $E67) * 10, 3)) | T67: =IF(Oudeglorie!U11="", "", ROUND(Oudeglorie!U11 / IF(AND(COUNT(Oudeglorie!$D11:$J11,Oudeglorie!$P11:U11) <= 3, ISNUMBER($C67)), $C67, $E67) * 10, 3)) | U67: =IF(Oudeglorie!V11="", "", ROUND(Oudeglorie!V11 / IF(AND(COUNT(Oudeglorie!$D11:$J11,Oudeglorie!$P11:V11) <= 3, ISNUMBER($C67)), $C67, $E67) * 10, 3))
A68: =IF(Oudeglorie!AB12=0, "", Oudeglorie!AB12) -> 2 | B68: =Oudeglorie!B12 -> Jacobs Frans | C68: =IFERROR(VALUE(MID($B68, SEARCH("[NS ", $B68)+4, 2)), "") | D68: =Oudeglorie!C12 -> 57 | E68: =Oudeglorie!O12 -> 57 | F68: =IF(Oudeglorie!AA12=0," ",SUM(H68:U68)) -> 15.614 | H68: =IF(Oudeglorie!D12="", "", ROUND(Oudeglorie!D12 / IF(AND(COUNT(Oudeglorie!$D12:D12) <= 3, ISNUMBER($C68)), $C68, $D68) * 10, 3)) -> 4.386 | I68: =IF(Oudeglorie!E12="", "", ROUND(Oudeglorie!E12 / IF(AND(COUNT(Oudeglorie!$D12:E12) <= 3, ISNUMBER($C68)), $C68, $D68) * 10, 3)) | J68: =IF(Oudeglorie!F12="", "", ROUND(Oudeglorie!F12 / IF(AND(COUNT(Oudeglorie!$D12:F12) <= 3, ISNUMBER($C68)), $C68, $D68) * 10, 3)) -> 11.228 | K68: =IF(Oudeglorie!G12="", "", ROUND(Oudeglorie!G12 / IF(AND(COUNT(Oudeglorie!$D12:G12) <= 3, ISNUMBER($C68)), $C68, $D68) * 10, 3)) | L68: =IF(Oudeglorie!H12="", "", ROUND(Oudeglorie!H12 / IF(AND(COUNT(Oudeglorie!$D12:H12) <= 3, ISNUMBER($C68)), $C68, $D68) * 10, 3)) | M68: =IF(Oudeglorie!I12="", "", ROUND(Oudeglorie!I12 / IF(AND(COUNT(Oudeglorie!$D12:I12) <= 3, ISNUMBER($C68)), $C68, $D68) * 10, 3)) | N68: =IF(Oudeglorie!J12="", "", ROUND(Oudeglorie!J12 / IF(AND(COUNT(Oudeglorie!$D12:J12) <= 3, ISNUMBER($C68)), $C68, $D68) * 10, 3)) | O68: =IF(Oudeglorie!P12="", "", ROUND(Oudeglorie!P12 / IF(AND(COUNT(Oudeglorie!$D12:$J12,Oudeglorie!$P12:P12) <= 3, ISNUMBER($C68)), $C68, $E68) * 10, 3)) | P68: =IF(Oudeglorie!Q12="", "", ROUND(Oudeglorie!Q12 / IF(AND(COUNT(Oudeglorie!$D12:$J12,Oudeglorie!$P12:Q12) <= 3, ISNUMBER($C68)), $C68, $E68) * 10, 3)) | Q68: =IF(Oudeglorie!R12="", "", ROUND(Oudeglorie!R12 / IF(AND(COUNT(Oudeglorie!$D12:$J12,Oudeglorie!$P12:R12) <= 3, ISNUMBER($C68)), $C68, $E68) * 10, 3)) | R68: =IF(Oudeglorie!S12="", "", ROUND(Oudeglorie!S12 / IF(AND(COUNT(Oudeglorie!$D12:$J12,Oudeglorie!$P12:S12) <= 3, ISNUMBER($C68)), $C68, $E68) * 10, 3)) | S68: =IF(Oudeglorie!T12="", "", ROUND(Oudeglorie!T12 / IF(AND(COUNT(Oudeglorie!$D12:$J12,Oudeglorie!$P12:T12) <= 3, ISNUMBER($C68)), $C68, $E68) * 10, 3)) | T68: =IF(Oudeglorie!U12="", "", ROUND(Oudeglorie!U12 / IF(AND(COUNT(Oudeglorie!$D12:$J12,Oudeglorie!$P12:U12) <= 3, ISNUMBER($C68)), $C68, $E68) * 10, 3)) | U68: =IF(Oudeglorie!V12="", "", ROUND(Oudeglorie!V12 / IF(AND(COUNT(Oudeglorie!$D12:$J12,Oudeglorie!$P12:V12) <= 3, ISNUMBER($C68)), $C68, $E68) * 10, 3))
A69: =IF(Oudeglorie!AB13=0, "", Oudeglorie!AB13) -> 2 | B69: =Oudeglorie!B13 -> Nelen Frans | C69: =IFERROR(VALUE(MID($B69, SEARCH("[NS ", $B69)+4, 2)), "") | D69: =Oudeglorie!C13 -> 24 | E69: =Oudeglorie!O13 -> 24 | F69: =IF(Oudeglorie!AA13=0," ",SUM(H69:U69)) -> 9.583 | H69: =IF(Oudeglorie!D13="", "", ROUND(Oudeglorie!D13 / IF(AND(COUNT(Oudeglorie!$D13:D13) <= 3, ISNUMBER($C69)), $C69, $D69) * 10, 3)) | I69: =IF(Oudeglorie!E13="", "", ROUND(Oudeglorie!E13 / IF(AND(COUNT(Oudeglorie!$D13:E13) <= 3, ISNUMBER($C69)), $C69, $D69) * 10, 3)) -> 2.5 | J69: =IF(Oudeglorie!F13="", "", ROUND(Oudeglorie!F13 / IF(AND(COUNT(Oudeglorie!$D13:F13) <= 3, ISNUMBER($C69)), $C69, $D69) * 10, 3)) | K69: =IF(Oudeglorie!G13="", "", ROUND(Oudeglorie!G13 / IF(AND(COUNT(Oudeglorie!$D13:G13) <= 3, ISNUMBER($C69)), $C69, $D69) * 10, 3)) -> 7.083 | L69: =IF(Oudeglorie!H13="", "", ROUND(Oudeglorie!H13 / IF(AND(COUNT(Oudeglorie!$D13:H13) <= 3, ISNUMBER($C69)), $C69, $D69) * 10, 3)) | M69: =IF(Oudeglorie!I13="", "", ROUND(Oudeglorie!I13 / IF(AND(COUNT(Oudeglorie!$D13:I13) <= 3, ISNUMBER($C69)), $C69, $D69) * 10, 3)) | N69: =IF(Oudeglorie!J13="", "", ROUND(Oudeglorie!J13 / IF(AND(COUNT(Oudeglorie!$D13:J13) <= 3, ISNUMBER($C69)), $C69, $D69) * 10, 3)) | O69: =IF(Oudeglorie!P13="", "", ROUND(Oudeglorie!P13 / IF(AND(COUNT(Oudeglorie!$D13:$J13,Oudeglorie!$P13:P13) <= 3, ISNUMBER($C69)), $C69, $E69) * 10, 3)) | P69: =IF(Oudeglorie!Q13="", "", ROUND(Oudeglorie!Q13 / IF(AND(COUNT(Oudeglorie!$D13:$J13,Oudeglorie!$P13:Q13) <= 3, ISNUMBER($C69)), $C69, $E69) * 10, 3)) | Q69: =IF(Oudeglorie!R13="", "", ROUND(Oudeglorie!R13 / IF(AND(COUNT(Oudeglorie!$D13:$J13,Oudeglorie!$P13:R13) <= 3, ISNUMBER($C69)), $C69, $E69) * 10, 3)) | R69: =IF(Oudeglorie!S13="", "", ROUND(Oudeglorie!S13 / IF(AND(COUNT(Oudeglorie!$D13:$J13,Oudeglorie!$P13:S13) <= 3, ISNUMBER($C69)), $C69, $E69) * 10, 3)) | S69: =IF(Oudeglorie!T13="", "", ROUND(Oudeglorie!T13 / IF(AND(COUNT(Oudeglorie!$D13:$J13,Oudeglorie!$P13:T13) <= 3, ISNUMBER($C69)), $C69, $E69) * 10, 3)) | T69: =IF(Oudeglorie!U13="", "", ROUND(Oudeglorie!U13 / IF(AND(COUNT(Oudeglorie!$D13:$J13,Oudeglorie!$P13:U13) <= 3, ISNUMBER($C69)), $C69, $E69) * 10, 3)) | U69: =IF(Oudeglorie!V13="", "", ROUND(Oudeglorie!V13 / IF(AND(COUNT(Oudeglorie!$D13:$J13,Oudeglorie!$P13:V13) <= 3, ISNUMBER($C69)), $C69, $E69) * 10, 3))
A70: =IF(Oudeglorie!AB14=0, "", Oudeglorie!AB14) -> 1 | B70: =Oudeglorie!B14 -> Nelen Jef | C70: =IFERROR(VALUE(MID($B70, SEARCH("[NS ", $B70)+4, 2)), "") | D70: =Oudeglorie!C14 -> 22 | E70: =Oudeglorie!O14 -> 22 | F70: =IF(Oudeglorie!AA14=0," ",SUM(H70:U70)) -> 10.455 | H70: =IF(Oudeglorie!D14="", "", ROUND(Oudeglorie!D14 / IF(AND(COUNT(Oudeglorie!$D14:D14) <= 3, ISNUMBER($C70)), $C70, $D70) * 10, 3)) | I70: =IF(Oudeglorie!E14="", "", ROUND(Oudeglorie!E14 / IF(AND(COUNT(Oudeglorie!$D14:E14) <= 3, ISNUMBER($C70)), $C70, $D70) * 10, 3)) | J70: =IF(Oudeglorie!F14="", "", ROUND(Oudeglorie!F14 / IF(AND(COUNT(Oudeglorie!$D14:F14) <= 3, ISNUMBER($C70)), $C70, $D70) * 10, 3)) -> 10.455 | K70: =IF(Oudeglorie!G14="", "", ROUND(Oudeglorie!G14 / IF(AND(COUNT(Oudeglorie!$D14:G14) <= 3, ISNUMBER($C70)), $C70, $D70) * 10, 3)) | L70: =IF(Oudeglorie!H14="", "", ROUND(Oudeglorie!H14 / IF(AND(COUNT(Oudeglorie!$D14:H14) <= 3, ISNUMBER($C70)), $C70, $D70) * 10, 3)) | M70: =IF(Oudeglorie!I14="", "", ROUND(Oudeglorie!I14 / IF(AND(COUNT(Oudeglorie!$D14:I14) <= 3, ISNUMBER($C70)), $C70, $D70) * 10, 3)) | N70: =IF(Oudeglorie!J14="", "", ROUND(Oudeglorie!J14 / IF(AND(COUNT(Oudeglorie!$D14:J14) <= 3, ISNUMBER($C70)), $C70, $D70) * 10, 3)) | O70: =IF(Oudeglorie!P14="", "", ROUND(Oudeglorie!P14 / IF(AND(COUNT(Oudeglorie!$D14:$J14,Oudeglorie!$P14:P14) <= 3, ISNUMBER($C70)), $C70, $E70) * 10, 3)) | P70: =IF(Oudeglorie!Q14="", "", ROUND(Oudeglorie!Q14 / IF(AND(COUNT(Oudeglorie!$D14:$J14,Oudeglorie!$P14:Q14) <= 3, ISNUMBER($C70)), $C70, $E70) * 10, 3)) | Q70: =IF(Oudeglorie!R14="", "", ROUND(Oudeglorie!R14 / IF(AND(COUNT(Oudeglorie!$D14:$J14,Oudeglorie!$P14:R14) <= 3, ISNUMBER($C70)), $C70, $E70) * 10, 3)) | R70: =IF(Oudeglorie!S14="", "", ROUND(Oudeglorie!S14 / IF(AND(COUNT(Oudeglorie!$D14:$J14,Oudeglorie!$P14:S14) <= 3, ISNUMBER($C70)), $C70, $E70) * 10, 3)) | S70: =IF(Oudeglorie!T14="", "", ROUND(Oudeglorie!T14 / IF(AND(COUNT(Oudeglorie!$D14:$J14,Oudeglorie!$P14:T14) <= 3, ISNUMBER($C70)), $C70, $E70) * 10, 3)) | T70: =IF(Oudeglorie!U14="", "", ROUND(Oudeglorie!U14 / IF(AND(COUNT(Oudeglorie!$D14:$J14,Oudeglorie!$P14:U14) <= 3, ISNUMBER($C70)), $C70, $E70) * 10, 3)) | U70: =IF(Oudeglorie!V14="", "", ROUND(Oudeglorie!V14 / IF(AND(COUNT(Oudeglorie!$D14:$J14,Oudeglorie!$P14:V14) <= 3, ISNUMBER($C70)), $C70, $E70) * 10, 3))
A71: =IF(Oudeglorie!AB15=0, "", Oudeglorie!AB15) -> 1 | B71: =Oudeglorie!B15 -> Somers Ludo | C71: =IFERROR(VALUE(MID($B71, SEARCH("[NS ", $B71)+4, 2)), "") | D71: =Oudeglorie!C15 -> 31 | E71: =Oudeglorie!O15 -> 31 | F71: =IF(Oudeglorie!AA15=0," ",SUM(H71:U71)) -> 11.935 | H71: =IF(Oudeglorie!D15="", "", ROUND(Oudeglorie!D15 / IF(AND(COUNT(Oudeglorie!$D15:D15) <= 3, ISNUMBER($C71)), $C71, $D71) * 10, 3)) | I71: =IF(Oudeglorie!E15="", "", ROUND(Oudeglorie!E15 / IF(AND(COUNT(Oudeglorie!$D15:E15) <= 3, ISNUMBER($C71)), $C71, $D71) * 10, 3)) | J71: =IF(Oudeglorie!F15="", "", ROUND(Oudeglorie!F15 / IF(AND(COUNT(Oudeglorie!$D15:F15) <= 3, ISNUMBER($C71)), $C71, $D71) * 10, 3)) -> 11.935 | K71: =IF(Oudeglorie!G15="", "", ROUND(Oudeglorie!G15 / IF(AND(COUNT(Oudeglorie!$D15:G15) <= 3, ISNUMBER($C71)), $C71, $D71) * 10, 3)) | L71: =IF(Oudeglorie!H15="", "", ROUND(Oudeglorie!H15 / IF(AND(COUNT(Oudeglorie!$D15:H15) <= 3, ISNUMBER($C71)), $C71, $D71) * 10, 3)) | M71: =IF(Oudeglorie!I15="", "", ROUND(Oudeglorie!I15 / IF(AND(COUNT(Oudeglorie!$D15:I15) <= 3, ISNUMBER($C71)), $C71, $D71) * 10, 3)) | N71: =IF(Oudeglorie!J15="", "", ROUND(Oudeglorie!J15 / IF(AND(COUNT(Oudeglorie!$D15:J15) <= 3, ISNUMBER($C71)), $C71, $D71) * 10, 3)) | O71: =IF(Oudeglorie!P15="", "", ROUND(Oudeglorie!P15 / IF(AND(COUNT(Oudeglorie!$D15:$J15,Oudeglorie!$P15:P15) <= 3, ISNUMBER($C71)), $C71, $E71) * 10, 3)) | P71: =IF(Oudeglorie!Q15="", "", ROUND(Oudeglorie!Q15 / IF(AND(COUNT(Oudeglorie!$D15:$J15,Oudeglorie!$P15:Q15) <= 3, ISNUMBER($C71)), $C71, $E71) * 10, 3)) | Q71: =IF(Oudeglorie!R15="", "", ROUND(Oudeglorie!R15 / IF(AND(COUNT(Oudeglorie!$D15:$J15,Oudeglorie!$P15:R15) <= 3, ISNUMBER($C71)), $C71, $E71) * 10, 3)) | R71: =IF(Oudeglorie!S15="", "", ROUND(Oudeglorie!S15 / IF(AND(COUNT(Oudeglorie!$D15:$J15,Oudeglorie!$P15:S15) <= 3, ISNUMBER($C71)), $C71, $E71) * 10, 3)) | S71: =IF(Oudeglorie!T15="", "", ROUND(Oudeglorie!T15 / IF(AND(COUNT(Oudeglorie!$D15:$J15,Oudeglorie!$P15:T15) <= 3, ISNUMBER($C71)), $C71, $E71) * 10, 3)) | T71: =IF(Oudeglorie!U15="", "", ROUND(Oudeglorie!U15 / IF(AND(COUNT(Oudeglorie!$D15:$J15,Oudeglorie!$P15:U15) <= 3, ISNUMBER($C71)), $C71, $E71) * 10, 3)) | U71: =IF(Oudeglorie!V15="", "", ROUND(Oudeglorie!V15 / IF(AND(COUNT(Oudeglorie!$D15:$J15,Oudeglorie!$P15:V15) <= 3, ISNUMBER($C71)), $C71, $E71) * 10, 3))
A72: =IF(Oudeglorie!AB16=0, "", Oudeglorie!AB16) -> 1 | B72: =Oudeglorie!B16 -> Van Ginderen Ludo | C72: =IFERROR(VALUE(MID($B72, SEARCH("[NS ", $B72)+4, 2)), "") | D72: =Oudeglorie!C16 -> 18 | E72: =Oudeglorie!O16 -> 18 | F72: =IF(Oudeglorie!AA16=0," ",SUM(H72:U72)) -> 14.444 | H72: =IF(Oudeglorie!D16="", "", ROUND(Oudeglorie!D16 / IF(AND(COUNT(Oudeglorie!$D16:D16) <= 3, ISNUMBER($C72)), $C72, $D72) * 10, 3)) | I72: =IF(Oudeglorie!E16="", "", ROUND(Oudeglorie!E16 / IF(AND(COUNT(Oudeglorie!$D16:E16) <= 3, ISNUMBER($C72)), $C72, $D72) * 10, 3)) -> 14.444 | J72: =IF(Oudeglorie!F16="", "", ROUND(Oudeglorie!F16 / IF(AND(COUNT(Oudeglorie!$D16:F16) <= 3, ISNUMBER($C72)), $C72, $D72) * 10, 3)) | K72: =IF(Oudeglorie!G16="", "", ROUND(Oudeglorie!G16 / IF(AND(COUNT(Oudeglorie!$D16:G16) <= 3, ISNUMBER($C72)), $C72, $D72) * 10, 3)) | L72: =IF(Oudeglorie!H16="", "", ROUND(Oudeglorie!H16 / IF(AND(COUNT(Oudeglorie!$D16:H16) <= 3, ISNUMBER($C72)), $C72, $D72) * 10, 3)) | M72: =IF(Oudeglorie!I16="", "", ROUND(Oudeglorie!I16 / IF(AND(COUNT(Oudeglorie!$D16:I16) <= 3, ISNUMBER($C72)), $C72, $D72) * 10, 3)) | N72: =IF(Oudeglorie!J16="", "", ROUND(Oudeglorie!J16 / IF(AND(COUNT(Oudeglorie!$D16:J16) <= 3, ISNUMBER($C72)), $C72, $D72) * 10, 3)) | O72: =IF(Oudeglorie!P16="", "", ROUND(Oudeglorie!P16 / IF(AND(COUNT(Oudeglorie!$D16:$J16,Oudeglorie!$P16:P16) <= 3, ISNUMBER($C72)), $C72, $E72) * 10, 3)) | P72: =IF(Oudeglorie!Q16="", "", ROUND(Oudeglorie!Q16 / IF(AND(COUNT(Oudeglorie!$D16:$J16,Oudeglorie!$P16:Q16) <= 3, ISNUMBER($C72)), $C72, $E72) * 10, 3)) | Q72: =IF(Oudeglorie!R16="", "", ROUND(Oudeglorie!R16 / IF(AND(COUNT(Oudeglorie!$D16:$J16,Oudeglorie!$P16:R16) <= 3, ISNUMBER($C72)), $C72, $E72) * 10, 3)) | R72: =IF(Oudeglorie!S16="", "", ROUND(Oudeglorie!S16 / IF(AND(COUNT(Oudeglorie!$D16:$J16,Oudeglorie!$P16:S16) <= 3, ISNUMBER($C72)), $C72, $E72) * 10, 3)) | S72: =IF(Oudeglorie!T16="", "", ROUND(Oudeglorie!T16 / IF(AND(COUNT(Oudeglorie!$D16:$J16,Oudeglorie!$P16:T16) <= 3, ISNUMBER($C72)), $C72, $E72) * 10, 3)) | T72: =IF(Oudeglorie!U16="", "", ROUND(Oudeglorie!U16 / IF(AND(COUNT(Oudeglorie!$D16:$J16,Oudeglorie!$P16:U16) <= 3, ISNUMBER($C72)), $C72, $E72) * 10, 3)) | U72: =IF(Oudeglorie!V16="", "", ROUND(Oudeglorie!V16 / IF(AND(COUNT(Oudeglorie!$D16:$J16,Oudeglorie!$P16:V16) <= 3, ISNUMBER($C72)), $C72, $E72) * 10, 3))
... A75: =IF(Oudeglorie!AB19=0, "", Oudeglorie!AB19) | B75: =Oudeglorie!B19 -> 0 | C75: =IFERROR(VALUE(MID($B75, SEARCH("[NS ", $B75)+4, 2)), "") | D75: =Oudeglorie!C19 -> 0 | E75: =Oudeglorie!O19 -> 0 | F75: =IF(Oudeglorie!AA19=0," ",SUM(H75:U75)) | H75: =IF(Oudeglorie!D19="", "", ROUND(Oudeglorie!D19 / IF(AND(COUNT(Oudeglorie!$D19:D19) <= 3, ISNUMBER($C75)), $C75, $D75) * 10, 3)) | I75: =IF(Oudeglorie!E19="", "", ROUND(Oudeglorie!E19 / IF(AND(COUNT(Oudeglorie!$D19:E19) <= 3, ISNUMBER($C75)), $C75, $D75) * 10, 3)) | J75: =IF(Oudeglorie!F19="", "", ROUND(Oudeglorie!F19 / IF(AND(COUNT(Oudeglorie!$D19:F19) <= 3, ISNUMBER($C75)), $C75, $D75) * 10, 3)) | K75: =IF(Oudeglorie!G19="", "", ROUND(Oudeglorie!G19 / IF(AND(COUNT(Oudeglorie!$D19:G19) <= 3, ISNUMBER($C75)), $C75, $D75) * 10, 3)) | L75: =IF(Oudeglorie!H19="", "", ROUND(Oudeglorie!H19 / IF(AND(COUNT(Oudeglorie!$D19:H19) <= 3, ISNUMBER($C75)), $C75, $D75) * 10, 3)) | M75: =IF(Oudeglorie!I19="", "", ROUND(Oudeglorie!I19 / IF(AND(COUNT(Oudeglorie!$D19:I19) <= 3, ISNUMBER($C75)), $C75, $D75) * 10, 3)) | N75: =IF(Oudeglorie!J19="", "", ROUND(Oudeglorie!J19 / IF(AND(COUNT(Oudeglorie!$D19:J19) <= 3, ISNUMBER($C75)), $C75, $D75) * 10, 3)) | O75: =IF(Oudeglorie!P19="", "", ROUND(Oudeglorie!P19 / IF(AND(COUNT(Oudeglorie!$D19:$J19,Oudeglorie!$P19:P19) <= 3, ISNUMBER($C75)), $C75, $E75) * 10, 3)) | P75: =IF(Oudeglorie!Q19="", "", ROUND(Oudeglorie!Q19 / IF(AND(COUNT(Oudeglorie!$D19:$J19,Oudeglorie!$P19:Q19) <= 3, ISNUMBER($C75)), $C75, $E75) * 10, 3)) | Q75: =IF(Oudeglorie!R19="", "", ROUND(Oudeglorie!R19 / IF(AND(COUNT(Oudeglorie!$D19:$J19,Oudeglorie!$P19:R19) <= 3, ISNUMBER($C75)), $C75, $E75) * 10, 3)) | R75: =IF(Oudeglorie!S19="", "", ROUND(Oudeglorie!S19 / IF(AND(COUNT(Oudeglorie!$D19:$J19,Oudeglorie!$P19:S19) <= 3, ISNUMBER($C75)), $C75, $E75) * 10, 3)) | S75: =IF(Oudeglorie!T19="", "", ROUND(Oudeglorie!T19 / IF(AND(COUNT(Oudeglorie!$D19:$J19,Oudeglorie!$P19:T19) <= 3, ISNUMBER($C75)), $C75, $E75) * 10, 3)) | T75: =IF(Oudeglorie!U19="", "", ROUND(Oudeglorie!U19 / IF(AND(COUNT(Oudeglorie!$D19:$J19,Oudeglorie!$P19:U19) <= 3, ISNUMBER($C75)), $C75, $E75) * 10, 3)) | U75: =IF(Oudeglorie!V19="", "", ROUND(Oudeglorie!V19 / IF(AND(COUNT(Oudeglorie!$D19:$J19,Oudeglorie!$P19:V19) <= 3, ISNUMBER($C75)), $C75, $E75) * 10, 3))
F76: =B60 -> OUDE GLORIE | G76: 5 | H76: =IF(SUM(H61:H75)=0, "", SUM(H61:H75)) -> 54.043 | I76: =IF(SUM(I61:I75)=0, "", SUM(I61:I75)) -> 53.296 | J76: =IF(SUM(J61:J75)=0, "", SUM(J61:J75)) -> 58.758 | K76: =IF(SUM(K61:K75)=0, "", SUM(K61:K75)) -> 56.465 | L76: =IF(SUM(L61:L75)=0, "", SUM(L61:L75)) | M76: =IF(SUM(M61:M75)=0, "", SUM(M61:M75)) | N76: =IF(SUM(N61:N75)=0, "", SUM(N61:N75)) | O76: =IF(SUM(O61:O75)=0, "", SUM(O61:O75)) | ... U76: =IF(SUM(U61:U75)=0, "", SUM(U61:U75))
B77: =ROWS(B61:B75) -> 15 | F77: =SUM(F61:F75) -> 222.562 | G77: =B60 -> OUDE GLORIE | H77: =IF(SUM(H61:H75)=0, "", SUM(H61:H75)) -> 54.043 | I77: =IF(I76="", "", ROUND(SUM($H76:I76), 3)) -> 107.339 | J77: =IF(J76="", "", ROUND(SUM($H76:J76), 3)) -> 166.097 | K77: =IF(K76="", "", ROUND(SUM($H76:K76), 3)) -> 222.562 | L77: =IF(L76="", "", ROUND(SUM($H76:L76), 3)) | M77: =IF(M76="", "", ROUND(SUM($H76:M76), 3)) | N77: =IF(N76="", "", ROUND(SUM($H76:N76), 3)) | O77: =IF(O76="", "", ROUND(SUM($H76:O76), 3)) | P77: =IF(P76="", "", ROUND(SUM($H76:P76), 3)) | ... U77: =IF(U76="", "", ROUND(SUM($H76:U76), 3))
B80: SEN. PUTTE | H80: 1 | I80: 2 | J80: 3 | K80: 4 | L80: 5 | M80: 6 | N80: 7 | O80: 8 | P80: 9 | Q80: 10 | R80: 11 | S80: 12 | T80: 13 | U80: 14
A81: =IF(Putte!AB5=0, "", Putte!AB5) -> 2 | B81: =Putte!B5 -> Anthonissen Paul | C81: =IFERROR(VALUE(MID($B81, SEARCH("[NS ", $B81)+4, 2)), "") | D81: =Putte!C5 -> 40 | E81: =Putte!O5 -> 40 | F81: =IF(Putte!AA5=0," ",SUM(H81:U81)) -> 14 | H81: =IF(Putte!D5="", "", ROUND(Putte!D5 / IF(AND(COUNT(Putte!$D5:D5) <= 3, ISNUMBER($C81)), $C81, $D81) * 10, 3)) | I81: =IF(Putte!E5="", "", ROUND(Putte!E5 / IF(AND(COUNT(Putte!$D5:E5) <= 3, ISNUMBER($C81)), $C81, $D81) * 10, 3)) -> 8.75 | J81: =IF(Putte!F5="", "", ROUND(Putte!F5 / IF(AND(COUNT(Putte!$D5:F5) <= 3, ISNUMBER($C81)), $C81, $D81) * 10, 3)) | K81: =IF(Putte!G5="", "", ROUND(Putte!G5 / IF(AND(COUNT(Putte!$D5:G5) <= 3, ISNUMBER($C81)), $C81, $D81) * 10, 3)) -> 5.25 | L81: =IF(Putte!H5="", "", ROUND(Putte!H5 / IF(AND(COUNT(Putte!$D5:H5) <= 3, ISNUMBER($C81)), $C81, $D81) * 10, 3)) | M81: =IF(Putte!I5="", "", ROUND(Putte!I5 / IF(AND(COUNT(Putte!$D5:I5) <= 3, ISNUMBER($C81)), $C81, $D81) * 10, 3)) | N81: =IF(Putte!J5="", "", ROUND(Putte!J5 / IF(AND(COUNT(Putte!$D5:J5) <= 3, ISNUMBER($C81)), $C81, $D81) * 10, 3)) | O81: =IF(Putte!P5="", "", ROUND(Putte!P5 / IF(AND(COUNT(Putte!$D5:$J5,Putte!$P5:P5) <= 3, ISNUMBER($C81)), $C81, $E81) * 10, 3)) | P81: =IF(Putte!Q5="", "", ROUND(Putte!Q5 / IF(AND(COUNT(Putte!$D5:$J5,Putte!$P5:Q5) <= 3, ISNUMBER($C81)), $C81, $E81) * 10, 3)) | Q81: =IF(Putte!R5="", "", ROUND(Putte!R5 / IF(AND(COUNT(Putte!$D5:$J5,Putte!$P5:R5) <= 3, ISNUMBER($C81)), $C81, $E81) * 10, 3)) | R81: =IF(Putte!S5="", "", ROUND(Putte!S5 / IF(AND(COUNT(Putte!$D5:$J5,Putte!$P5:S5) <= 3, ISNUMBER($C81)), $C81, $E81) * 10, 3)) | S81: =IF(Putte!T5="", "", ROUND(Putte!T5 / IF(AND(COUNT(Putte!$D5:$J5,Putte!$P5:T5) <= 3, ISNUMBER($C81)), $C81, $E81) * 10, 3)) | T81: =IF(Putte!U5="", "", ROUND(Putte!U5 / IF(AND(COUNT(Putte!$D5:$J5,Putte!$P5:U5) <= 3, ISNUMBER($C81)), $C81, $E81) * 10, 3)) | U81: =IF(Putte!V5="", "", ROUND(Putte!V5 / IF(AND(COUNT(Putte!$D5:$J5,Putte!$P5:V5) <= 3, ISNUMBER($C81)), $C81, $E81) * 10, 3))
A82: =IF(Putte!AB6=0, "", Putte!AB6) -> 2 | B82: =Putte!B6 -> De Beukelaer Freddy | C82: =IFERROR(VALUE(MID($B82, SEARCH("[NS ", $B82)+4, 2)), "") | D82: =Putte!C6 -> 22 | E82: =Putte!O6 -> 22 | F82: =IF(Putte!AA6=0," ",SUM(H82:U82)) -> 18.636 | H82: =IF(Putte!D6="", "", ROUND(Putte!D6 / IF(AND(COUNT(Putte!$D6:D6) <= 3, ISNUMBER($C82)), $C82, $D82) * 10, 3)) | I82: =IF(Putte!E6="", "", ROUND(Putte!E6 / IF(AND(COUNT(Putte!$D6:E6) <= 3, ISNUMBER($C82)), $C82, $D82) * 10, 3)) -> 11.818 | J82: =IF(Putte!F6="", "", ROUND(Putte!F6 / IF(AND(COUNT(Putte!$D6:F6) <= 3, ISNUMBER($C82)), $C82, $D82) * 10, 3)) | K82: =IF(Putte!G6="", "", ROUND(Putte!G6 / IF(AND(COUNT(Putte!$D6:G6) <= 3, ISNUMBER($C82)), $C82, $D82) * 10, 3)) -> 6.818 | L82: =IF(Putte!H6="", "", ROUND(Putte!H6 / IF(AND(COUNT(Putte!$D6:H6) <= 3, ISNUMBER($C82)), $C82, $D82) * 10, 3)) | M82: =IF(Putte!I6="", "", ROUND(Putte!I6 / IF(AND(COUNT(Putte!$D6:I6) <= 3, ISNUMBER($C82)), $C82, $D82) * 10, 3)) | N82: =IF(Putte!J6="", "", ROUND(Putte!J6 / IF(AND(COUNT(Putte!$D6:J6) <= 3, ISNUMBER($C82)), $C82, $D82) * 10, 3)) | O82: =IF(Putte!P6="", "", ROUND(Putte!P6 / IF(AND(COUNT(Putte!$D6:$J6,Putte!$P6:P6) <= 3, ISNUMBER($C82)), $C82, $E82) * 10, 3)) | P82: =IF(Putte!Q6="", "", ROUND(Putte!Q6 / IF(AND(COUNT(Putte!$D6:$J6,Putte!$P6:Q6) <= 3, ISNUMBER($C82)), $C82, $E82) * 10, 3)) | Q82: =IF(Putte!R6="", "", ROUND(Putte!R6 / IF(AND(COUNT(Putte!$D6:$J6,Putte!$P6:R6) <= 3, ISNUMBER($C82)), $C82, $E82) * 10, 3)) | R82: =IF(Putte!S6="", "", ROUND(Putte!S6 / IF(AND(COUNT(Putte!$D6:$J6,Putte!$P6:S6) <= 3, ISNUMBER($C82)), $C82, $E82) * 10, 3)) | S82: =IF(Putte!T6="", "", ROUND(Putte!T6 / IF(AND(COUNT(Putte!$D6:$J6,Putte!$P6:T6) <= 3, ISNUMBER($C82)), $C82, $E82) * 10, 3)) | T82: =IF(Putte!U6="", "", ROUND(Putte!U6 / IF(AND(COUNT(Putte!$D6:$J6,Putte!$P6:U6) <= 3, ISNUMBER($C82)), $C82, $E82) * 10, 3)) | U82: =IF(Putte!V6="", "", ROUND(Putte!V6 / IF(AND(COUNT(Putte!$D6:$J6,Putte!$P6:V6) <= 3, ISNUMBER($C82)), $C82, $E82) * 10, 3))
A83: =IF(Putte!AB7=0, "", Putte!AB7) -> 3 | B83: =Putte!B7 -> De Clerck Ludo [NS 35] | C83: =IFERROR(VALUE(MID($B83, SEARCH("[NS ", $B83)+4, 2)), "") -> 35 | D83: =Putte!C7 -> 51 | E83: =Putte!O7 -> 35 | F83: =IF(Putte!AA7=0," ",SUM(H83:U83)) -> 43.429 | H83: =IF(Putte!D7="", "", ROUND(Putte!D7 / IF(AND(COUNT(Putte!$D7:D7) <= 3, ISNUMBER($C83)), $C83, $D83) * 10, 3)) -> 12.286 | I83: =IF(Putte!E7="", "", ROUND(Putte!E7 / IF(AND(COUNT(Putte!$D7:E7) <= 3, ISNUMBER($C83)), $C83, $D83) * 10, 3)) | J83: =IF(Putte!F7="", "", ROUND(Putte!F7 / IF(AND(COUNT(Putte!$D7:F7) <= 3, ISNUMBER($C83)), $C83, $D83) * 10, 3)) -> 12 | K83: =IF(Putte!G7="", "", ROUND(Putte!G7 / IF(AND(COUNT(Putte!$D7:G7) <= 3, ISNUMBER($C83)), $C83, $D83) * 10, 3)) -> 19.143 | L83: =IF(Putte!H7="", "", ROUND(Putte!H7 / IF(AND(COUNT(Putte!$D7:H7) <= 3, ISNUMBER($C83)), $C83, $D83) * 10, 3)) | M83: =IF(Putte!I7="", "", ROUND(Putte!I7 / IF(AND(COUNT(Putte!$D7:I7) <= 3, ISNUMBER($C83)), $C83, $D83) * 10, 3)) | N83: =IF(Putte!J7="", "", ROUND(Putte!J7 / IF(AND(COUNT(Putte!$D7:J7) <= 3, ISNUMBER($C83)), $C83, $D83) * 10, 3)) | O83: =IF(Putte!P7="", "", ROUND(Putte!P7 / IF(AND(COUNT(Putte!$D7:$J7,Putte!$P7:P7) <= 3, ISNUMBER($C83)), $C83, $E83) * 10, 3)) | P83: =IF(Putte!Q7="", "", ROUND(Putte!Q7 / IF(AND(COUNT(Putte!$D7:$J7,Putte!$P7:Q7) <= 3, ISNUMBER($C83)), $C83, $E83) * 10, 3)) | Q83: =IF(Putte!R7="", "", ROUND(Putte!R7 / IF(AND(COUNT(Putte!$D7:$J7,Putte!$P7:R7) <= 3, ISNUMBER($C83)), $C83, $E83) * 10, 3)) | R83: =IF(Putte!S7="", "", ROUND(Putte!S7 / IF(AND(COUNT(Putte!$D7:$J7,Putte!$P7:S7) <= 3, ISNUMBER($C83)), $C83, $E83) * 10, 3)) | S83: =IF(Putte!T7="", "", ROUND(Putte!T7 / IF(AND(COUNT(Putte!$D7:$J7,Putte!$P7:T7) <= 3, ISNUMBER($C83)), $C83, $E83) * 10, 3)) | T83: =IF(Putte!U7="", "", ROUND(Putte!U7 / IF(AND(COUNT(Putte!$D7:$J7,Putte!$P7:U7) <= 3, ISNUMBER($C83)), $C83, $E83) * 10, 3)) | U83: =IF(Putte!V7="", "", ROUND(Putte!V7 / IF(AND(COUNT(Putte!$D7:$J7,Putte!$P7:V7) <= 3, ISNUMBER($C83)), $C83, $E83) * 10, 3))
A84: =IF(Putte!AB8=0, "", Putte!AB8) -> 1 | B84: =Putte!B8 -> Evers Henri | C84: =IFERROR(VALUE(MID($B84, SEARCH("[NS ", $B84)+4, 2)), "") | D84: =Putte!C8 -> 15 | E84: =Putte!O8 -> 15 | F84: =IF(Putte!AA8=0," ",SUM(H84:U84)) -> 8.667 | H84: =IF(Putte!D8="", "", ROUND(Putte!D8 / IF(AND(COUNT(Putte!$D8:D8) <= 3, ISNUMBER($C84)), $C84, $D84) * 10, 3)) | I84: =IF(Putte!E8="", "", ROUND(Putte!E8 / IF(AND(COUNT(Putte!$D8:E8) <= 3, ISNUMBER($C84)), $C84, $D84) * 10, 3)) | J84: =IF(Putte!F8="", "", ROUND(Putte!F8 / IF(AND(COUNT(Putte!$D8:F8) <= 3, ISNUMBER($C84)), $C84, $D84) * 10, 3)) -> 8.667 | K84: =IF(Putte!G8="", "", ROUND(Putte!G8 / IF(AND(COUNT(Putte!$D8:G8) <= 3, ISNUMBER($C84)), $C84, $D84) * 10, 3)) | L84: =IF(Putte!H8="", "", ROUND(Putte!H8 / IF(AND(COUNT(Putte!$D8:H8) <= 3, ISNUMBER($C84)), $C84, $D84) * 10, 3)) | M84: =IF(Putte!I8="", "", ROUND(Putte!I8 / IF(AND(COUNT(Putte!$D8:I8) <= 3, ISNUMBER($C84)), $C84, $D84) * 10, 3)) | N84: =IF(Putte!J8="", "", ROUND(Putte!J8 / IF(AND(COUNT(Putte!$D8:J8) <= 3, ISNUMBER($C84)), $C84, $D84) * 10, 3)) | O84: =IF(Putte!P8="", "", ROUND(Putte!P8 / IF(AND(COUNT(Putte!$D8:$J8,Putte!$P8:P8) <= 3, ISNUMBER($C84)), $C84, $E84) * 10, 3)) | P84: =IF(Putte!Q8="", "", ROUND(Putte!Q8 / IF(AND(COUNT(Putte!$D8:$J8,Putte!$P8:Q8) <= 3, ISNUMBER($C84)), $C84, $E84) * 10, 3)) | Q84: =IF(Putte!R8="", "", ROUND(Putte!R8 / IF(AND(COUNT(Putte!$D8:$J8,Putte!$P8:R8) <= 3, ISNUMBER($C84)), $C84, $E84) * 10, 3)) | R84: =IF(Putte!S8="", "", ROUND(Putte!S8 / IF(AND(COUNT(Putte!$D8:$J8,Putte!$P8:S8) <= 3, ISNUMBER($C84)), $C84, $E84) * 10, 3)) | S84: =IF(Putte!T8="", "", ROUND(Putte!T8 / IF(AND(COUNT(Putte!$D8:$J8,Putte!$P8:T8) <= 3, ISNUMBER($C84)), $C84, $E84) * 10, 3)) | T84: =IF(Putte!U8="", "", ROUND(Putte!U8 / IF(AND(COUNT(Putte!$D8:$J8,Putte!$P8:U8) <= 3, ISNUMBER($C84)), $C84, $E84) * 10, 3)) | U84: =IF(Putte!V8="", "", ROUND(Putte!V8 / IF(AND(COUNT(Putte!$D8:$J8,Putte!$P8:V8) <= 3, ISNUMBER($C84)), $C84, $E84) * 10, 3))
A85: =IF(Putte!AB9=0, "", Putte!AB9) -> 4 | B85: =Putte!B9 -> Eyckmans Luc | C85: =IFERROR(VALUE(MID($B85, SEARCH("[NS ", $B85)+4, 2)), "") | D85: =Putte!C9 -> 22 | E85: =Putte!O9 -> 22 | F85: =IF(Putte!AA9=0," ",SUM(H85:U85)) -> 38.636 | H85: =IF(Putte!D9="", "", ROUND(Putte!D9 / IF(AND(COUNT(Putte!$D9:D9) <= 3, ISNUMBER($C85)), $C85, $D85) * 10, 3)) -> 10.909 | I85: =IF(Putte!E9="", "", ROUND(Putte!E9 / IF(AND(COUNT(Putte!$D9:E9) <= 3, ISNUMBER($C85)), $C85, $D85) * 10, 3)) -> 6.818 | J85: =IF(Putte!F9="", "", ROUND(Putte!F9 / IF(AND(COUNT(Putte!$D9:F9) <= 3, ISNUMBER($C85)), $C85, $D85) * 10, 3)) -> 8.636 | K85: =IF(Putte!G9="", "", ROUND(Putte!G9 / IF(AND(COUNT(Putte!$D9:G9) <= 3, ISNUMBER($C85)), $C85, $D85) * 10, 3)) -> 12.273 | L85: =IF(Putte!H9="", "", ROUND(Putte!H9 / IF(AND(COUNT(Putte!$D9:H9) <= 3, ISNUMBER($C85)), $C85, $D85) * 10, 3)) | M85: =IF(Putte!I9="", "", ROUND(Putte!I9 / IF(AND(COUNT(Putte!$D9:I9) <= 3, ISNUMBER($C85)), $C85, $D85) * 10, 3)) | N85: =IF(Putte!J9="", "", ROUND(Putte!J9 / IF(AND(COUNT(Putte!$D9:J9) <= 3, ISNUMBER($C85)), $C85, $D85) * 10, 3)) | O85: =IF(Putte!P9="", "", ROUND(Putte!P9 / IF(AND(COUNT(Putte!$D9:$J9,Putte!$P9:P9) <= 3, ISNUMBER($C85)), $C85, $E85) * 10, 3)) | P85: =IF(Putte!Q9="", "", ROUND(Putte!Q9 / IF(AND(COUNT(Putte!$D9:$J9,Putte!$P9:Q9) <= 3, ISNUMBER($C85)), $C85, $E85) * 10, 3)) | Q85: =IF(Putte!R9="", "", ROUND(Putte!R9 / IF(AND(COUNT(Putte!$D9:$J9,Putte!$P9:R9) <= 3, ISNUMBER($C85)), $C85, $E85) * 10, 3)) | R85: =IF(Putte!S9="", "", ROUND(Putte!S9 / IF(AND(COUNT(Putte!$D9:$J9,Putte!$P9:S9) <= 3, ISNUMBER($C85)), $C85, $E85) * 10, 3)) | S85: =IF(Putte!T9="", "", ROUND(Putte!T9 / IF(AND(COUNT(Putte!$D9:$J9,Putte!$P9:T9) <= 3, ISNUMBER($C85)), $C85, $E85) * 10, 3)) | T85: =IF(Putte!U9="", "", ROUND(Putte!U9 / IF(AND(COUNT(Putte!$D9:$J9,Putte!$P9:U9) <= 3, ISNUMBER($C85)), $C85, $E85) * 10, 3)) | U85: =IF(Putte!V9="", "", ROUND(Putte!V9 / IF(AND(COUNT(Putte!$D9:$J9,Putte!$P9:V9) <= 3, ISNUMBER($C85)), $C85, $E85) * 10, 3))
A86: =IF(Putte!AB10=0, "", Putte!AB10) -> 3 | B86: =Putte!B10 -> Geeraert André [NS 35] | C86: =IFERROR(VALUE(MID($B86, SEARCH("[NS ", $B86)+4, 2)), "") -> 35 | D86: =Putte!C10 -> 34 | E86: =Putte!O10 -> 35 | F86: =IF(Putte!AA10=0," ",SUM(H86:U86)) -> 29.428 | H86: =IF(Putte!D10="", "", ROUND(Putte!D10 / IF(AND(COUNT(Putte!$D10:D10) <= 3, ISNUMBER($C86)), $C86, $D86) * 10, 3)) -> 10.857 | I86: =IF(Putte!E10="", "", ROUND(Putte!E10 / IF(AND(COUNT(Putte!$D10:E10) <= 3, ISNUMBER($C86)), $C86, $D86) * 10, 3)) -> 10 | J86: =IF(Putte!F10="", "", ROUND(Putte!F10 / IF(AND(COUNT(Putte!$D10:F10) <= 3, ISNUMBER($C86)), $C86, $D86) * 10, 3)) -> 8.571 | K86: =IF(Putte!G10="", "", ROUND(Putte!G10 / IF(AND(COUNT(Putte!$D10:G10) <= 3, ISNUMBER($C86)), $C86, $D86) * 10, 3)) | L86: =IF(Putte!H10="", "", ROUND(Putte!H10 / IF(AND(COUNT(Putte!$D10:H10) <= 3, ISNUMBER($C86)), $C86, $D86) * 10, 3)) | M86: =IF(Putte!I10="", "", ROUND(Putte!I10 / IF(AND(COUNT(Putte!$D10:I10) <= 3, ISNUMBER($C86)), $C86, $D86) * 10, 3)) | N86: =IF(Putte!J10="", "", ROUND(Putte!J10 / IF(AND(COUNT(Putte!$D10:J10) <= 3, ISNUMBER($C86)), $C86, $D86) * 10, 3)) | O86: =IF(Putte!P10="", "", ROUND(Putte!P10 / IF(AND(COUNT(Putte!$D10:$J10,Putte!$P10:P10) <= 3, ISNUMBER($C86)), $C86, $E86) * 10, 3)) | P86: =IF(Putte!Q10="", "", ROUND(Putte!Q10 / IF(AND(COUNT(Putte!$D10:$J10,Putte!$P10:Q10) <= 3, ISNUMBER($C86)), $C86, $E86) * 10, 3)) | Q86: =IF(Putte!R10="", "", ROUND(Putte!R10 / IF(AND(COUNT(Putte!$D10:$J10,Putte!$P10:R10) <= 3, ISNUMBER($C86)), $C86, $E86) * 10, 3)) | R86: =IF(Putte!S10="", "", ROUND(Putte!S10 / IF(AND(COUNT(Putte!$D10:$J10,Putte!$P10:S10) <= 3, ISNUMBER($C86)), $C86, $E86) * 10, 3)) | S86: =IF(Putte!T10="", "", ROUND(Putte!T10 / IF(AND(COUNT(Putte!$D10:$J10,Putte!$P10:T10) <= 3, ISNUMBER($C86)), $C86, $E86) * 10, 3)) | T86: =IF(Putte!U10="", "", ROUND(Putte!U10 / IF(AND(COUNT(Putte!$D10:$J10,Putte!$P10:U10) <= 3, ISNUMBER($C86)), $C86, $E86) * 10, 3)) | U86: =IF(Putte!V10="", "", ROUND(Putte!V10 / IF(AND(COUNT(Putte!$D10:$J10,Putte!$P10:V10) <= 3, ISNUMBER($C86)), $C86, $E86) * 10, 3))
A87: =IF(Putte!AB11=0, "", Putte!AB11) -> 3 | B87: =Putte!B11 -> Moerbeek Wilfried | C87: =IFERROR(VALUE(MID($B87, SEARCH("[NS ", $B87)+4, 2)), "") | D87: =Putte!C11 -> 30 | E87: =Putte!O11 -> 30 | F87: =IF(Putte!AA11=0," ",SUM(H87:U87)) -> 36.333 | H87: =IF(Putte!D11="", "", ROUND(Putte!D11 / IF(AND(COUNT(Putte!$D11:D11) <= 3, ISNUMBER($C87)), $C87, $D87) * 10, 3)) -> 16.333 | I87: =IF(Putte!E11="", "", ROUND(Putte!E11 / IF(AND(COUNT(Putte!$D11:E11) <= 3, ISNUMBER($C87)), $C87, $D87) * 10, 3)) -> 10 | J87: =IF(Putte!F11="", "", ROUND(Putte!F11 / IF(AND(COUNT(Putte!$D11:F11) <= 3, ISNUMBER($C87)), $C87, $D87) * 10, 3)) | K87: =IF(Putte!G11="", "", ROUND(Putte!G11 / IF(AND(COUNT(Putte!$D11:G11) <= 3, ISNUMBER($C87)), $C87, $D87) * 10, 3)) -> 10 | L87: =IF(Putte!H11="", "", ROUND(Putte!H11 / IF(AND(COUNT(Putte!$D11:H11) <= 3, ISNUMBER($C87)), $C87, $D87) * 10, 3)) | M87: =IF(Putte!I11="", "", ROUND(Putte!I11 / IF(AND(COUNT(Putte!$D11:I11) <= 3, ISNUMBER($C87)), $C87, $D87) * 10, 3)) | N87: =IF(Putte!J11="", "", ROUND(Putte!J11 / IF(AND(COUNT(Putte!$D11:J11) <= 3, ISNUMBER($C87)), $C87, $D87) * 10, 3)) | O87: =IF(Putte!P11="", "", ROUND(Putte!P11 / IF(AND(COUNT(Putte!$D11:$J11,Putte!$P11:P11) <= 3, ISNUMBER($C87)), $C87, $E87) * 10, 3)) | P87: =IF(Putte!Q11="", "", ROUND(Putte!Q11 / IF(AND(COUNT(Putte!$D11:$J11,Putte!$P11:Q11) <= 3, ISNUMBER($C87)), $C87, $E87) * 10, 3)) | Q87: =IF(Putte!R11="", "", ROUND(Putte!R11 / IF(AND(COUNT(Putte!$D11:$J11,Putte!$P11:R11) <= 3, ISNUMBER($C87)), $C87, $E87) * 10, 3)) | R87: =IF(Putte!S11="", "", ROUND(Putte!S11 / IF(AND(COUNT(Putte!$D11:$J11,Putte!$P11:S11) <= 3, ISNUMBER($C87)), $C87, $E87) * 10, 3)) | S87: =IF(Putte!T11="", "", ROUND(Putte!T11 / IF(AND(COUNT(Putte!$D11:$J11,Putte!$P11:T11) <= 3, ISNUMBER($C87)), $C87, $E87) * 10, 3)) | T87: =IF(Putte!U11="", "", ROUND(Putte!U11 / IF(AND(COUNT(Putte!$D11:$J11,Putte!$P11:U11) <= 3, ISNUMBER($C87)), $C87, $E87) * 10, 3)) | U87: =IF(Putte!V11="", "", ROUND(Putte!V11 / IF(AND(COUNT(Putte!$D11:$J11,Putte!$P11:V11) <= 3, ISNUMBER($C87)), $C87, $E87) * 10, 3))
A88: =IF(Putte!AB12=0, "", Putte!AB12) -> 3 | B88: =Putte!B12 -> Plompen Dirk | C88: =IFERROR(VALUE(MID($B88, SEARCH("[NS ", $B88)+4, 2)), "") | D88: =Putte!C12 -> 40 | E88: =Putte!O12 -> 40 | F88: =IF(Putte!AA12=0," ",SUM(H88:U88)) -> 31.5 | H88: =IF(Putte!D12="", "", ROUND(Putte!D12 / IF(AND(COUNT(Putte!$D12:D12) <= 3, ISNUMBER($C88)), $C88, $D88) * 10, 3)) -> 9 | I88: =IF(Putte!E12="", "", ROUND(Putte!E12 / IF(AND(COUNT(Putte!$D12:E12) <= 3, ISNUMBER($C88)), $C88, $D88) * 10, 3)) -> 14 | J88: =IF(Putte!F12="", "", ROUND(Putte!F12 / IF(AND(COUNT(Putte!$D12:F12) <= 3, ISNUMBER($C88)), $C88, $D88) * 10, 3)) | K88: =IF(Putte!G12="", "", ROUND(Putte!G12 / IF(AND(COUNT(Putte!$D12:G12) <= 3, ISNUMBER($C88)), $C88, $D88) * 10, 3)) -> 8.5 | L88: =IF(Putte!H12="", "", ROUND(Putte!H12 / IF(AND(COUNT(Putte!$D12:H12) <= 3, ISNUMBER($C88)), $C88, $D88) * 10, 3)) | M88: =IF(Putte!I12="", "", ROUND(Putte!I12 / IF(AND(COUNT(Putte!$D12:I12) <= 3, ISNUMBER($C88)), $C88, $D88) * 10, 3)) | N88: =IF(Putte!J12="", "", ROUND(Putte!J12 / IF(AND(COUNT(Putte!$D12:J12) <= 3, ISNUMBER($C88)), $C88, $D88) * 10, 3)) | O88: =IF(Putte!P12="", "", ROUND(Putte!P12 / IF(AND(COUNT(Putte!$D12:$J12,Putte!$P12:P12) <= 3, ISNUMBER($C88)), $C88, $E88) * 10, 3)) | P88: =IF(Putte!Q12="", "", ROUND(Putte!Q12 / IF(AND(COUNT(Putte!$D12:$J12,Putte!$P12:Q12) <= 3, ISNUMBER($C88)), $C88, $E88) * 10, 3)) | Q88: =IF(Putte!R12="", "", ROUND(Putte!R12 / IF(AND(COUNT(Putte!$D12:$J12,Putte!$P12:R12) <= 3, ISNUMBER($C88)), $C88, $E88) * 10, 3)) | R88: =IF(Putte!S12="", "", ROUND(Putte!S12 / IF(AND(COUNT(Putte!$D12:$J12,Putte!$P12:S12) <= 3, ISNUMBER($C88)), $C88, $E88) * 10, 3)) | S88: =IF(Putte!T12="", "", ROUND(Putte!T12 / IF(AND(COUNT(Putte!$D12:$J12,Putte!$P12:T12) <= 3, ISNUMBER($C88)), $C88, $E88) * 10, 3)) | T88: =IF(Putte!U12="", "", ROUND(Putte!U12 / IF(AND(COUNT(Putte!$D12:$J12,Putte!$P12:U12) <= 3, ISNUMBER($C88)), $C88, $E88) * 10, 3)) | U88: =IF(Putte!V12="", "", ROUND(Putte!V12 / IF(AND(COUNT(Putte!$D12:$J12,Putte!$P12:V12) <= 3, ISNUMBER($C88)), $C88, $E88) * 10, 3))
A89: =IF(Putte!AB13=0, "", Putte!AB13) -> 2 | B89: =Putte!B13 -> Van Riel Eddie | C89: =IFERROR(VALUE(MID($B89, SEARCH("[NS ", $B89)+4, 2)), "") | D89: =Putte!C13 -> 68 | E89: =Putte!O13 -> 68 | F89: =IF(Putte!AA13=0," ",SUM(H89:U89)) -> 20 | H89: =IF(Putte!D13="", "", ROUND(Putte!D13 / IF(AND(COUNT(Putte!$D13:D13) <= 3, ISNUMBER($C89)), $C89, $D89) * 10, 3)) -> 8.529 | I89: =IF(Putte!E13="", "", ROUND(Putte!E13 / IF(AND(COUNT(Putte!$D13:E13) <= 3, ISNUMBER($C89)), $C89, $D89) * 10, 3)) | J89: =IF(Putte!F13="", "", ROUND(Putte!F13 / IF(AND(COUNT(Putte!$D13:F13) <= 3, ISNUMBER($C89)), $C89, $D89) * 10, 3)) -> 11.471 | K89: =IF(Putte!G13="", "", ROUND(Putte!G13 / IF(AND(COUNT(Putte!$D13:G13) <= 3, ISNUMBER($C89)), $C89, $D89) * 10, 3)) | L89: =IF(Putte!H13="", "", ROUND(Putte!H13 / IF(AND(COUNT(Putte!$D13:H13) <= 3, ISNUMBER($C89)), $C89, $D89) * 10, 3)) | M89: =IF(Putte!I13="", "", ROUND(Putte!I13 / IF(AND(COUNT(Putte!$D13:I13) <= 3, ISNUMBER($C89)), $C89, $D89) * 10, 3)) | N89: =IF(Putte!J13="", "", ROUND(Putte!J13 / IF(AND(COUNT(Putte!$D13:J13) <= 3, ISNUMBER($C89)), $C89, $D89) * 10, 3)) | O89: =IF(Putte!P13="", "", ROUND(Putte!P13 / IF(AND(COUNT(Putte!$D13:$J13,Putte!$P13:P13) <= 3, ISNUMBER($C89)), $C89, $E89) * 10, 3)) | P89: =IF(Putte!Q13="", "", ROUND(Putte!Q13 / IF(AND(COUNT(Putte!$D13:$J13,Putte!$P13:Q13) <= 3, ISNUMBER($C89)), $C89, $E89) * 10, 3)) | Q89: =IF(Putte!R13="", "", ROUND(Putte!R13 / IF(AND(COUNT(Putte!$D13:$J13,Putte!$P13:R13) <= 3, ISNUMBER($C89)), $C89, $E89) * 10, 3)) | R89: =IF(Putte!S13="", "", ROUND(Putte!S13 / IF(AND(COUNT(Putte!$D13:$J13,Putte!$P13:S13) <= 3, ISNUMBER($C89)), $C89, $E89) * 10, 3)) | S89: =IF(Putte!T13="", "", ROUND(Putte!T13 / IF(AND(COUNT(Putte!$D13:$J13,Putte!$P13:T13) <= 3, ISNUMBER($C89)), $C89, $E89) * 10, 3)) | T89: =IF(Putte!U13="", "", ROUND(Putte!U13 / IF(AND(COUNT(Putte!$D13:$J13,Putte!$P13:U13) <= 3, ISNUMBER($C89)), $C89, $E89) * 10, 3)) | U89: =IF(Putte!V13="", "", ROUND(Putte!V13 / IF(AND(COUNT(Putte!$D13:$J13,Putte!$P13:V13) <= 3, ISNUMBER($C89)), $C89, $E89) * 10, 3))
A90: =IF(Putte!AB14=0, "", Putte!AB14) -> 1 | B90: =Putte!B14 -> Verelst Gilbert | C90: =IFERROR(VALUE(MID($B90, SEARCH("[NS ", $B90)+4, 2)), "") | D90: =Putte!C14 -> 26 | E90: =Putte!O14 -> 26 | F90: =IF(Putte!AA14=0," ",SUM(H90:U90)) -> 6.538 | H90: =IF(Putte!D14="", "", ROUND(Putte!D14 / IF(AND(COUNT(Putte!$D14:D14) <= 3, ISNUMBER($C90)), $C90, $D90) * 10, 3)) | I90: =IF(Putte!E14="", "", ROUND(Putte!E14 / IF(AND(COUNT(Putte!$D14:E14) <= 3, ISNUMBER($C90)), $C90, $D90) * 10, 3)) | J90: =IF(Putte!F14="", "", ROUND(Putte!F14 / IF(AND(COUNT(Putte!$D14:F14) <= 3, ISNUMBER($C90)), $C90, $D90) * 10, 3)) -> 6.538 | K90: =IF(Putte!G14="", "", ROUND(Putte!G14 / IF(AND(COUNT(Putte!$D14:G14) <= 3, ISNUMBER($C90)), $C90, $D90) * 10, 3)) | L90: =IF(Putte!H14="", "", ROUND(Putte!H14 / IF(AND(COUNT(Putte!$D14:H14) <= 3, ISNUMBER($C90)), $C90, $D90) * 10, 3)) | M90: =IF(Putte!I14="", "", ROUND(Putte!I14 / IF(AND(COUNT(Putte!$D14:I14) <= 3, ISNUMBER($C90)), $C90, $D90) * 10, 3)) | N90: =IF(Putte!J14="", "", ROUND(Putte!J14 / IF(AND(COUNT(Putte!$D14:J14) <= 3, ISNUMBER($C90)), $C90, $D90) * 10, 3)) | O90: =IF(Putte!P14="", "", ROUND(Putte!P14 / IF(AND(COUNT(Putte!$D14:$J14,Putte!$P14:P14) <= 3, ISNUMBER($C90)), $C90, $E90) * 10, 3)) | P90: =IF(Putte!Q14="", "", ROUND(Putte!Q14 / IF(AND(COUNT(Putte!$D14:$J14,Putte!$P14:Q14) <= 3, ISNUMBER($C90)), $C90, $E90) * 10, 3)) | Q90: =IF(Putte!R14="", "", ROUND(Putte!R14 / IF(AND(COUNT(Putte!$D14:$J14,Putte!$P14:R14) <= 3, ISNUMBER($C90)), $C90, $E90) * 10, 3)) | R90: =IF(Putte!S14="", "", ROUND(Putte!S14 / IF(AND(COUNT(Putte!$D14:$J14,Putte!$P14:S14) <= 3, ISNUMBER($C90)), $C90, $E90) * 10, 3)) | S90: =IF(Putte!T14="", "", ROUND(Putte!T14 / IF(AND(COUNT(Putte!$D14:$J14,Putte!$P14:T14) <= 3, ISNUMBER($C90)), $C90, $E90) * 10, 3)) | T90: =IF(Putte!U14="", "", ROUND(Putte!U14 / IF(AND(COUNT(Putte!$D14:$J14,Putte!$P14:U14) <= 3, ISNUMBER($C90)), $C90, $E90) * 10, 3)) | U90: =IF(Putte!V14="", "", ROUND(Putte!V14 / IF(AND(COUNT(Putte!$D14:$J14,Putte!$P14:V14) <= 3, ISNUMBER($C90)), $C90, $E90) * 10, 3))
A91: =IF(Putte!AB15=0, "", Putte!AB15) | B91: =Putte!B15 -> 0 | C91: =IFERROR(VALUE(MID($B91, SEARCH("[NS ", $B91)+4, 2)), "") | D91: =Putte!C15 -> 0 | E91: =Putte!O15 -> 0 | F91: =IF(Putte!AA15=0," ",SUM(H91:U91)) | H91: =IF(Putte!D15="", "", ROUND(Putte!D15 / IF(AND(COUNT(Putte!$D15:D15) <= 3, ISNUMBER($C91)), $C91, $D91) * 10, 3)) | I91: =IF(Putte!E15="", "", ROUND(Putte!E15 / IF(AND(COUNT(Putte!$D15:E15) <= 3, ISNUMBER($C91)), $C91, $D91) * 10, 3)) | J91: =IF(Putte!F15="", "", ROUND(Putte!F15 / IF(AND(COUNT(Putte!$D15:F15) <= 3, ISNUMBER($C91)), $C91, $D91) * 10, 3)) | K91: =IF(Putte!G15="", "", ROUND(Putte!G15 / IF(AND(COUNT(Putte!$D15:G15) <= 3, ISNUMBER($C91)), $C91, $D91) * 10, 3)) | L91: =IF(Putte!H15="", "", ROUND(Putte!H15 / IF(AND(COUNT(Putte!$D15:H15) <= 3, ISNUMBER($C91)), $C91, $D91) * 10, 3)) | M91: =IF(Putte!I15="", "", ROUND(Putte!I15 / IF(AND(COUNT(Putte!$D15:I15) <= 3, ISNUMBER($C91)), $C91, $D91) * 10, 3)) | N91: =IF(Putte!J15="", "", ROUND(Putte!J15 / IF(AND(COUNT(Putte!$D15:J15) <= 3, ISNUMBER($C91)), $C91, $D91) * 10, 3)) | O91: =IF(Putte!P15="", "", ROUND(Putte!P15 / IF(AND(COUNT(Putte!$D15:$J15,Putte!$P15:P15) <= 3, ISNUMBER($C91)), $C91, $E91) * 10, 3)) | P91: =IF(Putte!Q15="", "", ROUND(Putte!Q15 / IF(AND(COUNT(Putte!$D15:$J15,Putte!$P15:Q15) <= 3, ISNUMBER($C91)), $C91, $E91) * 10, 3)) | Q91: =IF(Putte!R15="", "", ROUND(Putte!R15 / IF(AND(COUNT(Putte!$D15:$J15,Putte!$P15:R15) <= 3, ISNUMBER($C91)), $C91, $E91) * 10, 3)) | R91: =IF(Putte!S15="", "", ROUND(Putte!S15 / IF(AND(COUNT(Putte!$D15:$J15,Putte!$P15:S15) <= 3, ISNUMBER($C91)), $C91, $E91) * 10, 3)) | S91: =IF(Putte!T15="", "", ROUND(Putte!T15 / IF(AND(COUNT(Putte!$D15:$J15,Putte!$P15:T15) <= 3, ISNUMBER($C91)), $C91, $E91) * 10, 3)) | T91: =IF(Putte!U15="", "", ROUND(Putte!U15 / IF(AND(COUNT(Putte!$D15:$J15,Putte!$P15:U15) <= 3, ISNUMBER($C91)), $C91, $E91) * 10, 3)) | U91: =IF(Putte!V15="", "", ROUND(Putte!V15 / IF(AND(COUNT(Putte!$D15:$J15,Putte!$P15:V15) <= 3, ISNUMBER($C91)), $C91, $E91) * 10, 3))
A92: =IF(Putte!AB16=0, "", Putte!AB16) | B92: =Putte!B16 -> 0 | C92: =IFERROR(VALUE(MID($B92, SEARCH("[NS ", $B92)+4, 2)), "") | D92: =Putte!C16 -> 0 | E92: =Putte!O16 -> 0 | F92: =IF(Putte!AA16=0," ",SUM(H92:U92)) | H92: =IF(Putte!D16="", "", ROUND(Putte!D16 / IF(AND(COUNT(Putte!$D16:D16) <= 3, ISNUMBER($C92)), $C92, $D92) * 10, 3)) | I92: =IF(Putte!E16="", "", ROUND(Putte!E16 / IF(AND(COUNT(Putte!$D16:E16) <= 3, ISNUMBER($C92)), $C92, $D92) * 10, 3)) | J92: =IF(Putte!F16="", "", ROUND(Putte!F16 / IF(AND(COUNT(Putte!$D16:F16) <= 3, ISNUMBER($C92)), $C92, $D92) * 10, 3)) | K92: =IF(Putte!G16="", "", ROUND(Putte!G16 / IF(AND(COUNT(Putte!$D16:G16) <= 3, ISNUMBER($C92)), $C92, $D92) * 10, 3)) | L92: =IF(Putte!H16="", "", ROUND(Putte!H16 / IF(AND(COUNT(Putte!$D16:H16) <= 3, ISNUMBER($C92)), $C92, $D92) * 10, 3)) | M92: =IF(Putte!I16="", "", ROUND(Putte!I16 / IF(AND(COUNT(Putte!$D16:I16) <= 3, ISNUMBER($C92)), $C92, $D92) * 10, 3)) | N92: =IF(Putte!J16="", "", ROUND(Putte!J16 / IF(AND(COUNT(Putte!$D16:J16) <= 3, ISNUMBER($C92)), $C92, $D92) * 10, 3)) | O92: =IF(Putte!P16="", "", ROUND(Putte!P16 / IF(AND(COUNT(Putte!$D16:$J16,Putte!$P16:P16) <= 3, ISNUMBER($C92)), $C92, $E92) * 10, 3)) | P92: =IF(Putte!Q16="", "", ROUND(Putte!Q16 / IF(AND(COUNT(Putte!$D16:$J16,Putte!$P16:Q16) <= 3, ISNUMBER($C92)), $C92, $E92) * 10, 3)) | Q92: =IF(Putte!R16="", "", ROUND(Putte!R16 / IF(AND(COUNT(Putte!$D16:$J16,Putte!$P16:R16) <= 3, ISNUMBER($C92)), $C92, $E92) * 10, 3)) | R92: =IF(Putte!S16="", "", ROUND(Putte!S16 / IF(AND(COUNT(Putte!$D16:$J16,Putte!$P16:S16) <= 3, ISNUMBER($C92)), $C92, $E92) * 10, 3)) | S92: =IF(Putte!T16="", "", ROUND(Putte!T16 / IF(AND(COUNT(Putte!$D16:$J16,Putte!$P16:T16) <= 3, ISNUMBER($C92)), $C92, $E92) * 10, 3)) | T92: =IF(Putte!U16="", "", ROUND(Putte!U16 / IF(AND(COUNT(Putte!$D16:$J16,Putte!$P16:U16) <= 3, ISNUMBER($C92)), $C92, $E92) * 10, 3)) | U92: =IF(Putte!V16="", "", ROUND(Putte!V16 / IF(AND(COUNT(Putte!$D16:$J16,Putte!$P16:V16) <= 3, ISNUMBER($C92)), $C92, $E92) * 10, 3))
... A95: =IF(Putte!AB19=0, "", Putte!AB19) | B95: =Putte!B19 -> 0 | C95: =IFERROR(VALUE(MID($B95, SEARCH("[NS ", $B95)+4, 2)), "") | D95: =Putte!C19 -> 0 | E95: =Putte!O19 -> 0 | F95: =IF(Putte!AA19=0," ",SUM(H95:U95)) | H95: =IF(Putte!D19="", "", ROUND(Putte!D19 / IF(AND(COUNT(Putte!$D19:D19) <= 3, ISNUMBER($C95)), $C95, $D95) * 10, 3)) | I95: =IF(Putte!E19="", "", ROUND(Putte!E19 / IF(AND(COUNT(Putte!$D19:E19) <= 3, ISNUMBER($C95)), $C95, $D95) * 10, 3)) | J95: =IF(Putte!F19="", "", ROUND(Putte!F19 / IF(AND(COUNT(Putte!$D19:F19) <= 3, ISNUMBER($C95)), $C95, $D95) * 10, 3)) | K95: =IF(Putte!G19="", "", ROUND(Putte!G19 / IF(AND(COUNT(Putte!$D19:G19) <= 3, ISNUMBER($C95)), $C95, $D95) * 10, 3)) | L95: =IF(Putte!H19="", "", ROUND(Putte!H19 / IF(AND(COUNT(Putte!$D19:H19) <= 3, ISNUMBER($C95)), $C95, $D95) * 10, 3)) | M95: =IF(Putte!I19="", "", ROUND(Putte!I19 / IF(AND(COUNT(Putte!$D19:I19) <= 3, ISNUMBER($C95)), $C95, $D95) * 10, 3)) | N95: =IF(Putte!J19="", "", ROUND(Putte!J19 / IF(AND(COUNT(Putte!$D19:J19) <= 3, ISNUMBER($C95)), $C95, $D95) * 10, 3)) | O95: =IF(Putte!P19="", "", ROUND(Putte!P19 / IF(AND(COUNT(Putte!$D19:$J19,Putte!$P19:P19) <= 3, ISNUMBER($C95)), $C95, $E95) * 10, 3)) | P95: =IF(Putte!Q19="", "", ROUND(Putte!Q19 / IF(AND(COUNT(Putte!$D19:$J19,Putte!$P19:Q19) <= 3, ISNUMBER($C95)), $C95, $E95) * 10, 3)) | Q95: =IF(Putte!R19="", "", ROUND(Putte!R19 / IF(AND(COUNT(Putte!$D19:$J19,Putte!$P19:R19) <= 3, ISNUMBER($C95)), $C95, $E95) * 10, 3)) | R95: =IF(Putte!S19="", "", ROUND(Putte!S19 / IF(AND(COUNT(Putte!$D19:$J19,Putte!$P19:S19) <= 3, ISNUMBER($C95)), $C95, $E95) * 10, 3)) | S95: =IF(Putte!T19="", "", ROUND(Putte!T19 / IF(AND(COUNT(Putte!$D19:$J19,Putte!$P19:T19) <= 3, ISNUMBER($C95)), $C95, $E95) * 10, 3)) | T95: =IF(Putte!U19="", "", ROUND(Putte!U19 / IF(AND(COUNT(Putte!$D19:$J19,Putte!$P19:U19) <= 3, ISNUMBER($C95)), $C95, $E95) * 10, 3)) | U95: =IF(Putte!V19="", "", ROUND(Putte!V19 / IF(AND(COUNT(Putte!$D19:$J19,Putte!$P19:V19) <= 3, ISNUMBER($C95)), $C95, $E95) * 10, 3))
F96: =B80 -> SEN. PUTTE | H96: =IF(SUM(H81:H95)=0, "", SUM(H81:H95)) -> 67.914 | I96: =IF(SUM(I81:I95)=0, "", SUM(I81:I95)) -> 61.386 | J96: =IF(SUM(J81:J95)=0, "", SUM(J81:J95)) -> 55.883 | K96: =IF(SUM(K81:K95)=0, "", SUM(K81:K95)) -> 61.984 | L96: =IF(SUM(L81:L95)=0, "", SUM(L81:L95)) | M96: =IF(SUM(M81:M95)=0, "", SUM(M81:M95)) | N96: =IF(SUM(N81:N95)=0, "", SUM(N81:N95)) | O96: =IF(SUM(O81:O95)=0, "", SUM(O81:O95)) | ... U96: =IF(SUM(U81:U95)=0, "", SUM(U81:U95))
B97: =ROWS(B81:B95) -> 15 | F97: =SUM(F81:F95) -> 247.167 | G97: =B80 -> SEN. PUTTE | H97: =IF(SUM(H81:H95)=0, "", SUM(H81:H95)) -> 67.914 | I97: =IF(I96="", "", ROUND(SUM($H96:I96), 3)) -> 129.3 | J97: =IF(J96="", "", ROUND(SUM($H96:J96), 3)) -> 185.183 | K97: =IF(K96="", "", ROUND(SUM($H96:K96), 3)) -> 247.167 | L97: =IF(L96="", "", ROUND(SUM($H96:L96), 3)) | M97: =IF(M96="", "", ROUND(SUM($H96:M96), 3)) | N97: =IF(N96="", "", ROUND(SUM($H96:N96), 3)) | O97: =IF(O96="", "", ROUND(SUM($H96:O96), 3)) | P97: =IF(P96="", "", ROUND(SUM($H96:P96), 3)) | ... U97: =IF(U96="", "", ROUND(SUM($H96:U96), 3))
B99: WILDERT 1 | H99: 1 | I99: 2 | J99: 3 | K99: 4 | L99: 5 | M99: 6 | N99: 7 | O99: 8 | P99: 9 | Q99: 10 | R99: 11 | S99: 12 | T99: 13 | U99: 14
A100: =IF(Wildert1!AB5=0, "", Wildert1!AB5) -> 1 | B100: =Wildert1!B5 -> Adriaansen Jan | C100: =IFERROR(VALUE(MID($B100, SEARCH("[NS ", $B100)+4, 2)), "") | D100: =Wildert1!C5 -> 17 | E100: =Wildert1!O5 -> 17 | F100: =IF(Wildert1!AA5=0," ",SUM(H100:U100)) -> 11.176 | H100: =IF(Wildert1!D5="", "", ROUND(Wildert1!D5 / IF(AND(COUNT(Wildert1!$D5:D5) <= 3, ISNUMBER($C100)), $C100, $D100) * 10, 3)) -> 11.176 | I100: =IF(Wildert1!E5="", "", ROUND(Wildert1!E5 / IF(AND(COUNT(Wildert1!$D5:E5) <= 3, ISNUMBER($C100)), $C100, $D100) * 10, 3)) | J100: =IF(Wildert1!F5="", "", ROUND(Wildert1!F5 / IF(AND(COUNT(Wildert1!$D5:F5) <= 3, ISNUMBER($C100)), $C100, $D100) * 10, 3)) | K100: =IF(Wildert1!G5="", "", ROUND(Wildert1!G5 / IF(AND(COUNT(Wildert1!$D5:G5) <= 3, ISNUMBER($C100)), $C100, $D100) * 10, 3)) | L100: =IF(Wildert1!H5="", "", ROUND(Wildert1!H5 / IF(AND(COUNT(Wildert1!$D5:H5) <= 3, ISNUMBER($C100)), $C100, $D100) * 10, 3)) | M100: =IF(Wildert1!I5="", "", ROUND(Wildert1!I5 / IF(AND(COUNT(Wildert1!$D5:I5) <= 3, ISNUMBER($C100)), $C100, $D100) * 10, 3)) | N100: =IF(Wildert1!J5="", "", ROUND(Wildert1!J5 / IF(AND(COUNT(Wildert1!$D5:J5) <= 3, ISNUMBER($C100)), $C100, $D100) * 10, 3)) | O100: =IF(Wildert1!P5="", "", ROUND(Wildert1!P5 / IF(AND(COUNT(Wildert1!$D5:$J5,Wildert1!$P5:P5) <= 3, ISNUMBER($C100)), $C100, $E100) * 10, 3)) | P100: =IF(Wildert1!Q5="", "", ROUND(Wildert1!Q5 / IF(AND(COUNT(Wildert1!$D5:$J5,Wildert1!$P5:Q5) <= 3, ISNUMBER($C100)), $C100, $E100) * 10, 3)) | Q100: =IF(Wildert1!R5="", "", ROUND(Wildert1!R5 / IF(AND(COUNT(Wildert1!$D5:$J5,Wildert1!$P5:R5) <= 3, ISNUMBER($C100)), $C100, $E100) * 10, 3)) | R100: =IF(Wildert1!S5="", "", ROUND(Wildert1!S5 / IF(AND(COUNT(Wildert1!$D5:$J5,Wildert1!$P5:S5) <= 3, ISNUMBER($C100)), $C100, $E100) * 10, 3)) | S100: =IF(Wildert1!T5="", "", ROUND(Wildert1!T5 / IF(AND(COUNT(Wildert1!$D5:$J5,Wildert1!$P5:T5) <= 3, ISNUMBER($C100)), $C100, $E100) * 10, 3)) | T100: =IF(Wildert1!U5="", "", ROUND(Wildert1!U5 / IF(AND(COUNT(Wildert1!$D5:$J5,Wildert1!$P5:U5) <= 3, ISNUMBER($C100)), $C100, $E100) * 10, 3)) | U100: =IF(Wildert1!V5="", "", ROUND(Wildert1!V5 / IF(AND(COUNT(Wildert1!$D5:$J5,Wildert1!$P5:V5) <= 3, ISNUMBER($C100)), $C100, $E100) * 10, 3))
A101: =IF(Wildert1!AB6=0, "", Wildert1!AB6) -> 3 | B101: =Wildert1!B6 -> Brouwers Adri | C101: =IFERROR(VALUE(MID($B101, SEARCH("[NS ", $B101)+4, 2)), "") | D101: =Wildert1!C6 -> 35 | E101: =Wildert1!O6 -> 35 | F101: =IF(Wildert1!AA6=0," ",SUM(H101:U101)) -> 35.714 | H101: =IF(Wildert1!D6="", "", ROUND(Wildert1!D6 / IF(AND(COUNT(Wildert1!$D6:D6) <= 3, ISNUMBER($C101)), $C101, $D101) * 10, 3)) -> 10.286 | I101: =IF(Wildert1!E6="", "", ROUND(Wildert1!E6 / IF(AND(COUNT(Wildert1!$D6:E6) <= 3, ISNUMBER($C101)), $C101, $D101) * 10, 3)) | J101: =IF(Wildert1!F6="", "", ROUND(Wildert1!F6 / IF(AND(COUNT(Wildert1!$D6:F6) <= 3, ISNUMBER($C101)), $C101, $D101) * 10, 3)) -> 14.571 | K101: =IF(Wildert1!G6="", "", ROUND(Wildert1!G6 / IF(AND(COUNT(Wildert1!$D6:G6) <= 3, ISNUMBER($C101)), $C101, $D101) * 10, 3)) -> 10.857 | L101: =IF(Wildert1!H6="", "", ROUND(Wildert1!H6 / IF(AND(COUNT(Wildert1!$D6:H6) <= 3, ISNUMBER($C101)), $C101, $D101) * 10, 3)) | M101: =IF(Wildert1!I6="", "", ROUND(Wildert1!I6 / IF(AND(COUNT(Wildert1!$D6:I6) <= 3, ISNUMBER($C101)), $C101, $D101) * 10, 3)) | N101: =IF(Wildert1!J6="", "", ROUND(Wildert1!J6 / IF(AND(COUNT(Wildert1!$D6:J6) <= 3, ISNUMBER($C101)), $C101, $D101) * 10, 3)) | O101: =IF(Wildert1!P6="", "", ROUND(Wildert1!P6 / IF(AND(COUNT(Wildert1!$D6:$J6,Wildert1!$P6:P6) <= 3, ISNUMBER($C101)), $C101, $E101) * 10, 3)) | P101: =IF(Wildert1!Q6="", "", ROUND(Wildert1!Q6 / IF(AND(COUNT(Wildert1!$D6:$J6,Wildert1!$P6:Q6) <= 3, ISNUMBER($C101)), $C101, $E101) * 10, 3)) | Q101: =IF(Wildert1!R6="", "", ROUND(Wildert1!R6 / IF(AND(COUNT(Wildert1!$D6:$J6,Wildert1!$P6:R6) <= 3, ISNUMBER($C101)), $C101, $E101) * 10, 3)) | R101: =IF(Wildert1!S6="", "", ROUND(Wildert1!S6 / IF(AND(COUNT(Wildert1!$D6:$J6,Wildert1!$P6:S6) <= 3, ISNUMBER($C101)), $C101, $E101) * 10, 3)) | S101: =IF(Wildert1!T6="", "", ROUND(Wildert1!T6 / IF(AND(COUNT(Wildert1!$D6:$J6,Wildert1!$P6:T6) <= 3, ISNUMBER($C101)), $C101, $E101) * 10, 3)) | T101: =IF(Wildert1!U6="", "", ROUND(Wildert1!U6 / IF(AND(COUNT(Wildert1!$D6:$J6,Wildert1!$P6:U6) <= 3, ISNUMBER($C101)), $C101, $E101) * 10, 3)) | U101: =IF(Wildert1!V6="", "", ROUND(Wildert1!V6 / IF(AND(COUNT(Wildert1!$D6:$J6,Wildert1!$P6:V6) <= 3, ISNUMBER($C101)), $C101, $E101) * 10, 3))
A102: =IF(Wildert1!AB7=0, "", Wildert1!AB7) -> 2 | B102: =Wildert1!B7 -> Buijk Jan | C102: =IFERROR(VALUE(MID($B102, SEARCH("[NS ", $B102)+4, 2)), "") | D102: =Wildert1!C7 -> 56 | E102: =Wildert1!O7 -> 56 | F102: =IF(Wildert1!AA7=0," ",SUM(H102:U102)) -> 25.893 | H102: =IF(Wildert1!D7="", "", ROUND(Wildert1!D7 / IF(AND(COUNT(Wildert1!$D7:D7) <= 3, ISNUMBER($C102)), $C102, $D102) * 10, 3)) | I102: =IF(Wildert1!E7="", "", ROUND(Wildert1!E7 / IF(AND(COUNT(Wildert1!$D7:E7) <= 3, ISNUMBER($C102)), $C102, $D102) * 10, 3)) -> 12.679 | J102: =IF(Wildert1!F7="", "", ROUND(Wildert1!F7 / IF(AND(COUNT(Wildert1!$D7:F7) <= 3, ISNUMBER($C102)), $C102, $D102) * 10, 3)) | K102: =IF(Wildert1!G7="", "", ROUND(Wildert1!G7 / IF(AND(COUNT(Wildert1!$D7:G7) <= 3, ISNUMBER($C102)), $C102, $D102) * 10, 3)) -> 13.214 | L102: =IF(Wildert1!H7="", "", ROUND(Wildert1!H7 / IF(AND(COUNT(Wildert1!$D7:H7) <= 3, ISNUMBER($C102)), $C102, $D102) * 10, 3)) | M102: =IF(Wildert1!I7="", "", ROUND(Wildert1!I7 / IF(AND(COUNT(Wildert1!$D7:I7) <= 3, ISNUMBER($C102)), $C102, $D102) * 10, 3)) | N102: =IF(Wildert1!J7="", "", ROUND(Wildert1!J7 / IF(AND(COUNT(Wildert1!$D7:J7) <= 3, ISNUMBER($C102)), $C102, $D102) * 10, 3)) | O102: =IF(Wildert1!P7="", "", ROUND(Wildert1!P7 / IF(AND(COUNT(Wildert1!$D7:$J7,Wildert1!$P7:P7) <= 3, ISNUMBER($C102)), $C102, $E102) * 10, 3)) | P102: =IF(Wildert1!Q7="", "", ROUND(Wildert1!Q7 / IF(AND(COUNT(Wildert1!$D7:$J7,Wildert1!$P7:Q7) <= 3, ISNUMBER($C102)), $C102, $E102) * 10, 3)) | Q102: =IF(Wildert1!R7="", "", ROUND(Wildert1!R7 / IF(AND(COUNT(Wildert1!$D7:$J7,Wildert1!$P7:R7) <= 3, ISNUMBER($C102)), $C102, $E102) * 10, 3)) | R102: =IF(Wildert1!S7="", "", ROUND(Wildert1!S7 / IF(AND(COUNT(Wildert1!$D7:$J7,Wildert1!$P7:S7) <= 3, ISNUMBER($C102)), $C102, $E102) * 10, 3)) | S102: =IF(Wildert1!T7="", "", ROUND(Wildert1!T7 / IF(AND(COUNT(Wildert1!$D7:$J7,Wildert1!$P7:T7) <= 3, ISNUMBER($C102)), $C102, $E102) * 10, 3)) | T102: =IF(Wildert1!U7="", "", ROUND(Wildert1!U7 / IF(AND(COUNT(Wildert1!$D7:$J7,Wildert1!$P7:U7) <= 3, ISNUMBER($C102)), $C102, $E102) * 10, 3)) | U102: =IF(Wildert1!V7="", "", ROUND(Wildert1!V7 / IF(AND(COUNT(Wildert1!$D7:$J7,Wildert1!$P7:V7) <= 3, ISNUMBER($C102)), $C102, $E102) * 10, 3))
A103: =IF(Wildert1!AB8=0, "", Wildert1!AB8) | B103: =Wildert1!B8 -> Denissens Frans | C103: =IFERROR(VALUE(MID($B103, SEARCH("[NS ", $B103)+4, 2)), "") | D103: =Wildert1!C8 -> 16 | E103: =Wildert1!O8 -> 16 | F103: =IF(Wildert1!AA8=0," ",SUM(H103:U103)) | H103: =IF(Wildert1!D8="", "", ROUND(Wildert1!D8 / IF(AND(COUNT(Wildert1!$D8:D8) <= 3, ISNUMBER($C103)), $C103, $D103) * 10, 3)) | I103: =IF(Wildert1!E8="", "", ROUND(Wildert1!E8 / IF(AND(COUNT(Wildert1!$D8:E8) <= 3, ISNUMBER($C103)), $C103, $D103) * 10, 3)) | J103: =IF(Wildert1!F8="", "", ROUND(Wildert1!F8 / IF(AND(COUNT(Wildert1!$D8:F8) <= 3, ISNUMBER($C103)), $C103, $D103) * 10, 3)) | K103: =IF(Wildert1!G8="", "", ROUND(Wildert1!G8 / IF(AND(COUNT(Wildert1!$D8:G8) <= 3, ISNUMBER($C103)), $C103, $D103) * 10, 3)) | L103: =IF(Wildert1!H8="", "", ROUND(Wildert1!H8 / IF(AND(COUNT(Wildert1!$D8:H8) <= 3, ISNUMBER($C103)), $C103, $D103) * 10, 3)) | M103: =IF(Wildert1!I8="", "", ROUND(Wildert1!I8 / IF(AND(COUNT(Wildert1!$D8:I8) <= 3, ISNUMBER($C103)), $C103, $D103) * 10, 3)) | N103: =IF(Wildert1!J8="", "", ROUND(Wildert1!J8 / IF(AND(COUNT(Wildert1!$D8:J8) <= 3, ISNUMBER($C103)), $C103, $D103) * 10, 3)) | O103: =IF(Wildert1!P8="", "", ROUND(Wildert1!P8 / IF(AND(COUNT(Wildert1!$D8:$J8,Wildert1!$P8:P8) <= 3, ISNUMBER($C103)), $C103, $E103) * 10, 3)) | P103: =IF(Wildert1!Q8="", "", ROUND(Wildert1!Q8 / IF(AND(COUNT(Wildert1!$D8:$J8,Wildert1!$P8:Q8) <= 3, ISNUMBER($C103)), $C103, $E103) * 10, 3)) | Q103: =IF(Wildert1!R8="", "", ROUND(Wildert1!R8 / IF(AND(COUNT(Wildert1!$D8:$J8,Wildert1!$P8:R8) <= 3, ISNUMBER($C103)), $C103, $E103) * 10, 3)) | R103: =IF(Wildert1!S8="", "", ROUND(Wildert1!S8 / IF(AND(COUNT(Wildert1!$D8:$J8,Wildert1!$P8:S8) <= 3, ISNUMBER($C103)), $C103, $E103) * 10, 3)) | S103: =IF(Wildert1!T8="", "", ROUND(Wildert1!T8 / IF(AND(COUNT(Wildert1!$D8:$J8,Wildert1!$P8:T8) <= 3, ISNUMBER($C103)), $C103, $E103) * 10, 3)) | T103: =IF(Wildert1!U8="", "", ROUND(Wildert1!U8 / IF(AND(COUNT(Wildert1!$D8:$J8,Wildert1!$P8:U8) <= 3, ISNUMBER($C103)), $C103, $E103) * 10, 3)) | U103: =IF(Wildert1!V8="", "", ROUND(Wildert1!V8 / IF(AND(COUNT(Wildert1!$D8:$J8,Wildert1!$P8:V8) <= 3, ISNUMBER($C103)), $C103, $E103) * 10, 3))
A104: =IF(Wildert1!AB9=0, "", Wildert1!AB9) -> 3 | B104: =Wildert1!B9 -> Dries Louis | C104: =IFERROR(VALUE(MID($B104, SEARCH("[NS ", $B104)+4, 2)), "") | D104: =Wildert1!C9 -> 30 | E104: =Wildert1!O9 -> 30 | F104: =IF(Wildert1!AA9=0," ",SUM(H104:U104)) -> 35.333 | H104: =IF(Wildert1!D9="", "", ROUND(Wildert1!D9 / IF(AND(COUNT(Wildert1!$D9:D9) <= 3, ISNUMBER($C104)), $C104, $D104) * 10, 3)) | I104: =IF(Wildert1!E9="", "", ROUND(Wildert1!E9 / IF(AND(COUNT(Wildert1!$D9:E9) <= 3, ISNUMBER($C104)), $C104, $D104) * 10, 3)) -> 13.667 | J104: =IF(Wildert1!F9="", "", ROUND(Wildert1!F9 / IF(AND(COUNT(Wildert1!$D9:F9) <= 3, ISNUMBER($C104)), $C104, $D104) * 10, 3)) -> 9.333 | K104: =IF(Wildert1!G9="", "", ROUND(Wildert1!G9 / IF(AND(COUNT(Wildert1!$D9:G9) <= 3, ISNUMBER($C104)), $C104, $D104) * 10, 3)) -> 12.333 | L104: =IF(Wildert1!H9="", "", ROUND(Wildert1!H9 / IF(AND(COUNT(Wildert1!$D9:H9) <= 3, ISNUMBER($C104)), $C104, $D104) * 10, 3)) | M104: =IF(Wildert1!I9="", "", ROUND(Wildert1!I9 / IF(AND(COUNT(Wildert1!$D9:I9) <= 3, ISNUMBER($C104)), $C104, $D104) * 10, 3)) | N104: =IF(Wildert1!J9="", "", ROUND(Wildert1!J9 / IF(AND(COUNT(Wildert1!$D9:J9) <= 3, ISNUMBER($C104)), $C104, $D104) * 10, 3)) | O104: =IF(Wildert1!P9="", "", ROUND(Wildert1!P9 / IF(AND(COUNT(Wildert1!$D9:$J9,Wildert1!$P9:P9) <= 3, ISNUMBER($C104)), $C104, $E104) * 10, 3)) | P104: =IF(Wildert1!Q9="", "", ROUND(Wildert1!Q9 / IF(AND(COUNT(Wildert1!$D9:$J9,Wildert1!$P9:Q9) <= 3, ISNUMBER($C104)), $C104, $E104) * 10, 3)) | Q104: =IF(Wildert1!R9="", "", ROUND(Wildert1!R9 / IF(AND(COUNT(Wildert1!$D9:$J9,Wildert1!$P9:R9) <= 3, ISNUMBER($C104)), $C104, $E104) * 10, 3)) | R104: =IF(Wildert1!S9="", "", ROUND(Wildert1!S9 / IF(AND(COUNT(Wildert1!$D9:$J9,Wildert1!$P9:S9) <= 3, ISNUMBER($C104)), $C104, $E104) * 10, 3)) | S104: =IF(Wildert1!T9="", "", ROUND(Wildert1!T9 / IF(AND(COUNT(Wildert1!$D9:$J9,Wildert1!$P9:T9) <= 3, ISNUMBER($C104)), $C104, $E104) * 10, 3)) | T104: =IF(Wildert1!U9="", "", ROUND(Wildert1!U9 / IF(AND(COUNT(Wildert1!$D9:$J9,Wildert1!$P9:U9) <= 3, ISNUMBER($C104)), $C104, $E104) * 10, 3)) | U104: =IF(Wildert1!V9="", "", ROUND(Wildert1!V9 / IF(AND(COUNT(Wildert1!$D9:$J9,Wildert1!$P9:V9) <= 3, ISNUMBER($C104)), $C104, $E104) * 10, 3))
A105: =IF(Wildert1!AB10=0, "", Wildert1!AB10) -> 1 | B105: =Wildert1!B10 -> Kerstens Ronald | C105: =IFERROR(VALUE(MID($B105, SEARCH("[NS ", $B105)+4, 2)), "") | D105: =Wildert1!C10 -> 24 | E105: =Wildert1!O10 -> 24 | F105: =IF(Wildert1!AA10=0," ",SUM(H105:U105)) -> 8.75 | H105: =IF(Wildert1!D10="", "", ROUND(Wildert1!D10 / IF(AND(COUNT(Wildert1!$D10:D10) <= 3, ISNUMBER($C105)), $C105, $D105) * 10, 3)) -> 8.75 | I105: =IF(Wildert1!E10="", "", ROUND(Wildert1!E10 / IF(AND(COUNT(Wildert1!$D10:E10) <= 3, ISNUMBER($C105)), $C105, $D105) * 10, 3)) | J105: =IF(Wildert1!F10="", "", ROUND(Wildert1!F10 / IF(AND(COUNT(Wildert1!$D10:F10) <= 3, ISNUMBER($C105)), $C105, $D105) * 10, 3)) | K105: =IF(Wildert1!G10="", "", ROUND(Wildert1!G10 / IF(AND(COUNT(Wildert1!$D10:G10) <= 3, ISNUMBER($C105)), $C105, $D105) * 10, 3)) | L105: =IF(Wildert1!H10="", "", ROUND(Wildert1!H10 / IF(AND(COUNT(Wildert1!$D10:H10) <= 3, ISNUMBER($C105)), $C105, $D105) * 10, 3)) | M105: =IF(Wildert1!I10="", "", ROUND(Wildert1!I10 / IF(AND(COUNT(Wildert1!$D10:I10) <= 3, ISNUMBER($C105)), $C105, $D105) * 10, 3)) | N105: =IF(Wildert1!J10="", "", ROUND(Wildert1!J10 / IF(AND(COUNT(Wildert1!$D10:J10) <= 3, ISNUMBER($C105)), $C105, $D105) * 10, 3)) | O105: =IF(Wildert1!P10="", "", ROUND(Wildert1!P10 / IF(AND(COUNT(Wildert1!$D10:$J10,Wildert1!$P10:P10) <= 3, ISNUMBER($C105)), $C105, $E105) * 10, 3)) | P105: =IF(Wildert1!Q10="", "", ROUND(Wildert1!Q10 / IF(AND(COUNT(Wildert1!$D10:$J10,Wildert1!$P10:Q10) <= 3, ISNUMBER($C105)), $C105, $E105) * 10, 3)) | Q105: =IF(Wildert1!R10="", "", ROUND(Wildert1!R10 / IF(AND(COUNT(Wildert1!$D10:$J10,Wildert1!$P10:R10) <= 3, ISNUMBER($C105)), $C105, $E105) * 10, 3)) | R105: =IF(Wildert1!S10="", "", ROUND(Wildert1!S10 / IF(AND(COUNT(Wildert1!$D10:$J10,Wildert1!$P10:S10) <= 3, ISNUMBER($C105)), $C105, $E105) * 10, 3)) | S105: =IF(Wildert1!T10="", "", ROUND(Wildert1!T10 / IF(AND(COUNT(Wildert1!$D10:$J10,Wildert1!$P10:T10) <= 3, ISNUMBER($C105)), $C105, $E105) * 10, 3)) | T105: =IF(Wildert1!U10="", "", ROUND(Wildert1!U10 / IF(AND(COUNT(Wildert1!$D10:$J10,Wildert1!$P10:U10) <= 3, ISNUMBER($C105)), $C105, $E105) * 10, 3)) | U105: =IF(Wildert1!V10="", "", ROUND(Wildert1!V10 / IF(AND(COUNT(Wildert1!$D10:$J10,Wildert1!$P10:V10) <= 3, ISNUMBER($C105)), $C105, $E105) * 10, 3))
A106: =IF(Wildert1!AB11=0, "", Wildert1!AB11) -> 2 | B106: =Wildert1!B11 -> Konings Guido | C106: =IFERROR(VALUE(MID($B106, SEARCH("[NS ", $B106)+4, 2)), "") | D106: =Wildert1!C11 -> 33 | E106: =Wildert1!O11 -> 33 | F106: =IF(Wildert1!AA11=0," ",SUM(H106:U106)) -> 13.334 | H106: =IF(Wildert1!D11="", "", ROUND(Wildert1!D11 / IF(AND(COUNT(Wildert1!$D11:D11) <= 3, ISNUMBER($C106)), $C106, $D106) * 10, 3)) | I106: =IF(Wildert1!E11="", "", ROUND(Wildert1!E11 / IF(AND(COUNT(Wildert1!$D11:E11) <= 3, ISNUMBER($C106)), $C106, $D106) * 10, 3)) -> 5.758 | J106: =IF(Wildert1!F11="", "", ROUND(Wildert1!F11 / IF(AND(COUNT(Wildert1!$D11:F11) <= 3, ISNUMBER($C106)), $C106, $D106) * 10, 3)) -> 7.576 | K106: =IF(Wildert1!G11="", "", ROUND(Wildert1!G11 / IF(AND(COUNT(Wildert1!$D11:G11) <= 3, ISNUMBER($C106)), $C106, $D106) * 10, 3)) | L106: =IF(Wildert1!H11="", "", ROUND(Wildert1!H11 / IF(AND(COUNT(Wildert1!$D11:H11) <= 3, ISNUMBER($C106)), $C106, $D106) * 10, 3)) | M106: =IF(Wildert1!I11="", "", ROUND(Wildert1!I11 / IF(AND(COUNT(Wildert1!$D11:I11) <= 3, ISNUMBER($C106)), $C106, $D106) * 10, 3)) | N106: =IF(Wildert1!J11="", "", ROUND(Wildert1!J11 / IF(AND(COUNT(Wildert1!$D11:J11) <= 3, ISNUMBER($C106)), $C106, $D106) * 10, 3)) | O106: =IF(Wildert1!P11="", "", ROUND(Wildert1!P11 / IF(AND(COUNT(Wildert1!$D11:$J11,Wildert1!$P11:P11) <= 3, ISNUMBER($C106)), $C106, $E106) * 10, 3)) | P106: =IF(Wildert1!Q11="", "", ROUND(Wildert1!Q11 / IF(AND(COUNT(Wildert1!$D11:$J11,Wildert1!$P11:Q11) <= 3, ISNUMBER($C106)), $C106, $E106) * 10, 3)) | Q106: =IF(Wildert1!R11="", "", ROUND(Wildert1!R11 / IF(AND(COUNT(Wildert1!$D11:$J11,Wildert1!$P11:R11) <= 3, ISNUMBER($C106)), $C106, $E106) * 10, 3)) | R106: =IF(Wildert1!S11="", "", ROUND(Wildert1!S11 / IF(AND(COUNT(Wildert1!$D11:$J11,Wildert1!$P11:S11) <= 3, ISNUMBER($C106)), $C106, $E106) * 10, 3)) | S106: =IF(Wildert1!T11="", "", ROUND(Wildert1!T11 / IF(AND(COUNT(Wildert1!$D11:$J11,Wildert1!$P11:T11) <= 3, ISNUMBER($C106)), $C106, $E106) * 10, 3)) | T106: =IF(Wildert1!U11="", "", ROUND(Wildert1!U11 / IF(AND(COUNT(Wildert1!$D11:$J11,Wildert1!$P11:U11) <= 3, ISNUMBER($C106)), $C106, $E106) * 10, 3)) | U106: =IF(Wildert1!V11="", "", ROUND(Wildert1!V11 / IF(AND(COUNT(Wildert1!$D11:$J11,Wildert1!$P11:V11) <= 3, ISNUMBER($C106)), $C106, $E106) * 10, 3))
A107: =IF(Wildert1!AB12=0, "", Wildert1!AB12) -> 3 | B107: =Wildert1!B12 -> Kustermans Ronny [NS 25] | C107: =IFERROR(VALUE(MID($B107, SEARCH("[NS ", $B107)+4, 2)), "") -> 25 | D107: =Wildert1!C12 -> 26 | E107: =Wildert1!O12 -> 25 | F107: =IF(Wildert1!AA12=0," ",SUM(H107:U107)) -> 31.2 | H107: =IF(Wildert1!D12="", "", ROUND(Wildert1!D12 / IF(AND(COUNT(Wildert1!$D12:D12) <= 3, ISNUMBER($C107)), $C107, $D107) * 10, 3)) -> 7.2 | I107: =IF(Wildert1!E12="", "", ROUND(Wildert1!E12 / IF(AND(COUNT(Wildert1!$D12:E12) <= 3, ISNUMBER($C107)), $C107, $D107) * 10, 3)) -> 8.8 | J107: =IF(Wildert1!F12="", "", ROUND(Wildert1!F12 / IF(AND(COUNT(Wildert1!$D12:F12) <= 3, ISNUMBER($C107)), $C107, $D107) * 10, 3)) | K107: =IF(Wildert1!G12="", "", ROUND(Wildert1!G12 / IF(AND(COUNT(Wildert1!$D12:G12) <= 3, ISNUMBER($C107)), $C107, $D107) * 10, 3)) -> 15.2 | L107: =IF(Wildert1!H12="", "", ROUND(Wildert1!H12 / IF(AND(COUNT(Wildert1!$D12:H12) <= 3, ISNUMBER($C107)), $C107, $D107) * 10, 3)) | M107: =IF(Wildert1!I12="", "", ROUND(Wildert1!I12 / IF(AND(COUNT(Wildert1!$D12:I12) <= 3, ISNUMBER($C107)), $C107, $D107) * 10, 3)) | N107: =IF(Wildert1!J12="", "", ROUND(Wildert1!J12 / IF(AND(COUNT(Wildert1!$D12:J12) <= 3, ISNUMBER($C107)), $C107, $D107) * 10, 3)) | O107: =IF(Wildert1!P12="", "", ROUND(Wildert1!P12 / IF(AND(COUNT(Wildert1!$D12:$J12,Wildert1!$P12:P12) <= 3, ISNUMBER($C107)), $C107, $E107) * 10, 3)) | P107: =IF(Wildert1!Q12="", "", ROUND(Wildert1!Q12 / IF(AND(COUNT(Wildert1!$D12:$J12,Wildert1!$P12:Q12) <= 3, ISNUMBER($C107)), $C107, $E107) * 10, 3)) | Q107: =IF(Wildert1!R12="", "", ROUND(Wildert1!R12 / IF(AND(COUNT(Wildert1!$D12:$J12,Wildert1!$P12:R12) <= 3, ISNUMBER($C107)), $C107, $E107) * 10, 3)) | R107: =IF(Wildert1!S12="", "", ROUND(Wildert1!S12 / IF(AND(COUNT(Wildert1!$D12:$J12,Wildert1!$P12:S12) <= 3, ISNUMBER($C107)), $C107, $E107) * 10, 3)) | S107: =IF(Wildert1!T12="", "", ROUND(Wildert1!T12 / IF(AND(COUNT(Wildert1!$D12:$J12,Wildert1!$P12:T12) <= 3, ISNUMBER($C107)), $C107, $E107) * 10, 3)) | T107: =IF(Wildert1!U12="", "", ROUND(Wildert1!U12 / IF(AND(COUNT(Wildert1!$D12:$J12,Wildert1!$P12:U12) <= 3, ISNUMBER($C107)), $C107, $E107) * 10, 3)) | U107: =IF(Wildert1!V12="", "", ROUND(Wildert1!V12 / IF(AND(COUNT(Wildert1!$D12:$J12,Wildert1!$P12:V12) <= 3, ISNUMBER($C107)), $C107, $E107) * 10, 3))
A108: =IF(Wildert1!AB13=0, "", Wildert1!AB13) -> 2 | B108: =Wildert1!B13 -> Kustermans Toon | C108: =IFERROR(VALUE(MID($B108, SEARCH("[NS ", $B108)+4, 2)), "") | D108: =Wildert1!C13 -> 45 | E108: =Wildert1!O13 -> 45 | F108: =IF(Wildert1!AA13=0," ",SUM(H108:U108)) -> 12.666 | H108: =IF(Wildert1!D13="", "", ROUND(Wildert1!D13 / IF(AND(COUNT(Wildert1!$D13:D13) <= 3, ISNUMBER($C108)), $C108, $D108) * 10, 3)) | I108: =IF(Wildert1!E13="", "", ROUND(Wildert1!E13 / IF(AND(COUNT(Wildert1!$D13:E13) <= 3, ISNUMBER($C108)), $C108, $D108) * 10, 3)) | J108: =IF(Wildert1!F13="", "", ROUND(Wildert1!F13 / IF(AND(COUNT(Wildert1!$D13:F13) <= 3, ISNUMBER($C108)), $C108, $D108) * 10, 3)) -> 5.333 | K108: =IF(Wildert1!G13="", "", ROUND(Wildert1!G13 / IF(AND(COUNT(Wildert1!$D13:G13) <= 3, ISNUMBER($C108)), $C108, $D108) * 10, 3)) -> 7.333 | L108: =IF(Wildert1!H13="", "", ROUND(Wildert1!H13 / IF(AND(COUNT(Wildert1!$D13:H13) <= 3, ISNUMBER($C108)), $C108, $D108) * 10, 3)) | M108: =IF(Wildert1!I13="", "", ROUND(Wildert1!I13 / IF(AND(COUNT(Wildert1!$D13:I13) <= 3, ISNUMBER($C108)), $C108, $D108) * 10, 3)) | N108: =IF(Wildert1!J13="", "", ROUND(Wildert1!J13 / IF(AND(COUNT(Wildert1!$D13:J13) <= 3, ISNUMBER($C108)), $C108, $D108) * 10, 3)) | O108: =IF(Wildert1!P13="", "", ROUND(Wildert1!P13 / IF(AND(COUNT(Wildert1!$D13:$J13,Wildert1!$P13:P13) <= 3, ISNUMBER($C108)), $C108, $E108) * 10, 3)) | P108: =IF(Wildert1!Q13="", "", ROUND(Wildert1!Q13 / IF(AND(COUNT(Wildert1!$D13:$J13,Wildert1!$P13:Q13) <= 3, ISNUMBER($C108)), $C108, $E108) * 10, 3)) | Q108: =IF(Wildert1!R13="", "", ROUND(Wildert1!R13 / IF(AND(COUNT(Wildert1!$D13:$J13,Wildert1!$P13:R13) <= 3, ISNUMBER($C108)), $C108, $E108) * 10, 3)) | R108: =IF(Wildert1!S13="", "", ROUND(Wildert1!S13 / IF(AND(COUNT(Wildert1!$D13:$J13,Wildert1!$P13:S13) <= 3, ISNUMBER($C108)), $C108, $E108) * 10, 3)) | S108: =IF(Wildert1!T13="", "", ROUND(Wildert1!T13 / IF(AND(COUNT(Wildert1!$D13:$J13,Wildert1!$P13:T13) <= 3, ISNUMBER($C108)), $C108, $E108) * 10, 3)) | T108: =IF(Wildert1!U13="", "", ROUND(Wildert1!U13 / IF(AND(COUNT(Wildert1!$D13:$J13,Wildert1!$P13:U13) <= 3, ISNUMBER($C108)), $C108, $E108) * 10, 3)) | U108: =IF(Wildert1!V13="", "", ROUND(Wildert1!V13 / IF(AND(COUNT(Wildert1!$D13:$J13,Wildert1!$P13:V13) <= 3, ISNUMBER($C108)), $C108, $E108) * 10, 3))
A109: =IF(Wildert1!AB14=0, "", Wildert1!AB14) -> 2 | B109: =Wildert1!B14 -> Sarra-Ribo Jef | C109: =IFERROR(VALUE(MID($B109, SEARCH("[NS ", $B109)+4, 2)), "") | D109: =Wildert1!C14 -> 78 | E109: =Wildert1!O14 -> 78 | F109: =IF(Wildert1!AA14=0," ",SUM(H109:U109)) -> 18.077 | H109: =IF(Wildert1!D14="", "", ROUND(Wildert1!D14 / IF(AND(COUNT(Wildert1!$D14:D14) <= 3, ISNUMBER($C109)), $C109, $D109) * 10, 3)) -> 10.513 | I109: =IF(Wildert1!E14="", "", ROUND(Wildert1!E14 / IF(AND(COUNT(Wildert1!$D14:E14) <= 3, ISNUMBER($C109)), $C109, $D109) * 10, 3)) | J109: =IF(Wildert1!F14="", "", ROUND(Wildert1!F14 / IF(AND(COUNT(Wildert1!$D14:F14) <= 3, ISNUMBER($C109)), $C109, $D109) * 10, 3)) -> 7.564 | K109: =IF(Wildert1!G14="", "", ROUND(Wildert1!G14 / IF(AND(COUNT(Wildert1!$D14:G14) <= 3, ISNUMBER($C109)), $C109, $D109) * 10, 3)) | L109: =IF(Wildert1!H14="", "", ROUND(Wildert1!H14 / IF(AND(COUNT(Wildert1!$D14:H14) <= 3, ISNUMBER($C109)), $C109, $D109) * 10, 3)) | M109: =IF(Wildert1!I14="", "", ROUND(Wildert1!I14 / IF(AND(COUNT(Wildert1!$D14:I14) <= 3, ISNUMBER($C109)), $C109, $D109) * 10, 3)) | N109: =IF(Wildert1!J14="", "", ROUND(Wildert1!J14 / IF(AND(COUNT(Wildert1!$D14:J14) <= 3, ISNUMBER($C109)), $C109, $D109) * 10, 3)) | O109: =IF(Wildert1!P14="", "", ROUND(Wildert1!P14 / IF(AND(COUNT(Wildert1!$D14:$J14,Wildert1!$P14:P14) <= 3, ISNUMBER($C109)), $C109, $E109) * 10, 3)) | P109: =IF(Wildert1!Q14="", "", ROUND(Wildert1!Q14 / IF(AND(COUNT(Wildert1!$D14:$J14,Wildert1!$P14:Q14) <= 3, ISNUMBER($C109)), $C109, $E109) * 10, 3)) | Q109: =IF(Wildert1!R14="", "", ROUND(Wildert1!R14 / IF(AND(COUNT(Wildert1!$D14:$J14,Wildert1!$P14:R14) <= 3, ISNUMBER($C109)), $C109, $E109) * 10, 3)) | R109: =IF(Wildert1!S14="", "", ROUND(Wildert1!S14 / IF(AND(COUNT(Wildert1!$D14:$J14,Wildert1!$P14:S14) <= 3, ISNUMBER($C109)), $C109, $E109) * 10, 3)) | S109: =IF(Wildert1!T14="", "", ROUND(Wildert1!T14 / IF(AND(COUNT(Wildert1!$D14:$J14,Wildert1!$P14:T14) <= 3, ISNUMBER($C109)), $C109, $E109) * 10, 3)) | T109: =IF(Wildert1!U14="", "", ROUND(Wildert1!U14 / IF(AND(COUNT(Wildert1!$D14:$J14,Wildert1!$P14:U14) <= 3, ISNUMBER($C109)), $C109, $E109) * 10, 3)) | U109: =IF(Wildert1!V14="", "", ROUND(Wildert1!V14 / IF(AND(COUNT(Wildert1!$D14:$J14,Wildert1!$P14:V14) <= 3, ISNUMBER($C109)), $C109, $E109) * 10, 3))
A110: =IF(Wildert1!AB15=0, "", Wildert1!AB15) | B110: =Wildert1!B15 -> Sas Ronny | C110: =IFERROR(VALUE(MID($B110, SEARCH("[NS ", $B110)+4, 2)), "") | D110: =Wildert1!C15 -> 28 | E110: =Wildert1!O15 -> 28 | F110: =IF(Wildert1!AA15=0," ",SUM(H110:U110)) | H110: =IF(Wildert1!D15="", "", ROUND(Wildert1!D15 / IF(AND(COUNT(Wildert1!$D15:D15) <= 3, ISNUMBER($C110)), $C110, $D110) * 10, 3)) | I110: =IF(Wildert1!E15="", "", ROUND(Wildert1!E15 / IF(AND(COUNT(Wildert1!$D15:E15) <= 3, ISNUMBER($C110)), $C110, $D110) * 10, 3)) | J110: =IF(Wildert1!F15="", "", ROUND(Wildert1!F15 / IF(AND(COUNT(Wildert1!$D15:F15) <= 3, ISNUMBER($C110)), $C110, $D110) * 10, 3)) | K110: =IF(Wildert1!G15="", "", ROUND(Wildert1!G15 / IF(AND(COUNT(Wildert1!$D15:G15) <= 3, ISNUMBER($C110)), $C110, $D110) * 10, 3)) | L110: =IF(Wildert1!H15="", "", ROUND(Wildert1!H15 / IF(AND(COUNT(Wildert1!$D15:H15) <= 3, ISNUMBER($C110)), $C110, $D110) * 10, 3)) | M110: =IF(Wildert1!I15="", "", ROUND(Wildert1!I15 / IF(AND(COUNT(Wildert1!$D15:I15) <= 3, ISNUMBER($C110)), $C110, $D110) * 10, 3)) | N110: =IF(Wildert1!J15="", "", ROUND(Wildert1!J15 / IF(AND(COUNT(Wildert1!$D15:J15) <= 3, ISNUMBER($C110)), $C110, $D110) * 10, 3)) | O110: =IF(Wildert1!P15="", "", ROUND(Wildert1!P15 / IF(AND(COUNT(Wildert1!$D15:$J15,Wildert1!$P15:P15) <= 3, ISNUMBER($C110)), $C110, $E110) * 10, 3)) | P110: =IF(Wildert1!Q15="", "", ROUND(Wildert1!Q15 / IF(AND(COUNT(Wildert1!$D15:$J15,Wildert1!$P15:Q15) <= 3, ISNUMBER($C110)), $C110, $E110) * 10, 3)) | Q110: =IF(Wildert1!R15="", "", ROUND(Wildert1!R15 / IF(AND(COUNT(Wildert1!$D15:$J15,Wildert1!$P15:R15) <= 3, ISNUMBER($C110)), $C110, $E110) * 10, 3)) | R110: =IF(Wildert1!S15="", "", ROUND(Wildert1!S15 / IF(AND(COUNT(Wildert1!$D15:$J15,Wildert1!$P15:S15) <= 3, ISNUMBER($C110)), $C110, $E110) * 10, 3)) | S110: =IF(Wildert1!T15="", "", ROUND(Wildert1!T15 / IF(AND(COUNT(Wildert1!$D15:$J15,Wildert1!$P15:T15) <= 3, ISNUMBER($C110)), $C110, $E110) * 10, 3)) | T110: =IF(Wildert1!U15="", "", ROUND(Wildert1!U15 / IF(AND(COUNT(Wildert1!$D15:$J15,Wildert1!$P15:U15) <= 3, ISNUMBER($C110)), $C110, $E110) * 10, 3)) | U110: =IF(Wildert1!V15="", "", ROUND(Wildert1!V15 / IF(AND(COUNT(Wildert1!$D15:$J15,Wildert1!$P15:V15) <= 3, ISNUMBER($C110)), $C110, $E110) * 10, 3))
A111: =IF(Wildert1!AB16=0, "", Wildert1!AB16) -> 1 | B111: =Wildert1!B16 -> Thijs Jef | C111: =IFERROR(VALUE(MID($B111, SEARCH("[NS ", $B111)+4, 2)), "") | D111: =Wildert1!C16 -> 23 | E111: =Wildert1!O16 -> 23 | F111: =IF(Wildert1!AA16=0," ",SUM(H111:U111)) -> 14.348 | H111: =IF(Wildert1!D16="", "", ROUND(Wildert1!D16 / IF(AND(COUNT(Wildert1!$D16:D16) <= 3, ISNUMBER($C111)), $C111, $D111) * 10, 3)) | I111: =IF(Wildert1!E16="", "", ROUND(Wildert1!E16 / IF(AND(COUNT(Wildert1!$D16:E16) <= 3, ISNUMBER($C111)), $C111, $D111) * 10, 3)) -> 14.348 | J111: =IF(Wildert1!F16="", "", ROUND(Wildert1!F16 / IF(AND(COUNT(Wildert1!$D16:F16) <= 3, ISNUMBER($C111)), $C111, $D111) * 10, 3)) | K111: =IF(Wildert1!G16="", "", ROUND(Wildert1!G16 / IF(AND(COUNT(Wildert1!$D16:G16) <= 3, ISNUMBER($C111)), $C111, $D111) * 10, 3)) | L111: =IF(Wildert1!H16="", "", ROUND(Wildert1!H16 / IF(AND(COUNT(Wildert1!$D16:H16) <= 3, ISNUMBER($C111)), $C111, $D111) * 10, 3)) | M111: =IF(Wildert1!I16="", "", ROUND(Wildert1!I16 / IF(AND(COUNT(Wildert1!$D16:I16) <= 3, ISNUMBER($C111)), $C111, $D111) * 10, 3)) | N111: =IF(Wildert1!J16="", "", ROUND(Wildert1!J16 / IF(AND(COUNT(Wildert1!$D16:J16) <= 3, ISNUMBER($C111)), $C111, $D111) * 10, 3)) | O111: =IF(Wildert1!P16="", "", ROUND(Wildert1!P16 / IF(AND(COUNT(Wildert1!$D16:$J16,Wildert1!$P16:P16) <= 3, ISNUMBER($C111)), $C111, $E111) * 10, 3)) | P111: =IF(Wildert1!Q16="", "", ROUND(Wildert1!Q16 / IF(AND(COUNT(Wildert1!$D16:$J16,Wildert1!$P16:Q16) <= 3, ISNUMBER($C111)), $C111, $E111) * 10, 3)) | Q111: =IF(Wildert1!R16="", "", ROUND(Wildert1!R16 / IF(AND(COUNT(Wildert1!$D16:$J16,Wildert1!$P16:R16) <= 3, ISNUMBER($C111)), $C111, $E111) * 10, 3)) | R111: =IF(Wildert1!S16="", "", ROUND(Wildert1!S16 / IF(AND(COUNT(Wildert1!$D16:$J16,Wildert1!$P16:S16) <= 3, ISNUMBER($C111)), $C111, $E111) * 10, 3)) | S111: =IF(Wildert1!T16="", "", ROUND(Wildert1!T16 / IF(AND(COUNT(Wildert1!$D16:$J16,Wildert1!$P16:T16) <= 3, ISNUMBER($C111)), $C111, $E111) * 10, 3)) | T111: =IF(Wildert1!U16="", "", ROUND(Wildert1!U16 / IF(AND(COUNT(Wildert1!$D16:$J16,Wildert1!$P16:U16) <= 3, ISNUMBER($C111)), $C111, $E111) * 10, 3)) | U111: =IF(Wildert1!V16="", "", ROUND(Wildert1!V16 / IF(AND(COUNT(Wildert1!$D16:$J16,Wildert1!$P16:V16) <= 3, ISNUMBER($C111)), $C111, $E111) * 10, 3))
... A114: =IF(Wildert1!AB19=0, "", Wildert1!AB19) | B114: =Wildert1!B19 -> 0 | C114: =IFERROR(VALUE(MID($B114, SEARCH("[NS ", $B114)+4, 2)), "") | D114: =Wildert1!C19 -> 0 | E114: =Wildert1!O19 -> 0 | F114: =IF(Wildert1!AA19=0," ",SUM(H114:U114)) | H114: =IF(Wildert1!D19="", "", ROUND(Wildert1!D19 / IF(AND(COUNT(Wildert1!$D19:D19) <= 3, ISNUMBER($C114)), $C114, $D114) * 10, 3)) | I114: =IF(Wildert1!E19="", "", ROUND(Wildert1!E19 / IF(AND(COUNT(Wildert1!$D19:E19) <= 3, ISNUMBER($C114)), $C114, $D114) * 10, 3)) | J114: =IF(Wildert1!F19="", "", ROUND(Wildert1!F19 / IF(AND(COUNT(Wildert1!$D19:F19) <= 3, ISNUMBER($C114)), $C114, $D114) * 10, 3)) | K114: =IF(Wildert1!G19="", "", ROUND(Wildert1!G19 / IF(AND(COUNT(Wildert1!$D19:G19) <= 3, ISNUMBER($C114)), $C114, $D114) * 10, 3)) | L114: =IF(Wildert1!H19="", "", ROUND(Wildert1!H19 / IF(AND(COUNT(Wildert1!$D19:H19) <= 3, ISNUMBER($C114)), $C114, $D114) * 10, 3)) | M114: =IF(Wildert1!I19="", "", ROUND(Wildert1!I19 / IF(AND(COUNT(Wildert1!$D19:I19) <= 3, ISNUMBER($C114)), $C114, $D114) * 10, 3)) | N114: =IF(Wildert1!J19="", "", ROUND(Wildert1!J19 / IF(AND(COUNT(Wildert1!$D19:J19) <= 3, ISNUMBER($C114)), $C114, $D114) * 10, 3)) | O114: =IF(Wildert1!P19="", "", ROUND(Wildert1!P19 / IF(AND(COUNT(Wildert1!$D19:$J19,Wildert1!$P19:P19) <= 3, ISNUMBER($C114)), $C114, $E114) * 10, 3)) | P114: =IF(Wildert1!Q19="", "", ROUND(Wildert1!Q19 / IF(AND(COUNT(Wildert1!$D19:$J19,Wildert1!$P19:Q19) <= 3, ISNUMBER($C114)), $C114, $E114) * 10, 3)) | Q114: =IF(Wildert1!R19="", "", ROUND(Wildert1!R19 / IF(AND(COUNT(Wildert1!$D19:$J19,Wildert1!$P19:R19) <= 3, ISNUMBER($C114)), $C114, $E114) * 10, 3)) | R114: =IF(Wildert1!S19="", "", ROUND(Wildert1!S19 / IF(AND(COUNT(Wildert1!$D19:$J19,Wildert1!$P19:S19) <= 3, ISNUMBER($C114)), $C114, $E114) * 10, 3)) | S114: =IF(Wildert1!T19="", "", ROUND(Wildert1!T19 / IF(AND(COUNT(Wildert1!$D19:$J19,Wildert1!$P19:T19) <= 3, ISNUMBER($C114)), $C114, $E114) * 10, 3)) | T114: =IF(Wildert1!U19="", "", ROUND(Wildert1!U19 / IF(AND(COUNT(Wildert1!$D19:$J19,Wildert1!$P19:U19) <= 3, ISNUMBER($C114)), $C114, $E114) * 10, 3)) | U114: =IF(Wildert1!V19="", "", ROUND(Wildert1!V19 / IF(AND(COUNT(Wildert1!$D19:$J19,Wildert1!$P19:V19) <= 3, ISNUMBER($C114)), $C114, $E114) * 10, 3))
F115: =B99 -> WILDERT 1 | H115: =IF(SUM(H100:H114)=0, "", SUM(H100:H114)) -> 63.925 | I115: =IF(SUM(I100:I114)=0, "", SUM(I100:I114)) -> 65.919 | J115: =IF(SUM(J100:J114)=0, "", SUM(J100:J114)) -> 51.71 | K115: =IF(SUM(K100:K114)=0, "", SUM(K100:K114)) -> 72.937 | L115: =IF(SUM(L100:L114)=0, "", SUM(L100:L114)) | M115: =IF(SUM(M100:M114)=0, "", SUM(M100:M114)) | N115: =IF(SUM(N100:N114)=0, "", SUM(N100:N114)) | O115: =IF(SUM(O100:O114)=0, "", SUM(O100:O114)) | ... U115: =IF(SUM(U100:U114)=0, "", SUM(U100:U114))
B116: =ROWS(B100:B114) -> 15 | F116: =SUM(F100:F114) -> 254.491 | G116: =B99 -> WILDERT 1 | H116: =IF(SUM(H100:H114)=0, "", SUM(H100:H114)) -> 63.925 | I116: =IF(I115="", "", ROUND(SUM($H115:I115), 3)) -> 129.844 | J116: =IF(J115="", "", ROUND(SUM($H115:J115), 3)) -> 181.554 | K116: =IF(K115="", "", ROUND(SUM($H115:K115), 3)) -> 254.491 | L116: =IF(L115="", "", ROUND(SUM($H115:L115), 3)) | M116: =IF(M115="", "", ROUND(SUM($H115:M115), 3)) | N116: =IF(N115="", "", ROUND(SUM($H115:N115), 3)) | O116: =IF(O115="", "", ROUND(SUM($H115:O115), 3)) | P116: =IF(P115="", "", ROUND(SUM($H115:P115), 3)) | ... U116: =IF(U115="", "", ROUND(SUM($H115:U115), 3))
B118: WILDERT 2 | H118: 1 | I118: 2 | J118: 3 | K118: 4 | L118: 5 | M118: 6 | N118: 7 | O118: 8 | P118: 9 | Q118: 10 | R118: 11 | S118: 12 | T118: 13 | U118: 14
A119: =IF(Wildert2!AB5=0, "", Wildert2!AB5) | B119: =Wildert2!B5 -> Aernouts Johan | C119: =IFERROR(VALUE(MID($B119, SEARCH("[NS ", $B119)+4, 2)), "") | D119: =Wildert2!C5 -> 41 | E119: =Wildert2!O5 -> 41 | F119: =IF(Wildert2!AA5=0," ",SUM(H119:U119)) | H119: =IF(Wildert2!D5="", "", ROUND(Wildert2!D5 / IF(AND(COUNT(Wildert2!$D5:D5) <= 3, ISNUMBER($C119)), $C119, $D119) * 10, 3)) | I119: =IF(Wildert2!E5="", "", ROUND(Wildert2!E5 / IF(AND(COUNT(Wildert2!$D5:E5) <= 3, ISNUMBER($C119)), $C119, $D119) * 10, 3)) | J119: =IF(Wildert2!F5="", "", ROUND(Wildert2!F5 / IF(AND(COUNT(Wildert2!$D5:F5) <= 3, ISNUMBER($C119)), $C119, $D119) * 10, 3)) | K119: =IF(Wildert2!G5="", "", ROUND(Wildert2!G5 / IF(AND(COUNT(Wildert2!$D5:G5) <= 3, ISNUMBER($C119)), $C119, $D119) * 10, 3)) | L119: =IF(Wildert2!H5="", "", ROUND(Wildert2!H5 / IF(AND(COUNT(Wildert2!$D5:H5) <= 3, ISNUMBER($C119)), $C119, $D119) * 10, 3)) | M119: =IF(Wildert2!I5="", "", ROUND(Wildert2!I5 / IF(AND(COUNT(Wildert2!$D5:I5) <= 3, ISNUMBER($C119)), $C119, $D119) * 10, 3)) | N119: =IF(Wildert2!J5="", "", ROUND(Wildert2!J5 / IF(AND(COUNT(Wildert2!$D5:J5) <= 3, ISNUMBER($C119)), $C119, $D119) * 10, 3)) | O119: =IF(Wildert2!P5="", "", ROUND(Wildert2!P5 / IF(AND(COUNT(Wildert2!$D5:$J5,Wildert2!$P5:P5) <= 3, ISNUMBER($C119)), $C119, $E119) * 10, 3)) | P119: =IF(Wildert2!Q5="", "", ROUND(Wildert2!Q5 / IF(AND(COUNT(Wildert2!$D5:$J5,Wildert2!$P5:Q5) <= 3, ISNUMBER($C119)), $C119, $E119) * 10, 3)) | Q119: =IF(Wildert2!R5="", "", ROUND(Wildert2!R5 / IF(AND(COUNT(Wildert2!$D5:$J5,Wildert2!$P5:R5) <= 3, ISNUMBER($C119)), $C119, $E119) * 10, 3)) | R119: =IF(Wildert2!S5="", "", ROUND(Wildert2!S5 / IF(AND(COUNT(Wildert2!$D5:$J5,Wildert2!$P5:S5) <= 3, ISNUMBER($C119)), $C119, $E119) * 10, 3)) | S119: =IF(Wildert2!T5="", "", ROUND(Wildert2!T5 / IF(AND(COUNT(Wildert2!$D5:$J5,Wildert2!$P5:T5) <= 3, ISNUMBER($C119)), $C119, $E119) * 10, 3)) | T119: =IF(Wildert2!U5="", "", ROUND(Wildert2!U5 / IF(AND(COUNT(Wildert2!$D5:$J5,Wildert2!$P5:U5) <= 3, ISNUMBER($C119)), $C119, $E119) * 10, 3)) | U119: =IF(Wildert2!V5="", "", ROUND(Wildert2!V5 / IF(AND(COUNT(Wildert2!$D5:$J5,Wildert2!$P5:V5) <= 3, ISNUMBER($C119)), $C119, $E119) * 10, 3))
...

Sheet Uitslagen
A2: 31ste België - Nederland biljarttornooi | E2: Laatst gewijzigd
A3: van de Essense seniorenadviesraad 2026 - 2027 | E3: 46302
B4: 1ste Ronde
A6: Datum | B6: Thuisploeg | C6: Bezoekers | D6: Punten | E6: Punten
A8: 46258 | B8: de Spil | C8: Sen. Nispen | D8: =VLOOKUP(B8,Punten!$F$3:$U$156,3,0) -> 49.27 | E8: =VLOOKUP(C8,Punten!$F$3:$U$156,3,0) -> 48.049
A9: 46260 | B9: Oude Glorie | C9: Horendonk | D9: =VLOOKUP(B9,Punten!$F$3:$U$156,3,0) -> 54.043 | E9: =VLOOKUP(C9,Punten!$F$3:$U$156,3,0) -> 57.655
A10: 46261 | B10: Kerkuilen | C10: Sen. Putte | D10: =VLOOKUP(B10,Punten!$F$3:$U$156,3,0) -> 61.597 | E10: =VLOOKUP(C10,Punten!$F$3:$U$156,3,0) -> 67.914
A11: 46261 | B11: Wildert 1 | C11: Wildert 2 | D11: =VLOOKUP(B11,Punten!$F$3:$U$156,3,0) -> 63.925 | E11: =VLOOKUP(C11,Punten!$F$3:$U$156,3,0) -> 62.866
A14: 46272 | B14: Sen. Nispen | C14: Oude Glorie | D14: =VLOOKUP(B14,Punten!$F$3:$U$156,4,0) -> 53.444 | E14: =VLOOKUP(C14,Punten!$F$3:$U$156,4,0) -> 53.296
A15: 46272 | B15: Sen. Putte | C15: Wildert 2 | D15: =VLOOKUP(B15,Punten!$F$3:$U$156,4,0) -> 61.386 | E15: =VLOOKUP(C15,Punten!$F$3:$U$156,4,0) -> 58.299
A16: 46274 | B16: de Spil | C16: Horendonk | D16: =VLOOKUP(B16,Punten!$F$3:$U$156,4,0) -> 55.944 | E16: =VLOOKUP(C16,Punten!$F$3:$U$156,4,0) -> 69.5
A17: 46275 | B17: Wildert 1 | C17: Kerkuilen | D17: =VLOOKUP(B17,Punten!$F$3:$U$156,4,0) -> 65.919 | E17: =VLOOKUP(C17,Punten!$F$3:$U$156,4,0) -> 46.762
A20: 46287 | B20: Wildert 2 | C20: Sen. Nispen | D20: =VLOOKUP(B20,Punten!$F$3:$U$156,5,0) -> 61 | E20: =VLOOKUP(C20,Punten!$F$3:$U$156,5,0) -> 49.483
A21: 46288 | B21: Horendonk | C21: Sen. Putte | D21: =VLOOKUP(B21,Punten!$F$3:$U$156,5,0) -> 52.227 | E21: =VLOOKUP(C21,Punten!$F$3:$U$156,5,0) -> 55.883
A22: 46288 | B22: de Spil | C22: Wildert 1 | D22: =VLOOKUP(B22,Punten!$F$3:$U$156,5,0) -> 53.376 | E22: =VLOOKUP(C22,Punten!$F$3:$U$156,5,0) -> 51.71
A23: 46289 | B23: Kerkuilen | C23: Oude Glorie | D23: =VLOOKUP(B23,Punten!$F$3:$U$156,5,0) -> 57.321 | E23: =VLOOKUP(C23,Punten!$F$3:$U$156,5,0) -> 58.758
A26: 46300 | B26: Sen. Putte | C26: de Spil | D26: =VLOOKUP(B26,Punten!$F$3:$U$156,6,0) -> 61.984 | E26: =VLOOKUP(C26,Punten!$F$3:$U$156,6,0) -> 46.908
A27: 46300 | B27: Sen. Nispen | C27: Kerkuilen | D27: =VLOOKUP(B27,Punten!$F$3:$U$156,6,0) -> 54.542 | E27: =VLOOKUP(C27,Punten!$F$3:$U$156,6,0) -> 57.696
A28: 46302 | B28: Oude Glorie | C28: Wildert 1 | D28: =VLOOKUP(B28,Punten!$F$3:$U$156,6,0) -> 56.465 | E28: =VLOOKUP(C28,Punten!$F$3:$U$156,6,0) -> 72.937
A29: 46302 | B29: Horendonk | C29: Wildert 2 | D29: =VLOOKUP(B29,Punten!$F$3:$U$156,6,0) -> 59.817 | E29: =VLOOKUP(C29,Punten!$F$3:$U$156,6,0) -> 58.108
A32: 46314 | B32: Sen. Putte | C32: Oude Glorie | D32: =VLOOKUP(B32,Punten!$F$3:$U$156,7,0) | E32: =VLOOKUP(C32,Punten!$F$3:$U$156,7,0)
A33: 46316 | B33: Wildert 2 | C33: de Spil | D33: =VLOOKUP(B33,Punten!$F$3:$U$156,7,0) | E33: =VLOOKUP(C33,Punten!$F$3:$U$156,7,0)
A34: 46317 | B34: Kerkuilen | C34: Horendonk | D34: =VLOOKUP(B34,Punten!$F$3:$U$156,7,0) | E34: =VLOOKUP(C34,Punten!$F$3:$U$156,7,0)
A35: 46317 | B35: Wildert 1 | C35: Sen. Nispen | D35: =VLOOKUP(B35,Punten!$F$3:$U$156,7,0) | E35: =VLOOKUP(C35,Punten!$F$3:$U$156,7,0)
A38: 46328 | B38: Sen. Putte | C38: Wildert 1 | D38: =VLOOKUP(B38,Punten!$F$3:$U$156,8,0) | E38: =VLOOKUP(C38,Punten!$F$3:$U$156,8,0)
A39: 46329 | B39: Wildert 2 | C39: Kerkuilen | D39: =VLOOKUP(B39,Punten!$F$3:$U$156,8,0) | E39: =VLOOKUP(C39,Punten!$F$3:$U$156,8,0)
A40: 46330 | B40: Horendonk | C40: Sen. Nispen | D40: =VLOOKUP(B40,Punten!$F$3:$U$156,8,0) | E40: =VLOOKUP(C40,Punten!$F$3:$U$156,8,0)
A41: 46325 | B41: Oude Glorie | C41: de Spil | D41: =VLOOKUP(B41,Punten!$F$3:$U$156,8,0) | E41: =VLOOKUP(C41,Punten!$F$3:$U$156,8,0)
A44: 46342 | B44: Sen. Nispen | C44: Sen. Putte | D44: =VLOOKUP(B44,Punten!$F$3:$U$156,9,0) -> 0 | E44: =VLOOKUP(C44,Punten!$F$3:$U$156,9,0)
A45: 46344 | B45: Oude Glorie | C45: Wildert 2 | D45: =VLOOKUP(B45,Punten!$F$3:$U$156,9,0) | E45: =VLOOKUP(C45,Punten!$F$3:$U$156,9,0)
A46: 46345 | B46: Kerkuilen | C46: de Spil | D46: =VLOOKUP(B46,Punten!$F$3:$U$156,9,0) | E46: =VLOOKUP(C46,Punten!$F$3:$U$156,9,0)
A47: 46345 | B47: Wildert 1 | C47: Horendonk | D47: =VLOOKUP(B47,Punten!$F$3:$U$156,9,0) | E47: =VLOOKUP(C47,Punten!$F$3:$U$156,9,0)
A51: 31ste België - Nederland biljarttornooi | E51: Start datum
A52: van de Essense seniorenadviesraad 2026 - 2027 | E52: 46419
B53: 2de Ronde
A55: Datum | B55: Thuisploeg | C55: Bezoekers | D55: Punten | E55: Punten
A57: 46419 | B57: Sen. Nispen | C57: Wildert 1 | D57: =VLOOKUP(B57,Punten!$F$3:$U$156,10,0) | E57: =VLOOKUP(C57,Punten!$F$3:$U$156,10,0)
A58: 46421 | B58: de Spil | C58: Wildert 2 | D58: =VLOOKUP(B58,Punten!$F$3:$U$156,10,0) | E58: =VLOOKUP(C58,Punten!$F$3:$U$156,10,0)
A59: 46421 | B59: Oude Glorie | C59: Sen. Putte | D59: =VLOOKUP(B59,Punten!$F$3:$U$156,10,0) | E59: =VLOOKUP(C59,Punten!$F$3:$U$156,10,0)
A60: 46421 | B60: Horendonk | C60: Kerkuilen | D60: =VLOOKUP(B60,Punten!$F$3:$U$156,10,0) | E60: =VLOOKUP(C60,Punten!$F$3:$U$156,10,0)
A63: 46433 | B63: Sen. Nispen | C63: Horendonk | D63: =VLOOKUP(B63,Punten!$F$3:$U$156,11,0) | E63: =VLOOKUP(C63,Punten!$F$3:$U$156,11,0)
A64: 46435 | B64: de Spil | C64: Oude Glorie | D64: =VLOOKUP(B64,Punten!$F$3:$U$156,11,0) | E64: =VLOOKUP(C64,Punten!$F$3:$U$156,11,0)
A65: 46436 | B65: Kerkuilen | C65: Wildert 2 | D65: =VLOOKUP(B65,Punten!$F$3:$U$156,11,0) | E65: =VLOOKUP(C65,Punten!$F$3:$U$156,11,0)
A66: 46437 | B66: Wildert 1 | C66: Sen. Putte | D66: =VLOOKUP(B66,Punten!$F$3:$U$156,11,0) | E66: =VLOOKUP(C66,Punten!$F$3:$U$156,11,0)
A69: 46447 | B69: Sen. Nispen | C69: de Spil | D69: =VLOOKUP(B69,Punten!$F$3:$U$156,12,0) | E69: =VLOOKUP(C69,Punten!$F$3:$U$156,12,0)
A70: 46447 | B70: Sen. Putte | C70: Kerkuilen | D70: =VLOOKUP(B70,Punten!$F$3:$U$156,12,0) | E70: =VLOOKUP(C70,Punten!$F$3:$U$156,12,0)
A71: 46448 | B71: Wildert 2 | C71: Wildert 1 | D71: =VLOOKUP(B71,Punten!$F$3:$U$156,12,0) | E71: =VLOOKUP(C71,Punten!$F$3:$U$156,12,0)
A72: 46449 | B72: Horendonk | C72: Oude Glorie | D72: =VLOOKUP(B72,Punten!$F$3:$U$156,12,0) | E72: =VLOOKUP(C72,Punten!$F$3:$U$156,12,0)
A75: 46461 | B75: Sen. Putte | C75: Horendonk | D75: =VLOOKUP(B75,Punten!$F$3:$U$156,13,0) | E75: =VLOOKUP(C75,Punten!$F$3:$U$156,13,0)
A76: 46462 | B76: Sen. Nispen | C76: Wildert 2 | D76: =VLOOKUP(B76,Punten!$F$3:$U$156,13,0) | E76: =VLOOKUP(C76,Punten!$F$3:$U$156,13,0)
A77: 46464 | B77: Oude Glorie | C77: Kerkuilen | D77: =VLOOKUP(B77,Punten!$F$3:$U$156,13,0) | E77: =VLOOKUP(C77,Punten!$F$3:$U$156,13,0)
A78: 46464 | B78: Wildert 1 | C78: de Spil | D78: =VLOOKUP(B78,Punten!$F$3:$U$156,13,0) | E78: =VLOOKUP(C78,Punten!$F$3:$U$156,13,0)
A81: 46476 | B81: Wildert 2 | C81: Horendonk | D81: =VLOOKUP(B81,Punten!$F$3:$U$156,14,0) | E81: =VLOOKUP(C81,Punten!$F$3:$U$156,14,0)
A82: 46477 | B82: de Spil | C82: Sen. Putte | D82: =VLOOKUP(B82,Punten!$F$3:$U$156,14,0) | E82: =VLOOKUP(C82,Punten!$F$3:$U$156,14,0)
A83: 46478 | B83: Kerkuilen | C83: Sen. Nispen | D83: =VLOOKUP(B83,Punten!$F$3:$U$156,14,0) | E83: =VLOOKUP(C83,Punten!$F$3:$U$156,14,0)
A84: 46478 | B84: Wildert 1 | C84: Oude Glorie | D84: =VLOOKUP(B84,Punten!$F$3:$U$156,14,0) | E84: =VLOOKUP(C84,Punten!$F$3:$U$156,14,0)
A87: 46490 | B87: Wildert 2 | C87: Sen. Putte | D87: =VLOOKUP(B87,Punten!$F$3:$U$156,15,0) | E87: =VLOOKUP(C87,Punten!$F$3:$U$156,15,0)
A88: 46491 | B88: Oude Glorie | C88: Sen. Nispen | D88: =VLOOKUP(B88,Punten!$F$3:$U$156,15,0) | E88: =VLOOKUP(C88,Punten!$F$3:$U$156,15,0)
A89: 46491 | B89: Horendonk | C89: de Spil | D89: =VLOOKUP(B89,Punten!$F$3:$U$156,15,0) | E89: =VLOOKUP(C89,Punten!$F$3:$U$156,15,0)
A90: 46492 | B90: Kerkuilen | C90: Wildert 1 | D90: =VLOOKUP(B90,Punten!$F$3:$U$156,15,0) | E90: =VLOOKUP(C90,Punten!$F$3:$U$156,15,0)
A93: 46503 | B93: Sen. Putte | C93: Sen. Nispen | D93: =VLOOKUP(B93,Punten!$F$3:$U$156,16,0) | E93: =VLOOKUP(C93,Punten!$F$3:$U$156,16,0)
A94: 46504 | B94: Wildert 2 | C94: Oude Glorie | D94: =VLOOKUP(B94,Punten!$F$3:$U$156,16,0) | E94: =VLOOKUP(C94,Punten!$F$3:$U$156,16,0)
A95: 46505 | B95: de Spil | C95: Kerkuilen | D95: =VLOOKUP(B95,Punten!$F$3:$U$156,16,0) | E95: =VLOOKUP(C95,Punten!$F$3:$U$156,16,0)
A96: 46505 | B96: Horendonk | C96: Wildert 1 | D96: =VLOOKUP(B96,Punten!$F$3:$U$156,16,0) | E96: =VLOOKUP(C96,Punten!$F$3:$U$156,16,0)
A98: Rode tekst : Wedstrijd omgewisseld | C98: Blauwe tekst : Niet normale thuisspeeldag
A99: Groene tekst: wedstrijd verzet naar een andere week

Sheet Horendonk
B2: 31ste België - Nederland biljarttornooi ingericht door de Essense Seniorenraad 2026 - 2027 | AA2: Jaartotalen | AE2: =IF(Rangschikking!A3>=15,0,Rangschikking!A3) -> 2 | AF2: =IF(Rangschikking!A8<14, " ", 14)
B3: HORENDONK | C3: Sterktegetal 1ste helft | E3: Wedstrijden 1ste kompetitiehelft | K3: Totaal Punten | L3: Gespeelde wedstrijden | M3: Gemiddelde 1ste helft | N3: % Nieuw/Oud 2026 - 27 | O3: Sterktegetal 2de helft | Q3: Wedstrijden 2de kompetitiehelft | W3: Totaal Punten | X3: Gespeelde wedstrijden | Y3: Gemiddelde 2de helft | AA3: Totaal Punten | AB3: Gespeelde wedstrijden | AC3: Gemiddelde seizoen | AD3: % Nieuw/Oud 2026 - 27 | AF3: =IF(ISNUMBER($AF$2), "Gemiddelde 2027-28", "")
D4: 1 | E4: 2 | F4: 3 | G4: 4 | H4: 5 | I4: 6 | J4: 7 | P4: 8 | Q4: 9 | R4: 10 | S4: 11 | T4: 12 | U4: 13 | V4: 14
B5: Ansems Ferre | C5: 23 | D5: 24 | E5: 19 | G5: 26 | K5: =SUM(D5:J5) -> 69 | L5: =COUNTIF(D5:J5,">0") -> 3 | M5: =IF(K5=0," ",K5/L5) -> 23 | N5: =IF(K5=0," ",K5/(L5*C5)*100) -> 100 | O5: 23 | W5: =SUM(P5:V5) -> 0 | X5: =COUNTIF(P5:V5,">0") -> 0 | Y5: =IF(W5=0," ",W5/X5) | AA5: =K5+W5 -> 69 | AB5: =L5+X5 -> 3 | AC5: =IF(AA5=0," ",AA5/AB5) -> 23 | AD5: =IF(AA5=0," ",AA5/(AB5*O5)*100) -> 100 | AE5: =IF(AB5>=$AE$2,AA5/(AB5*O5)*100,"0") -> 100 | AF5: =IF(ISNUMBER($AF$2), IF(AB5>=4, IFERROR(ROUND(MAX(AA5/AB5, O5*0.9, 15), 0), 0), O5), "")
B6: Arnouts Louis | C6: 47 | K6: =SUM(D6:J6) -> 0 | L6: =COUNTIF(D6:J6,">0") -> 0 | M6: =IF(K6=0," ",K6/L6) | N6: =IF(K6=0," ",K6/(L6*C6)*100) | O6: 47 | W6: =SUM(P6:V6) -> 0 | X6: =COUNTIF(P6:V6,">0") -> 0 | Y6: =IF(W6=0," ",W6/X6) | AA6: =K6+W6 -> 0 | AB6: =L6+X6 -> 0 | AC6: =IF(AA6=0," ",AA6/AB6) | AD6: =IF(AA6=0," ",AA6/(AB6*O6)*100) | AE6: =IF(AB6>=$AE$2,AA6/(AB6*O6)*100,"0") -> 0 | AF6: =IF(ISNUMBER($AF$2), IF(AB6>=4, IFERROR(ROUND(MAX(AA6/AB6, O6*0.9, 15), 0), 0), O6), "")
B7: De Backer Jef | C7: 23 | D7: 24 | K7: =SUM(D7:J7) -> 24 | L7: =COUNTIF(D7:J7,">0") -> 1 | M7: =IF(K7=0," ",K7/L7) -> 24 | N7: =IF(K7=0," ",K7/(L7*C7)*100) -> 104.34783 | O7: 23 | W7: =SUM(P7:V7) -> 0 | X7: =COUNTIF(P7:V7,">0") -> 0 | Y7: =IF(W7=0," ",W7/X7) | AA7: =K7+W7 -> 24 | AB7: =L7+X7 -> 1 | AC7: =IF(AA7=0," ",AA7/AB7) -> 24 | AD7: =IF(AA7=0," ",AA7/(AB7*O7)*100) -> 104.34783 | AE7: =IF(AB7>=$AE$2,AA7/(AB7*O7)*100,"0") -> 0 | AF7: =IF(ISNUMBER($AF$2), IF(AB7>=4, IFERROR(ROUND(MAX(AA7/AB7, O7*0.9, 15), 0), 0), O7), "")
B8: Herreygers Remy | C8: 39 | D8: 29 | F8: 44 | G8: 48 | K8: =SUM(D8:J8) -> 121 | L8: =COUNTIF(D8:J8,">0") -> 3 | M8: =IF(K8=0," ",K8/L8) -> 40.333333 | N8: =IF(K8=0," ",K8/(L8*C8)*100) -> 103.4188 | O8: 39 | W8: =SUM(P8:V8) -> 0 | X8: =COUNTIF(P8:V8,">0") -> 0 | Y8: =IF(W8=0," ",W8/X8) | AA8: =K8+W8 -> 121 | AB8: =L8+X8 -> 3 | AC8: =IF(AA8=0," ",AA8/AB8) -> 40.333333 | AD8: =IF(AA8=0," ",AA8/(AB8*O8)*100) -> 103.4188 | AE8: =IF(AB8>=$AE$2,AA8/(AB8*O8)*100,"0") -> 103.4188 | AF8: =IF(ISNUMBER($AF$2), IF(AB8>=4, IFERROR(ROUND(MAX(AA8/AB8, O8*0.9, 15), 0), 0), O8), "")
B9: Maas Guy | C9: 20 | E9: 19 | F9: 15 | K9: =SUM(D9:J9) -> 34 | L9: =COUNTIF(D9:J9,">0") -> 2 | M9: =IF(K9=0," ",K9/L9) -> 17 | N9: =IF(K9=0," ",K9/(L9*C9)*100) -> 85 | O9: 20 | W9: =SUM(P9:V9) -> 0 | X9: =COUNTIF(P9:V9,">0") -> 0 | Y9: =IF(W9=0," ",W9/X9) | AA9: =K9+W9 -> 34 | AB9: =L9+X9 -> 2 | AC9: =IF(AA9=0," ",AA9/AB9) -> 17 | AD9: =IF(AA9=0," ",AA9/(AB9*O9)*100) -> 85 | AE9: =IF(AB9>=$AE$2,AA9/(AB9*O9)*100,"0") -> 85 | AF9: =IF(ISNUMBER($AF$2), IF(AB9>=4, IFERROR(ROUND(MAX(AA9/AB9, O9*0.9, 15), 0), 0), O9), "")
B10: Nelen Johan | C10: 15 | D10: 7 | E10: 24 | G10: 13 | K10: =SUM(D10:J10) -> 44 | L10: =COUNTIF(D10:J10,">0") -> 3 | M10: =IF(K10=0," ",K10/L10) -> 14.666667 | N10: =IF(K10=0," ",K10/(L10*C10)*100) -> 97.777778 | O10: 15 | W10: =SUM(P10:V10) -> 0 | X10: =COUNTIF(P10:V10,">0") -> 0 | Y10: =IF(W10=0," ",W10/X10) | AA10: =K10+W10 -> 44 | AB10: =L10+X10 -> 3 | AC10: =IF(AA10=0," ",AA10/AB10) -> 14.666667 | AD10: =IF(AA10=0," ",AA10/(AB10*O10)*100) -> 97.777778 | AE10: =IF(AB10>=$AE$2,AA10/(AB10*O10)*100,"0") -> 97.777778 | AF10: =IF(ISNUMBER($AF$2), IF(AB10>=4, IFERROR(ROUND(MAX(AA10/AB10, O10*0.9, 15), 0), 0), O10), "")
B11: Oerlemans Willy | C11: 26 | D11: 28 | E11: 39 | F11: 19 | G11: 17 | K11: =SUM(D11:J11) -> 103 | L11: =COUNTIF(D11:J11,">0") -> 4 | M11: =IF(K11=0," ",K11/L11) -> 25.75 | N11: =IF(K11=0," ",K11/(L11*C11)*100) -> 99.038462 | O11: 26 | W11: =SUM(P11:V11) -> 0 | X11: =COUNTIF(P11:V11,">0") -> 0 | Y11: =IF(W11=0," ",W11/X11) | AA11: =K11+W11 -> 103 | AB11: =L11+X11 -> 4 | AC11: =IF(AA11=0," ",AA11/AB11) -> 25.75 | AD11: =IF(AA11=0," ",AA11/(AB11*O11)*100) -> 99.038462 | AE11: =IF(AB11>=$AE$2,AA11/(AB11*O11)*100,"0") -> 99.038462 | AF11: =IF(ISNUMBER($AF$2), IF(AB11>=4, IFERROR(ROUND(MAX(AA11/AB11, O11*0.9, 15), 0), 0), O11), "")
