{"text_format":"1","workbook":"xlsx","n_sheets":6,"sheets":["Indeling spelers","Uitslagen","Punten","Blad1","supplement-aan-punten","Klassement"],"not_rendered":{"charts":0,"images":0,"macros":1,"external_links":0,"defined_names":0,"comments":1,"pivot_tables":0},"unopened":[],"bounds":{"document_bytes":16777216,"sheet_cells":100000,"rows_first":2000,"rows_last":500,"rows_between":2000,"halvings":0,"cell_chars":16384,"cell_head_chars":4096},"cells_cut":0,"cells_raw":0,"read":"whole","date_system":"1900"}

{"sheet":"Indeling spelers","index":0,"n_rows":23,"n_cols":8,"rows_kept":23,"cut":false,"hidden":true,"merged":[]}
["Lanssens Liliane","Wylin Jeanine","Suvée Yvan",null,null,"Delbeke Jacqueline","Dendauw Chantal","Van Nieuwenhuyse Piet"]
["Wylin Jeanine","Suvée Yvan","Delbeke Jacqueline",null,null,"Dendauw Chantal","Van Nieuwenhuyse Piet","Lanssens Liliane"]
["Suvée Yvan","Delbeke Jacqueline","Dendauw Chantal",null,null,"Van Nieuwenhuyse Piet","Lanssens Liliane","Wylin Jeanine"]
[]
[null,"Deschrijver Jean-Pierre","Verbanck Ivan",null,null,"Deklerck Noël","Markey Michel"]
[null,"Verbanck Ivan","Deklerck Noël",null,null,"Markey Michel","Deschrijver Jean-Pierre"]
[null,"Deklerck Noël","Markey Michel",null,null,"Deschrijver Jean-Pierre","Verbanck Ivan"]
[]
[null,"Wynsberghe Walter","Leenkneght Lionel",null,null,"David Marie","De Kimpe Noël"]
[null,"Leenkneght Lionel","David Marie",null,null,"De Kimpe Noël","Wynsberghe Walter"]
[null,"David Marie","De Kimpe Noël",null,null,"Wynsberghe Walter","Leenkneght Lionel"]
[]
[null,"Vandecasteele Francine","Rondelez William",null,null,"Catry Martial","Thorré Marcella"]
[null,"Rondelez William","Catry Martial",null,null,"Thorré Marcella","Vandecasteele Francine"]
[null,"Catry Martial","Thorré Marcella",null,null,"Vandecasteele Francine","Rondelez William"]
[]
[null,"De Forche Ann","Borry José",null,null,"Saelens André","Willemyns Werner"]
[null,"Borry José","Saelens André",null,null,"Willemyns Werner","De Forche Ann"]
[null,"Saelens André","Willemyns Werner",null,null,"De Forche Ann","Borry José"]
[]
[null,"Vervaecke Jean","Gheskiere Frans",null,null,"Vanpachtenbeke Marc","Decommere Jimmy"]
[null,"Gheskiere Frans","Vanpachtenbeke Marc",null,null,"Decommere Jimmy","Vervaecke Jean"]
[null,"Vanpachtenbeke Marc","Decommere Jimmy",null,null,"Vervaecke Jean","Gheskiere Frans"]

{"sheet":"Uitslagen","index":1,"n_rows":30,"n_cols":64,"rows_kept":30,"cut":false,"hidden":false,"merged":[[0,16,0,18],[0,19,0,21],[0,22,0,24],[0,25,0,27],[0,1,0,3],[0,4,0,6],[0,7,0,9],[0,10,0,12],[0,13,0,15],[0,61,0,63],[0,28,0,30],[0,31,0,33],[0,34,0,36],[0,37,0,39],[0,40,0,42],[0,43,0,45],[0,46,0,48],[0,49,0,51],[0,52,0,54],[0,55,0,57],[0,58,0,60]]}
["Deelnemers","2018-09-03",null,null,"2018-09-17",null,null,"2018-10-01",null,null,"2018-10-15",null,null,"2018-11-05",null,null,"2018-11-19",null,null,"2018-12-03",null,null,"2018-12-17",null,null,"2018-01-08",null,null,"2018-01-15",null,null,"2018-01-29",null,null,"2018-02-05",null,null,"2018-02-19",null,null,"2018-03-05",null,null,"2018-03-19",null,null,"26//03/2018",null,null,"2018-04-16",null,null,"2018-04-30",null,null,"DATUM",null,null,"Datum",null,null,"Datum"]
[null,"-1-","-2-","-3-","-1-","-2-","-3-","-1-","-2-","-3-","-1-","-2-","-3-","-1-","-2-","-3-","-1-","-2-","-3-","-1-","-2-","-3-","-1-","-2-","-3-","-1-","-2-","-3-","-1-","-2-","-3-","-1-","-2-","-3-","-1-","-2-","-3-","-1-","-2-","-3-","-1-","-2-","-3-","-1-","-2-","-3-","-1-","-2-","-3-","-1-","-2-","-3-","-1-","-2-","-3-","-1-","-2-","-3-","-1-","-2-","-3-","-1-","-2-","-3-"]
["Borry José",0,12,10,13,2,13,7,9,11,0,13,2,13,13,13,6,13,4]
["Catry Martial",0,13,13,13,13,12,11,13,6,13,13,13,7,13,13,13,13,13]
["David Marie",13,13,10,13,4,5,4,1,4,13,13,13]
["De Forche Ann"]
["De Kimpe Noël",null,null,null,13,13,13,13,13,13,13,2,10,13,13,13,13,13,13]
["Dekeyser Dirk",13,13,10,null,null,null,12,12,13,13,2,13,13,4,3,6,11,13]
["Deklerck Noël",4,4,13,2,13,5,7,13,13,13,10,12,7,8,13,6,11,13]
["Delbeke Jacqueline",2,5,4,2,13,13,13,12,null,2,13,12,5,3,11,13,7,0]
["Dendauw Chantal",null,null,null,13,10,9,7,3,12,2,2,7,12,13,8,8,9,13]
["Deschrijver Jean-Pierre",13,5,13,7,10,13,null,null,null,null,null,null,13,13,4,13,13,11]
["Gheskiere Frans",2,13,13,null,null,null,11,1,13,13,0,2,7,5,4,13,13,13]
["Lanssens Liliane",null,null,null,null,null,null,null,null,null,null,null,null,5,3,11,13,9,13]
["Leenkneght Lionel"]
["Markey Michel",13,4,3,11,13,13,13,1,6,2,10,13,10,13,3,8,9,4]
["Rondelez William",null,null,null,null,null,null,13,13,11,13,10,12,null,null,null,13,9,4]
["Saelens André",13,12,13,13,13,13,13,12,13,13,13,13,13,5,13,13,11,4]
["Suvée Yvan",13,13,13,13,13,13,4,13,13,13,13,7,13,3,13]
["Thorré Marcella",13,4,13,7,13,9,null,null,null,0,0,13,13,13,13,3,13,13]
["Vandecasteele Francine",13,13,4,11,2,12,7,13,13,2,13,13,12,9,13,3,4,3]
["Van Nieuwenhuyse Piet",13,12,13,7,13,9,13,13,13,13,13,13,13,13,13,13,13,13]
["Vanpachtenbeke Marc",4,13,3,2,2,13,13,13,4,null,null,null,null,null,null,7,7,13]
["Verbanck Ivan",null,null,null,13,2,12,null,null,null,6,2,13,5,13,13,13,13,4]
["Vervaecke Jean",null,null,null,null,null,null,null,null,null,null,null,null,7,13,4,0,13,13]
["Willemyns Werner",null,null,null,null,null,null,13,1,13,null,null,null,10,4,13,13,4,13]
["Wylin Jeanine",4,13,3,null,null,null,13,9,13,6,2,10,13,9,8,0,9,11]
["Wynsberghe Walter",12,13,13,2,13,12,13,13,12,2,13,13,13,8,4,13,13,3]
["Delombaerde jean paul",12,12,10,13,10,13,12,13,3,null,null,null,13,13,11,7,13,0]
["Verschoore Louis",null,null,null,13,4,5]

{"sheet":"Punten","index":2,"n_rows":54,"n_cols":5,"rows_kept":54,"cut":false,"hidden":true,"merged":[[0,0,0,5],[1,0,2,1]]}
["PETANQUE SEIZOEN 2017-2018"]
["Deelnemers",null,"Gespeelde","Wedstrijden","Wedstrijd-"]
[null,null,"Wedstrijden","Gewonnen","punten"]
[1,{"$f":"Uitslagen!A3:A53","v":"Borry José"},{"$f":"COUNTIF(Uitslagen!B3:BL3,\">=0\")","v":18},{"$f":"SUMIF(Uitslagen!B3:BL3,\"=13\")/13","v":7},{"$f":"SUM(Uitslagen!B3:BL3)","v":154}]
[2,"Catry Martial",{"$f":"COUNTIF(Uitslagen!B4:BL4,\">=0\")","v":18},{"$f":"SUMIF(Uitslagen!B4:BL4,\"=13\")/13","v":13},{"$f":"SUM(Uitslagen!B4:BL4)","v":205}]
[3,"David Marie",{"$f":"COUNTIF(Uitslagen!B5:BL5,\">=0\")","v":12},{"$f":"SUMIF(Uitslagen!B5:BL5,\"=13\")/13","v":6},{"$f":"SUM(Uitslagen!B5:BL5)","v":106}]
[4,"De Forche Ann",{"$f":"COUNTIF(Uitslagen!B6:BL6,\">=0\")","v":0},{"$f":"SUMIF(Uitslagen!B6:BL6,\"=13\")/13","v":0},{"$f":"SUM(Uitslagen!B6:BL6)","v":0}]
[5,"De Kimpe Noël",{"$f":"COUNTIF(Uitslagen!B7:BL7,\">=0\")","v":15},{"$f":"SUMIF(Uitslagen!B7:BL7,\"=13\")/13","v":13},{"$f":"SUM(Uitslagen!B7:BL7)","v":181}]
[6,"Dekeyser Dirk",{"$f":"COUNTIF(Uitslagen!B8:BL8,\">=0\")","v":15},{"$f":"SUMIF(Uitslagen!B8:BL8,\"=13\")/13","v":7},{"$f":"SUM(Uitslagen!B8:BL8)","v":151}]
[7,"Deklerck Noël",{"$f":"COUNTIF(Uitslagen!B9:BL9,\">=0\")","v":18},{"$f":"SUMIF(Uitslagen!B9:BL9,\"=13\")/13","v":7},{"$f":"SUM(Uitslagen!B9:BL9)","v":167}]
[8,"Delbeke Jacqueline",{"$f":"COUNTIF(Uitslagen!B10:BL10,\">=0\")","v":17},{"$f":"SUMIF(Uitslagen!B10:BL10,\"=13\")/13","v":5},{"$f":"SUM(Uitslagen!B10:BL10)","v":130}]
[9,"Dendauw Chantal",{"$f":"COUNTIF(Uitslagen!B11:BL11,\">=0\")","v":15},{"$f":"SUMIF(Uitslagen!B11:BL11,\"=13\")/13","v":3},{"$f":"SUM(Uitslagen!B11:BL11)","v":128}]
[10,"Deschrijver Jean-Pierre",{"$f":"COUNTIF(Uitslagen!B12:BL12,\">=0\")","v":12},{"$f":"SUMIF(Uitslagen!B12:BL12,\"=13\")/13","v":7},{"$f":"SUM(Uitslagen!B12:BL12)","v":128}]
[11,"Gheskiere Frans",{"$f":"COUNTIF(Uitslagen!B13:BL13,\">=0\")","v":15},{"$f":"SUMIF(Uitslagen!B13:BL13,\"=13\")/13","v":7},{"$f":"SUM(Uitslagen!B13:BL13)","v":123}]
[12,"Lanssens Liliane",{"$f":"COUNTIF(Uitslagen!B14:BL14,\">=0\")","v":6},{"$f":"SUMIF(Uitslagen!B14:BL14,\"=13\")/13","v":2},{"$f":"SUM(Uitslagen!B14:BL14)","v":54}]
[13,"Leenkneght Lionel",{"$f":"COUNTIF(Uitslagen!B15:BL15,\">=0\")","v":0},{"$f":"SUMIF(Uitslagen!B15:BL15,\"=13\")/13","v":0},{"$f":"SUM(Uitslagen!B15:BL15)","v":0}]
[14,"Markey Michel",{"$f":"COUNTIF(Uitslagen!B16:BL16,\">=0\")","v":18},{"$f":"SUMIF(Uitslagen!B16:BL16,\"=13\")/13","v":6},{"$f":"SUM(Uitslagen!B16:BL16)","v":149}]
[15,"Rondelez William",{"$f":"COUNTIF(Uitslagen!B17:BL17,\">=0\")","v":9},{"$f":"SUMIF(Uitslagen!B17:BL17,\"=13\")/13","v":4},{"$f":"SUM(Uitslagen!B17:BL17)","v":98}]
[16,"Saelens André",{"$f":"COUNTIF(Uitslagen!B18:BL18,\">=0\")","v":18},{"$f":"SUMIF(Uitslagen!B18:BL18,\"=13\")/13","v":13},{"$f":"SUM(Uitslagen!B18:BL18)","v":213}]
[17,"Suvée Yvan",{"$f":"COUNTIF(Uitslagen!B19:BL19,\">=0\")","v":15},{"$f":"SUMIF(Uitslagen!B19:BL19,\"=13\")/13","v":12},{"$f":"SUM(Uitslagen!B19:BL19)","v":170}]
[18,"Thorré Marcella",{"$f":"COUNTIF(Uitslagen!B20:BL20,\">=0\")","v":15},{"$f":"SUMIF(Uitslagen!B20:BL20,\"=13\")/13","v":9},{"$f":"SUM(Uitslagen!B20:BL20)","v":140}]
[19,"Vandecasteele Francine",{"$f":"COUNTIF(Uitslagen!B21:BL21,\">=0\")","v":18},{"$f":"SUMIF(Uitslagen!B21:BL21,\"=13\")/13","v":7},{"$f":"SUM(Uitslagen!B21:BL21)","v":160}]
[20,"Van Nieuwenhuyse Piet",{"$f":"COUNTIF(Uitslagen!B22:BL22,\">=0\")","v":18},{"$f":"SUMIF(Uitslagen!B22:BL22,\"=13\")/13","v":15},{"$f":"SUM(Uitslagen!B22:BL22)","v":223}]
[21,"Vanpachtenbeke Marc",{"$f":"COUNTIF(Uitslagen!B23:BL23,\">=0\")","v":12},{"$f":"SUMIF(Uitslagen!B23:BL23,\"=13\")/13","v":5},{"$f":"SUM(Uitslagen!B23:BL23)","v":94}]
[22,"Verbanck Ivan",{"$f":"COUNTIF(Uitslagen!B24:BL24,\">=0\")","v":12},{"$f":"SUMIF(Uitslagen!B24:BL24,\"=13\")/13","v":6},{"$f":"SUM(Uitslagen!B24:BL24)","v":109}]
[23,"Vervaecke Jean",{"$f":"COUNTIF(Uitslagen!B25:BL25,\">=0\")","v":6},{"$f":"SUMIF(Uitslagen!B25:BL25,\"=13\")/13","v":3},{"$f":"SUM(Uitslagen!B25:BL25)","v":50}]
[24,"Willemyns Werner",{"$f":"COUNTIF(Uitslagen!B26:BL26,\">=0\")","v":9},{"$f":"SUMIF(Uitslagen!B26:BL26,\"=13\")/13","v":5},{"$f":"SUM(Uitslagen!B26:BL26)","v":84}]
[25,"Wylin Jeanine",{"$f":"COUNTIF(Uitslagen!B27:BL27,\">=0\")","v":15},{"$f":"SUMIF(Uitslagen!B27:BL27,\"=13\")/13","v":4},{"$f":"SUM(Uitslagen!B27:BL27)","v":123}]
[26,"Wynsberghe Walter",{"$f":"COUNTIF(Uitslagen!B28:BL28,\">=0\")","v":18},{"$f":"SUMIF(Uitslagen!B28:BL28,\"=13\")/13","v":10},{"$f":"SUM(Uitslagen!B28:BL28)","v":185}]
[27,"Delombaerde jean paul",{"$f":"COUNTIF(Uitslagen!B29:BL29,\">=0\")","v":15},{"$f":"SUMIF(Uitslagen!B29:BL29,\"=13\")/13","v":6},{"$f":"SUM(Uitslagen!B29:BL29)","v":155}]
[28,"Verschoore Louis",{"$f":"COUNTIF(Uitslagen!B30:BL30,\">=0\")","v":3},{"$f":"SUMIF(Uitslagen!B30:BL30,\"=13\")/13","v":1},{"$f":"SUM(Uitslagen!B30:BL30)","v":22}]
[29,0,{"$f":"COUNTIF(Uitslagen!B31:BL31,\">=0\")","v":0},{"$f":"SUMIF(Uitslagen!B31:BL31,\"=13\")/13","v":0},{"$f":"SUM(Uitslagen!B31:BL31)","v":0}]
[30,0,{"$f":"COUNTIF(Uitslagen!B32:BL32,\">=0\")","v":0},{"$f":"SUMIF(Uitslagen!B32:BL32,\"=13\")/13","v":0},{"$f":"SUM(Uitslagen!B32:BL32)","v":0}]
[31,0,{"$f":"COUNTIF(Uitslagen!B33:BL33,\">=0\")","v":0},{"$f":"SUMIF(Uitslagen!B33:BL33,\"=13\")/13","v":0},{"$f":"SUM(Uitslagen!B33:BL33)","v":0}]
[32,0,{"$f":"COUNTIF(Uitslagen!B34:BL34,\">=0\")","v":0},{"$f":"SUMIF(Uitslagen!B34:BL34,\"=13\")/13","v":0},{"$f":"SUM(Uitslagen!B34:BL34)","v":0}]
[33,0,{"$f":"COUNTIF(Uitslagen!B35:BL35,\">=0\")","v":0},{"$f":"SUMIF(Uitslagen!B35:BL35,\"=13\")/13","v":0},{"$f":"SUM(Uitslagen!B35:BL35)","v":0}]
[34,0,{"$f":"COUNTIF(Uitslagen!B36:BL36,\">=0\")","v":0},{"$f":"SUMIF(Uitslagen!B36:BL36,\"=13\")/13","v":0},{"$f":"SUM(Uitslagen!B36:BL36)","v":0}]
[35,0,{"$f":"COUNTIF(Uitslagen!B37:BL37,\">=0\")","v":0},{"$f":"SUMIF(Uitslagen!B37:BL37,\"=13\")/13","v":0},{"$f":"SUM(Uitslagen!B37:BL37)","v":0}]
[36,0,{"$f":"COUNTIF(Uitslagen!B38:BL38,\">=0\")","v":0},{"$f":"SUMIF(Uitslagen!B38:BL38,\"=13\")/13","v":0},{"$f":"SUM(Uitslagen!B38:BL38)","v":0}]
[37,0,{"$f":"COUNTIF(Uitslagen!B39:BL39,\">=0\")","v":0},{"$f":"SUMIF(Uitslagen!B39:BL39,\"=13\")/13","v":0},{"$f":"SUM(Uitslagen!B39:BL39)","v":0}]
[38,0,{"$f":"COUNTIF(Uitslagen!B40:BL40,\">=0\")","v":0},{"$f":"SUMIF(Uitslagen!B40:BL40,\"=13\")/13","v":0},{"$f":"SUM(Uitslagen!B40:BL40)","v":0}]
[39,0,{"$f":"COUNTIF(Uitslagen!B41:BL41,\">=0\")","v":0},{"$f":"SUMIF(Uitslagen!B41:BL41,\"=13\")/13","v":0},{"$f":"SUM(Uitslagen!B41:BL41)","v":0}]
[40,0,{"$f":"COUNTIF(Uitslagen!B42:BL42,\">=0\")","v":0},{"$f":"SUMIF(Uitslagen!B42:BL42,\"=13\")/13","v":0},{"$f":"SUM(Uitslagen!B42:BL42)","v":0}]
[41,0,{"$f":"COUNTIF(Uitslagen!B43:BL43,\">=0\")","v":0},{"$f":"SUMIF(Uitslagen!B43:BL43,\"=13\")/13","v":0},{"$f":"SUM(Uitslagen!B43:BL43)","v":0}]
[42,0,{"$f":"COUNTIF(Uitslagen!B44:BL44,\">=0\")","v":0},{"$f":"SUMIF(Uitslagen!B44:BL44,\"=13\")/13","v":0},{"$f":"SUM(Uitslagen!B44:BL44)","v":0}]
[43,0,{"$f":"COUNTIF(Uitslagen!B45:BL45,\">=0\")","v":0},{"$f":"SUMIF(Uitslagen!B45:BL45,\"=13\")/13","v":0},{"$f":"SUM(Uitslagen!B45:BL45)","v":0}]
[44,0,{"$f":"COUNTIF(Uitslagen!B46:BL46,\">=0\")","v":0},{"$f":"SUMIF(Uitslagen!B46:BL46,\"=13\")/13","v":0},{"$f":"SUM(Uitslagen!B46:BL46)","v":0}]
[45,0,{"$f":"COUNTIF(Uitslagen!B47:BL47,\">=0\")","v":0},{"$f":"SUMIF(Uitslagen!B47:BL47,\"=13\")/13","v":0},{"$f":"SUM(Uitslagen!B47:BL47)","v":0}]
[46,0,{"$f":"COUNTIF(Uitslagen!B48:BL48,\">=0\")","v":0},{"$f":"SUMIF(Uitslagen!B48:BL48,\"=13\")/13","v":0},{"$f":"SUM(Uitslagen!B48:BL48)","v":0}]
[47,0,{"$f":"COUNTIF(Uitslagen!B49:BL49,\">=0\")","v":0},{"$f":"SUMIF(Uitslagen!B49:BL49,\"=13\")/13","v":0},{"$f":"SUM(Uitslagen!B49:BL49)","v":0}]
[48,0,{"$f":"COUNTIF(Uitslagen!B50:BL50,\">=0\")","v":0},{"$f":"SUMIF(Uitslagen!B50:BL50,\"=13\")/13","v":0},{"$f":"SUM(Uitslagen!B50:BL50)","v":0}]
[49,0,{"$f":"COUNTIF(Uitslagen!B51:BL51,\">=0\")","v":0},{"$f":"SUMIF(Uitslagen!B51:BL51,\"=13\")/13","v":0},{"$f":"SUM(Uitslagen!B51:BL51)","v":0}]
[50,0,{"$f":"COUNTIF(Uitslagen!B52:BL52,\">=0\")","v":0},{"$f":"SUMIF(Uitslagen!B52:BL52,\"=13\")/13","v":0},{"$f":"SUM(Uitslagen!B52:BL52)","v":0}]
[null,0]

{"sheet":"Blad1","index":3,"n_rows":11,"n_cols":11,"rows_kept":11,"cut":false,"hidden":true,"merged":[]}
[]
[null,null,2,5,{"$f":"C2:C11*D2:D11","v":10},null,null,1,2,3,{"$f":"SUM(H2:J2)","v":6}]
[null,null,1,null,0,null,null,null,null,null,{"$f":"SUM(H3:J3)","v":0}]
[null,null,null,null,0,null,null,null,null,null,0]
[null,null,null,null,0,null,null,null,null,null,0]
[null,null,null,null,0,null,null,null,2,null,2]
[null,null,null,null,0,null,null,null,null,null,0]
[null,null,null,null,0,null,null,null,null,null,0]
[null,null,null,null,0,null,null,null,null,null,0]
[null,null,null,null,0,null,null,null,null,null,0]
[null,null,null,null,0,null,null,null,null,null,0]

{"sheet":"supplement-aan-punten","index":4,"n_rows":53,"n_cols":6,"rows_kept":53,"cut":false,"hidden":false,"merged":[[0,1,0,3]]}
[null,"Hieronder ingeven van de punten van vorige wedstrijden"]
["Deelnemers","Gespeeld","Gewonnen","Punten"]
[{"$f":"Uitslagen!A3:A53","v":"Borry José"}]
["Catry Martial"]
["David Marie"]
["De Forche Ann",null,null,null,null,"opgepast enkel gebruiken indien nodig"]
["De Kimpe Noël"]
["Dekeyser Dirk"]
["Deklerck Noël"]
["Delbeke Jacqueline"]
["Dendauw Chantal"]
["Deschrijver Jean-Pierre"]
["Gheskiere Frans"]
["Lanssens Liliane"]
["Leenkneght Lionel"]
["Markey Michel"]
["Rondelez William"]
["Saelens André"]
["Suvée Yvan"]
["Thorré Marcella"]
["Vandecasteele Francine"]
["Van Nieuwenhuyse Piet"]
["Vanpachtenbeke Marc"]
["Verbanck Ivan"]
["Vervaecke Jean"]
["Willemyns Werner"]
["Wylin Jeanine"]
["Wynsberghe Walter"]
["Delombaerde jean paul"]
["Verschoore Louis"]
[0]
[0]
[0]
[0]
[0]
[0]
[0]
[0]
[0]
[0]
[0]
[0]
[0]
[0]
[0]
[0]
[0]
[0]
[0]
[0]
[0]
[0]
[0]

{"sheet":"Klassement","index":5,"n_rows":52,"n_cols":5,"rows_kept":52,"cut":false,"hidden":false,"merged":[[1,0,1,1],[0,0,0,2],[0,3,0,4]]}
["PETANQUE SEIZOEN 2017-2018",null,null,"2018-11-19"]
["Deelnemers",null,"Gespeelde wedstrijden","Gewonnen wedstrijden","Wedstrijd punten"]
[1,"Van Nieuwenhuyse Piet",18,15,223]
[2,"Saelens André",18,13,213]
[3,"Catry Martial",18,13,205]
[4,"De Kimpe Noël",15,13,181]
[5,"Suvée Yvan",15,12,170]
[6,"Wynsberghe Walter",18,10,185]
[7,"Thorré Marcella",15,9,140]
[8,"Deklerck Noël",18,7,167]
[9,"Vandecasteele Francine",18,7,160]
[10,"Borry José",18,7,154]
[11,"Dekeyser Dirk",15,7,151]
[12,"Deschrijver Jean-Pierre",12,7,128]
[13,"Gheskiere Frans",15,7,123]
[14,"Delombaerde jean paul",15,6,155]
[15,"Markey Michel",18,6,149]
[16,"Verbanck Ivan",12,6,109]
[17,"David Marie",12,6,106]
[18,"Delbeke Jacqueline",17,5,130]
[19,"Vanpachtenbeke Marc",12,5,94]
[20,"Willemyns Werner",9,5,84]
[21,"Wylin Jeanine",15,4,123]
[22,"Rondelez William",9,4,98]
[23,"Dendauw Chantal",15,3,128]
[24,"Vervaecke Jean",6,3,50]
[25,"Lanssens Liliane",6,2,54]
[26,"Verschoore Louis",3,1,22]
[27,"Leenkneght Lionel",0,0,0]
[28,"De Forche Ann",0,0,0]
[29,0,0,0,0]
[30,0,0,0,0]
[31,0,0,0,0]
[32,0,0,0,0]
[33,0,0,0,0]
[34,0,0,0,0]
[35,0,0,0,0]
[36,0,0,0,0]
[37,0,0,0,0]
[38,0,0,0,0]
[39,0,0,0,0]
[40,0,0,0,0]
[41,0,0,0,0]
[42,0,0,0,0]
[43,0,0,0,0]
[44,0,0,0,0]
[45,0,0,0,0]
[46,0,0,0,0]
[47,0,0,0,0]
[48,0,0,0,0]
[49,0,0,0,0]
[50,0,0,0,0]