Workbook

Sheet Rangschikking
A1: 0 | B1: Rangschikking 2025 - 2026
E2: Laatst gewijzigd
A3: 6 | B3: Gemeentelijke Competitie | E3: 46093
B4: =IF(A8=26,"EINDSTAND", "TUSSENSTAND" ) -> TUSSENSTAND
L5: CONTROLE T/M RONDE | M5: CONTROLE PER RONDE
B6: Gespeeld | C6: Ploeg | D6: Punten | E6: Caramboles | F6: CLUB-KAMPIOEN | I6: NIEUW GEMIDDELDE | J6: WEDSTRIJDEN GESPEELD | L6: 20 | M6: 20
A8: =COUNTIF(Punten!$E$208:'Punten'!$AD$208,">0") -> 20 | B8: W | C8: Wildert 2 | D8: =Punten!$C$209 -> 1276.824 | E8: =Wildert2!$AL$19 -> 5165 | F8: =INDEX(Wildert2!$A$4:$A$18,MATCH(MAX(Wildert2!$AP$4:$AP$18),Wildert2!$AP$4:$AP$18,0)) -> Francken Robert | H8: =MAX(Wildert2!$AP$4:$AP$18) -> 120 | I8: =VLOOKUP($F8,Wildert2!$A$4:$AO$18,40,0) -> 48 | J8: =VLOOKUP($F8,Wildert2!$A$4:$AO$18,39,0) -> 16 | L8: =VLOOKUP($C8,Punten!$D$4:$AD$224,1+$L$6,0) -> 1276.824 | M8: =VLOOKUP($C8,Punten!$C$4:$AD$224,2+$M$6,0) -> 51.246
A9: =COUNTIF(Punten!$E$80:'Punten'!$AD$80,">0") -> 20 | B9: W | C9: Molenheike | D9: =Punten!$C$81 -> 1218.446 | E9: =Molenheike!$AL$19 -> 4803 | F9: =INDEX(Molenheike!$A$4:$A$18,MATCH(MAX(Molenheike!$AP$4:$AP$18),Molenheike!$AP$4:$AP$18,0)) -> Keuppens Marc | H9: =MAX(Molenheike!$AP$4:$AP$18) -> 114.79167 | I9: =VLOOKUP($F9,Molenheike!$A$4:$AO$18,40,0) -> 34.4375 | J9: =VLOOKUP($F9,Molenheike!$A$4:$AO$18,39,0) -> 16 | L9: =VLOOKUP($C9,Punten!$D$4:$AD$224,1+$L$6,0) -> 1218.446 | M9: =VLOOKUP($C9,Punten!$C$4:$AD$224,2+$M$6,0) -> 68.716
A10: =COUNTIF(Punten!$E$128:'Punten'!$AD$128,">0") -> 20 | B10: W | C10: Rebelse Meeuwkes | D10: =Punten!$C$129 -> 1213.136 | E10: =Meeuwkes!$AL$19 -> 3870.0001 | F10: =INDEX(Meeuwkes!$A$4:$A$18,MATCH(MAX(Meeuwkes!$AP$4:$AP$18),Meeuwkes!$AP$4:$AP$18,0)) -> Bove René | H10: =MAX(Meeuwkes!$AP$4:$AP$18) -> 123.33333 | I10: =VLOOKUP($F10,Meeuwkes!$A$4:$AO$18,40,0) -> 24.666667 | J10: =VLOOKUP($F10,Meeuwkes!$A$4:$AO$18,39,0) -> 9 | L10: =VLOOKUP($C10,Punten!$D$4:$AD$224,1+$L$6,0) -> 1213.136 | M10: =VLOOKUP($C10,Punten!$C$4:$AD$224,2+$M$6,0) -> 61.343
A11: =COUNTIF(Punten!$E$67:'Punten'!$AD$67,">0") -> 20 | B11: W | C11: Meeuwen 2 | D11: =Punten!$C$68 -> 1202.097 | E11: =Meeuwen2!$AL$19 -> 4349 | F11: =INDEX(Meeuwen2!$A$4:$A$18,MATCH(MAX(Meeuwen2!$AP$4:$AP$18),Meeuwen2!$AP$4:$AP$18,0)) -> Suykerbuyk Stan | H11: =MAX(Meeuwen2!$AP$4:$AP$18) -> 123.54312 | I11: =VLOOKUP($F11,Meeuwen2!$A$4:$AO$18,40,0) -> 40.769231 | J11: =VLOOKUP($F11,Meeuwen2!$A$4:$AO$18,39,0) -> 13 | L11: =VLOOKUP($C11,Punten!$D$4:$AD$224,1+$L$6,0) -> 1202.097 | M11: =VLOOKUP($C11,Punten!$C$4:$AD$224,2+$M$6,0) -> 50.621
A12: =COUNTIF(Punten!E174:'Punten'!AD174,">0") -> 20 | B12: W | C12: Sen. Putte | D12: =Punten!$C$175 -> 1197.575 | E12: =Putte!$AL$19 -> 3850 | F12: =INDEX(Putte!$A$4:$A$18,MATCH(MAX(Putte!$AP$4:$AP$18),Putte!$AP$4:$AP$18,0)) -> Van Den Bleeken Eddy | H12: =MAX(Putte!$AP$4:$AP$18) -> 124.24242 | I12: =VLOOKUP($F12,Putte!$A$4:$AO$18,40,0) -> 27.333333 | J12: =VLOOKUP($F12,Putte!$A$4:$AO$18,39,0) -> 6 | L12: =VLOOKUP($C12,Punten!$D$4:$AD$224,1+$L$6,0) -> 1197.575 | M12: =VLOOKUP($C12,Punten!$C$4:$AD$224,2+$M$6,0) -> 53.37
A13: =COUNTIF(Punten!E112:'Punten'!AD112,">0") -> 20 | B13: W | C13: Oude Glorie | D13: =Punten!$C$113 -> 1187.104 | E13: =Oudeglorie!$AL$19 -> 3608 | F13: =INDEX(Oudeglorie!$A$4:$A$18,MATCH(MAX(Oudeglorie!$AP$4:$AP$18),Oudeglorie!$AP$4:$AP$18,0)) -> Nelen Frans | H13: =MAX(Oudeglorie!$AP$4:$AP$18) -> 122 | I13: =VLOOKUP($F13,Oudeglorie!$A$4:$AO$18,40,0) -> 30.5 | J13: =VLOOKUP($F13,Oudeglorie!$A$4:$AO$18,39,0) -> 10 | L13: =VLOOKUP($C13,Punten!$D$4:$AD$224,1+$L$6,0) -> 1187.104 | M13: =VLOOKUP($C13,Punten!$C$4:$AD$224,2+$M$6,0) -> 55.913
A14: =COUNTIF(Punten!$E$94:'Punten'!$AD$94,">0") -> 20 | B14: W | C14: Nispen Gem. | D14: =Punten!$C$95 -> 1174.536 | E14: =Nispen!$AL$19 -> 3842 | F14: =INDEX(Nispen!$A$4:$A$18,MATCH(MAX(Nispen!$AP$4:$AP$18),Nispen!$AP$4:$AP$18,0)) -> Brouwers Vic | H14: =MAX(Nispen!$AP$4:$AP$18) -> 104.95356 | I14: =VLOOKUP($F14,Nispen!$A$4:$AO$18,40,0) -> 71.368421 | J14: =VLOOKUP($F14,Nispen!$A$4:$AO$18,39,0) -> 19 | L14: =VLOOKUP($C14,Punten!$D$4:$AD$224,1+$L$6,0) -> 1174.536 | M14: =VLOOKUP($C14,Punten!$C$4:$AD$224,2+$M$6,0) -> 61.189
A15: =COUNTIF(Punten!$E$223:'Punten'!$AD$223,">0") -> 20 | B15: W | C15: BC de Beek | D15: =Punten!$C$224 -> 1168.819 | E15: =DeBeek!$AL$19 -> 3835 | F15: =INDEX(DeBeek!$A$4:$A$18,MATCH(MAX(DeBeek!$AP$4:$AP$18),DeBeek!$AP$4:$AP$18,0)) -> Beyers Armand | H15: =MAX(DeBeek!$AP$4:$AP$18) -> 116.66667 | I15: =VLOOKUP($F15,DeBeek!$A$4:$AO$18,40,0) -> 42 | J15: =VLOOKUP($F15,DeBeek!$A$4:$AO$18,39,0) -> 12 | L15: =VLOOKUP($C15,Punten!$D$4:$AD$224,1+$L$6,0) -> 1168.819 | M15: =VLOOKUP($C15,Punten!$C$4:$AD$224,2+$M$6,0) -> 64.446
A16: =COUNTIF(Punten!$E$192:'Punten'!$AD$192,">0") -> 20 | B16: W | C16: Wildert 1 | D16: =Punten!$C$193 -> 1165.021 | E16: =Wildert1!$AL$19 -> 3966 | F16: =INDEX(Wildert1!$A$4:$A$18,MATCH(MAX(Wildert1!$AP$4:$AP$18),Wildert1!$AP$4:$AP$18,0)) -> Konings Guido | H16: =MAX(Wildert1!$AP$4:$AP$18) -> 122.5 | I16: =VLOOKUP($F16,Wildert1!$A$4:$AO$18,40,0) -> 29.4 | J16: =VLOOKUP($F16,Wildert1!$A$4:$AO$18,39,0) -> 10 | L16: =VLOOKUP($C16,Punten!$D$4:$AD$224,1+$L$6,0) -> 1165.021 | M16: =VLOOKUP($C16,Punten!$C$4:$AD$224,2+$M$6,0) -> 43.342
A17: =COUNTIF(Punten!$E$35:'Punten'!$AD$35,">0") -> 20 | B17: W | C17: Kerkuilen | D17: =Punten!$C$36 -> 1158.675 | E17: =Kerkuilen!$AL$19 -> 5068 | F17: =INDEX(Kerkuilen!$A$4:$A$18,MATCH(MAX(Kerkuilen!$AP$4:$AP$18),Kerkuilen!$AP$4:$AP$18,0)) -> De Kaey Piet | H17: =MAX(Kerkuilen!$AP$4:$AP$18) -> 113.46154 | I17: =VLOOKUP($F17,Kerkuilen!$A$4:$AO$18,40,0) -> 59 | J17: =VLOOKUP($F17,Kerkuilen!$A$4:$AO$18,39,0) -> 7 | L17: =VLOOKUP($C17,Punten!$D$4:$AD$224,1+$L$6,0) -> 1158.675 | M17: =VLOOKUP($C17,Punten!$C$4:$AD$224,2+$M$6,0) -> 63.883
A18: =COUNTIF(Punten!$E$157:'Punten'!$AD$157,">0") -> 20 | B18: W | C18: Rooie Bal 2 | D18: =Punten!$C$158 -> 1156.215 | E18: =Rooiebal2!$AL$19 -> 3623 | F18: =INDEX(Rooiebal2!$A$4:$A$18,MATCH(MAX(Rooiebal2!$AP$4:$AP$18),Rooiebal2!$AP$4:$AP$18,0)) -> Donckers Johnny | H18: =MAX(Rooiebal2!$AP$4:$AP$18) -> 124 | I18: =VLOOKUP($F18,Rooiebal2!$A$4:$AO$18,40,0) -> 31 | J18: =VLOOKUP($F18,Rooiebal2!$A$4:$AO$18,39,0) -> 15 | L18: =VLOOKUP($C18,Punten!$D$4:$AD$224,1+$L$6,0) -> 1156.215 | M18: =VLOOKUP($C18,Punten!$C$4:$AD$224,2+$M$6,0) -> 52.905
A19: =COUNTIF(Punten!$E$142:'Punten'!$AD$142,">0") -> 20 | B19: W | C19: Rooie Bal 1 | D19: =Punten!$C$143 -> 1136.214 | E19: =Rooiebal1!$AL$19 -> 3376 | F19: =INDEX(Rooiebal1!$A$4:$A$18,MATCH(MAX(Rooiebal1!$AP$4:$AP$18),Rooiebal1!$AP$4:$AP$18,0)) -> Aerts Jan | H19: =MAX(Rooiebal1!$AP$4:$AP$18) -> 111.57895 | I19: =VLOOKUP($F19,Rooiebal1!$A$4:$AO$18,40,0) -> 21.2 | J19: =VLOOKUP($F19,Rooiebal1!$A$4:$AO$18,39,0) -> 15 | L19: =VLOOKUP($C19,Punten!$D$4:$AD$224,1+$L$6,0) -> 1136.214 | M19: =VLOOKUP($C19,Punten!$C$4:$AD$224,2+$M$6,0) -> 41.087
A20: =COUNTIF(Punten!$E$16:'Punten'!$AD$16,">0") -> 20 | B20: W | C20: Horendonk | D20: =Punten!$C$17 -> 1125.868 | E20: =Horendonk!$AL$19 -> 3084 | F20: =INDEX(Horendonk!$A$4:$A$18,MATCH(MAX(Horendonk!$AP$4:$AP$18),Horendonk!$AP$4:$AP$18,0)) -> Ansems Ferre | H20: =MAX(Horendonk!$AP$4:$AP$18) -> 113.8756 | I20: =VLOOKUP($F20,Horendonk!$A$4:$AP18,40,0) -> 21.636364 | J20: =VLOOKUP($F20,Horendonk!$A$4:$AO$18,39,0) -> 11 | L20: =VLOOKUP($C20,Punten!$D$4:$AD$224,1+$L$6,0) -> 1125.868 | M20: =VLOOKUP($C20,Punten!$C$4:$AD$224,2+$M$6,0) -> 52.927
A21: =COUNTIF(Punten!$E$50:'Punten'!$AD$50,">0") -> 20 | B21: W | C21: Meeuwen 1 | D21: =Punten!$C$51 -> 1082.329 | E21: =Meeuwen1!$AL$19 -> 3031 | F21: =INDEX(Meeuwen1!$A$4:$A$18,MATCH(MAX(Meeuwen1!$AP$4:$AP$18),Meeuwen1!$AP$4:$AP$18,0)) -> Aerts Adri | H21: =MAX(Meeuwen1!$AP$4:$AP$18) -> 108.17308 | I21: =VLOOKUP($F21,Meeuwen1!$A$4:$AO$18,40,0) -> 34.615385 | J21: =VLOOKUP($F21,Meeuwen1!$A$4:$AO$18,39,0) -> 13 | L21: =VLOOKUP($C21,Punten!$D$4:$AD$224,1+$L$6,0) -> 1082.329 | M21: =VLOOKUP($C21,Punten!$C$4:$AD$224,2+$M$6,0) -> 54.595
B27: Uitslagen en evoluties zijn wekelijks te volgen op:
B28: https://blog.seniorennet.be/GSE_Essen

Sheet Punten
A1: Aantal | C1: Totaal
A2: wedstrijden | C2: punten
B3: HORENDONK | E3: 1 | F3: 2 | G3: 3 | H3: 4 | I3: 5 | J3: 6 | K3: 7 | L3: 8 | M3: 9 | N3: 10 | O3: 11 | P3: 12 | Q3: 13 | R3: 14 | S3: 15 | T3: 16 | U3: 17 | V3: 18 | W3: 19 | X3: 20 | Y3: 21 | Z3: 22 | AA3: 23 | AB3: 24 | AC3: 25 | AD3: 26
A4: =IF(SUM(E4:AD4)=0,(" "),COUNTIF(E4:AD4,">0")) -> 11 | B4: =Horendonk!A4 -> Ansems Ferre | C4: =IF(Horendonk!AL4=0," ",SUM(E4:AD4)) -> 125.262 | E4: =IF(Horendonk!C4=(""),(""),ROUND(Horendonk!C4/Horendonk!$B4*10,3)) | F4: =IF(Horendonk!D4=(""),(""),ROUND(Horendonk!D4/Horendonk!$B4*10,3)) -> 7.368 | G4: =IF(Horendonk!E4=(""),(""),ROUND(Horendonk!E4/Horendonk!$B4*10,3)) | H4: =IF(Horendonk!F4=(""),(""),ROUND(Horendonk!F4/Horendonk!$B4*10,3)) -> 15.263 | I4: =IF(Horendonk!G4=(""),(""),ROUND(Horendonk!G4/Horendonk!$B4*10,3)) -> 13.684 | J4: =IF(Horendonk!H4=(""),(""),ROUND(Horendonk!H4/Horendonk!$B4*10,3)) | K4: =IF(Horendonk!I4=(""),(""),ROUND(Horendonk!I4/Horendonk!$B4*10,3)) | L4: =IF(Horendonk!J4=(""),(""),ROUND(Horendonk!J4/Horendonk!$B4*10,3)) | ... Q4: =IF(Horendonk!O4=(""),(""),ROUND(Horendonk!O4/Horendonk!$B4*10,3)) | R4: =IF(Horendonk!U4=(""),(""),ROUND(Horendonk!U4/Horendonk!$T4*10,3)) -> 8.947 | S4: =IF(Horendonk!V4=(""),(""),ROUND(Horendonk!V4/Horendonk!$T4*10,3)) -> 14.737 | T4: =IF(Horendonk!W4=(""),(""),ROUND(Horendonk!W4/Horendonk!$T4*10,3)) -> 11.053 | U4: =IF(Horendonk!X4=(""),(""),ROUND(Horendonk!X4/Horendonk!$T4*10,3)) | V4: =IF(Horendonk!Y4=(""),(""),ROUND(Horendonk!Y4/Horendonk!$T4*10,3)) -> 12.105 | W4: =IF(Horendonk!Z4=(""),(""),ROUND(Horendonk!Z4/Horendonk!$T4*10,3)) | X4: =IF(Horendonk!AA4=(""),(""),ROUND(Horendonk!AA4/Horendonk!$T4*10,3)) -> 7.895 | Y4: =IF(Horendonk!AB4=(""),(""),ROUND(Horendonk!AB4/Horendonk!$T4*10,3)) | ... AD4: =IF(Horendonk!AG4=(""),(""),ROUND(Horendonk!AG4/Horendonk!$T4*10,3))
A5: =IF(SUM(E5:AD5)=0,(" "),COUNTIF(E5:AD5,">0")) -> 7 | B5: =Horendonk!A5 -> Arnouts Louis | C5: =IF(Horendonk!AL5=0," ",SUM(E5:AD5)) -> 72.286 | E5: =IF(Horendonk!C5=(""),(""),ROUND(Horendonk!C5/Horendonk!$B5*10,3)) -> 10.286 | F5: =IF(Horendonk!D5=(""),(""),ROUND(Horendonk!D5/Horendonk!$B5*10,3)) | G5: =IF(Horendonk!E5=(""),(""),ROUND(Horendonk!E5/Horendonk!$B5*10,3)) | H5: =IF(Horendonk!F5=(""),(""),ROUND(Horendonk!F5/Horendonk!$B5*10,3)) | I5: =IF(Horendonk!G5=(""),(""),ROUND(Horendonk!G5/Horendonk!$B5*10,3)) | J5: =IF(Horendonk!H5=(""),(""),ROUND(Horendonk!H5/Horendonk!$B5*10,3)) | K5: =IF(Horendonk!I5=(""),(""),ROUND(Horendonk!I5/Horendonk!$B5*10,3)) -> 11.143 | L5: =IF(Horendonk!J5=(""),(""),ROUND(Horendonk!J5/Horendonk!$B5*10,3)) -> 6.571 | ... Q5: =IF(Horendonk!O5=(""),(""),ROUND(Horendonk!O5/Horendonk!$B5*10,3)) -> 10.286 | R5: =IF(Horendonk!U5=(""),(""),ROUND(Horendonk!U5/Horendonk!$T5*10,3)) | S5: =IF(Horendonk!V5=(""),(""),ROUND(Horendonk!V5/Horendonk!$T5*10,3)) | T5: =IF(Horendonk!W5=(""),(""),ROUND(Horendonk!W5/Horendonk!$T5*10,3)) | U5: =IF(Horendonk!X5=(""),(""),ROUND(Horendonk!X5/Horendonk!$T5*10,3)) | V5: =IF(Horendonk!Y5=(""),(""),ROUND(Horendonk!Y5/Horendonk!$T5*10,3)) -> 14.857 | W5: =IF(Horendonk!Z5=(""),(""),ROUND(Horendonk!Z5/Horendonk!$T5*10,3)) -> 9.714 | X5: =IF(Horendonk!AA5=(""),(""),ROUND(Horendonk!AA5/Horendonk!$T5*10,3)) | Y5: =IF(Horendonk!AB5=(""),(""),ROUND(Horendonk!AB5/Horendonk!$T5*10,3)) | ... AD5: =IF(Horendonk!AG5=(""),(""),ROUND(Horendonk!AG5/Horendonk!$T5*10,3))
A6: =IF(SUM(E6:AD6)=0,(" "),COUNTIF(E6:AD6,">0")) | B6: =Horendonk!A6 -> Brosens Jan | C6: =IF(Horendonk!AL6=0," ",SUM(E6:AD6)) | E6: =IF(Horendonk!C6=(""),(""),ROUND(Horendonk!C6/Horendonk!$B6*10,3)) | F6: =IF(Horendonk!D6=(""),(""),ROUND(Horendonk!D6/Horendonk!$B6*10,3)) | G6: =IF(Horendonk!E6=(""),(""),ROUND(Horendonk!E6/Horendonk!$B6*10,3)) | H6: =IF(Horendonk!F6=(""),(""),ROUND(Horendonk!F6/Horendonk!$B6*10,3)) | I6: =IF(Horendonk!G6=(""),(""),ROUND(Horendonk!G6/Horendonk!$B6*10,3)) | J6: =IF(Horendonk!H6=(""),(""),ROUND(Horendonk!H6/Horendonk!$B6*10,3)) | K6: =IF(Horendonk!I6=(""),(""),ROUND(Horendonk!I6/Horendonk!$B6*10,3)) | L6: =IF(Horendonk!J6=(""),(""),ROUND(Horendonk!J6/Horendonk!$B6*10,3)) | ... Q6: =IF(Horendonk!O6=(""),(""),ROUND(Horendonk!O6/Horendonk!$B6*10,3)) | R6: =IF(Horendonk!U6=(""),(""),ROUND(Horendonk!U6/Horendonk!$T6*10,3)) | S6: =IF(Horendonk!V6=(""),(""),ROUND(Horendonk!V6/Horendonk!$T6*10,3)) | T6: =IF(Horendonk!W6=(""),(""),ROUND(Horendonk!W6/Horendonk!$T6*10,3)) | U6: =IF(Horendonk!X6=(""),(""),ROUND(Horendonk!X6/Horendonk!$T6*10,3)) | V6: =IF(Horendonk!Y6=(""),(""),ROUND(Horendonk!Y6/Horendonk!$T6*10,3)) | W6: =IF(Horendonk!Z6=(""),(""),ROUND(Horendonk!Z6/Horendonk!$T6*10,3)) | X6: =IF(Horendonk!AA6=(""),(""),ROUND(Horendonk!AA6/Horendonk!$T6*10,3)) | Y6: =IF(Horendonk!AB6=(""),(""),ROUND(Horendonk!AB6/Horendonk!$T6*10,3)) | ... AD6: =IF(Horendonk!AG6=(""),(""),ROUND(Horendonk!AG6/Horendonk!$T6*10,3))
A7: =IF(SUM(E7:AD7)=0,(" "),COUNTIF(E7:AD7,">0")) -> 14 | B7: =Horendonk!A7 -> De Backer Jef | C7: =IF(Horendonk!AL7=0," ",SUM(E7:AD7)) -> 133.076 | E7: =IF(Horendonk!C7=(""),(""),ROUND(Horendonk!C7/Horendonk!$B7*10,3)) -> 15.769 | F7: =IF(Horendonk!D7=(""),(""),ROUND(Horendonk!D7/Horendonk!$B7*10,3)) | G7: =IF(Horendonk!E7=(""),(""),ROUND(Horendonk!E7/Horendonk!$B7*10,3)) -> 6.923 | H7: =IF(Horendonk!F7=(""),(""),ROUND(Horendonk!F7/Horendonk!$B7*10,3)) -> 15.769 | I7: =IF(Horendonk!G7=(""),(""),ROUND(Horendonk!G7/Horendonk!$B7*10,3)) -> 9.231 | J7: =IF(Horendonk!H7=(""),(""),ROUND(Horendonk!H7/Horendonk!$B7*10,3)) | K7: =IF(Horendonk!I7=(""),(""),ROUND(Horendonk!I7/Horendonk!$B7*10,3)) | L7: =IF(Horendonk!J7=(""),(""),ROUND(Horendonk!J7/Horendonk!$B7*10,3)) -> 9.231 | ... Q7: =IF(Horendonk!O7=(""),(""),ROUND(Horendonk!O7/Horendonk!$B7*10,3)) -> 10 | R7: =IF(Horendonk!U7=(""),(""),ROUND(Horendonk!U7/Horendonk!$T7*10,3)) -> 12.692 | S7: =IF(Horendonk!V7=(""),(""),ROUND(Horendonk!V7/Horendonk!$T7*10,3)) | T7: =IF(Horendonk!W7=(""),(""),ROUND(Horendonk!W7/Horendonk!$T7*10,3)) -> 9.231 | U7: =IF(Horendonk!X7=(""),(""),ROUND(Horendonk!X7/Horendonk!$T7*10,3)) -> 5.385 | V7: =IF(Horendonk!Y7=(""),(""),ROUND(Horendonk!Y7/Horendonk!$T7*10,3)) | W7: =IF(Horendonk!Z7=(""),(""),ROUND(Horendonk!Z7/Horendonk!$T7*10,3)) -> 7.692 | X7: =IF(Horendonk!AA7=(""),(""),ROUND(Horendonk!AA7/Horendonk!$T7*10,3)) -> 10.769 | Y7: =IF(Horendonk!AB7=(""),(""),ROUND(Horendonk!AB7/Horendonk!$T7*10,3)) | ... AD7: =IF(Horendonk!AG7=(""),(""),ROUND(Horendonk!AG7/Horendonk!$T7*10,3))
A8: =IF(SUM(E8:AD8)=0,(" "),COUNTIF(E8:AD8,">0")) -> 12 | B8: =Horendonk!A8 -> Herreyers Remy | C8: =IF(Horendonk!AL8=0," ",SUM(E8:AD8)) -> 90.831 | E8: =IF(Horendonk!C8=(""),(""),ROUND(Horendonk!C8/Horendonk!$B8*10,3)) | F8: =IF(Horendonk!D8=(""),(""),ROUND(Horendonk!D8/Horendonk!$B8*10,3)) -> 3.958 | G8: =IF(Horendonk!E8=(""),(""),ROUND(Horendonk!E8/Horendonk!$B8*10,3)) -> 7.083 | H8: =IF(Horendonk!F8=(""),(""),ROUND(Horendonk!F8/Horendonk!$B8*10,3)) -> 7.5 | I8: =IF(Horendonk!G8=(""),(""),ROUND(Horendonk!G8/Horendonk!$B8*10,3)) | J8: =IF(Horendonk!H8=(""),(""),ROUND(Horendonk!H8/Horendonk!$B8*10,3)) -> 6.875 | K8: =IF(Horendonk!I8=(""),(""),ROUND(Horendonk!I8/Horendonk!$B8*10,3)) -> 10.625 | L8: =IF(Horendonk!J8=(""),(""),ROUND(Horendonk!J8/Horendonk!$B8*10,3)) | ... Q8: =IF(Horendonk!O8=(""),(""),ROUND(Horendonk!O8/Horendonk!$B8*10,3)) -> 10.625 | R8: =IF(Horendonk!U8=(""),(""),ROUND(Horendonk!U8/Horendonk!$T8*10,3)) | S8: =IF(Horendonk!V8=(""),(""),ROUND(Horendonk!V8/Horendonk!$T8*10,3)) -> 6.458 | T8: =IF(Horendonk!W8=(""),(""),ROUND(Horendonk!W8/Horendonk!$T8*10,3)) -> 3.958 | U8: =IF(Horendonk!X8=(""),(""),ROUND(Horendonk!X8/Horendonk!$T8*10,3)) | V8: =IF(Horendonk!Y8=(""),(""),ROUND(Horendonk!Y8/Horendonk!$T8*10,3)) | W8: =IF(Horendonk!Z8=(""),(""),ROUND(Horendonk!Z8/Horendonk!$T8*10,3)) -> 5.833 | X8: =IF(Horendonk!AA8=(""),(""),ROUND(Horendonk!AA8/Horendonk!$T8*10,3)) -> 10.208 | Y8: =IF(Horendonk!AB8=(""),(""),ROUND(Horendonk!AB8/Horendonk!$T8*10,3)) | ... AD8: =IF(Horendonk!AG8=(""),(""),ROUND(Horendonk!AG8/Horendonk!$T8*10,3))
A9: =IF(SUM(E9:AD9)=0,(" "),COUNTIF(E9:AD9,">0")) -> 12 | B9: =Horendonk!A9 -> Maas Guy | C9: =IF(Horendonk!AL9=0," ",SUM(E9:AD9)) -> 99.2 | E9: =IF(Horendonk!C9=(""),(""),ROUND(Horendonk!C9/Horendonk!$B9*10,3)) -> 11.6 | F9: =IF(Horendonk!D9=(""),(""),ROUND(Horendonk!D9/Horendonk!$B9*10,3)) | G9: =IF(Horendonk!E9=(""),(""),ROUND(Horendonk!E9/Horendonk!$B9*10,3)) | H9: =IF(Horendonk!F9=(""),(""),ROUND(Horendonk!F9/Horendonk!$B9*10,3)) -> 6 | I9: =IF(Horendonk!G9=(""),(""),ROUND(Horendonk!G9/Horendonk!$B9*10,3)) | J9: =IF(Horendonk!H9=(""),(""),ROUND(Horendonk!H9/Horendonk!$B9*10,3)) -> 7.2 | K9: =IF(Horendonk!I9=(""),(""),ROUND(Horendonk!I9/Horendonk!$B9*10,3)) -> 6.8 | L9: =IF(Horendonk!J9=(""),(""),ROUND(Horendonk!J9/Horendonk!$B9*10,3)) | ... Q9: =IF(Horendonk!O9=(""),(""),ROUND(Horendonk!O9/Horendonk!$B9*10,3)) | R9: =IF(Horendonk!U9=(""),(""),ROUND(Horendonk!U9/Horendonk!$T9*10,3)) -> 10 | S9: =IF(Horendonk!V9=(""),(""),ROUND(Horendonk!V9/Horendonk!$T9*10,3)) -> 9.6 | T9: =IF(Horendonk!W9=(""),(""),ROUND(Horendonk!W9/Horendonk!$T9*10,3)) | U9: =IF(Horendonk!X9=(""),(""),ROUND(Horendonk!X9/Horendonk!$T9*10,3)) -> 10.4 | V9: =IF(Horendonk!Y9=(""),(""),ROUND(Horendonk!Y9/Horendonk!$T9*10,3)) -> 10.4 | W9: =IF(Horendonk!Z9=(""),(""),ROUND(Horendonk!Z9/Horendonk!$T9*10,3)) -> 6 | X9: =IF(Horendonk!AA9=(""),(""),ROUND(Horendonk!AA9/Horendonk!$T9*10,3)) -> 4.8 | Y9: =IF(Horendonk!AB9=(""),(""),ROUND(Horendonk!AB9/Horendonk!$T9*10,3)) | ... AD9: =IF(Horendonk!AG9=(""),(""),ROUND(Horendonk!AG9/Horendonk!$T9*10,3))
A10: =IF(SUM(E10:AD10)=0,(" "),COUNTIF(E10:AD10,">0")) -> 10 | B10: =Horendonk!A10 -> Nelen Johan | C10: =IF(Horendonk!AL10=0," ",SUM(E10:AD10)) -> 95.333 | E10: =IF(Horendonk!C10=(""),(""),ROUND(Horendonk!C10/Horendonk!$B10*10,3)) | F10: =IF(Horendonk!D10=(""),(""),ROUND(Horendonk!D10/Horendonk!$B10*10,3)) -> 9.333 | G10: =IF(Horendonk!E10=(""),(""),ROUND(Horendonk!E10/Horendonk!$B10*10,3)) -> 9.333 | H10: =IF(Horendonk!F10=(""),(""),ROUND(Horendonk!F10/Horendonk!$B10*10,3)) | I10: =IF(Horendonk!G10=(""),(""),ROUND(Horendonk!G10/Horendonk!$B10*10,3)) -> 6 | J10: =IF(Horendonk!H10=(""),(""),ROUND(Horendonk!H10/Horendonk!$B10*10,3)) | K10: =IF(Horendonk!I10=(""),(""),ROUND(Horendonk!I10/Horendonk!$B10*10,3)) -> 10.667 | L10: =IF(Horendonk!J10=(""),(""),ROUND(Horendonk!J10/Horendonk!$B10*10,3)) | ... Q10: =IF(Horendonk!O10=(""),(""),ROUND(Horendonk!O10/Horendonk!$B10*10,3)) -> 8 | R10: =IF(Horendonk!U10=(""),(""),ROUND(Horendonk!U10/Horendonk!$T10*10,3)) | S10: =IF(Horendonk!V10=(""),(""),ROUND(Horendonk!V10/Horendonk!$T10*10,3)) -> 8 | T10: =IF(Horendonk!W10=(""),(""),ROUND(Horendonk!W10/Horendonk!$T10*10,3)) | U10: =IF(Horendonk!X10=(""),(""),ROUND(Horendonk!X10/Horendonk!$T10*10,3)) | V10: =IF(Horendonk!Y10=(""),(""),ROUND(Horendonk!Y10/Horendonk!$T10*10,3)) -> 8.667 | W10: =IF(Horendonk!Z10=(""),(""),ROUND(Horendonk!Z10/Horendonk!$T10*10,3)) | X10: =IF(Horendonk!AA10=(""),(""),ROUND(Horendonk!AA10/Horendonk!$T10*10,3)) | Y10: =IF(Horendonk!AB10=(""),(""),ROUND(Horendonk!AB10/Horendonk!$T10*10,3)) | ... AD10: =IF(Horendonk!AG10=(""),(""),ROUND(Horendonk!AG10/Horendonk!$T10*10,3))
A11: =IF(SUM(E11:AD11)=0,(" "),COUNTIF(E11:AD11,">0")) -> 13 | B11: =Horendonk!A11 -> Oerlemans Willy | C11: =IF(Horendonk!AL11=0," ",SUM(E11:AD11)) -> 108.93 | E11: =IF(Horendonk!C11=(""),(""),ROUND(Horendonk!C11/Horendonk!$B11*10,3)) | F11: =IF(Horendonk!D11=(""),(""),ROUND(Horendonk!D11/Horendonk!$B11*10,3)) -> 7.857 | G11: =IF(Horendonk!E11=(""),(""),ROUND(Horendonk!E11/Horendonk!$B11*10,3)) | H11: =IF(Horendonk!F11=(""),(""),ROUND(Horendonk!F11/Horendonk!$B11*10,3)) | I11: =IF(Horendonk!G11=(""),(""),ROUND(Horendonk!G11/Horendonk!$B11*10,3)) -> 9.286 | J11: =IF(Horendonk!H11=(""),(""),ROUND(Horendonk!H11/Horendonk!$B11*10,3)) -> 7.143 | K11: =IF(Horendonk!I11=(""),(""),ROUND(Horendonk!I11/Horendonk!$B11*10,3)) | L11: =IF(Horendonk!J11=(""),(""),ROUND(Horendonk!J11/Horendonk!$B11*10,3)) -> 9.286 | ... Q11: =IF(Horendonk!O11=(""),(""),ROUND(Horendonk!O11/Horendonk!$B11*10,3)) -> 7.143 | R11: =IF(Horendonk!U11=(""),(""),ROUND(Horendonk!U11/Horendonk!$T11*10,3)) -> 7.5 | S11: =IF(Horendonk!V11=(""),(""),ROUND(Horendonk!V11/Horendonk!$T11*10,3)) -> 7.5 | T11: =IF(Horendonk!W11=(""),(""),ROUND(Horendonk!W11/Horendonk!$T11*10,3)) -> 7.857 | U11: =IF(Horendonk!X11=(""),(""),ROUND(Horendonk!X11/Horendonk!$T11*10,3)) -> 9.643 | V11: =IF(Horendonk!Y11=(""),(""),ROUND(Horendonk!Y11/Horendonk!$T11*10,3)) -> 5 | W11: =IF(Horendonk!Z11=(""),(""),ROUND(Horendonk!Z11/Horendonk!$T11*10,3)) | X11: =IF(Horendonk!AA11=(""),(""),ROUND(Horendonk!AA11/Horendonk!$T11*10,3)) | Y11: =IF(Horendonk!AB11=(""),(""),ROUND(Horendonk!AB11/Horendonk!$T11*10,3)) | ... AD11: =IF(Horendonk!AG11=(""),(""),ROUND(Horendonk!AG11/Horendonk!$T11*10,3))
A12: =IF(SUM(E12:AD12)=0,(" "),COUNTIF(E12:AD12,">0")) -> 14 | B12: =Horendonk!A12 -> Siemons Jos | C12: =IF(Horendonk!AL12=0," ",SUM(E12:AD12)) -> 136 | E12: =IF(Horendonk!C12=(""),(""),ROUND(Horendonk!C12/Horendonk!$B12*10,3)) -> 12 | F12: =IF(Horendonk!D12=(""),(""),ROUND(Horendonk!D12/Horendonk!$B12*10,3)) -> 7.6 | G12: =IF(Horendonk!E12=(""),(""),ROUND(Horendonk!E12/Horendonk!$B12*10,3)) -> 8.8 | H12: =IF(Horendonk!F12=(""),(""),ROUND(Horendonk!F12/Horendonk!$B12*10,3)) -> 19.2 | I12: =IF(Horendonk!G12=(""),(""),ROUND(Horendonk!G12/Horendonk!$B12*10,3)) -> 4.4 | J12: =IF(Horendonk!H12=(""),(""),ROUND(Horendonk!H12/Horendonk!$B12*10,3)) -> 10 | K12: =IF(Horendonk!I12=(""),(""),ROUND(Horendonk!I12/Horendonk!$B12*10,3)) | L12: =IF(Horendonk!J12=(""),(""),ROUND(Horendonk!J12/Horendonk!$B12*10,3)) -> 9.2 | ... Q12: =IF(Horendonk!O12=(""),(""),ROUND(Horendonk!O12/Horendonk!$B12*10,3)) | R12: =IF(Horendonk!U12=(""),(""),ROUND(Horendonk!U12/Horendonk!$T12*10,3)) -> 11.6 | S12: =IF(Horendonk!V12=(""),(""),ROUND(Horendonk!V12/Horendonk!$T12*10,3)) -> 9.6 | T12: =IF(Horendonk!W12=(""),(""),ROUND(Horendonk!W12/Horendonk!$T12*10,3)) | U12: =IF(Horendonk!X12=(""),(""),ROUND(Horendonk!X12/Horendonk!$T12*10,3)) -> 7.2 | V12: =IF(Horendonk!Y12=(""),(""),ROUND(Horendonk!Y12/Horendonk!$T12*10,3)) | W12: =IF(Horendonk!Z12=(""),(""),ROUND(Horendonk!Z12/Horendonk!$T12*10,3)) | X12: =IF(Horendonk!AA12=(""),(""),ROUND(Horendonk!AA12/Horendonk!$T12*10,3)) -> 9.6 | Y12: =IF(Horendonk!AB12=(""),(""),ROUND(Horendonk!AB12/Horendonk!$T12*10,3)) | ... AD12: =IF(Horendonk!AG12=(""),(""),ROUND(Horendonk!AG12/Horendonk!$T12*10,3))
A13: =IF(SUM(E13:AD13)=0,(" "),COUNTIF(E13:AD13,">0")) -> 13 | B13: =Horendonk!A13 -> Van Aert André | C13: =IF(Horendonk!AL13=0," ",SUM(E13:AD13)) -> 125.171 | E13: =IF(Horendonk!C13=(""),(""),ROUND(Horendonk!C13/Horendonk!$B13*10,3)) | F13: =IF(Horendonk!D13=(""),(""),ROUND(Horendonk!D13/Horendonk!$B13*10,3)) -> 6.897 | G13: =IF(Horendonk!E13=(""),(""),ROUND(Horendonk!E13/Horendonk!$B13*10,3)) -> 9.31 | H13: =IF(Horendonk!F13=(""),(""),ROUND(Horendonk!F13/Horendonk!$B13*10,3)) -> 10 | I13: =IF(Horendonk!G13=(""),(""),ROUND(Horendonk!G13/Horendonk!$B13*10,3)) | J13: =IF(Horendonk!H13=(""),(""),ROUND(Horendonk!H13/Horendonk!$B13*10,3)) -> 9.31 | K13: =IF(Horendonk!I13=(""),(""),ROUND(Horendonk!I13/Horendonk!$B13*10,3)) | L13: =IF(Horendonk!J13=(""),(""),ROUND(Horendonk!J13/Horendonk!$B13*10,3)) -> 13.448 | ... Q13: =IF(Horendonk!O13=(""),(""),ROUND(Horendonk!O13/Horendonk!$B13*10,3)) -> 11.034 | R13: =IF(Horendonk!U13=(""),(""),ROUND(Horendonk!U13/Horendonk!$T13*10,3)) -> 10.69 | S13: =IF(Horendonk!V13=(""),(""),ROUND(Horendonk!V13/Horendonk!$T13*10,3)) | T13: =IF(Horendonk!W13=(""),(""),ROUND(Horendonk!W13/Horendonk!$T13*10,3)) | U13: =IF(Horendonk!X13=(""),(""),ROUND(Horendonk!X13/Horendonk!$T13*10,3)) -> 9.31 | V13: =IF(Horendonk!Y13=(""),(""),ROUND(Horendonk!Y13/Horendonk!$T13*10,3)) -> 8.276 | W13: =IF(Horendonk!Z13=(""),(""),ROUND(Horendonk!Z13/Horendonk!$T13*10,3)) -> 12.414 | X13: =IF(Horendonk!AA13=(""),(""),ROUND(Horendonk!AA13/Horendonk!$T13*10,3)) -> 9.655 | Y13: =IF(Horendonk!AB13=(""),(""),ROUND(Horendonk!AB13/Horendonk!$T13*10,3)) | ... AD13: =IF(Horendonk!AG13=(""),(""),ROUND(Horendonk!AG13/Horendonk!$T13*10,3))
A14: =IF(SUM(E14:AD14)=0,(" "),COUNTIF(E14:AD14,">0")) -> 2 | B14: =Horendonk!A14 -> Veraart Jef (ns) | C14: =IF(Horendonk!AL14=0," ",SUM(E14:AD14)) -> 24.445 | E14: =IF(Horendonk!C14=(""),(""),ROUND(Horendonk!C14/27*10,3)) -> 12.593 | F14: =IF(Horendonk!D14=(""),(""),ROUND(Horendonk!D14/Horendonk!$B14*10,3)) | G14: =IF(Horendonk!E14=(""),(""),ROUND(Horendonk!E14/Horendonk!$B14*10,3)) | H14: =IF(Horendonk!F14=(""),(""),ROUND(Horendonk!F14/Horendonk!$B14*10,3)) | I14: =IF(Horendonk!G14=(""),(""),ROUND(Horendonk!G14/Horendonk!$B14*10,3)) | J14: =IF(Horendonk!H14=(""),(""),ROUND(Horendonk!H14/Horendonk!$B14*10,3)) | K14: =IF(Horendonk!I14=(""),(""),ROUND(Horendonk!I14/27*10,3)) -> 11.852 | L14: =IF(Horendonk!J14=(""),(""),ROUND(Horendonk!J14/Horendonk!$B14*10,3)) | M14: =IF(Horendonk!K14=(""),(""),ROUND(Horendonk!K14/Horendonk!$B14*10,3)) | N14: =IF(Horendonk!L14=(""),(""),ROUND(Horendonk!L14/Horendonk!$B14*10,3)) | O14: =IF(Horendonk!M14=(""),(""),ROUND(Horendonk!M14/Horendonk!$B14*10,3)) | P14: =IF(Horendonk!N14=(""),(""),ROUND(Horendonk!N14/Horendonk!$B14*10,3)) | Q14: =IF(Horendonk!O14=(""),(""),ROUND(Horendonk!O14/Horendonk!$B14*10,3)) | R14: =IF(Horendonk!U14=(""),(""),ROUND(Horendonk!U14/Horendonk!$T14*10,3)) | S14: =IF(Horendonk!V14=(""),(""),ROUND(Horendonk!V14/Horendonk!$T14*10,3)) | T14: =IF(Horendonk!W14=(""),(""),ROUND(Horendonk!W14/Horendonk!$T14*10,3)) | U14: =IF(Horendonk!X14=(""),(""),ROUND(Horendonk!X14/Horendonk!$T14*10,3)) | V14: =IF(Horendonk!Y14=(""),(""),ROUND(Horendonk!Y14/Horendonk!$T14*10,3)) | W14: =IF(Horendonk!Z14=(""),(""),ROUND(Horendonk!Z14/Horendonk!$T14*10,3)) | X14: =IF(Horendonk!AA14=(""),(""),ROUND(Horendonk!AA14/Horendonk!$T14*10,3)) | Y14: =IF(Horendonk!AB14=(""),(""),ROUND(Horendonk!AB14/Horendonk!$T14*10,3)) | ... AD14: =IF(Horendonk!AG14=(""),(""),ROUND(Horendonk!AG14/Horendonk!$T14*10,3))
A15: =IF(SUM(E15:AD15)=0,(" "),COUNTIF(E15:AD15,">0")) -> 12 | B15: =Horendonk!A15 -> Vergouwen René | C15: =IF(Horendonk!AL15=0," ",SUM(E15:AD15)) -> 115.334 | E15: =IF(Horendonk!C15=(""),(""),ROUND(Horendonk!C15/Horendonk!$B15*10,3)) -> 9 | F15: =IF(Horendonk!D15=(""),(""),ROUND(Horendonk!D15/Horendonk!$B15*10,3)) | G15: =IF(Horendonk!E15=(""),(""),ROUND(Horendonk!E15/Horendonk!$B15*10,3)) -> 8 | H15: =IF(Horendonk!F15=(""),(""),ROUND(Horendonk!F15/Horendonk!$B15*10,3)) | I15: =IF(Horendonk!G15=(""),(""),ROUND(Horendonk!G15/Horendonk!$B15*10,3)) -> 2 | J15: =IF(Horendonk!H15=(""),(""),ROUND(Horendonk!H15/Horendonk!$B15*10,3)) -> 13 | K15: =IF(Horendonk!I15=(""),(""),ROUND(Horendonk!I15/Horendonk!$B15*10,3)) -> 9.667 | L15: =IF(Horendonk!J15=(""),(""),ROUND(Horendonk!J15/Horendonk!$B15*10,3)) -> 13 | ... Q15: =IF(Horendonk!O15=(""),(""),ROUND(Horendonk!O15/Horendonk!$B15*10,3)) | R15: =IF(Horendonk!U15=(""),(""),ROUND(Horendonk!U15/Horendonk!$T15*10,3)) -> 5.333 | S15: =IF(Horendonk!V15=(""),(""),ROUND(Horendonk!V15/Horendonk!$T15*10,3)) | T15: =IF(Horendonk!W15=(""),(""),ROUND(Horendonk!W15/Horendonk!$T15*10,3)) -> 16.667 | U15: =IF(Horendonk!X15=(""),(""),ROUND(Horendonk!X15/Horendonk!$T15*10,3)) -> 10.667 | V15: =IF(Horendonk!Y15=(""),(""),ROUND(Horendonk!Y15/Horendonk!$T15*10,3)) | W15: =IF(Horendonk!Z15=(""),(""),ROUND(Horendonk!Z15/Horendonk!$T15*10,3)) -> 6.333 | X15: =IF(Horendonk!AA15=(""),(""),ROUND(Horendonk!AA15/Horendonk!$T15*10,3)) | Y15: =IF(Horendonk!AB15=(""),(""),ROUND(Horendonk!AB15/Horendonk!$T15*10,3)) | ... AD15: =IF(Horendonk!AG15=(""),(""),ROUND(Horendonk!AG15/Horendonk!$T15*10,3))
C16: =B3 -> HORENDONK | E16: =IF(SUM(E4:E15)=0,(" "),SUM(E4:E15)) -> 71.248 | F16: =IF(SUM(F4:F15)=0,(" "),SUM(F4:F15)) -> 43.013 | G16: =IF(SUM(G4:G15)=0,(" "),SUM(G4:G15)) -> 49.449 | H16: =IF(SUM(H4:H15)=0,(" "),SUM(H4:H15)) -> 73.732 | I16: =IF(SUM(I4:I15)=0,(" "),SUM(I4:I15)) -> 44.601 | J16: =IF(SUM(J4:J15)=0,(" "),SUM(J4:J15)) -> 53.528 | K16: =IF(SUM(K4:K15)=0,(" "),SUM(K4:K15)) -> 60.754 | L16: =IF(SUM(L4:L15)=0,(" "),SUM(L4:L15)) -> 60.736 | ... Q16: =IF(SUM(Q4:Q15)=0,(" "),SUM(Q4:Q15)) -> 57.088 | R16: =IF(SUM(R4:R15)=0,(" "),SUM(R4:R15))-R11 -> 59.262 | S16: =IF(SUM(S4:S15)=0,(" "),SUM(S4:S15)) -> 55.895 | T16: =IF(SUM(T4:T15)=0,(" "),SUM(T4:T15))+R11 -> 56.266 | U16: =IF(SUM(U4:U15)=0,(" "),SUM(U4:U15)) -> 52.605 | V16: =IF(SUM(V4:V15)=0,(" "),SUM(V4:V15)) -> 59.305 | W16: =IF(SUM(W4:W15)=0,(" "),SUM(W4:W15)) -> 47.986 | X16: =IF(SUM(X4:X15)=0,(" "),SUM(X4:X15)) -> 52.927 | Y16: =IF(SUM(Y4:Y15)=0,(" "),SUM(Y4:Y15)) | Z16: =IF(SUM(Z4:Z15)=0,(" "),SUM(Z4:Z15)) | AA16: =IF(SUM(AA4:AA15)=0,(" "),SUM(AA4:AA15)) | AB16: =IF(SUM(AB4:AB15)=0,(" "),SUM(AB4:AB15)) | ... AD16: =IF(SUM(AD4:AD15)=0,(" "),SUM(AD4:AD15))
C17: =SUM(C4:C15) -> 1125.868 | D17: =B3 -> HORENDONK | E17: =SUM(E4:E15) -> 71.248 | F17: =IF(F16=(" "),(" "),E17+F16) -> 114.261 | G17: =IF(G16=(" "),(" "),F17+G16) -> 163.71 | H17: =IF(H16=(" "),(" "),G17+H16) -> 237.442 | I17: =IF(I16=(" "),(" "),H17+I16) -> 282.043 | J17: =IF(J16=(" "),(" "),I17+J16) -> 335.571 | K17: =IF(K16=(" "),(" "),J17+K16) -> 396.325 | L17: =IF(L16=(" "),(" "),K17+L16) -> 457.061 | M17: =IF(M16=(" "),(" "),L17+M16) -> 524.807 | ... AD17: =IF(AD16=(" "),(" "),AC17+AD16)
B19: KERKUILEN | E19: 1 | F19: 2 | G19: 3 | H19: 4 | I19: 5 | J19: 6 | K19: 7 | L19: 8 | M19: 9 | N19: 10 | O19: 11 | P19: 12 | Q19: 13 | R19: 14 | S19: 15 | T19: 16 | U19: 17 | V19: 18 | W19: 19 | X19: 20 | Y19: 21 | Z19: 22 | AA19: 23 | AB19: 24 | AC19: 25 | AD19: 26
A20: =IF(SUM(E20:AD20)=0,(" "),COUNTIF(E20:AD20,">0")) -> 9 | B20: =Kerkuilen!A4 -> Antonissen Gust | C20: =IF(Kerkuilen!AL4=0," ",SUM(E20:AD20)) -> 98.065 | E20: =IF(Kerkuilen!C4=(""),(""),ROUND(Kerkuilen!C4/Kerkuilen!$B4*10,3)) | F20: =IF(Kerkuilen!D4=(""),(""),ROUND(Kerkuilen!D4/Kerkuilen!$B4*10,3)) | G20: =IF(Kerkuilen!E4=(""),(""),ROUND(Kerkuilen!E4/Kerkuilen!$B4*10,3)) | H20: =IF(Kerkuilen!F4=(""),(""),ROUND(Kerkuilen!F4/Kerkuilen!$B4*10,3)) | I20: =IF(Kerkuilen!G4=(""),(""),ROUND(Kerkuilen!G4/Kerkuilen!$B4*10,3)) -> 2.903 | J20: =IF(Kerkuilen!H4=(""),(""),ROUND(Kerkuilen!H4/Kerkuilen!$B4*10,3)) | K20: =IF(Kerkuilen!I4=(""),(""),ROUND(Kerkuilen!I4/Kerkuilen!$B4*10,3)) -> 10.968 | L20: =IF(Kerkuilen!J4=(""),(""),ROUND(Kerkuilen!J4/Kerkuilen!$B4*10,3)) -> 7.419 | ... Q20: =IF(Kerkuilen!O4=(""),(""),ROUND(Kerkuilen!O4/Kerkuilen!$B4*10,3)) -> 11.613 | R20: =IF(Kerkuilen!U4=(""),(""),ROUND(Kerkuilen!U4/Kerkuilen!$T4*10,3)) -> 10.323 | S20: =IF(Kerkuilen!V4=(""),(""),ROUND(Kerkuilen!V4/Kerkuilen!$T4*10,3)) | T20: =IF(Kerkuilen!W4=(""),(""),ROUND(Kerkuilen!W4/Kerkuilen!$T4*10,3)) | U20: =IF(Kerkuilen!X4=(""),(""),ROUND(Kerkuilen!X4/Kerkuilen!$T4*10,3)) -> 10.323 | V20: =IF(Kerkuilen!Y4=(""),(""),ROUND(Kerkuilen!Y4/Kerkuilen!$T4*10,3)) -> 14.516 | W20: =IF(Kerkuilen!Z4=(""),(""),ROUND(Kerkuilen!Z4/Kerkuilen!$T4*10,3)) | X20: =IF(Kerkuilen!AA4=(""),(""),ROUND(Kerkuilen!AA4/Kerkuilen!$T4*10,3)) | Y20: =IF(Kerkuilen!AB4=(""),(""),ROUND(Kerkuilen!AB4/Kerkuilen!$T4*10,3)) | ... AD20: =IF(Kerkuilen!AG4=(""),(""),ROUND(Kerkuilen!AG4/Kerkuilen!$T4*10,3))
A21: =IF(SUM(E21:AD21)=0,(" "),COUNTIF(E21:AD21,">0")) -> 7 | B21: =Kerkuilen!A5 -> De Kaey Piet | C21: =IF(Kerkuilen!AL5=0," ",SUM(E21:AD21)) -> 79.424 | E21: =IF(Kerkuilen!C5=(""),(""),ROUND(Kerkuilen!C5/Kerkuilen!$B5*10,3)) | F21: =IF(Kerkuilen!D5=(""),(""),ROUND(Kerkuilen!D5/Kerkuilen!$B5*10,3)) | G21: =IF(Kerkuilen!E5=(""),(""),ROUND(Kerkuilen!E5/Kerkuilen!$B5*10,3)) -> 10.385 | H21: =IF(Kerkuilen!F5=(""),(""),ROUND(Kerkuilen!F5/Kerkuilen!$B5*10,3)) -> 13.269 | I21: =IF(Kerkuilen!G5=(""),(""),ROUND(Kerkuilen!G5/Kerkuilen!$B5*10,3)) | J21: =IF(Kerkuilen!H5=(""),(""),ROUND(Kerkuilen!H5/Kerkuilen!$B5*10,3)) | K21: =IF(Kerkuilen!I5=(""),(""),ROUND(Kerkuilen!I5/Kerkuilen!$B5*10,3)) | L21: =IF(Kerkuilen!J5=(""),(""),ROUND(Kerkuilen!J5/Kerkuilen!$B5*10,3)) | ... Q21: =IF(Kerkuilen!O5=(""),(""),ROUND(Kerkuilen!O5/Kerkuilen!$B5*10,3)) | R21: =IF(Kerkuilen!U5=(""),(""),ROUND(Kerkuilen!U5/Kerkuilen!$T5*10,3)) -> 13.654 | S21: =IF(Kerkuilen!V5=(""),(""),ROUND(Kerkuilen!V5/Kerkuilen!$T5*10,3)) | T21: =IF(Kerkuilen!W5=(""),(""),ROUND(Kerkuilen!W5/Kerkuilen!$T5*10,3)) -> 13.654 | U21: =IF(Kerkuilen!X5=(""),(""),ROUND(Kerkuilen!X5/Kerkuilen!$T5*10,3)) | V21: =IF(Kerkuilen!Y5=(""),(""),ROUND(Kerkuilen!Y5/Kerkuilen!$T5*10,3)) | W21: =IF(Kerkuilen!Z5=(""),(""),ROUND(Kerkuilen!Z5/Kerkuilen!$T5*10,3)) | X21: =IF(Kerkuilen!AA5=(""),(""),ROUND(Kerkuilen!AA5/Kerkuilen!$T5*10,3)) -> 10 | Y21: =IF(Kerkuilen!AB5=(""),(""),ROUND(Kerkuilen!AB5/Kerkuilen!$T5*10,3)) | ... AD21: =IF(Kerkuilen!AG5=(""),(""),ROUND(Kerkuilen!AG5/Kerkuilen!$T5*10,3))
A22: =IF(SUM(E22:AD22)=0,(" "),COUNTIF(E22:AD22,">0")) -> 8 | B22: =Kerkuilen!A6 -> Elst Stan | C22: =IF(Kerkuilen!AL6=0," ",SUM(E22:AD22)) -> 69.762 | E22: =IF(Kerkuilen!C6=(""),(""),ROUND(Kerkuilen!C6/Kerkuilen!$B6*10,3)) | F22: =IF(Kerkuilen!D6=(""),(""),ROUND(Kerkuilen!D6/Kerkuilen!$B6*10,3)) | G22: =IF(Kerkuilen!E6=(""),(""),ROUND(Kerkuilen!E6/Kerkuilen!$B6*10,3)) -> 7.143 | H22: =IF(Kerkuilen!F6=(""),(""),ROUND(Kerkuilen!F6/Kerkuilen!$B6*10,3)) | I22: =IF(Kerkuilen!G6=(""),(""),ROUND(Kerkuilen!G6/Kerkuilen!$B6*10,3)) | J22: =IF(Kerkuilen!H6=(""),(""),ROUND(Kerkuilen!H6/Kerkuilen!$B6*10,3)) -> 10.714 | K22: =IF(Kerkuilen!I6=(""),(""),ROUND(Kerkuilen!I6/Kerkuilen!$B6*10,3)) | L22: =IF(Kerkuilen!J6=(""),(""),ROUND(Kerkuilen!J6/Kerkuilen!$B6*10,3)) | ... Q22: =IF(Kerkuilen!O6=(""),(""),ROUND(Kerkuilen!O6/Kerkuilen!$B6*10,3)) | R22: =IF(Kerkuilen!U6=(""),(""),ROUND(Kerkuilen!U6/Kerkuilen!$T6*10,3)) | S22: =IF(Kerkuilen!V6=(""),(""),ROUND(Kerkuilen!V6/Kerkuilen!$T6*10,3)) | T22: =IF(Kerkuilen!W6=(""),(""),ROUND(Kerkuilen!W6/Kerkuilen!$T6*10,3)) -> 7.619 | U22: =IF(Kerkuilen!X6=(""),(""),ROUND(Kerkuilen!X6/Kerkuilen!$T6*10,3)) -> 9.286 | V22: =IF(Kerkuilen!Y6=(""),(""),ROUND(Kerkuilen!Y6/Kerkuilen!$T6*10,3)) -> 9.048 | W22: =IF(Kerkuilen!Z6=(""),(""),ROUND(Kerkuilen!Z6/Kerkuilen!$T6*10,3)) -> 7.143 | X22: =IF(Kerkuilen!AA6=(""),(""),ROUND(Kerkuilen!AA6/Kerkuilen!$T6*10,3)) -> 10.714 | Y22: =IF(Kerkuilen!AB6=(""),(""),ROUND(Kerkuilen!AB6/Kerkuilen!$T6*10,3)) | ... AD22: =IF(Kerkuilen!AG6=(""),(""),ROUND(Kerkuilen!AG6/Kerkuilen!$T6*10,3))
A23: =IF(SUM(E23:AD23)=0,(" "),COUNTIF(E23:AD23,">0")) -> 2 | B23: =Kerkuilen!A7 -> Hectors Hugo | C23: =IF(Kerkuilen!AL7=0," ",SUM(E23:AD23)) -> 17.778 | E23: =IF(Kerkuilen!C7=(""),(""),ROUND(Kerkuilen!C7/Kerkuilen!$B7*10,3)) | F23: =IF(Kerkuilen!D7=(""),(""),ROUND(Kerkuilen!D7/Kerkuilen!$B7*10,3)) | G23: =IF(Kerkuilen!E7=(""),(""),ROUND(Kerkuilen!E7/Kerkuilen!$B7*10,3)) | H23: =IF(Kerkuilen!F7=(""),(""),ROUND(Kerkuilen!F7/Kerkuilen!$B7*10,3)) | I23: =IF(Kerkuilen!G7=(""),(""),ROUND(Kerkuilen!G7/Kerkuilen!$B7*10,3)) | J23: =IF(Kerkuilen!H7=(""),(""),ROUND(Kerkuilen!H7/Kerkuilen!$B7*10,3)) -> 6.667 | K23: =IF(Kerkuilen!I7=(""),(""),ROUND(Kerkuilen!I7/Kerkuilen!$B7*10,3)) | L23: =IF(Kerkuilen!J7=(""),(""),ROUND(Kerkuilen!J7/Kerkuilen!$B7*10,3)) | ... Q23: =IF(Kerkuilen!O7=(""),(""),ROUND(Kerkuilen!O7/Kerkuilen!$B7*10,3)) | R23: =IF(Kerkuilen!U7=(""),(""),ROUND(Kerkuilen!U7/Kerkuilen!$T7*10,3)) | S23: =IF(Kerkuilen!V7=(""),(""),ROUND(Kerkuilen!V7/Kerkuilen!$T7*10,3)) | T23: =IF(Kerkuilen!W7=(""),(""),ROUND(Kerkuilen!W7/Kerkuilen!$T7*10,3)) | U23: =IF(Kerkuilen!X7=(""),(""),ROUND(Kerkuilen!X7/Kerkuilen!$T7*10,3)) | V23: =IF(Kerkuilen!Y7=(""),(""),ROUND(Kerkuilen!Y7/Kerkuilen!$T7*10,3)) | W23: =IF(Kerkuilen!Z7=(""),(""),ROUND(Kerkuilen!Z7/Kerkuilen!$T7*10,3)) | X23: =IF(Kerkuilen!AA7=(""),(""),ROUND(Kerkuilen!AA7/Kerkuilen!$T7*10,3)) | Y23: =IF(Kerkuilen!AB7=(""),(""),ROUND(Kerkuilen!AB7/Kerkuilen!$T7*10,3)) | ... AD23: =IF(Kerkuilen!AG7=(""),(""),ROUND(Kerkuilen!AG7/Kerkuilen!$T7*10,3))
A24: =IF(SUM(E24:AD24)=0,(" "),COUNTIF(E24:AD24,">0")) -> 5 | B24: =Kerkuilen!A8 -> Jacobis Martin | C24: =IF(Kerkuilen!AL8=0," ",SUM(E24:AD24)) -> 52.4 | E24: =IF(Kerkuilen!C8=(""),(""),ROUND(Kerkuilen!C8/Kerkuilen!$B8*10,3)) | F24: =IF(Kerkuilen!D8=(""),(""),ROUND(Kerkuilen!D8/Kerkuilen!$B8*10,3)) | G24: =IF(Kerkuilen!E8=(""),(""),ROUND(Kerkuilen!E8/Kerkuilen!$B8*10,3)) | H24: =IF(Kerkuilen!F8=(""),(""),ROUND(Kerkuilen!F8/Kerkuilen!$B8*10,3)) | I24: =IF(Kerkuilen!G8=(""),(""),ROUND(Kerkuilen!G8/Kerkuilen!$B8*10,3)) | J24: =IF(Kerkuilen!H8=(""),(""),ROUND(Kerkuilen!H8/Kerkuilen!$B8*10,3)) | K24: =IF(Kerkuilen!I8=(""),(""),ROUND(Kerkuilen!I8/Kerkuilen!$B8*10,3)) -> 7.2 | L24: =IF(Kerkuilen!J8=(""),(""),ROUND(Kerkuilen!J8/Kerkuilen!$B8*10,3)) | ... Q24: =IF(Kerkuilen!O8=(""),(""),ROUND(Kerkuilen!O8/Kerkuilen!$B8*10,3)) | R24: =IF(Kerkuilen!U8=(""),(""),ROUND(Kerkuilen!U8/Kerkuilen!$T8*10,3)) | S24: =IF(Kerkuilen!V8=(""),(""),ROUND(Kerkuilen!V8/Kerkuilen!$T8*10,3)) -> 6.4 | T24: =IF(Kerkuilen!W8=(""),(""),ROUND(Kerkuilen!W8/Kerkuilen!$T8*10,3)) | U24: =IF(Kerkuilen!X8=(""),(""),ROUND(Kerkuilen!X8/Kerkuilen!$T8*10,3)) -> 16 | V24: =IF(Kerkuilen!Y8=(""),(""),ROUND(Kerkuilen!Y8/Kerkuilen!$T8*10,3)) | W24: =IF(Kerkuilen!Z8=(""),(""),ROUND(Kerkuilen!Z8/Kerkuilen!$T8*10,3)) | X24: =IF(Kerkuilen!AA8=(""),(""),ROUND(Kerkuilen!AA8/Kerkuilen!$T8*10,3)) | Y24: =IF(Kerkuilen!AB8=(""),(""),ROUND(Kerkuilen!AB8/Kerkuilen!$T8*10,3)) | ... AD24: =IF(Kerkuilen!AG8=(""),(""),ROUND(Kerkuilen!AG8/Kerkuilen!$T8*10,3))
A25: =IF(SUM(E25:AD25)=0,(" "),COUNTIF(E25:AD25,">0")) -> 10 | B25: =Kerkuilen!A9 -> Lambrechts Jef | C25: =IF(Kerkuilen!AL9=0," ",SUM(E25:AD25)) -> 90.566 | E25: =IF(Kerkuilen!C9=(""),(""),ROUND(Kerkuilen!C9/Kerkuilen!$B9*10,3)) -> 8.302 | F25: =IF(Kerkuilen!D9=(""),(""),ROUND(Kerkuilen!D9/Kerkuilen!$B9*10,3)) | G25: =IF(Kerkuilen!E9=(""),(""),ROUND(Kerkuilen!E9/Kerkuilen!$B9*10,3)) -> 11.887 | H25: =IF(Kerkuilen!F9=(""),(""),ROUND(Kerkuilen!F9/Kerkuilen!$B9*10,3)) -> 10 | I25: =IF(Kerkuilen!G9=(""),(""),ROUND(Kerkuilen!G9/Kerkuilen!$B9*10,3)) -> 8.302 | J25: =IF(Kerkuilen!H9=(""),(""),ROUND(Kerkuilen!H9/Kerkuilen!$B9*10,3)) | K25: =IF(Kerkuilen!I9=(""),(""),ROUND(Kerkuilen!I9/Kerkuilen!$B9*10,3)) -> 10 | L25: =IF(Kerkuilen!J9=(""),(""),ROUND(Kerkuilen!J9/Kerkuilen!$B9*10,3)) | ... Q25: =IF(Kerkuilen!O9=(""),(""),ROUND(Kerkuilen!O9/Kerkuilen!$B9*10,3)) | R25: =IF(Kerkuilen!U9=(""),(""),ROUND(Kerkuilen!U9/Kerkuilen!$T9*10,3)) | S25: =IF(Kerkuilen!V9=(""),(""),ROUND(Kerkuilen!V9/Kerkuilen!$T9*10,3)) -> 2.453 | T25: =IF(Kerkuilen!W9=(""),(""),ROUND(Kerkuilen!W9/Kerkuilen!$T9*10,3)) -> 8.679 | U25: =IF(Kerkuilen!X9=(""),(""),ROUND(Kerkuilen!X9/Kerkuilen!$T9*10,3)) | V25: =IF(Kerkuilen!Y9=(""),(""),ROUND(Kerkuilen!Y9/Kerkuilen!$T9*10,3)) -> 12.264 | W25: =IF(Kerkuilen!Z9=(""),(""),ROUND(Kerkuilen!Z9/Kerkuilen!$T9*10,3)) | X25: =IF(Kerkuilen!AA9=(""),(""),ROUND(Kerkuilen!AA9/Kerkuilen!$T9*10,3)) | Y25: =IF(Kerkuilen!AB9=(""),(""),ROUND(Kerkuilen!AB9/Kerkuilen!$T9*10,3)) | ... AD25: =IF(Kerkuilen!AG9=(""),(""),ROUND(Kerkuilen!AG9/Kerkuilen!$T9*10,3))
A26: =IF(SUM(E26:AD26)=0,(" "),COUNTIF(E26:AD26,">0")) -> 9 | B26: =Kerkuilen!A10 -> Naulaerts Rik | C26: =IF(Kerkuilen!AL10=0," ",SUM(E26:AD26)) -> 82.352 | E26: =IF(Kerkuilen!C10=(""),(""),ROUND(Kerkuilen!C10/Kerkuilen!$B10*10,3)) | F26: =IF(Kerkuilen!D10=(""),(""),ROUND(Kerkuilen!D10/Kerkuilen!$B10*10,3)) | G26: =IF(Kerkuilen!E10=(""),(""),ROUND(Kerkuilen!E10/Kerkuilen!$B10*10,3)) | H26: =IF(Kerkuilen!F10=(""),(""),ROUND(Kerkuilen!F10/Kerkuilen!$B10*10,3)) -> 10.784 | I26: =IF(Kerkuilen!G10=(""),(""),ROUND(Kerkuilen!G10/Kerkuilen!$B10*10,3)) -> 11.176 | J26: =IF(Kerkuilen!H10=(""),(""),ROUND(Kerkuilen!H10/Kerkuilen!$B10*10,3)) -> 9.608 | K26: =IF(Kerkuilen!I10=(""),(""),ROUND(Kerkuilen!I10/Kerkuilen!$B10*10,3)) | L26: =IF(Kerkuilen!J10=(""),(""),ROUND(Kerkuilen!J10/Kerkuilen!$B10*10,3)) | ... Q26: =IF(Kerkuilen!O10=(""),(""),ROUND(Kerkuilen!O10/Kerkuilen!$B10*10,3)) -> 5.686 | R26: =IF(Kerkuilen!U10=(""),(""),ROUND(Kerkuilen!U10/Kerkuilen!$T10*10,3)) -> 14.118 | S26: =IF(Kerkuilen!V10=(""),(""),ROUND(Kerkuilen!V10/Kerkuilen!$T10*10,3)) -> 8.627 | T26: =IF(Kerkuilen!W10=(""),(""),ROUND(Kerkuilen!W10/Kerkuilen!$T10*10,3)) | U26: =IF(Kerkuilen!X10=(""),(""),ROUND(Kerkuilen!X10/Kerkuilen!$T10*10,3)) | V26: =IF(Kerkuilen!Y10=(""),(""),ROUND(Kerkuilen!Y10/Kerkuilen!$T10*10,3)) | W26: =IF(Kerkuilen!Z10=(""),(""),ROUND(Kerkuilen!Z10/Kerkuilen!$T10*10,3)) -> 7.843 | X26: =IF(Kerkuilen!AA10=(""),(""),ROUND(Kerkuilen!AA10/Kerkuilen!$T10*10,3)) | Y26: =IF(Kerkuilen!AB10=(""),(""),ROUND(Kerkuilen!AB10/Kerkuilen!$T10*10,3)) | ... AD26: =IF(Kerkuilen!AG10=(""),(""),ROUND(Kerkuilen!AG10/Kerkuilen!$T10*10,3))
A27: =IF(SUM(E27:AD27)=0,(" "),COUNTIF(E27:AD27,">0")) -> 5 | B27: =Kerkuilen!A11 -> Peeters Wies | C27: =IF(Kerkuilen!AL11=0," ",SUM(E27:AD27)) -> 44.286 | E27: =IF(Kerkuilen!C11=(""),(""),ROUND(Kerkuilen!C11/Kerkuilen!$B11*10,3)) -> 9.286 | F27: =IF(Kerkuilen!D11=(""),(""),ROUND(Kerkuilen!D11/Kerkuilen!$B11*10,3)) -> 7.143 | G27: =IF(Kerkuilen!E11=(""),(""),ROUND(Kerkuilen!E11/Kerkuilen!$B11*10,3)) | H27: =IF(Kerkuilen!F11=(""),(""),ROUND(Kerkuilen!F11/Kerkuilen!$B11*10,3)) | I27: =IF(Kerkuilen!G11=(""),(""),ROUND(Kerkuilen!G11/Kerkuilen!$B11*10,3)) | J27: =IF(Kerkuilen!H11=(""),(""),ROUND(Kerkuilen!H11/Kerkuilen!$B11*10,3)) | K27: =IF(Kerkuilen!I11=(""),(""),ROUND(Kerkuilen!I11/Kerkuilen!$B11*10,3)) | L27: =IF(Kerkuilen!J11=(""),(""),ROUND(Kerkuilen!J11/Kerkuilen!$B11*10,3)) -> 12.5 | ... Q27: =IF(Kerkuilen!O11=(""),(""),ROUND(Kerkuilen!O11/Kerkuilen!$B11*10,3)) | R27: =IF(Kerkuilen!U11=(""),(""),ROUND(Kerkuilen!U11/Kerkuilen!$T11*10,3)) | S27: =IF(Kerkuilen!V11=(""),(""),ROUND(Kerkuilen!V11/Kerkuilen!$T11*10,3)) | T27: =IF(Kerkuilen!W11=(""),(""),ROUND(Kerkuilen!W11/Kerkuilen!$T11*10,3)) -> 10.714 | U27: =IF(Kerkuilen!X11=(""),(""),ROUND(Kerkuilen!X11/Kerkuilen!$T11*10,3)) | V27: =IF(Kerkuilen!Y11=(""),(""),ROUND(Kerkuilen!Y11/Kerkuilen!$T11*10,3)) | W27: =IF(Kerkuilen!Z11=(""),(""),ROUND(Kerkuilen!Z11/Kerkuilen!$T11*10,3)) | X27: =IF(Kerkuilen!AA11=(""),(""),ROUND(Kerkuilen!AA11/Kerkuilen!$T11*10,3)) | Y27: =IF(Kerkuilen!AB11=(""),(""),ROUND(Kerkuilen!AB11/Kerkuilen!$T11*10,3)) | ... AD27: =IF(Kerkuilen!AG11=(""),(""),ROUND(Kerkuilen!AG11/Kerkuilen!$T11*10,3))
A28: =IF(SUM(E28:AD28)=0,(" "),COUNTIF(E28:AD28,">0")) -> 14 | B28: =Kerkuilen!A12 -> Pleysier Luc | C28: =IF(Kerkuilen!AL12=0," ",SUM(E28:AD28)) -> 119.89 | E28: =IF(Kerkuilen!C12=(""),(""),ROUND(Kerkuilen!C12/Kerkuilen!$B12*10,3)) -> 8.667 | F28: =IF(Kerkuilen!D12=(""),(""),ROUND(Kerkuilen!D12/Kerkuilen!$B12*10,3)) -> 6.556 | G28: =IF(Kerkuilen!E12=(""),(""),ROUND(Kerkuilen!E12/Kerkuilen!$B12*10,3)) | H28: =IF(Kerkuilen!F12=(""),(""),ROUND(Kerkuilen!F12/Kerkuilen!$B12*10,3)) -> 7.778 | I28: =IF(Kerkuilen!G12=(""),(""),ROUND(Kerkuilen!G12/Kerkuilen!$B12*10,3)) | J28: =IF(Kerkuilen!H12=(""),(""),ROUND(Kerkuilen!H12/Kerkuilen!$B12*10,3)) -> 10.111 | K28: =IF(Kerkuilen!I12=(""),(""),ROUND(Kerkuilen!I12/Kerkuilen!$B12*10,3)) -> 6.889 | L28: =IF(Kerkuilen!J12=(""),(""),ROUND(Kerkuilen!J12/Kerkuilen!$B12*10,3)) -> 8.667 | ... Q28: =IF(Kerkuilen!O12=(""),(""),ROUND(Kerkuilen!O12/Kerkuilen!$B12*10,3)) -> 8.444 | R28: =IF(Kerkuilen!U12=(""),(""),ROUND(Kerkuilen!U12/Kerkuilen!$T12*10,3)) | S28: =IF(Kerkuilen!V12=(""),(""),ROUND(Kerkuilen!V12/Kerkuilen!$T12*10,3)) -> 6.778 | T28: =IF(Kerkuilen!W12=(""),(""),ROUND(Kerkuilen!W12/Kerkuilen!$T12*10,3)) -> 12.222 | U28: =IF(Kerkuilen!X12=(""),(""),ROUND(Kerkuilen!X12/Kerkuilen!$T12*10,3)) -> 7.667 | V28: =IF(Kerkuilen!Y12=(""),(""),ROUND(Kerkuilen!Y12/Kerkuilen!$T12*10,3)) | W28: =IF(Kerkuilen!Z12=(""),(""),ROUND(Kerkuilen!Z12/Kerkuilen!$T12*10,3)) -> 11.889 | X28: =IF(Kerkuilen!AA12=(""),(""),ROUND(Kerkuilen!AA12/Kerkuilen!$T12*10,3)) | Y28: =IF(Kerkuilen!AB12=(""),(""),ROUND(Kerkuilen!AB12/Kerkuilen!$T12*10,3)) | ... AD28: =IF(Kerkuilen!AG12=(""),(""),ROUND(Kerkuilen!AG12/Kerkuilen!$T12*10,3))
A29: =IF(SUM(E29:AD29)=0,(" "),COUNTIF(E29:AD29,">0")) -> 11 | B29: =Kerkuilen!A13 -> Quick Gerard | C29: =IF(Kerkuilen!AL13=0," ",SUM(E29:AD29)) -> 121.153 | E29: =IF(Kerkuilen!C13=(""),(""),ROUND(Kerkuilen!C13/Kerkuilen!$B13*10,3)) -> 13.846 | F29: =IF(Kerkuilen!D13=(""),(""),ROUND(Kerkuilen!D13/Kerkuilen!$B13*10,3)) | G29: =IF(Kerkuilen!E13=(""),(""),ROUND(Kerkuilen!E13/Kerkuilen!$B13*10,3)) | H29: =IF(Kerkuilen!F13=(""),(""),ROUND(Kerkuilen!F13/Kerkuilen!$B13*10,3)) | I29: =IF(Kerkuilen!G13=(""),(""),ROUND(Kerkuilen!G13/Kerkuilen!$B13*10,3)) -> 10.769 | J29: =IF(Kerkuilen!H13=(""),(""),ROUND(Kerkuilen!H13/Kerkuilen!$B13*10,3)) -> 5.769 | K29: =IF(Kerkuilen!I13=(""),(""),ROUND(Kerkuilen!I13/Kerkuilen!$B13*10,3)) | L29: =IF(Kerkuilen!J13=(""),(""),ROUND(Kerkuilen!J13/Kerkuilen!$B13*10,3)) -> 13.846 | ... Q29: =IF(Kerkuilen!O13=(""),(""),ROUND(Kerkuilen!O13/Kerkuilen!$B13*10,3)) -> 9.231 | R29: =IF(Kerkuilen!U13=(""),(""),ROUND(Kerkuilen!U13/Kerkuilen!$T13*10,3)) | S29: =IF(Kerkuilen!V13=(""),(""),ROUND(Kerkuilen!V13/Kerkuilen!$T13*10,3)) -> 15 | T29: =IF(Kerkuilen!W13=(""),(""),ROUND(Kerkuilen!W13/Kerkuilen!$T13*10,3)) | U29: =IF(Kerkuilen!X13=(""),(""),ROUND(Kerkuilen!X13/Kerkuilen!$T13*10,3)) -> 10 | V29: =IF(Kerkuilen!Y13=(""),(""),ROUND(Kerkuilen!Y13/Kerkuilen!$T13*10,3)) -> 14.615 | W29: =IF(Kerkuilen!Z13=(""),(""),ROUND(Kerkuilen!Z13/Kerkuilen!$T13*10,3)) -> 9.231 | X29: =IF(Kerkuilen!AA13=(""),(""),ROUND(Kerkuilen!AA13/Kerkuilen!$T13*10,3)) | Y29: =IF(Kerkuilen!AB13=(""),(""),ROUND(Kerkuilen!AB13/Kerkuilen!$T13*10,3)) | ... AD29: =IF(Kerkuilen!AG13=(""),(""),ROUND(Kerkuilen!AG13/Kerkuilen!$T13*10,3))
A30: =IF(SUM(E30:AD30)=0,(" "),COUNTIF(E30:AD30,">0")) -> 10 | B30: =Kerkuilen!A14 -> Schrooyen Jef | C30: =IF(Kerkuilen!AL14=0," ",SUM(E30:AD30)) -> 91.568 | E30: =IF(Kerkuilen!C14=(""),(""),ROUND(Kerkuilen!C14/Kerkuilen!$B14*10,3)) -> 7.059 | F30: =IF(Kerkuilen!D14=(""),(""),ROUND(Kerkuilen!D14/Kerkuilen!$B14*10,3)) -> 7.843 | G30: =IF(Kerkuilen!E14=(""),(""),ROUND(Kerkuilen!E14/Kerkuilen!$B14*10,3)) | H30: =IF(Kerkuilen!F14=(""),(""),ROUND(Kerkuilen!F14/Kerkuilen!$B14*10,3)) -> 8.235 | I30: =IF(Kerkuilen!G14=(""),(""),ROUND(Kerkuilen!G14/Kerkuilen!$B14*10,3)) -> 8.039 | J30: =IF(Kerkuilen!H14=(""),(""),ROUND(Kerkuilen!H14/Kerkuilen!$B14*10,3)) -> 9.216 | K30: =IF(Kerkuilen!I14=(""),(""),ROUND(Kerkuilen!I14/Kerkuilen!$B14*10,3)) -> 6.667 | L30: =IF(Kerkuilen!J14=(""),(""),ROUND(Kerkuilen!J14/Kerkuilen!$B14*10,3)) | ... Q30: =IF(Kerkuilen!O14=(""),(""),ROUND(Kerkuilen!O14/Kerkuilen!$B14*10,3)) -> 10.784 | R30: =IF(Kerkuilen!U14=(""),(""),ROUND(Kerkuilen!U14/Kerkuilen!$T14*10,3)) | S30: =IF(Kerkuilen!V14=(""),(""),ROUND(Kerkuilen!V14/Kerkuilen!$T14*10,3)) | T30: =IF(Kerkuilen!W14=(""),(""),ROUND(Kerkuilen!W14/Kerkuilen!$T14*10,3)) | U30: =IF(Kerkuilen!X14=(""),(""),ROUND(Kerkuilen!X14/Kerkuilen!$T14*10,3)) | V30: =IF(Kerkuilen!Y14=(""),(""),ROUND(Kerkuilen!Y14/Kerkuilen!$T14*10,3)) | W30: =IF(Kerkuilen!Z14=(""),(""),ROUND(Kerkuilen!Z14/Kerkuilen!$T14*10,3)) | X30: =IF(Kerkuilen!AA14=(""),(""),ROUND(Kerkuilen!AA14/Kerkuilen!$T14*10,3)) -> 15.49 | Y30: =IF(Kerkuilen!AB14=(""),(""),ROUND(Kerkuilen!AB14/Kerkuilen!$T14*10,3)) | ... AD30: =IF(Kerkuilen!AG14=(""),(""),ROUND(Kerkuilen!AG14/Kerkuilen!$T14*10,3))
A31: =IF(SUM(E31:AD31)=0,(" "),COUNTIF(E31:AD31,">0")) -> 11 | B31: =Kerkuilen!A15 -> Uytdewilligen Hubert | C31: =IF(Kerkuilen!AL15=0," ",SUM(E31:AD31)) -> 113.03 | E31: =IF(Kerkuilen!C15=(""),(""),ROUND(Kerkuilen!C15/Kerkuilen!$B15*10,3)) -> 7.879 | F31: =IF(Kerkuilen!D15=(""),(""),ROUND(Kerkuilen!D15/Kerkuilen!$B15*10,3)) | G31: =IF(Kerkuilen!E15=(""),(""),ROUND(Kerkuilen!E15/Kerkuilen!$B15*10,3)) -> 4.545 | H31: =IF(Kerkuilen!F15=(""),(""),ROUND(Kerkuilen!F15/Kerkuilen!$B15*10,3)) | I31: =IF(Kerkuilen!G15=(""),(""),ROUND(Kerkuilen!G15/Kerkuilen!$B15*10,3)) -> 11.515 | J31: =IF(Kerkuilen!H15=(""),(""),ROUND(Kerkuilen!H15/Kerkuilen!$B15*10,3)) | K31: =IF(Kerkuilen!I15=(""),(""),ROUND(Kerkuilen!I15/Kerkuilen!$B15*10,3)) -> 10.909 | L31: =IF(Kerkuilen!J15=(""),(""),ROUND(Kerkuilen!J15/Kerkuilen!$B15*10,3)) -> 11.212 | ... Q31: =IF(Kerkuilen!O15=(""),(""),ROUND(Kerkuilen!O15/Kerkuilen!$B15*10,3)) | R31: =IF(Kerkuilen!U15=(""),(""),ROUND(Kerkuilen!U15/Kerkuilen!$T15*10,3)) | S31: =IF(Kerkuilen!V15=(""),(""),ROUND(Kerkuilen!V15/Kerkuilen!$T15*10,3)) -> 9.091 | T31: =IF(Kerkuilen!W15=(""),(""),ROUND(Kerkuilen!W15/Kerkuilen!$T15*10,3)) | U31: =IF(Kerkuilen!X15=(""),(""),ROUND(Kerkuilen!X15/Kerkuilen!$T15*10,3)) -> 17.879 | V31: =IF(Kerkuilen!Y15=(""),(""),ROUND(Kerkuilen!Y15/Kerkuilen!$T15*10,3)) -> 9.091 | W31: =IF(Kerkuilen!Z15=(""),(""),ROUND(Kerkuilen!Z15/Kerkuilen!$T15*10,3)) -> 9.394 | X31: =IF(Kerkuilen!AA15=(""),(""),ROUND(Kerkuilen!AA15/Kerkuilen!$T15*10,3)) -> 10 | Y31: =IF(Kerkuilen!AB15=(""),(""),ROUND(Kerkuilen!AB15/Kerkuilen!$T15*10,3)) | ... AD31: =IF(Kerkuilen!AG15=(""),(""),ROUND(Kerkuilen!AG15/Kerkuilen!$T15*10,3))
A32: =IF(SUM(E32:AD32)=0,(" "),COUNTIF(E32:AD32,">0")) -> 6 | B32: =Kerkuilen!A16 -> Van Ginneken Cyriel [NS 20] | C32: =IF(Kerkuilen!AL16=0," ",SUM(E32:AD32)) -> 57.75 | E32: =IF(Kerkuilen!C16=(""),(""),ROUND(Kerkuilen!C16/Kerkuilen!$B16*10,3)) | F32: =IF(Kerkuilen!D16=(""),(""),ROUND(Kerkuilen!D16/20*10,3)) -> 8 | G32: =IF(Kerkuilen!E16=(""),(""),ROUND(Kerkuilen!E16/20*10,3)) -> 5.5 | H32: =IF(Kerkuilen!F16=(""),(""),ROUND(Kerkuilen!F16/Kerkuilen!$B16*10,3)) | I32: =IF(Kerkuilen!G16=(""),(""),ROUND(Kerkuilen!G16/Kerkuilen!$B16*10,3)) | J32: =IF(Kerkuilen!H16=(""),(""),ROUND(Kerkuilen!H16/Kerkuilen!$B16*10,3)) | K32: =IF(Kerkuilen!I16=(""),(""),ROUND(Kerkuilen!I16/Kerkuilen!$B16*10,3)) | L32: =IF(Kerkuilen!J16=(""),(""),ROUND(Kerkuilen!J16/Kerkuilen!$B16*10,3)) | M32: =IF(Kerkuilen!K16=(""),(""),ROUND(Kerkuilen!K16/Kerkuilen!$B16*10,3)) | N32: =IF(Kerkuilen!L16=(""),(""),ROUND(Kerkuilen!L16/Kerkuilen!$B16*10,3)) | O32: =IF(Kerkuilen!M16=(""),(""),ROUND(Kerkuilen!M16/20*10,3)) -> 8.5 | P32: =IF(Kerkuilen!N16=(""),(""),ROUND(Kerkuilen!N16/Kerkuilen!$B16*10,3)) | Q32: =IF(Kerkuilen!O16=(""),(""),ROUND(Kerkuilen!O16/Kerkuilen!$B16*10,3)) -> 12 | R32: =IF(Kerkuilen!U16=(""),(""),ROUND(Kerkuilen!U16/Kerkuilen!$T16*10,3)) -> 11.875 | S32: =IF(Kerkuilen!V16=(""),(""),ROUND(Kerkuilen!V16/Kerkuilen!$T16*10,3)) | T32: =IF(Kerkuilen!W16=(""),(""),ROUND(Kerkuilen!W16/Kerkuilen!$T16*10,3)) -> 11.875 | U32: =IF(Kerkuilen!X16=(""),(""),ROUND(Kerkuilen!X16/Kerkuilen!$T16*10,3)) | V32: =IF(Kerkuilen!Y16=(""),(""),ROUND(Kerkuilen!Y16/Kerkuilen!$T16*10,3)) | W32: =IF(Kerkuilen!Z16=(""),(""),ROUND(Kerkuilen!Z16/Kerkuilen!$T16*10,3)) | X32: =IF(Kerkuilen!AA16=(""),(""),ROUND(Kerkuilen!AA16/Kerkuilen!$T16*10,3)) | Y32: =IF(Kerkuilen!AB16=(""),(""),ROUND(Kerkuilen!AB16/Kerkuilen!$T16*10,3)) | ... AD32: =IF(Kerkuilen!AG16=(""),(""),ROUND(Kerkuilen!AG16/Kerkuilen!$T16*10,3))
A33: =IF(SUM(E33:AD33)=0,(" "),COUNTIF(E33:AD33,">0")) -> 9 | B33: =Kerkuilen!A17 -> Van Oers Danny [NS 50] | C33: =IF(Kerkuilen!AL17=0," ",SUM(E33:AD33)) -> 81.618 | E33: =IF(Kerkuilen!C17=(""),(""),ROUND(Kerkuilen!C17/Kerkuilen!$B17*10,3)) | F33: =IF(Kerkuilen!D17=(""),(""),ROUND(Kerkuilen!D17/50*10,3)) -> 10 | G33: =IF(Kerkuilen!E17=(""),(""),ROUND(Kerkuilen!E17/50*10,3)) -> 9 | H33: =IF(Kerkuilen!F17=(""),(""),ROUND(Kerkuilen!F17/50*10,3)) -> 12.2 | I33: =IF(Kerkuilen!G17=(""),(""),ROUND(Kerkuilen!G17/Kerkuilen!$B17*10,3)) | J33: =IF(Kerkuilen!H17=(""),(""),ROUND(Kerkuilen!H17/Kerkuilen!$B17*10,3)) | K33: =IF(Kerkuilen!I17=(""),(""),ROUND(Kerkuilen!I17/Kerkuilen!$B17*10,3)) | L33: =IF(Kerkuilen!J17=(""),(""),ROUND(Kerkuilen!J17/Kerkuilen!$B17*10,3)) -> 10 | M33: =IF(Kerkuilen!K17=(""),(""),ROUND(Kerkuilen!K17/Kerkuilen!$B17*10,3)) | N33: =IF(Kerkuilen!L17=(""),(""),ROUND(Kerkuilen!L17/Kerkuilen!$B17*10,3)) -> 7.5 | O33: =IF(Kerkuilen!M17=(""),(""),ROUND(Kerkuilen!M17/Kerkuilen!$B17*10,3)) | P33: =IF(Kerkuilen!N17=(""),(""),ROUND(Kerkuilen!N17/Kerkuilen!$B17*10,3)) -> 11.154 | Q33: =IF(Kerkuilen!O17=(""),(""),ROUND(Kerkuilen!O17/Kerkuilen!$B17*10,3)) | R33: =IF(Kerkuilen!U17=(""),(""),ROUND(Kerkuilen!U17/Kerkuilen!$T17*10,3)) -> 8.627 | S33: =IF(Kerkuilen!V17=(""),(""),ROUND(Kerkuilen!V17/Kerkuilen!$T17*10,3)) | T33: =IF(Kerkuilen!W17=(""),(""),ROUND(Kerkuilen!W17/Kerkuilen!$T17*10,3)) | U33: =IF(Kerkuilen!X17=(""),(""),ROUND(Kerkuilen!X17/Kerkuilen!$T17*10,3)) | V33: =IF(Kerkuilen!Y17=(""),(""),ROUND(Kerkuilen!Y17/Kerkuilen!$T17*10,3)) | W33: =IF(Kerkuilen!Z17=(""),(""),ROUND(Kerkuilen!Z17/Kerkuilen!$T17*10,3)) -> 8.039 | X33: =IF(Kerkuilen!AA17=(""),(""),ROUND(Kerkuilen!AA17/Kerkuilen!$T17*10,3)) -> 5.098 | Y33: =IF(Kerkuilen!AB17=(""),(""),ROUND(Kerkuilen!AB17/Kerkuilen!$T17*10,3)) | ... AD33: =IF(Kerkuilen!AG17=(""),(""),ROUND(Kerkuilen!AG17/Kerkuilen!$T17*10,3))
A34: =IF(SUM(E34:AD34)=0,(" "),COUNTIF(E34:AD34,">0")) -> 4 | B34: =Kerkuilen!A18 -> Van Oers John | C34: =IF(Kerkuilen!AL16=0," ",SUM(E34:AD34)) -> 39.033 | E34: =IF(Kerkuilen!C18=(""),(""),ROUND(Kerkuilen!C18/Kerkuilen!$B18*10,3)) | F34: =IF(Kerkuilen!D18=(""),(""),ROUND(Kerkuilen!D18/Kerkuilen!$B18*10,3)) -> 13.548 | G34: =IF(Kerkuilen!E18=(""),(""),ROUND(Kerkuilen!E18/Kerkuilen!$B18*10,3)) | H34: =IF(Kerkuilen!F18=(""),(""),ROUND(Kerkuilen!F18/Kerkuilen!$B18*10,3)) | I34: =IF(Kerkuilen!G18=(""),(""),ROUND(Kerkuilen!G18/Kerkuilen!$B18*10,3)) | J34: =IF(Kerkuilen!H18=(""),(""),ROUND(Kerkuilen!H18/Kerkuilen!$B18*10,3)) | K34: =IF(Kerkuilen!I18=(""),(""),ROUND(Kerkuilen!I18/Kerkuilen!$B18*10,3)) | L34: =IF(Kerkuilen!J18=(""),(""),ROUND(Kerkuilen!J18/Kerkuilen!$B18*10,3)) | ... Q34: =IF(Kerkuilen!O18=(""),(""),ROUND(Kerkuilen!O18/Kerkuilen!$B18*10,3)) | R34: =IF(Kerkuilen!U18=(""),(""),ROUND(Kerkuilen!U18/Kerkuilen!$T18*10,3)) -> 4.194 | S34: =IF(Kerkuilen!V18=(""),(""),ROUND(Kerkuilen!V18/Kerkuilen!$T18*10,3)) | T34: =IF(Kerkuilen!W18=(""),(""),ROUND(Kerkuilen!W18/Kerkuilen!$T18*10,3)) | U34: =IF(Kerkuilen!X18=(""),(""),ROUND(Kerkuilen!X18/Kerkuilen!$T18*10,3)) | V34: =IF(Kerkuilen!Y18=(""),(""),ROUND(Kerkuilen!Y18/Kerkuilen!$T18*10,3)) -> 8.71 | W34: =IF(Kerkuilen!Z18=(""),(""),ROUND(Kerkuilen!Z18/Kerkuilen!$T18*10,3)) | X34: =IF(Kerkuilen!AA18=(""),(""),ROUND(Kerkuilen!AA18/Kerkuilen!$T18*10,3)) -> 12.581 | Y34: =IF(Kerkuilen!AB18=(""),(""),ROUND(Kerkuilen!AB18/Kerkuilen!$T18*10,3)) | ... AD34: =IF(Kerkuilen!AG18=(""),(""),ROUND(Kerkuilen!AG18/Kerkuilen!$T18*10,3))
C35: =B19 -> KERKUILEN | E35: =IF(SUM(E20:E34)=0,(" "),SUM(E20:E34)) -> 55.039 | F35: =IF(SUM(F20:F34)=0,(" "),SUM(F20:F34)) -> 53.09 | G35: =IF(SUM(G20:G34)=0,(" "),SUM(G20:G34)) -> 48.46 | H35: =IF(SUM(H20:H34)=0,(" "),SUM(H20:H34)) -> 62.266 | I35: =IF(SUM(I20:I34)=0,("0"),SUM(I20:I34)) -> 52.704 | J35: =IF(SUM(J20:J34)=0,(" "),SUM(J20:J34)) -> 52.085 | K35: =IF(SUM(K20:K34)=0,(" "),SUM(K20:K34)) -> 52.633 | L35: =IF(SUM(L20:L34)=0,(" "),SUM(L20:L34)) -> 63.644 | M35: =IF(SUM(M20:M34)=0,(" "),SUM(M20:M34)) -> 53.924 | N35: =IF(SUM(N20:N34)=0,(" "),SUM(N20:N34)) -> 53.023 | O35: =IF(SUM(O20:O34)=0,(" "),SUM(O20:O34)) -> 67.561 | P35: =IF(SUM(P20:P34)=0,(" "),SUM(P20:P34)) -> 53.764 | Q35: =IF(SUM(Q20:Q34)=0,(" "),SUM(Q20:Q34)) -> 57.758 | ... AD35: =IF(SUM(AD20:AD34)=0,(" "),SUM(AD20:AD34))
C36: =SUM(C20:C34) -> 1158.675 | D36: =B19 -> KERKUILEN | E36: =SUM(E20:E34) -> 55.039 | F36: =IF(F35=(" "),(" "),E36+F35) -> 108.129 | G36: =IF(G35=(" "),(" "),F36+G35) -> 156.589 | H36: =IF(H35=(" "),(" "),G36+H35) -> 218.855 | I36: =IF(I35=(" "),(" "),H36+I35) -> 271.559 | J36: =IF(J35=(" "),(" "),I36+J35) -> 323.644 | K36: =IF(K35=(" "),(" "),J36+K35) -> 376.277 | L36: =IF(L35=(" "),(" "),K36+L35) -> 439.921 | M36: =IF(M35=(" "),(" "),L36+M35) -> 493.845 | ... AD36: =IF(AD35=(" "),(" "),AC36+AD35)
B38: MEEUWEN 1 | E38: 1 | F38: 2 | G38: 3 | H38: 4 | I38: 5 | J38: 6 | K38: 7 | L38: 8 | M38: 9 | N38: 10 | O38: 11 | P38: 12 | Q38: 13 | R38: 14 | S38: 15 | T38: 16 | U38: 17 | V38: 18 | W38: 19 | X38: 20 | Y38: 21 | Z38: 22 | AA38: 23 | AB38: 24 | AC38: 25 | AD38: 26
A39: =IF(SUM(E39:AD39)=0,(" "),COUNTIF(E39:AD39,">0")) -> 13 | B39: =Meeuwen1!A4 -> Aerts Adri | C39: =IF(Meeuwen1!AL4=0," ",SUM(E39:AD39)) -> 140.628 | E39: =IF(Meeuwen1!C4=(""),(""),ROUND(Meeuwen1!C4/Meeuwen1!$B4*10,3)) -> 5.625 | F39: =IF(Meeuwen1!D4=(""),(""),ROUND(Meeuwen1!D4/Meeuwen1!$B4*10,3)) -> 10.313 | G39: =IF(Meeuwen1!E4=(""),(""),ROUND(Meeuwen1!E4/Meeuwen1!$B4*10,3)) | H39: =IF(Meeuwen1!F4=(""),(""),ROUND(Meeuwen1!F4/Meeuwen1!$B4*10,3)) -> 15 | I39: =IF(Meeuwen1!G4=(""),(""),ROUND(Meeuwen1!G4/Meeuwen1!$B4*10,3)) | J39: =IF(Meeuwen1!H4=(""),(""),ROUND(Meeuwen1!H4/Meeuwen1!$B4*10,3)) -> 8.125 | K39: =IF(Meeuwen1!I4=(""),(""),ROUND(Meeuwen1!I4/Meeuwen1!$B4*10,3)) | L39: =IF(Meeuwen1!J4=(""),(""),ROUND(Meeuwen1!J4/Meeuwen1!$B4*10,3)) -> 12.188 | ... Q39: =IF(Meeuwen1!O4=(""),(""),ROUND(Meeuwen1!O4/Meeuwen1!$B4*10,3)) -> 9.688 | R39: =IF(Meeuwen1!U4=(""),(""),ROUND(Meeuwen1!U4/Meeuwen1!$T4*10,3)) -> 11.563 | S39: =IF(Meeuwen1!V4=(""),(""),ROUND(Meeuwen1!V4/Meeuwen1!$T4*10,3)) -> 12.813 | T39: =IF(Meeuwen1!W4=(""),(""),ROUND(Meeuwen1!W4/Meeuwen1!$T4*10,3)) | U39: =IF(Meeuwen1!X4=(""),(""),ROUND(Meeuwen1!X4/Meeuwen1!$T4*10,3)) | V39: =IF(Meeuwen1!Y4=(""),(""),ROUND(Meeuwen1!Y4/Meeuwen1!$T4*10,3)) -> 14.375 | W39: =IF(Meeuwen1!Z4=(""),(""),ROUND(Meeuwen1!Z4/Meeuwen1!$T4*10,3)) | X39: =IF(Meeuwen1!AA4=(""),(""),ROUND(Meeuwen1!AA4/Meeuwen1!$T4*10,3)) -> 10.625 | Y39: =IF(Meeuwen1!AB4=(""),(""),ROUND(Meeuwen1!AB4/Meeuwen1!$T4*10,3)) | ... AD39: =IF(Meeuwen1!AG4=(""),(""),ROUND(Meeuwen1!AG4/Meeuwen1!$T4*10,3))
A40: =IF(SUM(E40:AD40)=0,(" "),COUNTIF(E40:AD40,">0")) -> 15 | B40: =Meeuwen1!A5 -> Bocken Jean Pierre | C40: =IF(Meeuwen1!AL5=0," ",SUM(E40:AD40)) -> 122.776 | E40: =IF(Meeuwen1!C5=(""),(""),ROUND(Meeuwen1!C5/Meeuwen1!$B5*10,3)) -> 6.111 | F40: =IF(Meeuwen1!D5=(""),(""),ROUND(Meeuwen1!D5/Meeuwen1!$B5*10,3)) -> 6.111 | G40: =IF(Meeuwen1!E5=(""),(""),ROUND(Meeuwen1!E5/Meeuwen1!$B5*10,3)) -> 3.333 | H40: =IF(Meeuwen1!F5=(""),(""),ROUND(Meeuwen1!F5/Meeuwen1!$B5*10,3)) | I40: =IF(Meeuwen1!G5=(""),(""),ROUND(Meeuwen1!G5/Meeuwen1!$B5*10,3)) -> 14.444 | J40: =IF(Meeuwen1!H5=(""),(""),ROUND(Meeuwen1!H5/Meeuwen1!$B5*10,3)) | K40: =IF(Meeuwen1!I5=(""),(""),ROUND(Meeuwen1!I5/Meeuwen1!$B5*10,3)) -> 9.444 | L40: =IF(Meeuwen1!J5=(""),(""),ROUND(Meeuwen1!J5/Meeuwen1!$B5*10,3)) -> 3.333 | ... Q40: =IF(Meeuwen1!O5=(""),(""),ROUND(Meeuwen1!O5/Meeuwen1!$B5*10,3)) -> 7.778 | R40: =IF(Meeuwen1!U5=(""),(""),ROUND(Meeuwen1!U5/Meeuwen1!$T5*10,3)) -> 15.556 | S40: =IF(Meeuwen1!V5=(""),(""),ROUND(Meeuwen1!V5/Meeuwen1!$T5*10,3)) -> 7.222 | T40: =IF(Meeuwen1!W5=(""),(""),ROUND(Meeuwen1!W5/Meeuwen1!$T5*10,3)) -> 6.111 | U40: =IF(Meeuwen1!X5=(""),(""),ROUND(Meeuwen1!X5/Meeuwen1!$T5*10,3)) -> 11.111 | V40: =IF(Meeuwen1!Y5=(""),(""),ROUND(Meeuwen1!Y5/Meeuwen1!$T5*10,3)) -> 6.111 | W40: =IF(Meeuwen1!Z5=(""),(""),ROUND(Meeuwen1!Z5/Meeuwen1!$T5*10,3)) -> 11.667 | X40: =IF(Meeuwen1!AA5=(""),(""),ROUND(Meeuwen1!AA5/Meeuwen1!$T5*10,3)) | Y40: =IF(Meeuwen1!AB5=(""),(""),ROUND(Meeuwen1!AB5/Meeuwen1!$T5*10,3)) | ... AD40: =IF(Meeuwen1!AG5=(""),(""),ROUND(Meeuwen1!AG5/Meeuwen1!$T5*10,3))
