Workbook

Sheet Rangschikking
A1: 0 | B1: Rangschikking 2025 - 2026
F2: Laatst gewijzigd
A3: 1 | B3: België - Nederland | F3: 46072
B4: =IF(A8=14,"EINDSTAND", "TUSSENSTAND" ) -> TUSSENSTAND
N5: CONTROLE T/M RONDE | O5: CONTROLE PER RONDE
A6: Gespeeld | C6: Ploeg | D6: Punten | F6: Caramboles | H6: CLUB-KAMPIOEN | K6: NIEUW GEMIDDELDE | L6: WEDSTRIJDEN GESPEELD | N6: 9 | O6: 1
A8: =COUNTIF(Punten!$E$120:'Punten'!$R$120,">0") -> 9 | B8: =IF(A8>0,"W", " ") -> W | C8: Wildert 2 | D8: =Punten!$C$121 -> 545.093 | F8: =Wildert2!$AA$20 -> 2217 | H8: =INDEX(Wildert2!$B$5:$B$19,MATCH(MAX(Wildert2!$AE$5:$AE$19),Wildert2!$AE$5:$AE$19,0)) -> Peeters Hugo (ns) | J8: =MAX(Wildert2!$AE$5:$AE$19) -> 147.22222 | K8: =VLOOKUP($H8,Wildert2!$B$5:$AC$19,28,0) -> 53 | L8: =VLOOKUP($H8,Wildert2!$B$5:$AC$19,27,0) -> 1 | N8: =VLOOKUP($C8,Punten!$D$4:$R$139,1+$N$6,0) -> 545.093 | O8: =VLOOKUP($C8,Punten!$C$4:$R$139,2+$O$6,0) -> 65.34
A9: =COUNTIF(Punten!$E$68:'Punten'!$R$68,">0") -> 9 | B9: =IF(A9>0,"W", " ") -> W | C9: Oude Glorie | D9: =Punten!$C$69 -> 532.043 | F9: =Oudeglorie!$AA$20 -> 1682 | H9: =INDEX(Oudeglorie!$B$5:$B$19,MATCH(MAX(Oudeglorie!$AE$5:$AE$19),Oudeglorie!$AE$5:$AE$19,0)) -> Cleeren Guido | J9: =MAX(Oudeglorie!$AE$5:$AE$19) -> 161.11111 | K9: =VLOOKUP($H9,Oudeglorie!$B$5:$AC$19,28,0) -> 29 | L9: =VLOOKUP($H9,Oudeglorie!$B$5:$AC$19,27,0) -> 1 | N9: =VLOOKUP($C9,Punten!$D$4:$R$139,1+$N$6,0) -> 532.043 | O9: =VLOOKUP($C9,Punten!$C$4:$R$139,2+$O$6,0) -> 60.441
A10: =COUNTIF(Punten!$E$18:'Punten'!$R$18,">0") -> 9 | B10: =IF(A10>0,"W", " ") -> W | C10: Horendonk | D10: =Punten!$C$18 -> 530.505 | F10: =Horendonk!$AA$20 -> 1439 | H10: =INDEX(Horendonk!$B$5:$B$19,MATCH(MAX(Horendonk!$AE$5:$AE$19),Horendonk!$AE$5:$AE$19,0)) -> Arnouts Louis | J10: =MAX(Horendonk!$AE$5:$AE$19) -> 126.11111 | K10: =VLOOKUP($H10,Horendonk!$B$5:$AC$19,28,0) -> 45.4 | L10: =VLOOKUP($H10,Horendonk!$B$5:$AC$19,27,0) -> 5 | N10: =VLOOKUP($C10,Punten!$D$4:$R$139,1+$N$6,0) -> 530.505 | O10: =VLOOKUP($C10,Punten!$C$4:$R$139,2+$O$6,0) -> 69.16
A11: =COUNTIF(Punten!$E$104:'Punten'!$R$104,">0") -> 9 | B11: =IF(A11>0,"W", " ") -> W | C11: Wildert 1 | D11: =Punten!$C$105 -> 518.949 | F11: =Wildert1!$AA$20 -> 2057 | H11: =INDEX(Wildert1!$B$5:$B$19,MATCH(MAX(Wildert1!$AE$5:$AE$19),Wildert1!$AE$5:$AE$19,0)) -> Kustermans Toon | J11: =MAX(Wildert1!$AE$5:$AE$19) -> 115.35088 | K11: =VLOOKUP($H11,Wildert1!$B$5:$AC$19,28,0) -> 43.833333 | L11: =VLOOKUP($H11,Wildert1!$B$5:$AC$19,27,0) -> 6 | N11: =VLOOKUP($C11,Punten!$D$4:$R$139,1+$N$6,0) -> 518.949 | O11: =VLOOKUP($C11,Punten!$C$4:$R$139,2+$O$6,0) -> 51.466
A12: =COUNTIF(Punten!$E$138:'Punten'!$R$138,">0") -> 9 | B12: =IF(A12>0,"W", " ") -> W | C12: De Spil | D12: =Punten!$C$139 -> 508.667 | F12: =DeSpil!$AA$20 -> 1407 | H12: =INDEX(DeSpil!$B$5:$B$19,MATCH(MAX(DeSpil!$AE$5:$AE$19),DeSpil!$AE$5:$AE$19,0)) -> Elst Jan | J12: =MAX(DeSpil!$AE$5:$AE$19) -> 120.2381 | K12: =VLOOKUP($H12,DeSpil!$B$5:$AC$19,28,0) -> 28.857143 | L12: =VLOOKUP($H12,DeSpil!$B$5:$AC$19,27,0) -> 7 | N12: =VLOOKUP($C12,Punten!$D$4:$R$139,1+$N$6,0) -> 508.667 | O12: =VLOOKUP($C12,Punten!$C$4:$R$139,2+$O$6,0) -> 50.906
A13: =COUNTIF(Punten!$E$50:'Punten'!$R$50,">0") -> 9 | B13: =IF(A13>0,"W", " ") -> W | C13: Kerkuilen | D13: =Punten!$C$51 -> 503.763 | F13: =Kerkuilen!$AA$20 -> 2030 | H13: =INDEX(Kerkuilen!$B$5:$B$19,MATCH(MAX(Kerkuilen!$AE$5:$AE$19),Kerkuilen!$AE$5:$AE$19,0)) -> Antonissen Gust | J13: =MAX(Kerkuilen!$AE$5:$AE$19) -> 124.26471 | K13: =VLOOKUP($H13,Kerkuilen!$B$5:$AC$19,28,0) -> 42.25 | L13: =VLOOKUP($H13,Kerkuilen!$B$5:$AC$19,27,0) -> 4 | N13: =VLOOKUP($C13,Punten!$D$4:$R$139,1+$N$6,0) -> 503.763 | O13: =VLOOKUP($C13,Punten!$C$4:$R$139,2+$O$6,0) -> 58.379
A14: =COUNTIF(Punten!$E$86:'Punten'!$R$86,">0") -> 9 | B14: =IF(A14>0,"W", " ") -> W | C14: Sen. Putte | D14: =Punten!$C$87 -> 499.85 | F14: =Putte!$AA$20 -> 1531 | H14: =INDEX(Putte!$B$5:$B$19,MATCH(MAX(Putte!$AE$5:$AE$19),Putte!$AE$5:$AE$19,0)) -> Plompen Dirk | J14: =MAX(Putte!$AE$5:$AE$19) -> 112.2449 | K14: =VLOOKUP($H14,Putte!$B$5:$AC$19,28,0) -> 39.285714 | L14: =VLOOKUP($H14,Putte!$B$5:$AC$19,27,0) -> 7 | N14: =VLOOKUP($C14,Punten!$D$4:$R$139,1+$N$6,0) -> 499.85 | O14: =VLOOKUP($C14,Punten!$C$4:$R$139,2+$O$6,0) -> 42.436
A15: =COUNTIF(Punten!$E$31:'Punten'!$R$31,">0") -> 9 | B15: =IF(A15>0,"W", " ") -> W | C15: Sen. Nispen | D15: =Punten!$C$32 -> 492.4 | F15: =Nispen!$AA$20 -> 1188 | H15: =INDEX(Nispen!$B$5:$B$19,MATCH(MAX(Nispen!$AE$5:$AE$19),Nispen!$AE$5:$AE$19,0)) -> Martens Gerrit | J15: =MAX(Nispen!$AE$5:$AE$19) -> 122.22222 | K15: =VLOOKUP($H15,Nispen!$B$5:$AC$19,28,0) -> 18.333333 | L15: =VLOOKUP($H15,Nispen!$B$5:$AC$19,27,0) -> 6 | N15: =VLOOKUP($C15,Punten!$D$4:$R$139,1+$N$6,0) -> 492.4 | O15: =VLOOKUP($C15,Punten!$C$4:$R$139,2+$O$6,0) -> 44.451
C21: Uitslagen en evoluties zijn wekelijks te volgen op:
C22: https://blog.seniorennet.be/GSE_Essen

Sheet Punten
A1: Aantal | C1: Totaal
A2: wedstr | C2: punten
B4: HORENDONK | E4: 1 | F4: 2 | G4: 3 | H4: 4 | I4: 5 | J4: 6 | K4: 7 | L4: 8 | M4: 9 | N4: 10 | O4: 11 | P4: 12 | Q4: 13 | R4: 14
A5: =IF(SUM(E5:R5)=0,(" "),COUNTIF(E5:R5,">0")) -> 4 | B5: =Horendonk!$B5 -> Ansems Ferre | C5: =IF(Horendonk!$AA5=0," ",SUM(E5:R5)) -> 37.083 | E5: =IF(Horendonk!D5=(""),(""),ROUND(Horendonk!D5/Horendonk!$C5*10,3)) -> 10.417 | F5: =IF(Horendonk!E5=(""),(""),ROUND(Horendonk!E5/Horendonk!$C5*10,3)) | G5: =IF(Horendonk!F5=(""),(""),ROUND(Horendonk!F5/Horendonk!$C5*10,3)) -> 10 | H5: =IF(Horendonk!G5=(""),(""),ROUND(Horendonk!G5/Horendonk!$C5*10,3)) -> 8.333 | I5: =IF(Horendonk!H5=(""),(""),ROUND(Horendonk!H5/Horendonk!$C5*10,3)) | J5: =IF(Horendonk!I5=(""),(""),ROUND(Horendonk!I5/Horendonk!$C5*10,3)) | K5: =IF(Horendonk!J5=(""),(""),ROUND(Horendonk!J5/Horendonk!$C5*10,3)) | L5: =IF(Horendonk!P5=(""),(""),ROUND(Horendonk!P5/Horendonk!$O5*10,3)) | M5: =IF(Horendonk!Q5=(""),(""),ROUND(Horendonk!Q5/Horendonk!$O5*10,3)) -> 8.333 | N5: =IF(Horendonk!R5=(""),(""),ROUND(Horendonk!R5/Horendonk!$O5*10,3)) | O5: =IF(Horendonk!S5=(""),(""),ROUND(Horendonk!S5/Horendonk!$O5*10,3)) | P5: =IF(Horendonk!T5=(""),(""),ROUND(Horendonk!T5/Horendonk!$O5*10,3)) | Q5: =IF(Horendonk!U5=(""),(""),ROUND(Horendonk!U5/Horendonk!$O5*10,3)) | R5: =IF(Horendonk!V5=(""),(""),ROUND(Horendonk!V5/Horendonk!$O5*10,3))
A6: =IF(SUM(E6:R6)=0,(" "),COUNTIF(E6:R6,">0")) -> 5 | B6: =Horendonk!B6 -> Arnouts Louis | C6: =IF(Horendonk!AA6=0," ",SUM(E6:R6)) -> 63.056 | E6: =IF(Horendonk!D6=(""),(""),ROUND(Horendonk!D6/Horendonk!$C6*10,3)) -> 12.778 | F6: =IF(Horendonk!E6=(""),(""),ROUND(Horendonk!E6/Horendonk!$C6*10,3)) -> 16.111 | G6: =IF(Horendonk!F6=(""),(""),ROUND(Horendonk!F6/Horendonk!$C6*10,3)) | H6: =IF(Horendonk!G6=(""),(""),ROUND(Horendonk!G6/Horendonk!$C6*10,3)) | I6: =IF(Horendonk!H6=(""),(""),ROUND(Horendonk!H6/Horendonk!$C6*10,3)) -> 7.5 | J6: =IF(Horendonk!I6=(""),(""),ROUND(Horendonk!I6/Horendonk!$C6*10,3)) -> 12.778 | K6: =IF(Horendonk!J6=(""),(""),ROUND(Horendonk!J6/Horendonk!$C6*10,3)) -> 13.889 | L6: =IF(Horendonk!P6=(""),(""),ROUND(Horendonk!P6/Horendonk!$O6*10,3)) | M6: =IF(Horendonk!Q6=(""),(""),ROUND(Horendonk!Q6/Horendonk!$O6*10,3)) | N6: =IF(Horendonk!R6=(""),(""),ROUND(Horendonk!R6/Horendonk!$O6*10,3)) | O6: =IF(Horendonk!S6=(""),(""),ROUND(Horendonk!S6/Horendonk!$O6*10,3)) | P6: =IF(Horendonk!T6=(""),(""),ROUND(Horendonk!T6/Horendonk!$O6*10,3)) | Q6: =IF(Horendonk!U6=(""),(""),ROUND(Horendonk!U6/Horendonk!$O6*10,3)) | R6: =IF(Horendonk!V6=(""),(""),ROUND(Horendonk!V6/Horendonk!$O6*10,3))
A7: =IF(SUM(E7:R7)=0,(" "),COUNTIF(E7:R7,">0")) -> 2 | B7: =Horendonk!B7 -> Brosens Jan | C7: =IF(Horendonk!AA7=0," ",SUM(E7:R7)) -> 21.923 | E7: =IF(Horendonk!D7=(""),(""),ROUND(Horendonk!D7/Horendonk!$C7*10,3)) -> 16.154 | F7: =IF(Horendonk!E7=(""),(""),ROUND(Horendonk!E7/Horendonk!$C7*10,3)) | G7: =IF(Horendonk!F7=(""),(""),ROUND(Horendonk!F7/Horendonk!$C7*10,3)) -> 5.769 | H7: =IF(Horendonk!G7=(""),(""),ROUND(Horendonk!G7/Horendonk!$C7*10,3)) | I7: =IF(Horendonk!H7=(""),(""),ROUND(Horendonk!H7/Horendonk!$C7*10,3)) | J7: =IF(Horendonk!I7=(""),(""),ROUND(Horendonk!I7/Horendonk!$C7*10,3)) | K7: =IF(Horendonk!J7=(""),(""),ROUND(Horendonk!J7/Horendonk!$C7*10,3)) | L7: =IF(Horendonk!P7=(""),(""),ROUND(Horendonk!P7/Horendonk!$O7*10,3)) | M7: =IF(Horendonk!Q7=(""),(""),ROUND(Horendonk!Q7/Horendonk!$O7*10,3)) | N7: =IF(Horendonk!R7=(""),(""),ROUND(Horendonk!R7/Horendonk!$O7*10,3)) | O7: =IF(Horendonk!S7=(""),(""),ROUND(Horendonk!S7/Horendonk!$O7*10,3)) | P7: =IF(Horendonk!T7=(""),(""),ROUND(Horendonk!T7/Horendonk!$O7*10,3)) | Q7: =IF(Horendonk!U7=(""),(""),ROUND(Horendonk!U7/Horendonk!$O7*10,3)) | R7: =IF(Horendonk!V7=(""),(""),ROUND(Horendonk!V7/Horendonk!$O7*10,3))
A8: =IF(SUM(E8:R8)=0,(" "),COUNTIF(E8:R8,">0")) -> 7 | B8: =Horendonk!B8 -> De Backer Jef | C8: =IF(Horendonk!AA8=0," ",SUM(E8:R8)) -> 64.4 | E8: =IF(Horendonk!D8=(""),(""),ROUND(Horendonk!D8/Horendonk!$C8*10,3)) | F8: =IF(Horendonk!E8=(""),(""),ROUND(Horendonk!E8/Horendonk!$C8*10,3)) -> 10.4 | G8: =IF(Horendonk!F8=(""),(""),ROUND(Horendonk!F8/Horendonk!$C8*10,3)) -> 2.8 | H8: =IF(Horendonk!G8=(""),(""),ROUND(Horendonk!G8/Horendonk!$C8*10,3)) -> 8.8 | I8: =IF(Horendonk!H8=(""),(""),ROUND(Horendonk!H8/Horendonk!$C8*10,3)) -> 9.6 | J8: =IF(Horendonk!I8=(""),(""),ROUND(Horendonk!I8/Horendonk!$C8*10,3)) | K8: =IF(Horendonk!J8=(""),(""),ROUND(Horendonk!J8/Horendonk!$C8*10,3)) -> 12 | L8: =IF(Horendonk!P8=(""),(""),ROUND(Horendonk!P8/Horendonk!$O8*10,3)) -> 12.4 | M8: =IF(Horendonk!Q8=(""),(""),ROUND(Horendonk!Q8/Horendonk!$O8*10,3)) -> 8.4 | N8: =IF(Horendonk!R8=(""),(""),ROUND(Horendonk!R8/Horendonk!$O8*10,3)) | O8: =IF(Horendonk!S8=(""),(""),ROUND(Horendonk!S8/Horendonk!$O8*10,3)) | P8: =IF(Horendonk!T8=(""),(""),ROUND(Horendonk!T8/Horendonk!$O8*10,3)) | Q8: =IF(Horendonk!U8=(""),(""),ROUND(Horendonk!U8/Horendonk!$O8*10,3)) | R8: =IF(Horendonk!V8=(""),(""),ROUND(Horendonk!V8/Horendonk!$O8*10,3))
A9: =IF(SUM(E9:R9)=0,(" "),COUNTIF(E9:R9,">0")) -> 6 | B9: =Horendonk!B9 -> Herreygers Remy | C9: =IF(Horendonk!AA9=0," ",SUM(E9:R9)) -> 47.907 | E9: =IF(Horendonk!D9=(""),(""),ROUND(Horendonk!D9/Horendonk!$C9*10,3)) -> 10 | F9: =IF(Horendonk!E9=(""),(""),ROUND(Horendonk!E9/Horendonk!$C9*10,3)) -> 12.791 | G9: =IF(Horendonk!F9=(""),(""),ROUND(Horendonk!F9/Horendonk!$C9*10,3)) -> 6.744 | H9: =IF(Horendonk!G9=(""),(""),ROUND(Horendonk!G9/Horendonk!$C9*10,3)) -> 6.047 | I9: =IF(Horendonk!H9=(""),(""),ROUND(Horendonk!H9/Horendonk!$C9*10,3)) | J9: =IF(Horendonk!I9=(""),(""),ROUND(Horendonk!I9/Horendonk!$C9*10,3)) | K9: =IF(Horendonk!J9=(""),(""),ROUND(Horendonk!J9/Horendonk!$C9*10,3)) | L9: =IF(Horendonk!P9=(""),(""),ROUND(Horendonk!P9/Horendonk!$O9*10,3)) -> 8.372 | M9: =IF(Horendonk!Q9=(""),(""),ROUND(Horendonk!Q9/Horendonk!$O9*10,3)) -> 3.953 | N9: =IF(Horendonk!R9=(""),(""),ROUND(Horendonk!R9/Horendonk!$O9*10,3)) | O9: =IF(Horendonk!S9=(""),(""),ROUND(Horendonk!S9/Horendonk!$O9*10,3)) | P9: =IF(Horendonk!T9=(""),(""),ROUND(Horendonk!T9/Horendonk!$O9*10,3)) | Q9: =IF(Horendonk!U9=(""),(""),ROUND(Horendonk!U9/Horendonk!$O9*10,3)) | R9: =IF(Horendonk!V9=(""),(""),ROUND(Horendonk!V9/Horendonk!$O9*10,3))
A10: =IF(SUM(E10:R10)=0,(" "),COUNTIF(E10:R10,">0")) -> 5 | B10: =Horendonk!B10 -> Maas Guy | C10: =IF(Horendonk!AA10=0," ",SUM(E10:R10)) -> 46.5 | E10: =IF(Horendonk!D10=(""),(""),ROUND(Horendonk!D10/Horendonk!$C10*10,3)) | F10: =IF(Horendonk!E10=(""),(""),ROUND(Horendonk!E10/Horendonk!$C10*10,3)) -> 6.5 | G10: =IF(Horendonk!F10=(""),(""),ROUND(Horendonk!F10/Horendonk!$C10*10,3)) -> 9 | H10: =IF(Horendonk!G10=(""),(""),ROUND(Horendonk!G10/Horendonk!$C10*10,3)) | I10: =IF(Horendonk!H10=(""),(""),ROUND(Horendonk!H10/Horendonk!$C10*10,3)) -> 9 | J10: =IF(Horendonk!I10=(""),(""),ROUND(Horendonk!I10/Horendonk!$C10*10,3)) -> 8.5 | K10: =IF(Horendonk!J10=(""),(""),ROUND(Horendonk!J10/Horendonk!$C10*10,3)) | L10: =IF(Horendonk!P10=(""),(""),ROUND(Horendonk!P10/Horendonk!$O10*10,3)) | M10: =IF(Horendonk!Q10=(""),(""),ROUND(Horendonk!Q10/Horendonk!$O10*10,3)) -> 13.5 | N10: =IF(Horendonk!R10=(""),(""),ROUND(Horendonk!R10/Horendonk!$O10*10,3)) | O10: =IF(Horendonk!S10=(""),(""),ROUND(Horendonk!S10/Horendonk!$O10*10,3)) | P10: =IF(Horendonk!T10=(""),(""),ROUND(Horendonk!T10/Horendonk!$O10*10,3)) | Q10: =IF(Horendonk!U10=(""),(""),ROUND(Horendonk!U10/Horendonk!$O10*10,3)) | R10: =IF(Horendonk!V10=(""),(""),ROUND(Horendonk!V10/Horendonk!$O10*10,3))
A11: =IF(SUM(E11:R11)=0,(" "),COUNTIF(E11:R11,">0")) -> 6 | B11: =Horendonk!B11 -> Nelen Johan | C11: =IF(Horendonk!AA11=0," ",SUM(E11:R11)) -> 41.176 | E11: =IF(Horendonk!D11=(""),(""),ROUND(Horendonk!D11/Horendonk!$C11*10,3)) -> 5.882 | F11: =IF(Horendonk!E11=(""),(""),ROUND(Horendonk!E11/Horendonk!$C11*10,3)) | G11: =IF(Horendonk!F11=(""),(""),ROUND(Horendonk!F11/Horendonk!$C11*10,3)) | H11: =IF(Horendonk!G11=(""),(""),ROUND(Horendonk!G11/Horendonk!$C11*10,3)) -> 6.471 | I11: =IF(Horendonk!H11=(""),(""),ROUND(Horendonk!H11/Horendonk!$C11*10,3)) -> 12.353 | J11: =IF(Horendonk!I11=(""),(""),ROUND(Horendonk!I11/Horendonk!$C11*10,3)) -> 5.294 | K11: =IF(Horendonk!J11=(""),(""),ROUND(Horendonk!J11/Horendonk!$C11*10,3)) -> 7.647 | L11: =IF(Horendonk!P11=(""),(""),ROUND(Horendonk!P11/Horendonk!$O11*10,3)) | M11: =IF(Horendonk!Q11=(""),(""),ROUND(Horendonk!Q11/Horendonk!$O11*10,3)) -> 3.529 | N11: =IF(Horendonk!R11=(""),(""),ROUND(Horendonk!R11/Horendonk!$O11*10,3)) | O11: =IF(Horendonk!S11=(""),(""),ROUND(Horendonk!S11/Horendonk!$O11*10,3)) | P11: =IF(Horendonk!T11=(""),(""),ROUND(Horendonk!T11/Horendonk!$O11*10,3)) | Q11: =IF(Horendonk!U11=(""),(""),ROUND(Horendonk!U11/Horendonk!$O11*10,3)) | R11: =IF(Horendonk!V11=(""),(""),ROUND(Horendonk!V11/Horendonk!$O11*10,3))
A12: =IF(SUM(E12:R12)=0,(" "),COUNTIF(E12:R12,">0")) -> 5 | B12: =Horendonk!B12 -> Oerlemans Willy | C12: =IF(Horendonk!AA12=0," ",SUM(E12:R12)) -> 51.072 | E12: =IF(Horendonk!D12=(""),(""),ROUND(Horendonk!D12/Horendonk!$C12*10,3)) -> 13.929 | F12: =IF(Horendonk!E12=(""),(""),ROUND(Horendonk!E12/Horendonk!$C12*10,3)) | G12: =IF(Horendonk!F12=(""),(""),ROUND(Horendonk!F12/Horendonk!$C12*10,3)) | H12: =IF(Horendonk!G12=(""),(""),ROUND(Horendonk!G12/Horendonk!$C12*10,3)) -> 7.857 | I12: =IF(Horendonk!H12=(""),(""),ROUND(Horendonk!H12/Horendonk!$C12*10,3)) | J12: =IF(Horendonk!I12=(""),(""),ROUND(Horendonk!I12/Horendonk!$C12*10,3)) -> 6.786 | K12: =IF(Horendonk!J12=(""),(""),ROUND(Horendonk!J12/Horendonk!$C12*10,3)) -> 10.714 | L12: =IF(Horendonk!P12=(""),(""),ROUND(Horendonk!P12/Horendonk!$O12*10,3)) -> 11.786 | M12: =IF(Horendonk!Q12=(""),(""),ROUND(Horendonk!Q12/Horendonk!$O12*10,3)) | N12: =IF(Horendonk!R12=(""),(""),ROUND(Horendonk!R12/Horendonk!$O12*10,3)) | O12: =IF(Horendonk!S12=(""),(""),ROUND(Horendonk!S12/Horendonk!$O12*10,3)) | P12: =IF(Horendonk!T12=(""),(""),ROUND(Horendonk!T12/Horendonk!$O12*10,3)) | Q12: =IF(Horendonk!U12=(""),(""),ROUND(Horendonk!U12/Horendonk!$O12*10,3)) | R12: =IF(Horendonk!V12=(""),(""),ROUND(Horendonk!V12/Horendonk!$O12*10,3))
A13: =IF(SUM(E13:R13)=0,(" "),COUNTIF(E13:R13,">0")) -> 4 | B13: =Horendonk!B13 -> Siemons Jos | C13: =IF(Horendonk!AA13=0," ",SUM(E13:R13)) -> 43.044 | E13: =IF(Horendonk!D13=(""),(""),ROUND(Horendonk!D13/Horendonk!$C13*10,3)) | F13: =IF(Horendonk!E13=(""),(""),ROUND(Horendonk!E13/Horendonk!$C13*10,3)) | G13: =IF(Horendonk!F13=(""),(""),ROUND(Horendonk!F13/Horendonk!$C13*10,3)) | H13: =IF(Horendonk!G13=(""),(""),ROUND(Horendonk!G13/Horendonk!$C13*10,3)) -> 10.87 | I13: =IF(Horendonk!H13=(""),(""),ROUND(Horendonk!H13/Horendonk!$C13*10,3)) -> 10 | J13: =IF(Horendonk!I13=(""),(""),ROUND(Horendonk!I13/Horendonk!$C13*10,3)) | K13: =IF(Horendonk!J13=(""),(""),ROUND(Horendonk!J13/Horendonk!$C13*10,3)) | L13: =IF(Horendonk!P13=(""),(""),ROUND(Horendonk!P13/Horendonk!$O13*10,3)) -> 12.174 | M13: =IF(Horendonk!Q13=(""),(""),ROUND(Horendonk!Q13/Horendonk!$O13*10,3)) -> 10 | N13: =IF(Horendonk!R13=(""),(""),ROUND(Horendonk!R13/Horendonk!$O13*10,3)) | O13: =IF(Horendonk!S13=(""),(""),ROUND(Horendonk!S13/Horendonk!$O13*10,3)) | P13: =IF(Horendonk!T13=(""),(""),ROUND(Horendonk!T13/Horendonk!$O13*10,3)) | Q13: =IF(Horendonk!U13=(""),(""),ROUND(Horendonk!U13/Horendonk!$O13*10,3)) | R13: =IF(Horendonk!V13=(""),(""),ROUND(Horendonk!V13/Horendonk!$O13*10,3))
A14: =IF(SUM(E14:R14)=0,(" "),COUNTIF(E14:R14,">0")) -> 6 | B14: =Horendonk!B14 -> van Aert André | C14: =IF(Horendonk!AA14=0," ",SUM(E14:R14)) -> 72.083 | E14: =IF(Horendonk!D14=(""),(""),ROUND(Horendonk!D14/Horendonk!$C14*10,3)) | F14: =IF(Horendonk!E14=(""),(""),ROUND(Horendonk!E14/Horendonk!$C14*10,3)) -> 15.417 | G14: =IF(Horendonk!F14=(""),(""),ROUND(Horendonk!F14/Horendonk!$C14*10,3)) -> 10.833 | H14: =IF(Horendonk!G14=(""),(""),ROUND(Horendonk!G14/Horendonk!$C14*10,3)) | I14: =IF(Horendonk!H14=(""),(""),ROUND(Horendonk!H14/Horendonk!$C14*10,3)) -> 11.25 | J14: =IF(Horendonk!I14=(""),(""),ROUND(Horendonk!I14/Horendonk!$C14*10,3)) -> 10.833 | K14: =IF(Horendonk!J14=(""),(""),ROUND(Horendonk!J14/Horendonk!$C14*10,3)) -> 10 | L14: =IF(Horendonk!P14=(""),(""),ROUND(Horendonk!P14/Horendonk!$O14*10,3)) -> 13.75 | M14: =IF(Horendonk!Q14=(""),(""),ROUND(Horendonk!Q14/Horendonk!$O14*10,3)) | N14: =IF(Horendonk!R14=(""),(""),ROUND(Horendonk!R14/Horendonk!$O14*10,3)) | O14: =IF(Horendonk!S14=(""),(""),ROUND(Horendonk!S14/Horendonk!$O14*10,3)) | P14: =IF(Horendonk!T14=(""),(""),ROUND(Horendonk!T14/Horendonk!$O14*10,3)) | Q14: =IF(Horendonk!U14=(""),(""),ROUND(Horendonk!U14/Horendonk!$O14*10,3)) | R14: =IF(Horendonk!V14=(""),(""),ROUND(Horendonk!V14/Horendonk!$O14*10,3))
A15: =IF(SUM(E15:R15)=0,(" "),COUNTIF(E15:R15,">0")) -> 1 | B15: =Horendonk!B15 -> Veraart Jef (ns) | C15: =IF(Horendonk!AA15=0," ",SUM(E15:R15)) -> 7.778 | E15: =IF(Horendonk!D15=(""),(""),ROUND(Horendonk!D15/Horendonk!$C15*10,3)) | F15: =IF(Horendonk!E15=(""),(""),ROUND(Horendonk!E15/Horendonk!$C15*10,3)) | G15: =IF(Horendonk!F15=(""),(""),ROUND(Horendonk!F15/Horendonk!$C15*10,3)) | H15: =IF(Horendonk!G15=(""),(""),ROUND(Horendonk!G15/Horendonk!$C15*10,3)) | I15: =IF(Horendonk!H15=(""),(""),ROUND(Horendonk!H15/Horendonk!$C15*10,3)) | J15: =IF(Horendonk!I15=(""),(""),ROUND(Horendonk!I15/Horendonk!$C15*10,3)) -> 7.778 | K15: =IF(Horendonk!J15=(""),(""),ROUND(Horendonk!J15/Horendonk!$C15*10,3)) | L15: =IF(Horendonk!P15=(""),(""),ROUND(Horendonk!P15/Horendonk!$O15*10,3)) | M15: =IF(Horendonk!Q15=(""),(""),ROUND(Horendonk!Q15/Horendonk!$O15*10,3)) | N15: =IF(Horendonk!R15=(""),(""),ROUND(Horendonk!R15/Horendonk!$O15*10,3)) | O15: =IF(Horendonk!S15=(""),(""),ROUND(Horendonk!S15/Horendonk!$O15*10,3)) | P15: =IF(Horendonk!T15=(""),(""),ROUND(Horendonk!T15/Horendonk!$O15*10,3)) | Q15: =IF(Horendonk!U15=(""),(""),ROUND(Horendonk!U15/Horendonk!$O15*10,3)) | R15: =IF(Horendonk!V15=(""),(""),ROUND(Horendonk!V15/Horendonk!$O15*10,3))
A16: =IF(SUM(E16:R16)=0,(" "),COUNTIF(E16:R16,">0")) -> 3 | B16: =Horendonk!B16 -> Vergouwen René | C16: =IF(Horendonk!AA16=0," ",SUM(E16:R16)) -> 34.483 | E16: =IF(Horendonk!D16=(""),(""),ROUND(Horendonk!D16/Horendonk!$C16*10,3)) | F16: =IF(Horendonk!E16=(""),(""),ROUND(Horendonk!E16/Horendonk!$C16*10,3)) -> 12.069 | G16: =IF(Horendonk!F16=(""),(""),ROUND(Horendonk!F16/Horendonk!$C16*10,3)) | H16: =IF(Horendonk!G16=(""),(""),ROUND(Horendonk!G16/Horendonk!$C16*10,3)) | I16: =IF(Horendonk!H16=(""),(""),ROUND(Horendonk!H16/Horendonk!$C16*10,3)) | J16: =IF(Horendonk!I16=(""),(""),ROUND(Horendonk!I16/Horendonk!$C16*10,3)) | K16: =IF(Horendonk!J16=(""),(""),ROUND(Horendonk!J16/Horendonk!$C16*10,3)) -> 10.345 | L16: =IF(Horendonk!P16=(""),(""),ROUND(Horendonk!P16/Horendonk!$O16*10,3)) -> 12.069 | M16: =IF(Horendonk!Q16=(""),(""),ROUND(Horendonk!Q16/Horendonk!$O16*10,3)) | N16: =IF(Horendonk!R16=(""),(""),ROUND(Horendonk!R16/Horendonk!$O16*10,3)) | O16: =IF(Horendonk!S16=(""),(""),ROUND(Horendonk!S16/Horendonk!$O16*10,3)) | P16: =IF(Horendonk!T16=(""),(""),ROUND(Horendonk!T16/Horendonk!$O16*10,3)) | Q16: =IF(Horendonk!U16=(""),(""),ROUND(Horendonk!U16/Horendonk!$O16*10,3)) | R16: =IF(Horendonk!V16=(""),(""),ROUND(Horendonk!V16/Horendonk!$O16*10,3))
C17: Horendonk | D17: 5 | E17: =IF(SUM(E5:E16)=0,(" "),SUM(E5:E16)) -> 69.16 | F17: =IF(SUM(F5:F16)=0,(" "),SUM(F5:F16)) -> 73.288 | G17: =IF(SUM(G5:G16)=0,(" "),SUM(G5:G16)) -> 45.146 | H17: =IF(SUM(H5:H16)=0,(" "),SUM(H5:H16)) -> 48.378 | I17: =IF(SUM(I5:I16)=0,(" "),SUM(I5:I16)) -> 59.703 | J17: =IF(SUM(J5:J16)=0,(" "),SUM(J5:J16)) -> 51.969 | K17: =IF(SUM(K5:K16)=0,(" "),SUM(K5:K16)) -> 64.595 | L17: =IF(SUM(L5:L16)=0,(" "),SUM(L5:L16)) -> 70.551 | ... R17: =IF(SUM(R5:R16)=0,(" "),SUM(R5:R16))
C18: =SUM(C5:C16) -> 530.505 | D18: =B4 -> HORENDONK | E18: =IF(E17=(" "),(" "),E17) -> 69.16 | F18: =IF(F17=(" "),(" "),E18+F17) -> 142.448 | G18: =IF(G17=(" "),(" "),F18+G17) -> 187.594 | H18: =IF(H17=(" "),(" "),G18+H17) -> 235.972 | I18: =IF(I17=(" "),(" "),H18+I17) -> 295.675 | J18: =IF(J17=(" "),(" "),I18+J17) -> 347.644 | K18: =IF(K17=(" "),(" "),J18+K17) -> 412.239 | L18: =IF(L17=(" "),(" "),K18+L17) -> 482.79 | M18: =IF(M17=(" "),(" "),L18+M17) -> 530.505 | ... R18: =IF(R17=(" "),(" "),Q18+R17)
B20: Sen. NISPEN | E20: 1 | F20: 2 | G20: 3 | H20: 4 | I20: 5 | J20: 6 | K20: 7 | L20: 8 | M20: 9 | N20: 10 | O20: 11 | P20: 12 | Q20: 13 | R20: 14
A21: =IF(SUM(E21:R21)=0,(" "),COUNTIF(E21:R21,">0")) -> 10 | B21: =Nispen!B5 -> Kerstens Jac | C21: =IF(Nispen!AA5=0," ",SUM(E21:R21)) -> 77.5 | E21: =IF(Nispen!D5=(""),(""),ROUND(Nispen!D5/Nispen!$C5*10,3)) -> 7.5 | F21: =IF(Nispen!E5=(""),(""),ROUND(Nispen!E5/Nispen!$C5*10,3)) -> 5.25 | G21: =IF(Nispen!F5=(""),(""),ROUND(Nispen!F5/Nispen!$C5*10,3)) -> 7.5 | H21: =IF(Nispen!G5=(""),(""),ROUND(Nispen!G5/Nispen!$C5*10,3)) -> 10.5 | I21: =IF(Nispen!H5=(""),(""),ROUND(Nispen!H5/Nispen!$C5*10,3)) -> 3.75 | J21: =IF(Nispen!I5=(""),(""),ROUND(Nispen!I5/Nispen!$C5*10,3)) -> 9 | K21: =IF(Nispen!J5=(""),(""),ROUND(Nispen!J5/Nispen!$C5*10,3)) -> 6 | L21: =IF(Nispen!P5=(""),(""),ROUND(Nispen!P5/Nispen!$O5*10,3)) -> 5.75 | M21: =IF(Nispen!Q5=(""),(""),ROUND(Nispen!Q5/Nispen!$O5*10,3)) -> 9.75 | N21: =IF(Nispen!R5=(""),(""),ROUND(Nispen!R5/Nispen!$O5*10,3)) -> 12.5 | O21: =IF(Nispen!S5=(""),(""),ROUND(Nispen!S5/Nispen!$O5*10,3)) | P21: =IF(Nispen!T5=(""),(""),ROUND(Nispen!T5/Nispen!$O5*10,3)) | Q21: =IF(Nispen!U5=(""),(""),ROUND(Nispen!U5/Nispen!$O5*10,3)) | R21: =IF(Nispen!V5=(""),(""),ROUND(Nispen!V5/Nispen!$O5*10,3))
A22: =IF(SUM(E22:R22)=0,(" "),COUNTIF(E22:R22,">0")) -> 6 | B22: =Nispen!B6 -> Martens Gerrit | C22: =IF(Nispen!AA6=0," ",SUM(E22:R22)) -> 73.334 | E22: =IF(Nispen!D6=(""),(""),ROUND(Nispen!D6/Nispen!$C6*10,3)) | F22: =IF(Nispen!E6=(""),(""),ROUND(Nispen!E6/Nispen!$C6*10,3)) | G22: =IF(Nispen!F6=(""),(""),ROUND(Nispen!F6/Nispen!$C6*10,3)) -> 12.667 | H22: =IF(Nispen!G6=(""),(""),ROUND(Nispen!G6/Nispen!$C6*10,3)) | I22: =IF(Nispen!H6=(""),(""),ROUND(Nispen!H6/Nispen!$C6*10,3)) -> 10.667 | J22: =IF(Nispen!I6=(""),(""),ROUND(Nispen!I6/Nispen!$C6*10,3)) -> 13.333 | K22: =IF(Nispen!J6=(""),(""),ROUND(Nispen!J6/Nispen!$C6*10,3)) -> 14.667 | L22: =IF(Nispen!P6=(""),(""),ROUND(Nispen!P6/Nispen!$O6*10,3)) -> 11.333 | M22: =IF(Nispen!Q6=(""),(""),ROUND(Nispen!Q6/Nispen!$O6*10,3)) -> 10.667 | N22: =IF(Nispen!R6=(""),(""),ROUND(Nispen!R6/Nispen!$O6*10,3)) | O22: =IF(Nispen!S6=(""),(""),ROUND(Nispen!S6/Nispen!$O6*10,3)) | P22: =IF(Nispen!T6=(""),(""),ROUND(Nispen!T6/Nispen!$O6*10,3)) | Q22: =IF(Nispen!U6=(""),(""),ROUND(Nispen!U6/Nispen!$O6*10,3)) | R22: =IF(Nispen!V6=(""),(""),ROUND(Nispen!V6/Nispen!$O6*10,3))
A23: =IF(SUM(E23:R23)=0,(" "),COUNTIF(E23:R23,">0")) -> 6 | B23: =Nispen!B7 -> Raats Antoon | C23: =IF(Nispen!AA7=0," ",SUM(E23:R23)) -> 64.444 | E23: =IF(Nispen!D7=(""),(""),ROUND(Nispen!D7/Nispen!$C7*10,3)) -> 4.444 | F23: =IF(Nispen!E7=(""),(""),ROUND(Nispen!E7/Nispen!$C7*10,3)) | G23: =IF(Nispen!F7=(""),(""),ROUND(Nispen!F7/Nispen!$C7*10,3)) -> 14.444 | H23: =IF(Nispen!G7=(""),(""),ROUND(Nispen!G7/Nispen!$C7*10,3)) -> 10 | I23: =IF(Nispen!H7=(""),(""),ROUND(Nispen!H7/Nispen!$C7*10,3)) | J23: =IF(Nispen!I7=(""),(""),ROUND(Nispen!I7/Nispen!$C7*10,3)) -> 11.667 | K23: =IF(Nispen!J7=(""),(""),ROUND(Nispen!J7/Nispen!$C7*10,3)) -> 3.889 | L23: =IF(Nispen!P7=(""),(""),ROUND(Nispen!P7/Nispen!$O7*10,3)) | M23: =IF(Nispen!Q7=(""),(""),ROUND(Nispen!Q7/Nispen!$O7*10,3)) -> 20 | N23: =IF(Nispen!R7=(""),(""),ROUND(Nispen!R7/Nispen!$O7*10,3)) | O23: =IF(Nispen!S7=(""),(""),ROUND(Nispen!S7/Nispen!$O7*10,3)) | P23: =IF(Nispen!T7=(""),(""),ROUND(Nispen!T7/Nispen!$O7*10,3)) | Q23: =IF(Nispen!U7=(""),(""),ROUND(Nispen!U7/Nispen!$O7*10,3)) | R23: =IF(Nispen!V7=(""),(""),ROUND(Nispen!V7/Nispen!$O7*10,3))
A24: =IF(SUM(E24:R24)=0,(" "),COUNTIF(E24:R24,">0")) -> 6 | B24: =Nispen!B8 -> Schrauwen Jeanne | C24: =IF(Nispen!AA8=0," ",SUM(E24:R24)) -> 60.557 | E24: =IF(Nispen!D8=(""),(""),ROUND(Nispen!D8/Nispen!$C8*10,3)) -> 8.889 | F24: =IF(Nispen!E8=(""),(""),ROUND(Nispen!E8/Nispen!$C8*10,3)) | G24: =IF(Nispen!F8=(""),(""),ROUND(Nispen!F8/Nispen!$C8*10,3)) | H24: =IF(Nispen!G8=(""),(""),ROUND(Nispen!G8/Nispen!$C8*10,3)) -> 12.778 | I24: =IF(Nispen!H8=(""),(""),ROUND(Nispen!H8/Nispen!$C8*10,3)) -> 8.889 | J24: =IF(Nispen!I8=(""),(""),ROUND(Nispen!I8/Nispen!$C8*10,3)) -> 6.667 | K24: =IF(Nispen!J8=(""),(""),ROUND(Nispen!J8/Nispen!$C8*10,3)) -> 10.556 | L24: =IF(Nispen!P8=(""),(""),ROUND(Nispen!P8/Nispen!$O8*10,3)) | M24: =IF(Nispen!Q8=(""),(""),ROUND(Nispen!Q8/Nispen!$O8*10,3)) -> 12.778 | N24: =IF(Nispen!R8=(""),(""),ROUND(Nispen!R8/Nispen!$O8*10,3)) | O24: =IF(Nispen!S8=(""),(""),ROUND(Nispen!S8/Nispen!$O8*10,3)) | P24: =IF(Nispen!T8=(""),(""),ROUND(Nispen!T8/Nispen!$O8*10,3)) | Q24: =IF(Nispen!U8=(""),(""),ROUND(Nispen!U8/Nispen!$O8*10,3)) | R24: =IF(Nispen!V8=(""),(""),ROUND(Nispen!V8/Nispen!$O8*10,3))
A25: =IF(SUM(E25:R25)=0,(" "),COUNTIF(E25:R25,">0")) -> 1 | B25: =Nispen!B9 -> Swaanen Piet | C25: =IF(Nispen!AA9=0," ",SUM(E25:R25)) -> 7.966 | E25: =IF(Nispen!D9=(""),(""),ROUND(Nispen!D9/Nispen!$C9*10,3)) | F25: =IF(Nispen!E9=(""),(""),ROUND(Nispen!E9/Nispen!$C9*10,3)) -> 7.966 | G25: =IF(Nispen!F9=(""),(""),ROUND(Nispen!F9/Nispen!$C9*10,3)) | H25: =IF(Nispen!G9=(""),(""),ROUND(Nispen!G9/Nispen!$C9*10,3)) | I25: =IF(Nispen!H9=(""),(""),ROUND(Nispen!H9/Nispen!$C9*10,3)) | J25: =IF(Nispen!I9=(""),(""),ROUND(Nispen!I9/Nispen!$C9*10,3)) | K25: =IF(Nispen!J9=(""),(""),ROUND(Nispen!J9/Nispen!$C9*10,3)) | L25: =IF(Nispen!P9=(""),(""),ROUND(Nispen!P9/Nispen!$O9*10,3)) | M25: =IF(Nispen!Q9=(""),(""),ROUND(Nispen!Q9/Nispen!$O9*10,3)) | N25: =IF(Nispen!R9=(""),(""),ROUND(Nispen!R9/Nispen!$O9*10,3)) | O25: =IF(Nispen!S9=(""),(""),ROUND(Nispen!S9/Nispen!$O9*10,3)) | P25: =IF(Nispen!T9=(""),(""),ROUND(Nispen!T9/Nispen!$O9*10,3)) | Q25: =IF(Nispen!U9=(""),(""),ROUND(Nispen!U9/Nispen!$O9*10,3)) | R25: =IF(Nispen!V9=(""),(""),ROUND(Nispen!V9/Nispen!$O9*10,3))
A26: =IF(SUM(E26:R26)=0,(" "),COUNTIF(E26:R26,">0")) -> 1 | B26: =Nispen!B10 -> Talboom Ad | C26: =IF(Nispen!AA10=0," ",SUM(E26:R26)) -> 4 | E26: =IF(Nispen!D10=(""),(""),ROUND(Nispen!D10/Nispen!$C10*10,3)) | F26: =IF(Nispen!E10=(""),(""),ROUND(Nispen!E10/Nispen!$C10*10,3)) | G26: =IF(Nispen!F10=(""),(""),ROUND(Nispen!F10/Nispen!$C10*10,3)) | H26: =IF(Nispen!G10=(""),(""),ROUND(Nispen!G10/Nispen!$C10*10,3)) | I26: =IF(Nispen!H10=(""),(""),ROUND(Nispen!H10/Nispen!$C10*10,3)) -> 4 | J26: =IF(Nispen!I10=(""),(""),ROUND(Nispen!I10/Nispen!$C10*10,3)) | K26: =IF(Nispen!J10=(""),(""),ROUND(Nispen!J10/Nispen!$C10*10,3)) | L26: =IF(Nispen!P10=(""),(""),ROUND(Nispen!P10/Nispen!$O10*10,3)) | M26: =IF(Nispen!Q10=(""),(""),ROUND(Nispen!Q10/Nispen!$O10*10,3)) | N26: =IF(Nispen!R10=(""),(""),ROUND(Nispen!R10/Nispen!$O10*10,3)) | O26: =IF(Nispen!S10=(""),(""),ROUND(Nispen!S10/Nispen!$O10*10,3)) | P26: =IF(Nispen!T10=(""),(""),ROUND(Nispen!T10/Nispen!$O10*10,3)) | Q26: =IF(Nispen!U10=(""),(""),ROUND(Nispen!U10/Nispen!$O10*10,3)) | R26: =IF(Nispen!V10=(""),(""),ROUND(Nispen!V10/Nispen!$O10*10,3))
A27: =IF(SUM(E27:R27)=0,(" "),COUNTIF(E27:R27,">0")) -> 8 | B27: =Nispen!B11 -> Thielen Jef | C27: =IF(Nispen!AA11=0," ",SUM(E27:R27)) -> 74.643 | E27: =IF(Nispen!D11=(""),(""),ROUND(Nispen!D11/Nispen!$C11*10,3)) -> 7.857 | F27: =IF(Nispen!E11=(""),(""),ROUND(Nispen!E11/Nispen!$C11*10,3)) | G27: =IF(Nispen!F11=(""),(""),ROUND(Nispen!F11/Nispen!$C11*10,3)) -> 8.929 | H27: =IF(Nispen!G11=(""),(""),ROUND(Nispen!G11/Nispen!$C11*10,3)) -> 11.071 | I27: =IF(Nispen!H11=(""),(""),ROUND(Nispen!H11/Nispen!$C11*10,3)) -> 9.643 | J27: =IF(Nispen!I11=(""),(""),ROUND(Nispen!I11/Nispen!$C11*10,3)) -> 7.143 | K27: =IF(Nispen!J11=(""),(""),ROUND(Nispen!J11/Nispen!$C11*10,3)) -> 7.857 | L27: =IF(Nispen!P11=(""),(""),ROUND(Nispen!P11/Nispen!$O11*10,3)) -> 11.786 | M27: =IF(Nispen!Q11=(""),(""),ROUND(Nispen!Q11/Nispen!$O11*10,3)) -> 10.357 | N27: =IF(Nispen!R11=(""),(""),ROUND(Nispen!R11/Nispen!$O11*10,3)) | O27: =IF(Nispen!S11=(""),(""),ROUND(Nispen!S11/Nispen!$O11*10,3)) | P27: =IF(Nispen!T11=(""),(""),ROUND(Nispen!T11/Nispen!$O11*10,3)) | Q27: =IF(Nispen!U11=(""),(""),ROUND(Nispen!U11/Nispen!$O11*10,3)) | R27: =IF(Nispen!V11=(""),(""),ROUND(Nispen!V11/Nispen!$O11*10,3))
A28: =IF(SUM(E28:R28)=0,(" "),COUNTIF(E28:R28,">0")) -> 6 | B28: =Nispen!B12 -> Uijtdehaag Nico | C28: =IF(Nispen!AA12=0," ",SUM(E28:R28)) -> 55.653 | E28: =IF(Nispen!D12=(""),(""),ROUND(Nispen!D12/Nispen!$C12*10,3)) -> 8.261 | F28: =IF(Nispen!E12=(""),(""),ROUND(Nispen!E12/Nispen!$C12*10,3)) -> 4.783 | G28: =IF(Nispen!F12=(""),(""),ROUND(Nispen!F12/Nispen!$C12*10,3)) -> 12.174 | H28: =IF(Nispen!G12=(""),(""),ROUND(Nispen!G12/Nispen!$C12*10,3)) | I28: =IF(Nispen!H12=(""),(""),ROUND(Nispen!H12/Nispen!$C12*10,3)) | J28: =IF(Nispen!I12=(""),(""),ROUND(Nispen!I12/Nispen!$C12*10,3)) -> 10.435 | K28: =IF(Nispen!J12=(""),(""),ROUND(Nispen!J12/Nispen!$C12*10,3)) -> 9.13 | L28: =IF(Nispen!P12=(""),(""),ROUND(Nispen!P12/Nispen!$O12*10,3)) -> 10.87 | M28: =IF(Nispen!Q12=(""),(""),ROUND(Nispen!Q12/Nispen!$O12*10,3)) | N28: =IF(Nispen!R12=(""),(""),ROUND(Nispen!R12/Nispen!$O12*10,3)) | O28: =IF(Nispen!S12=(""),(""),ROUND(Nispen!S12/Nispen!$O12*10,3)) | P28: =IF(Nispen!T12=(""),(""),ROUND(Nispen!T12/Nispen!$O12*10,3)) | Q28: =IF(Nispen!U12=(""),(""),ROUND(Nispen!U12/Nispen!$O12*10,3)) | R28: =IF(Nispen!V12=(""),(""),ROUND(Nispen!V12/Nispen!$O12*10,3))
A29: =IF(SUM(E29:R29)=0,(" "),COUNTIF(E29:R29,">0")) -> 5 | B29: =Nispen!B13 -> Van Turnhout Herman [NS 20] | C29: =IF(Nispen!AA13=0," ",SUM(E29:R29)) -> 25.667 | E29: =IF(Nispen!D13=(""),(""),ROUND(Nispen!D13/20*10,3)) -> 7.5 | F29: =IF(Nispen!E13=(""),(""),ROUND(Nispen!E13/20*10,3)) -> 2 | G29: =IF(Nispen!F13=(""),(""),ROUND(Nispen!F13/20*10,3)) -> 5.5 | H29: =IF(Nispen!G13=(""),(""),ROUND(Nispen!G13/Nispen!$C13*10,3)) | I29: =IF(Nispen!H13=(""),(""),ROUND(Nispen!H13/Nispen!$C13*10,3)) -> 4 | J29: =IF(Nispen!I13=(""),(""),ROUND(Nispen!I13/Nispen!$C13*10,3)) | K29: =IF(Nispen!J13=(""),(""),ROUND(Nispen!J13/Nispen!$C13*10,3)) | L29: =IF(Nispen!P13=(""),(""),ROUND(Nispen!P13/Nispen!$O13*10,3)) -> 6.667 | M29: =IF(Nispen!Q13=(""),(""),ROUND(Nispen!Q13/Nispen!$O13*10,3)) | N29: =IF(Nispen!R13=(""),(""),ROUND(Nispen!R13/Nispen!$O13*10,3)) | O29: =IF(Nispen!S13=(""),(""),ROUND(Nispen!S13/Nispen!$O13*10,3)) | P29: =IF(Nispen!T13=(""),(""),ROUND(Nispen!T13/Nispen!$O13*10,3)) | Q29: =IF(Nispen!U13=(""),(""),ROUND(Nispen!U13/Nispen!$O13*10,3)) | R29: =IF(Nispen!V13=(""),(""),ROUND(Nispen!V13/Nispen!$O13*10,3))
A30: =IF(SUM(E30:R30)=0,(" "),COUNTIF(E30:R30,">0")) -> 5 | B30: =Nispen!B14 -> Van Wesel Jos | C30: =IF(Nispen!AA14=0," ",SUM(E30:R30)) -> 48.636 | E30: =IF(Nispen!D14=(""),(""),ROUND(Nispen!D14/Nispen!$C14*10,3)) | F30: =IF(Nispen!E14=(""),(""),ROUND(Nispen!E14/Nispen!$C14*10,3)) -> 10 | G30: =IF(Nispen!F14=(""),(""),ROUND(Nispen!F14/Nispen!$C14*10,3)) -> 10 | H30: =IF(Nispen!G14=(""),(""),ROUND(Nispen!G14/Nispen!$C14*10,3)) -> 6.818 | I30: =IF(Nispen!H14=(""),(""),ROUND(Nispen!H14/Nispen!$C14*10,3)) | J30: =IF(Nispen!I14=(""),(""),ROUND(Nispen!I14/Nispen!$C14*10,3)) | K30: =IF(Nispen!J14=(""),(""),ROUND(Nispen!J14/Nispen!$C14*10,3)) | L30: =IF(Nispen!P14=(""),(""),ROUND(Nispen!P14/Nispen!$O14*10,3)) -> 9.545 | M30: =IF(Nispen!Q14=(""),(""),ROUND(Nispen!Q14/Nispen!$O14*10,3)) -> 12.273 | N30: =IF(Nispen!R14=(""),(""),ROUND(Nispen!R14/Nispen!$O14*10,3)) | O30: =IF(Nispen!S14=(""),(""),ROUND(Nispen!S14/Nispen!$O14*10,3)) | P30: =IF(Nispen!T14=(""),(""),ROUND(Nispen!T14/Nispen!$O14*10,3)) | Q30: =IF(Nispen!U14=(""),(""),ROUND(Nispen!U14/Nispen!$O14*10,3)) | R30: =IF(Nispen!V14=(""),(""),ROUND(Nispen!V14/Nispen!$O14*10,3))
C31: =B20 -> Sen. NISPEN | D31: 5 | E31: =IF(SUM(E21:E30)=0,(" "),SUM(E21:E30)) -> 44.451 | F31: =IF(SUM(F21:F30)=0,(" "),SUM(F21:F30))+G29 -> 35.499 | G31: =IF(SUM(G21:G30)=0,(" "),SUM(G21:G30))-G29 -> 65.714 | H31: =IF(SUM(H21:H30)=0,(" "),SUM(H21:H30))+N21 -> 63.667 | I31: =IF(SUM(I21:I30)=0,(" "),SUM(I21:I30)) -> 40.949 | J31: =IF(SUM(J21:J30)=0,(" "),SUM(J21:J30)) -> 58.245 | K31: =IF(SUM(K21:K30)=0,(" "),SUM(K21:K30)) -> 52.099 | L31: =IF(SUM(L21:L30)=0,(" "),SUM(L21:L30)) -> 55.951 | M31: =IF(SUM(M21:M30)=0,(" "),SUM(M21:M30)) -> 75.825 | N31: =IF(SUM(N21:N30)=0,(" "),SUM(N21:N30))-N21 -> 0 | O31: =IF(SUM(O21:O30)=0,(" "),SUM(O21:O30)) | P31: =IF(SUM(P21:P30)=0,(" "),SUM(P21:P30)) | Q31: =IF(SUM(Q21:Q30)=0,(" "),SUM(Q21:Q30)) | R31: =IF(SUM(R21:R30)=0,(" "),SUM(R21:R30))
C32: =SUM(C21:C30) -> 492.4 | D32: =B20 -> Sen. NISPEN | E32: =IF(E31=(" "),(" "),E31) -> 44.451 | F32: =IF(F31=(" "),(" "),E32+F31) -> 79.95 | G32: =IF(G31=(" "),(" "),F32+G31) -> 145.664 | H32: =IF(H31=(" "),(" "),G32+H31) -> 209.331 | I32: =IF(I31=(" "),(" "),H32+I31) -> 250.28 | J32: =IF(J31=(" "),(" "),I32+J31) -> 308.525 | K32: =IF(K31=(" "),(" "),J32+K31) -> 360.624 | L32: =IF(L31=(" "),(" "),K32+L31) -> 416.575 | M32: =IF(M31=(" "),(" "),L32+M31) -> 492.4 | ... R32: =IF(R31=(" "),(" "),Q32+R31)
B34: KERKUILEN | E34: 1 | F34: 2 | G34: 3 | H34: 4 | I34: 5 | J34: 6 | K34: 7 | L34: 8 | M34: 9 | N34: 10 | O34: 11 | P34: 12 | Q34: 13 | R34: 14
A35: =IF(SUM(E35:R35)=0,(" "),COUNTIF(E35:R35,">0")) -> 4 | B35: =Kerkuilen!B5 -> Antonissen Gust | C35: =IF(Kerkuilen!AA5=0," ",SUM(E35:R35)) -> 49.706 | E35: =IF(Kerkuilen!D5=(""),(""),ROUND(Kerkuilen!D5/Kerkuilen!$C5*10,3)) -> 17.353 | F35: =IF(Kerkuilen!E5=(""),(""),ROUND(Kerkuilen!E5/Kerkuilen!$C5*10,3)) -> 8.235 | G35: =IF(Kerkuilen!F5=(""),(""),ROUND(Kerkuilen!F5/Kerkuilen!$C5*10,3)) | H35: =IF(Kerkuilen!G5=(""),(""),ROUND(Kerkuilen!G5/Kerkuilen!$C5*10,3)) | I35: =IF(Kerkuilen!H5=(""),(""),ROUND(Kerkuilen!H5/Kerkuilen!$C5*10,3)) | J35: =IF(Kerkuilen!I5=(""),(""),ROUND(Kerkuilen!I5/Kerkuilen!$C5*10,3)) | K35: =IF(Kerkuilen!J5=(""),(""),ROUND(Kerkuilen!J5/Kerkuilen!$C5*10,3)) -> 11.471 | L35: =IF(Kerkuilen!P5=(""),(""),ROUND(Kerkuilen!P5/Kerkuilen!$O5*10,3)) | M35: =IF(Kerkuilen!Q5=(""),(""),ROUND(Kerkuilen!Q5/Kerkuilen!$O5*10,3)) -> 12.647 | N35: =IF(Kerkuilen!R5=(""),(""),ROUND(Kerkuilen!R5/Kerkuilen!$O5*10,3)) | O35: =IF(Kerkuilen!S5=(""),(""),ROUND(Kerkuilen!S5/Kerkuilen!$O5*10,3)) | P35: =IF(Kerkuilen!T5=(""),(""),ROUND(Kerkuilen!T5/Kerkuilen!$O5*10,3)) | Q35: =IF(Kerkuilen!U5=(""),(""),ROUND(Kerkuilen!U5/Kerkuilen!$O5*10,3)) | R35: =IF(Kerkuilen!V5=(""),(""),ROUND(Kerkuilen!V5/Kerkuilen!$O5*10,3))
A36: =IF(SUM(E36:R36)=0,(" "),COUNTIF(E36:R36,">0")) -> 6 | B36: =Kerkuilen!B6 -> De Kaey Piet | C36: =IF(Kerkuilen!AA6=0," ",SUM(E36:R36)) -> 70.611 | E36: =IF(Kerkuilen!D6=(""),(""),ROUND(Kerkuilen!D6/Kerkuilen!$C6*10,3)) | F36: =IF(Kerkuilen!E6=(""),(""),ROUND(Kerkuilen!E6/Kerkuilen!$C6*10,3)) | G36: =IF(Kerkuilen!F6=(""),(""),ROUND(Kerkuilen!F6/Kerkuilen!$C6*10,3)) | H36: =IF(Kerkuilen!G6=(""),(""),ROUND(Kerkuilen!G6/Kerkuilen!$C6*10,3)) -> 15.714 | I36: =IF(Kerkuilen!H6=(""),(""),ROUND(Kerkuilen!H6/Kerkuilen!$C6*10,3)) -> 10.612 | J36: =IF(Kerkuilen!I6=(""),(""),ROUND(Kerkuilen!I6/Kerkuilen!$C6*10,3)) -> 12.857 | K36: =IF(Kerkuilen!J6=(""),(""),ROUND(Kerkuilen!J6/Kerkuilen!$C6*10,3)) -> 12.449 | L36: =IF(Kerkuilen!P6=(""),(""),ROUND(Kerkuilen!P6/Kerkuilen!$O6*10,3)) -> 8.571 | M36: =IF(Kerkuilen!Q6=(""),(""),ROUND(Kerkuilen!Q6/Kerkuilen!$O6*10,3)) -> 10.408 | N36: =IF(Kerkuilen!R6=(""),(""),ROUND(Kerkuilen!R6/Kerkuilen!$O6*10,3)) | O36: =IF(Kerkuilen!S6=(""),(""),ROUND(Kerkuilen!S6/Kerkuilen!$O6*10,3)) | P36: =IF(Kerkuilen!T6=(""),(""),ROUND(Kerkuilen!T6/Kerkuilen!$O6*10,3)) | Q36: =IF(Kerkuilen!U6=(""),(""),ROUND(Kerkuilen!U6/Kerkuilen!$O6*10,3)) | R36: =IF(Kerkuilen!V6=(""),(""),ROUND(Kerkuilen!V6/Kerkuilen!$O6*10,3))
A37: =IF(SUM(E37:R37)=0,(" "),COUNTIF(E37:R37,">0")) -> 1 | B37: =Kerkuilen!B7 -> Elst Stan | C37: =IF(Kerkuilen!AA7=0," ",SUM(E37:R37)) -> 6.579 | E37: =IF(Kerkuilen!D7=(""),(""),ROUND(Kerkuilen!D7/Kerkuilen!$C7*10,3)) | F37: =IF(Kerkuilen!E7=(""),(""),ROUND(Kerkuilen!E7/Kerkuilen!$C7*10,3)) | G37: =IF(Kerkuilen!F7=(""),(""),ROUND(Kerkuilen!F7/Kerkuilen!$C7*10,3)) | H37: =IF(Kerkuilen!G7=(""),(""),ROUND(Kerkuilen!G7/Kerkuilen!$C7*10,3)) -> 6.579 | I37: =IF(Kerkuilen!H7=(""),(""),ROUND(Kerkuilen!H7/Kerkuilen!$C7*10,3)) | J37: =IF(Kerkuilen!I7=(""),(""),ROUND(Kerkuilen!I7/Kerkuilen!$C7*10,3)) | K37: =IF(Kerkuilen!J7=(""),(""),ROUND(Kerkuilen!J7/Kerkuilen!$C7*10,3)) | L37: =IF(Kerkuilen!P7=(""),(""),ROUND(Kerkuilen!P7/Kerkuilen!$O7*10,3)) | M37: =IF(Kerkuilen!Q7=(""),(""),ROUND(Kerkuilen!Q7/Kerkuilen!$O7*10,3)) | N37: =IF(Kerkuilen!R7=(""),(""),ROUND(Kerkuilen!R7/Kerkuilen!$O7*10,3)) | O37: =IF(Kerkuilen!S7=(""),(""),ROUND(Kerkuilen!S7/Kerkuilen!$O7*10,3)) | P37: =IF(Kerkuilen!T7=(""),(""),ROUND(Kerkuilen!T7/Kerkuilen!$O7*10,3)) | Q37: =IF(Kerkuilen!U7=(""),(""),ROUND(Kerkuilen!U7/Kerkuilen!$O7*10,3)) | R37: =IF(Kerkuilen!V7=(""),(""),ROUND(Kerkuilen!V7/Kerkuilen!$O7*10,3))
A38: =IF(SUM(E38:R38)=0,(" "),COUNTIF(E38:R38,">0")) -> 6 | B38: =Kerkuilen!B8 -> Hectors Hugo | C38: =IF(Kerkuilen!AA8=0," ",SUM(E38:R38)) -> 58.889 | E38: =IF(Kerkuilen!D8=(""),(""),ROUND(Kerkuilen!D8/Kerkuilen!$C8*10,3)) -> 7.222 | F38: =IF(Kerkuilen!E8=(""),(""),ROUND(Kerkuilen!E8/Kerkuilen!$C8*10,3)) -> 16.111 | G38: =IF(Kerkuilen!F8=(""),(""),ROUND(Kerkuilen!F8/Kerkuilen!$C8*10,3)) | H38: =IF(Kerkuilen!G8=(""),(""),ROUND(Kerkuilen!G8/Kerkuilen!$C8*10,3)) -> 5.556 | I38: =IF(Kerkuilen!H8=(""),(""),ROUND(Kerkuilen!H8/Kerkuilen!$C8*10,3)) -> 15 | J38: =IF(Kerkuilen!I8=(""),(""),ROUND(Kerkuilen!I8/Kerkuilen!$C8*10,3)) | K38: =IF(Kerkuilen!J8=(""),(""),ROUND(Kerkuilen!J8/Kerkuilen!$C8*10,3)) -> 5.556 | L38: =IF(Kerkuilen!P8=(""),(""),ROUND(Kerkuilen!P8/Kerkuilen!$O8*10,3)) -> 9.444 | M38: =IF(Kerkuilen!Q8=(""),(""),ROUND(Kerkuilen!Q8/Kerkuilen!$O8*10,3)) | N38: =IF(Kerkuilen!R8=(""),(""),ROUND(Kerkuilen!R8/Kerkuilen!$O8*10,3)) | O38: =IF(Kerkuilen!S8=(""),(""),ROUND(Kerkuilen!S8/Kerkuilen!$O8*10,3)) | P38: =IF(Kerkuilen!T8=(""),(""),ROUND(Kerkuilen!T8/Kerkuilen!$O8*10,3)) | Q38: =IF(Kerkuilen!U8=(""),(""),ROUND(Kerkuilen!U8/Kerkuilen!$O8*10,3)) | R38: =IF(Kerkuilen!V8=(""),(""),ROUND(Kerkuilen!V8/Kerkuilen!$O8*10,3))
A39: =IF(SUM(E39:R39)=0,(" "),COUNTIF(E39:R39,">0")) -> 4 | B39: =Kerkuilen!B9 -> Jacobis Martin | C39: =IF(Kerkuilen!AA9=0," ",SUM(E39:R39)) -> 44.815 | E39: =IF(Kerkuilen!D9=(""),(""),ROUND(Kerkuilen!D9/Kerkuilen!$C9*10,3)) | F39: =IF(Kerkuilen!E9=(""),(""),ROUND(Kerkuilen!E9/Kerkuilen!$C9*10,3)) | G39: =IF(Kerkuilen!F9=(""),(""),ROUND(Kerkuilen!F9/Kerkuilen!$C9*10,3)) | H39: =IF(Kerkuilen!G9=(""),(""),ROUND(Kerkuilen!G9/Kerkuilen!$C9*10,3)) | I39: =IF(Kerkuilen!H9=(""),(""),ROUND(Kerkuilen!H9/Kerkuilen!$C9*10,3)) -> 14.444 | J39: =IF(Kerkuilen!I9=(""),(""),ROUND(Kerkuilen!I9/Kerkuilen!$C9*10,3)) -> 11.852 | K39: =IF(Kerkuilen!J9=(""),(""),ROUND(Kerkuilen!J9/Kerkuilen!$C9*10,3)) | L39: =IF(Kerkuilen!P9=(""),(""),ROUND(Kerkuilen!P9/Kerkuilen!$O9*10,3)) -> 8.889 | M39: =IF(Kerkuilen!Q9=(""),(""),ROUND(Kerkuilen!Q9/Kerkuilen!$O9*10,3)) -> 9.63 | N39: =IF(Kerkuilen!R9=(""),(""),ROUND(Kerkuilen!R9/Kerkuilen!$O9*10,3)) | O39: =IF(Kerkuilen!S9=(""),(""),ROUND(Kerkuilen!S9/Kerkuilen!$O9*10,3)) | P39: =IF(Kerkuilen!T9=(""),(""),ROUND(Kerkuilen!T9/Kerkuilen!$O9*10,3)) | Q39: =IF(Kerkuilen!U9=(""),(""),ROUND(Kerkuilen!U9/Kerkuilen!$O9*10,3)) | R39: =IF(Kerkuilen!V9=(""),(""),ROUND(Kerkuilen!V9/Kerkuilen!$O9*10,3))
A40: =IF(SUM(E40:R40)=0,(" "),COUNTIF(E40:R40,">0")) -> 5 | B40: =Kerkuilen!B10 -> Lambrechts Jef | C40: =IF(Kerkuilen!AA10=0," ",SUM(E40:R40)) -> 37.936 | E40: =IF(Kerkuilen!D10=(""),(""),ROUND(Kerkuilen!D10/Kerkuilen!$C10*10,3)) -> 6.349 | F40: =IF(Kerkuilen!E10=(""),(""),ROUND(Kerkuilen!E10/Kerkuilen!$C10*10,3)) | G40: =IF(Kerkuilen!F10=(""),(""),ROUND(Kerkuilen!F10/Kerkuilen!$C10*10,3)) -> 7.619 | H40: =IF(Kerkuilen!G10=(""),(""),ROUND(Kerkuilen!G10/Kerkuilen!$C10*10,3)) -> 6.349 | I40: =IF(Kerkuilen!H10=(""),(""),ROUND(Kerkuilen!H10/Kerkuilen!$C10*10,3)) -> 11.746 | J40: =IF(Kerkuilen!I10=(""),(""),ROUND(Kerkuilen!I10/Kerkuilen!$C10*10,3)) -> 5.873 | K40: =IF(Kerkuilen!J10=(""),(""),ROUND(Kerkuilen!J10/Kerkuilen!$C10*10,3)) | L40: =IF(Kerkuilen!P10=(""),(""),ROUND(Kerkuilen!P10/Kerkuilen!$O10*10,3)) | M40: =IF(Kerkuilen!Q10=(""),(""),ROUND(Kerkuilen!Q10/Kerkuilen!$O10*10,3)) | N40: =IF(Kerkuilen!R10=(""),(""),ROUND(Kerkuilen!R10/Kerkuilen!$O10*10,3)) | O40: =IF(Kerkuilen!S10=(""),(""),ROUND(Kerkuilen!S10/Kerkuilen!$O10*10,3)) | P40: =IF(Kerkuilen!T10=(""),(""),ROUND(Kerkuilen!T10/Kerkuilen!$O10*10,3)) | Q40: =IF(Kerkuilen!U10=(""),(""),ROUND(Kerkuilen!U10/Kerkuilen!$O10*10,3)) | R40: =IF(Kerkuilen!V10=(""),(""),ROUND(Kerkuilen!V10/Kerkuilen!$O10*10,3))
A41: =IF(SUM(E41:R41)=0,(" "),COUNTIF(E41:R41,">0")) -> 3 | B41: =Kerkuilen!B11 -> Naulaerts Rik | C41: =IF(Kerkuilen!AA11=0," ",SUM(E41:R41)) -> 25.687 | E41: =IF(Kerkuilen!D11=(""),(""),ROUND(Kerkuilen!D11/Kerkuilen!$C11*10,3)) | F41: =IF(Kerkuilen!E11=(""),(""),ROUND(Kerkuilen!E11/Kerkuilen!$C11*10,3)) | G41: =IF(Kerkuilen!F11=(""),(""),ROUND(Kerkuilen!F11/Kerkuilen!$C11*10,3)) | H41: =IF(Kerkuilen!G11=(""),(""),ROUND(Kerkuilen!G11/Kerkuilen!$C11*10,3)) -> 8.824 | I41: =IF(Kerkuilen!H11=(""),(""),ROUND(Kerkuilen!H11/Kerkuilen!$C11*10,3)) | J41: =IF(Kerkuilen!I11=(""),(""),ROUND(Kerkuilen!I11/Kerkuilen!$C11*10,3)) -> 6.471 | K41: =IF(Kerkuilen!J11=(""),(""),ROUND(Kerkuilen!J11/Kerkuilen!$C11*10,3)) -> 10.392 | L41: =IF(Kerkuilen!P11=(""),(""),ROUND(Kerkuilen!P11/Kerkuilen!$O11*10,3)) | M41: =IF(Kerkuilen!Q11=(""),(""),ROUND(Kerkuilen!Q11/Kerkuilen!$O11*10,3)) | N41: =IF(Kerkuilen!R11=(""),(""),ROUND(Kerkuilen!R11/Kerkuilen!$O11*10,3)) | O41: =IF(Kerkuilen!S11=(""),(""),ROUND(Kerkuilen!S11/Kerkuilen!$O11*10,3)) | P41: =IF(Kerkuilen!T11=(""),(""),ROUND(Kerkuilen!T11/Kerkuilen!$O11*10,3)) | Q41: =IF(Kerkuilen!U11=(""),(""),ROUND(Kerkuilen!U11/Kerkuilen!$O11*10,3)) | R41: =IF(Kerkuilen!V11=(""),(""),ROUND(Kerkuilen!V11/Kerkuilen!$O11*10,3))
A42: =IF(SUM(E42:R42)=0,(" "),COUNTIF(E42:R42,">0")) -> 3 | B42: =Kerkuilen!B12 -> Peeters Wies | C42: =IF(Kerkuilen!AA12=0," ",SUM(E42:R42)) -> 28.275 | E42: =IF(Kerkuilen!D12=(""),(""),ROUND(Kerkuilen!D12/Kerkuilen!$C12*10,3)) -> 7.241 | F42: =IF(Kerkuilen!E12=(""),(""),ROUND(Kerkuilen!E12/Kerkuilen!$C12*10,3)) -> 13.793 | G42: =IF(Kerkuilen!F12=(""),(""),ROUND(Kerkuilen!F12/Kerkuilen!$C12*10,3)) -> 7.241 | H42: =IF(Kerkuilen!G12=(""),(""),ROUND(Kerkuilen!G12/Kerkuilen!$C12*10,3)) | I42: =IF(Kerkuilen!H12=(""),(""),ROUND(Kerkuilen!H12/Kerkuilen!$C12*10,3)) | J42: =IF(Kerkuilen!I12=(""),(""),ROUND(Kerkuilen!I12/Kerkuilen!$C12*10,3)) | K42: =IF(Kerkuilen!J12=(""),(""),ROUND(Kerkuilen!J12/Kerkuilen!$C12*10,3)) | L42: =IF(Kerkuilen!P12=(""),(""),ROUND(Kerkuilen!P12/Kerkuilen!$O12*10,3)) | M42: =IF(Kerkuilen!Q12=(""),(""),ROUND(Kerkuilen!Q12/Kerkuilen!$O12*10,3)) | N42: =IF(Kerkuilen!R12=(""),(""),ROUND(Kerkuilen!R12/Kerkuilen!$O12*10,3)) | O42: =IF(Kerkuilen!S12=(""),(""),ROUND(Kerkuilen!S12/Kerkuilen!$O12*10,3)) | P42: =IF(Kerkuilen!T12=(""),(""),ROUND(Kerkuilen!T12/Kerkuilen!$O12*10,3)) | Q42: =IF(Kerkuilen!U12=(""),(""),ROUND(Kerkuilen!U12/Kerkuilen!$O12*10,3)) | R42: =IF(Kerkuilen!V12=(""),(""),ROUND(Kerkuilen!V12/Kerkuilen!$O12*10,3))
A43: =IF(SUM(E43:R43)=0,(" "),COUNTIF(E43:R43,">0")) -> 4 | B43: =Kerkuilen!B13 -> Pleysier Luc | C43: =IF(Kerkuilen!AA13=0," ",SUM(E43:R43)) -> 35.632 | E43: =IF(Kerkuilen!D13=(""),(""),ROUND(Kerkuilen!D13/Kerkuilen!$C13*10,3)) | F43: =IF(Kerkuilen!E13=(""),(""),ROUND(Kerkuilen!E13/Kerkuilen!$C13*10,3)) -> 10.345 | G43: =IF(Kerkuilen!F13=(""),(""),ROUND(Kerkuilen!F13/Kerkuilen!$C13*10,3)) -> 9.885 | H43: =IF(Kerkuilen!G13=(""),(""),ROUND(Kerkuilen!G13/Kerkuilen!$C13*10,3)) | I43: =IF(Kerkuilen!H13=(""),(""),ROUND(Kerkuilen!H13/Kerkuilen!$C13*10,3)) | J43: =IF(Kerkuilen!I13=(""),(""),ROUND(Kerkuilen!I13/Kerkuilen!$C13*10,3)) -> 3.908 | K43: =IF(Kerkuilen!J13=(""),(""),ROUND(Kerkuilen!J13/Kerkuilen!$C13*10,3)) | L43: =IF(Kerkuilen!P13=(""),(""),ROUND(Kerkuilen!P13/Kerkuilen!$O13*10,3)) -> 11.494 | M43: =IF(Kerkuilen!Q13=(""),(""),ROUND(Kerkuilen!Q13/Kerkuilen!$O13*10,3)) | N43: =IF(Kerkuilen!R13=(""),(""),ROUND(Kerkuilen!R13/Kerkuilen!$O13*10,3)) | O43: =IF(Kerkuilen!S13=(""),(""),ROUND(Kerkuilen!S13/Kerkuilen!$O13*10,3)) | P43: =IF(Kerkuilen!T13=(""),(""),ROUND(Kerkuilen!T13/Kerkuilen!$O13*10,3)) | Q43: =IF(Kerkuilen!U13=(""),(""),ROUND(Kerkuilen!U13/Kerkuilen!$O13*10,3)) | R43: =IF(Kerkuilen!V13=(""),(""),ROUND(Kerkuilen!V13/Kerkuilen!$O13*10,3))
A44: =IF(SUM(E44:R44)=0,(" "),COUNTIF(E44:R44,">0")) -> 2 | B44: =Kerkuilen!B14 -> Quick Gerard | C44: =IF(Kerkuilen!AA14=0," ",SUM(E44:R44)) -> 19.583 | E44: =IF(Kerkuilen!D14=(""),(""),ROUND(Kerkuilen!D14/Kerkuilen!$C14*10,3)) | F44: =IF(Kerkuilen!E14=(""),(""),ROUND(Kerkuilen!E14/Kerkuilen!$C14*10,3)) | G44: =IF(Kerkuilen!F14=(""),(""),ROUND(Kerkuilen!F14/Kerkuilen!$C14*10,3)) -> 10 | H44: =IF(Kerkuilen!G14=(""),(""),ROUND(Kerkuilen!G14/Kerkuilen!$C14*10,3)) | I44: =IF(Kerkuilen!H14=(""),(""),ROUND(Kerkuilen!H14/Kerkuilen!$C14*10,3)) | J44: =IF(Kerkuilen!I14=(""),(""),ROUND(Kerkuilen!I14/Kerkuilen!$C14*10,3)) | K44: =IF(Kerkuilen!J14=(""),(""),ROUND(Kerkuilen!J14/Kerkuilen!$C14*10,3)) | L44: =IF(Kerkuilen!P14=(""),(""),ROUND(Kerkuilen!P14/Kerkuilen!$O14*10,3)) | M44: =IF(Kerkuilen!Q14=(""),(""),ROUND(Kerkuilen!Q14/Kerkuilen!$O14*10,3)) -> 9.583 | N44: =IF(Kerkuilen!R14=(""),(""),ROUND(Kerkuilen!R14/Kerkuilen!$O14*10,3)) | O44: =IF(Kerkuilen!S14=(""),(""),ROUND(Kerkuilen!S14/Kerkuilen!$O14*10,3)) | P44: =IF(Kerkuilen!T14=(""),(""),ROUND(Kerkuilen!T14/Kerkuilen!$O14*10,3)) | Q44: =IF(Kerkuilen!U14=(""),(""),ROUND(Kerkuilen!U14/Kerkuilen!$O14*10,3)) | R44: =IF(Kerkuilen!V14=(""),(""),ROUND(Kerkuilen!V14/Kerkuilen!$O14*10,3))
A45: =IF(SUM(E45:R45)=0,(" "),COUNTIF(E45:R45,">0")) -> 3 | B45: =Kerkuilen!B15 -> Schrooyen Jef | C45: =IF(Kerkuilen!AA15=0," ",SUM(E45:R45)) -> 26.725 | E45: =IF(Kerkuilen!D15=(""),(""),ROUND(Kerkuilen!D15/Kerkuilen!$C15*10,3)) | F45: =IF(Kerkuilen!E15=(""),(""),ROUND(Kerkuilen!E15/Kerkuilen!$C15*10,3)) | G45: =IF(Kerkuilen!F15=(""),(""),ROUND(Kerkuilen!F15/Kerkuilen!$C15*10,3)) -> 11.552 | H45: =IF(Kerkuilen!G15=(""),(""),ROUND(Kerkuilen!G15/Kerkuilen!$C15*10,3)) -> 6.897 | I45: =IF(Kerkuilen!H15=(""),(""),ROUND(Kerkuilen!H15/Kerkuilen!$C15*10,3)) | J45: =IF(Kerkuilen!I15=(""),(""),ROUND(Kerkuilen!I15/Kerkuilen!$C15*10,3)) | K45: =IF(Kerkuilen!J15=(""),(""),ROUND(Kerkuilen!J15/Kerkuilen!$C15*10,3)) -> 8.276 | L45: =IF(Kerkuilen!P15=(""),(""),ROUND(Kerkuilen!P15/Kerkuilen!$O15*10,3)) | M45: =IF(Kerkuilen!Q15=(""),(""),ROUND(Kerkuilen!Q15/Kerkuilen!$O15*10,3)) | N45: =IF(Kerkuilen!R15=(""),(""),ROUND(Kerkuilen!R15/Kerkuilen!$O15*10,3)) | O45: =IF(Kerkuilen!S15=(""),(""),ROUND(Kerkuilen!S15/Kerkuilen!$O15*10,3)) | P45: =IF(Kerkuilen!T15=(""),(""),ROUND(Kerkuilen!T15/Kerkuilen!$O15*10,3)) | Q45: =IF(Kerkuilen!U15=(""),(""),ROUND(Kerkuilen!U15/Kerkuilen!$O15*10,3)) | R45: =IF(Kerkuilen!V15=(""),(""),ROUND(Kerkuilen!V15/Kerkuilen!$O15*10,3))
A46: =IF(SUM(E46:R46)=0,(" "),COUNTIF(E46:R46,">0")) -> 1 | B46: =Kerkuilen!B16 -> Uytdewilligen Hubert | C46: =IF(Kerkuilen!AA16=0," ",SUM(E46:R46)) -> 8.333 | E46: =IF(Kerkuilen!D16=(""),(""),ROUND(Kerkuilen!D16/Kerkuilen!$C16*10,3)) | F46: =IF(Kerkuilen!E16=(""),(""),ROUND(Kerkuilen!E16/Kerkuilen!$C16*10,3)) | G46: =IF(Kerkuilen!F16=(""),(""),ROUND(Kerkuilen!F16/Kerkuilen!$C16*10,3)) | H46: =IF(Kerkuilen!G16=(""),(""),ROUND(Kerkuilen!G16/Kerkuilen!$C16*10,3)) | I46: =IF(Kerkuilen!H16=(""),(""),ROUND(Kerkuilen!H16/Kerkuilen!$C16*10,3)) | J46: =IF(Kerkuilen!I16=(""),(""),ROUND(Kerkuilen!I16/Kerkuilen!$C16*10,3)) | K46: =IF(Kerkuilen!J16=(""),(""),ROUND(Kerkuilen!J16/Kerkuilen!$C16*10,3)) | L46: =IF(Kerkuilen!P16=(""),(""),ROUND(Kerkuilen!P16/Kerkuilen!$O16*10,3)) | M46: =IF(Kerkuilen!Q16=(""),(""),ROUND(Kerkuilen!Q16/Kerkuilen!$O16*10,3)) -> 8.333 | N46: =IF(Kerkuilen!R16=(""),(""),ROUND(Kerkuilen!R16/Kerkuilen!$O16*10,3)) | O46: =IF(Kerkuilen!S16=(""),(""),ROUND(Kerkuilen!S16/Kerkuilen!$O16*10,3)) | P46: =IF(Kerkuilen!T16=(""),(""),ROUND(Kerkuilen!T16/Kerkuilen!$O16*10,3)) | Q46: =IF(Kerkuilen!U16=(""),(""),ROUND(Kerkuilen!U16/Kerkuilen!$O16*10,3)) | R46: =IF(Kerkuilen!V16=(""),(""),ROUND(Kerkuilen!V16/Kerkuilen!$O16*10,3))
A47: =IF(SUM(E47:R47)=0,(" "),COUNTIF(E47:R47,">0")) -> 4 | B47: =Kerkuilen!B17 -> Van Ginneken Cyriel [NS 20] | C47: =IF(Kerkuilen!AA17=0," ",SUM(E47:R47)) -> 35 | E47: =IF(Kerkuilen!D17=(""),(""),ROUND(Kerkuilen!D17/20*10,3)) -> 12 | F47: =IF(Kerkuilen!E17=(""),(""),ROUND(Kerkuilen!E17/20*10,3)) -> 10 | G47: =IF(Kerkuilen!F17=(""),(""),ROUND(Kerkuilen!F17/Kerkuilen!$C17*10,3)) | H47: =IF(Kerkuilen!G17=(""),(""),ROUND(Kerkuilen!G17/Kerkuilen!$C17*10,3)) | I47: =IF(Kerkuilen!H17=(""),(""),ROUND(Kerkuilen!H17/Kerkuilen!$C17*10,3)) | J47: =IF(Kerkuilen!I17=(""),(""),ROUND(Kerkuilen!I17/Kerkuilen!$C17*10,3)) | K47: =IF(Kerkuilen!J17=(""),(""),ROUND(Kerkuilen!J17/Kerkuilen!$C17*10,3)) -> 7.5 | L47: =IF(Kerkuilen!P17=(""),(""),ROUND(Kerkuilen!P17/Kerkuilen!$O17*10,3)) -> 5.5 | M47: =IF(Kerkuilen!Q17=(""),(""),ROUND(Kerkuilen!Q17/Kerkuilen!$O17*10,3)) | N47: =IF(Kerkuilen!R17=(""),(""),ROUND(Kerkuilen!R17/Kerkuilen!$O17*10,3)) | O47: =IF(Kerkuilen!S17=(""),(""),ROUND(Kerkuilen!S17/Kerkuilen!$O17*10,3)) | P47: =IF(Kerkuilen!T17=(""),(""),ROUND(Kerkuilen!T17/Kerkuilen!$O17*10,3)) | Q47: =IF(Kerkuilen!U17=(""),(""),ROUND(Kerkuilen!U17/Kerkuilen!$O17*10,3)) | R47: =IF(Kerkuilen!V17=(""),(""),ROUND(Kerkuilen!V17/Kerkuilen!$O17*10,3))
A48: =IF(SUM(E48:R48)=0,(" "),COUNTIF(E48:R48,">0")) -> 4 | B48: =Kerkuilen!B18 -> Van Oers Danny [NS 50] | C48: =IF(Kerkuilen!AA18=0," ",SUM(E48:R48)) -> 24.206 | E48: =IF(Kerkuilen!D18=(""),(""),ROUND(Kerkuilen!D18/Kerkuilen!$C18*10,3)) | F48: =IF(Kerkuilen!E18=(""),(""),ROUND(Kerkuilen!E18/50*10,3)) -> 6.8 | G48: =IF(Kerkuilen!F18=(""),(""),ROUND(Kerkuilen!F18/Kerkuilen!$C18*10,3)) | H48: =IF(Kerkuilen!G18=(""),(""),ROUND(Kerkuilen!G18/Kerkuilen!$C18*10,3)) | I48: =IF(Kerkuilen!H18=(""),(""),ROUND(Kerkuilen!H18/50*10,3)) -> 6 | J48: =IF(Kerkuilen!I18=(""),(""),ROUND(Kerkuilen!I18/50*10,3)) -> 5.6 | K48: =IF(Kerkuilen!J18=(""),(""),ROUND(Kerkuilen!J18/Kerkuilen!$C18*10,3)) | L48: =IF(Kerkuilen!P18=(""),(""),ROUND(Kerkuilen!P18/Kerkuilen!$O18*10,3)) -> 5.806 | M48: =IF(Kerkuilen!Q18=(""),(""),ROUND(Kerkuilen!Q18/Kerkuilen!$O18*10,3)) | N48: =IF(Kerkuilen!R18=(""),(""),ROUND(Kerkuilen!R18/Kerkuilen!$O18*10,3)) | O48: =IF(Kerkuilen!S18=(""),(""),ROUND(Kerkuilen!S18/Kerkuilen!$O18*10,3)) | P48: =IF(Kerkuilen!T18=(""),(""),ROUND(Kerkuilen!T18/Kerkuilen!$O18*10,3)) | Q48: =IF(Kerkuilen!U18=(""),(""),ROUND(Kerkuilen!U18/Kerkuilen!$O18*10,3)) | R48: =IF(Kerkuilen!V18=(""),(""),ROUND(Kerkuilen!V18/Kerkuilen!$O18*10,3))
A49: =IF(SUM(E49:R49)=0,(" "),COUNTIF(E49:R49,">0")) -> 4 | B49: =Kerkuilen!B19 -> Van Oers John | C49: =IF(Kerkuilen!AA19=0," ",SUM(E49:R49)) -> 31.786 | E49: =IF(Kerkuilen!D19=(""),(""),ROUND(Kerkuilen!D19/Kerkuilen!$C19*10,3)) -> 8.214 | F49: =IF(Kerkuilen!E19=(""),(""),ROUND(Kerkuilen!E19/Kerkuilen!$C19*10,3)) | G49: =IF(Kerkuilen!F19=(""),(""),ROUND(Kerkuilen!F19/Kerkuilen!$C19*10,3)) -> 4.286 | H49: =IF(Kerkuilen!G19=(""),(""),ROUND(Kerkuilen!G19/Kerkuilen!$C19*10,3)) | I49: =IF(Kerkuilen!H19=(""),(""),ROUND(Kerkuilen!H19/Kerkuilen!$C19*10,3)) -> 9.643 | J49: =IF(Kerkuilen!I19=(""),(""),ROUND(Kerkuilen!I19/Kerkuilen!$C19*10,3)) | K49: =IF(Kerkuilen!J19=(""),(""),ROUND(Kerkuilen!J19/Kerkuilen!$C19*10,3)) | L49: =IF(Kerkuilen!P19=(""),(""),ROUND(Kerkuilen!P19/Kerkuilen!$O19*10,3)) | M49: =IF(Kerkuilen!Q19=(""),(""),ROUND(Kerkuilen!Q19/Kerkuilen!$O19*10,3)) -> 9.643 | N49: =IF(Kerkuilen!R19=(""),(""),ROUND(Kerkuilen!R19/Kerkuilen!$O19*10,3)) | O49: =IF(Kerkuilen!S19=(""),(""),ROUND(Kerkuilen!S19/Kerkuilen!$O19*10,3)) | P49: =IF(Kerkuilen!T19=(""),(""),ROUND(Kerkuilen!T19/Kerkuilen!$O19*10,3)) | Q49: =IF(Kerkuilen!U19=(""),(""),ROUND(Kerkuilen!U19/Kerkuilen!$O19*10,3)) | R49: =IF(Kerkuilen!V19=(""),(""),ROUND(Kerkuilen!V19/Kerkuilen!$O19*10,3))
C50: =B34 -> KERKUILEN | D50: 5 | E50: =IF(SUM(E35:E49)=0,(" "),SUM(E35:E49)) -> 58.379 | F50: =IF(SUM(F35:F49)=0,(" "),SUM(F35:F49)) -> 65.284 | G50: =IF(SUM(G35:G49)=0,(" "),SUM(G35:G49)) -> 50.583 | H50: =IF(SUM(H35:H49)=0,(" "),SUM(H35:H49)) -> 49.919 | I50: =IF(SUM(I35:I49)=0,(" "),SUM(I35:I49)) -> 67.445 | J50: =IF(SUM(J35:J49)=0,(" "),SUM(J35:J49)) -> 46.561 | K50: =IF(SUM(K35:K49)=0,(" "),SUM(K35:K49)) -> 55.644 | L50: =IF(SUM(L35:L49)=0,(" "),SUM(L35:L49)) -> 49.704 | ... R50: =IF(SUM(R35:R49)=0,(" "),SUM(R35:R49))
C51: =SUM(C35:C49) -> 503.763 | D51: =B34 -> KERKUILEN | E51: =IF(E50=(" "),(" "),E50) -> 58.379 | F51: =IF(F50=(" "),(" "),E51+F50) -> 123.663 | G51: =IF(G50=(" "),(" "),F51+G50) -> 174.246 | H51: =IF(H50=(" "),(" "),G51+H50) -> 224.165 | I51: =IF(I50=(" "),(" "),H51+I50) -> 291.61 | J51: =IF(J50=(" "),(" "),I51+J50) -> 338.171 | K51: =IF(K50=(" "),(" "),J51+K50) -> 393.815 | L51: =IF(L50=(" "),(" "),K51+L50) -> 443.519 | M51: =IF(M50=(" "),(" "),L51+M50) -> 503.763 | ... R51: =IF(R50=(" "),(" "),Q51+R50)
B53: OUDE GLORIE | E53: 1 | F53: 2 | G53: 3 | H53: 4 | I53: 5 | J53: 6 | K53: 7 | L53: 8 | M53: 9 | N53: 10 | O53: 11 | P53: 12 | Q53: 13 | R53: 14
A54: =IF(SUM(E54:R54)=0,(" "),COUNTIF(E54:R54,">0")) -> 2 | B54: =Oudeglorie!B5 -> Aerden Carl | C54: =IF(Oudeglorie!AA5=0," ",SUM(E54:R54)) -> 18.261 | E54: =IF(Oudeglorie!D5=(""),(""),ROUND(Oudeglorie!D5/Oudeglorie!$C5*10,3)) -> 10.87 | F54: =IF(Oudeglorie!E5=(""),(""),ROUND(Oudeglorie!E5/Oudeglorie!$C5*10,3)) | G54: =IF(Oudeglorie!F5=(""),(""),ROUND(Oudeglorie!F5/Oudeglorie!$C5*10,3)) | H54: =IF(Oudeglorie!G5=(""),(""),ROUND(Oudeglorie!G5/Oudeglorie!$C5*10,3)) | I54: =IF(Oudeglorie!H5=(""),(""),ROUND(Oudeglorie!H5/Oudeglorie!$C5*10,3)) | J54: =IF(Oudeglorie!I5=(""),(""),ROUND(Oudeglorie!I5/Oudeglorie!$C5*10,3)) | K54: =IF(Oudeglorie!J5=(""),(""),ROUND(Oudeglorie!J5/Oudeglorie!$C5*10,3)) | L54: =IF(Oudeglorie!P5=(""),(""),ROUND(Oudeglorie!P5/Oudeglorie!$O5*10,3)) -> 7.391 | M54: =IF(Oudeglorie!Q5=(""),(""),ROUND(Oudeglorie!Q5/Oudeglorie!$O5*10,3)) | N54: =IF(Oudeglorie!R5=(""),(""),ROUND(Oudeglorie!R5/Oudeglorie!$O5*10,3)) | O54: =IF(Oudeglorie!S5=(""),(""),ROUND(Oudeglorie!S5/Oudeglorie!$O5*10,3)) | P54: =IF(Oudeglorie!T5=(""),(""),ROUND(Oudeglorie!T5/Oudeglorie!$O5*10,3)) | Q54: =IF(Oudeglorie!U5=(""),(""),ROUND(Oudeglorie!U5/Oudeglorie!$O5*10,3)) | R54: =IF(Oudeglorie!V5=(""),(""),ROUND(Oudeglorie!V5/Oudeglorie!$O5*10,3))
A55: =IF(SUM(E55:R55)=0,(" "),COUNTIF(E55:R55,">0")) -> 5 | B55: =Oudeglorie!B6 -> Beyers Jos | C55: =IF(Oudeglorie!AA6=0," ",SUM(E55:R55)) -> 56.25 | E55: =IF(Oudeglorie!D6=(""),(""),ROUND(Oudeglorie!D6/Oudeglorie!$C6*10,3)) | F55: =IF(Oudeglorie!E6=(""),(""),ROUND(Oudeglorie!E6/Oudeglorie!$C6*10,3)) -> 10.833 | G55: =IF(Oudeglorie!F6=(""),(""),ROUND(Oudeglorie!F6/Oudeglorie!$C6*10,3)) -> 9.167 | H55: =IF(Oudeglorie!G6=(""),(""),ROUND(Oudeglorie!G6/Oudeglorie!$C6*10,3)) -> 13.75 | I55: =IF(Oudeglorie!H6=(""),(""),ROUND(Oudeglorie!H6/Oudeglorie!$C6*10,3)) -> 15 | J55: =IF(Oudeglorie!I6=(""),(""),ROUND(Oudeglorie!I6/Oudeglorie!$C6*10,3)) | K55: =IF(Oudeglorie!J6=(""),(""),ROUND(Oudeglorie!J6/Oudeglorie!$C6*10,3)) | L55: =IF(Oudeglorie!P6=(""),(""),ROUND(Oudeglorie!P6/Oudeglorie!$O6*10,3)) | M55: =IF(Oudeglorie!Q6=(""),(""),ROUND(Oudeglorie!Q6/Oudeglorie!$O6*10,3)) -> 7.5 | N55: =IF(Oudeglorie!R6=(""),(""),ROUND(Oudeglorie!R6/Oudeglorie!$O6*10,3)) | O55: =IF(Oudeglorie!S6=(""),(""),ROUND(Oudeglorie!S6/Oudeglorie!$O6*10,3)) | P55: =IF(Oudeglorie!T6=(""),(""),ROUND(Oudeglorie!T6/Oudeglorie!$O6*10,3)) | Q55: =IF(Oudeglorie!U6=(""),(""),ROUND(Oudeglorie!U6/Oudeglorie!$O6*10,3)) | R55: =IF(Oudeglorie!V6=(""),(""),ROUND(Oudeglorie!V6/Oudeglorie!$O6*10,3))
A56: =IF(SUM(E56:R56)=0,(" "),COUNTIF(E56:R56,">0")) -> 5 | B56: =Oudeglorie!B7 -> Beyers Roger | C56: =IF(Oudeglorie!AA7=0," ",SUM(E56:R56)) -> 50.554 | E56: =IF(Oudeglorie!D7=(""),(""),ROUND(Oudeglorie!D7/Oudeglorie!$C7*10,3)) -> 9.444 | F56: =IF(Oudeglorie!E7=(""),(""),ROUND(Oudeglorie!E7/Oudeglorie!$C7*10,3)) -> 4.259 | G56: =IF(Oudeglorie!F7=(""),(""),ROUND(Oudeglorie!F7/Oudeglorie!$C7*10,3)) -> 15.37 | H56: =IF(Oudeglorie!G7=(""),(""),ROUND(Oudeglorie!G7/Oudeglorie!$C7*10,3)) -> 7.222 | I56: =IF(Oudeglorie!H7=(""),(""),ROUND(Oudeglorie!H7/Oudeglorie!$C7*10,3)) | J56: =IF(Oudeglorie!I7=(""),(""),ROUND(Oudeglorie!I7/Oudeglorie!$C7*10,3)) | K56: =IF(Oudeglorie!J7=(""),(""),ROUND(Oudeglorie!J7/Oudeglorie!$C7*10,3)) | L56: =IF(Oudeglorie!P7=(""),(""),ROUND(Oudeglorie!P7/Oudeglorie!$O7*10,3)) | M56: =IF(Oudeglorie!Q7=(""),(""),ROUND(Oudeglorie!Q7/Oudeglorie!$O7*10,3)) -> 14.259 | N56: =IF(Oudeglorie!R7=(""),(""),ROUND(Oudeglorie!R7/Oudeglorie!$O7*10,3)) | O56: =IF(Oudeglorie!S7=(""),(""),ROUND(Oudeglorie!S7/Oudeglorie!$O7*10,3)) | P56: =IF(Oudeglorie!T7=(""),(""),ROUND(Oudeglorie!T7/Oudeglorie!$O7*10,3)) | Q56: =IF(Oudeglorie!U7=(""),(""),ROUND(Oudeglorie!U7/Oudeglorie!$O7*10,3)) | R56: =IF(Oudeglorie!V7=(""),(""),ROUND(Oudeglorie!V7/Oudeglorie!$O7*10,3))
A57: =IF(SUM(E57:R57)=0,(" "),COUNTIF(E57:R57,">0")) -> 4 | B57: =Oudeglorie!B8 -> Braat Guido | C57: =IF(Oudeglorie!AA8=0," ",SUM(E57:R57)) -> 43.236 | E57: =IF(Oudeglorie!D8=(""),(""),ROUND(Oudeglorie!D8/Oudeglorie!$C8*10,3)) | F57: =IF(Oudeglorie!E8=(""),(""),ROUND(Oudeglorie!E8/Oudeglorie!$C8*10,3)) | G57: =IF(Oudeglorie!F8=(""),(""),ROUND(Oudeglorie!F8/Oudeglorie!$C8*10,3)) -> 10 | H57: =IF(Oudeglorie!G8=(""),(""),ROUND(Oudeglorie!G8/Oudeglorie!$C8*10,3)) -> 14.118 | I57: =IF(Oudeglorie!H8=(""),(""),ROUND(Oudeglorie!H8/Oudeglorie!$C8*10,3)) -> 14.118 | J57: =IF(Oudeglorie!I8=(""),(""),ROUND(Oudeglorie!I8/Oudeglorie!$C8*10,3)) -> 5 | K57: =IF(Oudeglorie!J8=(""),(""),ROUND(Oudeglorie!J8/Oudeglorie!$C8*10,3)) | L57: =IF(Oudeglorie!P8=(""),(""),ROUND(Oudeglorie!P8/Oudeglorie!$O8*10,3)) | M57: =IF(Oudeglorie!Q8=(""),(""),ROUND(Oudeglorie!Q8/Oudeglorie!$O8*10,3)) | N57: =IF(Oudeglorie!R8=(""),(""),ROUND(Oudeglorie!R8/Oudeglorie!$O8*10,3)) | O57: =IF(Oudeglorie!S8=(""),(""),ROUND(Oudeglorie!S8/Oudeglorie!$O8*10,3)) | P57: =IF(Oudeglorie!T8=(""),(""),ROUND(Oudeglorie!T8/Oudeglorie!$O8*10,3)) | Q57: =IF(Oudeglorie!U8=(""),(""),ROUND(Oudeglorie!U8/Oudeglorie!$O8*10,3)) | R57: =IF(Oudeglorie!V8=(""),(""),ROUND(Oudeglorie!V8/Oudeglorie!$O8*10,3))
A58: =IF(SUM(E58:R58)=0,(" "),COUNTIF(E58:R58,">0")) -> 1 | B58: =Oudeglorie!B9 -> Cleeren Guido | C58: =IF(Oudeglorie!AA9=0," ",SUM(E58:R58)) -> 16.111 | E58: =IF(Oudeglorie!D9=(""),(""),ROUND(Oudeglorie!D9/Oudeglorie!$C9*10,3)) | F58: =IF(Oudeglorie!E9=(""),(""),ROUND(Oudeglorie!E9/Oudeglorie!$C9*10,3)) | G58: =IF(Oudeglorie!F9=(""),(""),ROUND(Oudeglorie!F9/Oudeglorie!$C9*10,3)) | H58: =IF(Oudeglorie!G9=(""),(""),ROUND(Oudeglorie!G9/Oudeglorie!$C9*10,3)) | I58: =IF(Oudeglorie!H9=(""),(""),ROUND(Oudeglorie!H9/Oudeglorie!$C9*10,3)) | J58: =IF(Oudeglorie!I9=(""),(""),ROUND(Oudeglorie!I9/Oudeglorie!$C9*10,3)) | K58: =IF(Oudeglorie!J9=(""),(""),ROUND(Oudeglorie!J9/Oudeglorie!$C9*10,3)) -> 16.111 | L58: =IF(Oudeglorie!P9=(""),(""),ROUND(Oudeglorie!P9/Oudeglorie!$O9*10,3)) | M58: =IF(Oudeglorie!Q9=(""),(""),ROUND(Oudeglorie!Q9/Oudeglorie!$O9*10,3)) | N58: =IF(Oudeglorie!R9=(""),(""),ROUND(Oudeglorie!R9/Oudeglorie!$O9*10,3)) | O58: =IF(Oudeglorie!S9=(""),(""),ROUND(Oudeglorie!S9/Oudeglorie!$O9*10,3)) | P58: =IF(Oudeglorie!T9=(""),(""),ROUND(Oudeglorie!T9/Oudeglorie!$O9*10,3)) | Q58: =IF(Oudeglorie!U9=(""),(""),ROUND(Oudeglorie!U9/Oudeglorie!$O9*10,3)) | R58: =IF(Oudeglorie!V9=(""),(""),ROUND(Oudeglorie!V9/Oudeglorie!$O9*10,3))
A59: =IF(SUM(E59:R59)=0,(" "),COUNTIF(E59:R59,">0")) -> 5 | B59: =Oudeglorie!B10 -> Gommers Jac | C59: =IF(Oudeglorie!AA10=0," ",SUM(E59:R59)) -> 67.5 | E59: =IF(Oudeglorie!D10=(""),(""),ROUND(Oudeglorie!D10/Oudeglorie!$C10*10,3)) | F59: =IF(Oudeglorie!E10=(""),(""),ROUND(Oudeglorie!E10/Oudeglorie!$C10*10,3)) -> 15 | G59: =IF(Oudeglorie!F10=(""),(""),ROUND(Oudeglorie!F10/Oudeglorie!$C10*10,3)) | H59: =IF(Oudeglorie!G10=(""),(""),ROUND(Oudeglorie!G10/Oudeglorie!$C10*10,3)) | I59: =IF(Oudeglorie!H10=(""),(""),ROUND(Oudeglorie!H10/Oudeglorie!$C10*10,3)) | J59: =IF(Oudeglorie!I10=(""),(""),ROUND(Oudeglorie!I10/Oudeglorie!$C10*10,3)) -> 13.75 | K59: =IF(Oudeglorie!J10=(""),(""),ROUND(Oudeglorie!J10/Oudeglorie!$C10*10,3)) -> 15.625 | L59: =IF(Oudeglorie!P10=(""),(""),ROUND(Oudeglorie!P10/Oudeglorie!$O10*10,3)) -> 15.625 | M59: =IF(Oudeglorie!Q10=(""),(""),ROUND(Oudeglorie!Q10/Oudeglorie!$O10*10,3)) -> 7.5 | N59: =IF(Oudeglorie!R10=(""),(""),ROUND(Oudeglorie!R10/Oudeglorie!$O10*10,3)) | O59: =IF(Oudeglorie!S10=(""),(""),ROUND(Oudeglorie!S10/Oudeglorie!$O10*10,3)) | P59: =IF(Oudeglorie!T10=(""),(""),ROUND(Oudeglorie!T10/Oudeglorie!$O10*10,3)) | Q59: =IF(Oudeglorie!U10=(""),(""),ROUND(Oudeglorie!U10/Oudeglorie!$O10*10,3)) | R59: =IF(Oudeglorie!V10=(""),(""),ROUND(Oudeglorie!V10/Oudeglorie!$O10*10,3))
A60: =IF(SUM(E60:R60)=0,(" "),COUNTIF(E60:R60,">0")) -> 5 | B60: =Oudeglorie!B11 -> Jacobs Alfons | C60: =IF(Oudeglorie!AA11=0," ",SUM(E60:R60)) -> 33.333 | E60: =IF(Oudeglorie!D11=(""),(""),ROUND(Oudeglorie!D11/Oudeglorie!$C11*10,3)) -> 8.148 | F60: =IF(Oudeglorie!E11=(""),(""),ROUND(Oudeglorie!E11/Oudeglorie!$C11*10,3)) -> 3.704 | G60: =IF(Oudeglorie!F11=(""),(""),ROUND(Oudeglorie!F11/Oudeglorie!$C11*10,3)) -> 7.407 | H60: =IF(Oudeglorie!G11=(""),(""),ROUND(Oudeglorie!G11/Oudeglorie!$C11*10,3)) | I60: =IF(Oudeglorie!H11=(""),(""),ROUND(Oudeglorie!H11/Oudeglorie!$C11*10,3)) | J60: =IF(Oudeglorie!I11=(""),(""),ROUND(Oudeglorie!I11/Oudeglorie!$C11*10,3)) | K60: =IF(Oudeglorie!J11=(""),(""),ROUND(Oudeglorie!J11/Oudeglorie!$C11*10,3)) | L60: =IF(Oudeglorie!P11=(""),(""),ROUND(Oudeglorie!P11/Oudeglorie!$O11*10,3)) -> 4.444 | M60: =IF(Oudeglorie!Q11=(""),(""),ROUND(Oudeglorie!Q11/Oudeglorie!$O11*10,3)) -> 9.63 | N60: =IF(Oudeglorie!R11=(""),(""),ROUND(Oudeglorie!R11/Oudeglorie!$O11*10,3)) | O60: =IF(Oudeglorie!S11=(""),(""),ROUND(Oudeglorie!S11/Oudeglorie!$O11*10,3)) | P60: =IF(Oudeglorie!T11=(""),(""),ROUND(Oudeglorie!T11/Oudeglorie!$O11*10,3)) | Q60: =IF(Oudeglorie!U11=(""),(""),ROUND(Oudeglorie!U11/Oudeglorie!$O11*10,3)) | R60: =IF(Oudeglorie!V11=(""),(""),ROUND(Oudeglorie!V11/Oudeglorie!$O11*10,3))
A61: =IF(SUM(E61:R61)=0,(" "),COUNTIF(E61:R61,">0")) -> 4 | B61: =Oudeglorie!B12 -> Jacobs Frans | C61: =IF(Oudeglorie!AA12=0," ",SUM(E61:R61)) -> 32.222 | E61: =IF(Oudeglorie!D12=(""),(""),ROUND(Oudeglorie!D12/Oudeglorie!$C12*10,3)) | F61: =IF(Oudeglorie!E12=(""),(""),ROUND(Oudeglorie!E12/Oudeglorie!$C12*10,3)) | G61: =IF(Oudeglorie!F12=(""),(""),ROUND(Oudeglorie!F12/Oudeglorie!$C12*10,3)) | H61: =IF(Oudeglorie!G12=(""),(""),ROUND(Oudeglorie!G12/Oudeglorie!$C12*10,3)) | I61: =IF(Oudeglorie!H12=(""),(""),ROUND(Oudeglorie!H12/Oudeglorie!$C12*10,3)) -> 9.365 | J61: =IF(Oudeglorie!I12=(""),(""),ROUND(Oudeglorie!I12/Oudeglorie!$C12*10,3)) -> 6.667 | K61: =IF(Oudeglorie!J12=(""),(""),ROUND(Oudeglorie!J12/Oudeglorie!$C12*10,3)) -> 10 | L61: =IF(Oudeglorie!P12=(""),(""),ROUND(Oudeglorie!P12/Oudeglorie!$O12*10,3)) -> 6.19 | M61: =IF(Oudeglorie!Q12=(""),(""),ROUND(Oudeglorie!Q12/Oudeglorie!$O12*10,3)) | N61: =IF(Oudeglorie!R12=(""),(""),ROUND(Oudeglorie!R12/Oudeglorie!$O12*10,3)) | O61: =IF(Oudeglorie!S12=(""),(""),ROUND(Oudeglorie!S12/Oudeglorie!$O12*10,3)) | P61: =IF(Oudeglorie!T12=(""),(""),ROUND(Oudeglorie!T12/Oudeglorie!$O12*10,3)) | Q61: =IF(Oudeglorie!U12=(""),(""),ROUND(Oudeglorie!U12/Oudeglorie!$O12*10,3)) | R61: =IF(Oudeglorie!V12=(""),(""),ROUND(Oudeglorie!V12/Oudeglorie!$O12*10,3))
A62: =IF(SUM(E62:R62)=0,(" "),COUNTIF(E62:R62,">0")) -> 3 | B62: =Oudeglorie!B13 -> Nelen Frans | C62: =IF(Oudeglorie!AA13=0," ",SUM(E62:R62)) -> 24.814 | E62: =IF(Oudeglorie!D13=(""),(""),ROUND(Oudeglorie!D13/Oudeglorie!$C13*10,3)) | F62: =IF(Oudeglorie!E13=(""),(""),ROUND(Oudeglorie!E13/Oudeglorie!$C13*10,3)) | G62: =IF(Oudeglorie!F13=(""),(""),ROUND(Oudeglorie!F13/Oudeglorie!$C13*10,3)) | H62: =IF(Oudeglorie!G13=(""),(""),ROUND(Oudeglorie!G13/Oudeglorie!$C13*10,3)) -> 10.37 | I62: =IF(Oudeglorie!H13=(""),(""),ROUND(Oudeglorie!H13/Oudeglorie!$C13*10,3)) -> 9.259 | J62: =IF(Oudeglorie!I13=(""),(""),ROUND(Oudeglorie!I13/Oudeglorie!$C13*10,3)) | K62: =IF(Oudeglorie!J13=(""),(""),ROUND(Oudeglorie!J13/Oudeglorie!$C13*10,3)) -> 5.185 | L62: =IF(Oudeglorie!P13=(""),(""),ROUND(Oudeglorie!P13/Oudeglorie!$O13*10,3)) | M62: =IF(Oudeglorie!Q13=(""),(""),ROUND(Oudeglorie!Q13/Oudeglorie!$O13*10,3)) | N62: =IF(Oudeglorie!R13=(""),(""),ROUND(Oudeglorie!R13/Oudeglorie!$O13*10,3)) | O62: =IF(Oudeglorie!S13=(""),(""),ROUND(Oudeglorie!S13/Oudeglorie!$O13*10,3)) | P62: =IF(Oudeglorie!T13=(""),(""),ROUND(Oudeglorie!T13/Oudeglorie!$O13*10,3)) | Q62: =IF(Oudeglorie!U13=(""),(""),ROUND(Oudeglorie!U13/Oudeglorie!$O13*10,3)) | R62: =IF(Oudeglorie!V13=(""),(""),ROUND(Oudeglorie!V13/Oudeglorie!$O13*10,3))
A63: =IF(SUM(E63:R63)=0,(" "),COUNTIF(E63:R63,">0")) -> 3 | B63: =Oudeglorie!B14 -> Nelen Jef [NS 25] | C63: =IF(Oudeglorie!AA14=0," ",SUM(E63:R63)) -> 28.4 | E63: =IF(Oudeglorie!D14=(""),(""),ROUND(Oudeglorie!D14/25*10,3)) -> 10.4 | F63: =IF(Oudeglorie!E14=(""),(""),ROUND(Oudeglorie!E14/Oudeglorie!$C14*10,3)) | G63: =IF(Oudeglorie!F14=(""),(""),ROUND(Oudeglorie!F14/Oudeglorie!$C14*10,3)) | H63: =IF(Oudeglorie!G14=(""),(""),ROUND(Oudeglorie!G14/25*10,3)) -> 11.2 | I63: =IF(Oudeglorie!H14=(""),(""),ROUND(Oudeglorie!H14/Oudeglorie!$C14*10,3)) | J63: =IF(Oudeglorie!I14=(""),(""),ROUND(Oudeglorie!I14/Oudeglorie!$C14*10,3)) | K63: =IF(Oudeglorie!J14=(""),(""),ROUND(Oudeglorie!J14/Oudeglorie!$C14*10,3)) | L63: =IF(Oudeglorie!P14=(""),(""),ROUND(Oudeglorie!P14/Oudeglorie!$O14*10,3)) | M63: =IF(Oudeglorie!Q14=(""),(""),ROUND(Oudeglorie!Q14/25*10,3)) -> 6.8 | N63: =IF(Oudeglorie!R14=(""),(""),ROUND(Oudeglorie!R14/Oudeglorie!$O14*10,3)) | O63: =IF(Oudeglorie!S14=(""),(""),ROUND(Oudeglorie!S14/Oudeglorie!$O14*10,3)) | P63: =IF(Oudeglorie!T14=(""),(""),ROUND(Oudeglorie!T14/Oudeglorie!$O14*10,3)) | Q63: =IF(Oudeglorie!U14=(""),(""),ROUND(Oudeglorie!U14/Oudeglorie!$O14*10,3)) | R63: =IF(Oudeglorie!V14=(""),(""),ROUND(Oudeglorie!V14/Oudeglorie!$O14*10,3))
A64: =IF(SUM(E64:R64)=0,(" "),COUNTIF(E64:R64,">0")) -> 4 | B64: =Oudeglorie!B15 -> Sommers Ludo | C64: =IF(Oudeglorie!AA15=0," ",SUM(E64:R64)) -> 36 | E64: =IF(Oudeglorie!D15=(""),(""),ROUND(Oudeglorie!D15/Oudeglorie!$C15*10,3)) | F64: =IF(Oudeglorie!E15=(""),(""),ROUND(Oudeglorie!E15/Oudeglorie!$C15*10,3)) | G64: =IF(Oudeglorie!F15=(""),(""),ROUND(Oudeglorie!F15/Oudeglorie!$C15*10,3)) -> 8 | H64: =IF(Oudeglorie!G15=(""),(""),ROUND(Oudeglorie!G15/Oudeglorie!$C15*10,3)) -> 8.333 | I64: =IF(Oudeglorie!H15=(""),(""),ROUND(Oudeglorie!H15/Oudeglorie!$C15*10,3)) -> 11.667 | J64: =IF(Oudeglorie!I15=(""),(""),ROUND(Oudeglorie!I15/Oudeglorie!$C15*10,3)) -> 8 | K64: =IF(Oudeglorie!J15=(""),(""),ROUND(Oudeglorie!J15/Oudeglorie!$C15*10,3)) | L64: =IF(Oudeglorie!P15=(""),(""),ROUND(Oudeglorie!P15/Oudeglorie!$O15*10,3)) | M64: =IF(Oudeglorie!Q15=(""),(""),ROUND(Oudeglorie!Q15/Oudeglorie!$O15*10,3)) | N64: =IF(Oudeglorie!R15=(""),(""),ROUND(Oudeglorie!R15/Oudeglorie!$O15*10,3)) | O64: =IF(Oudeglorie!S15=(""),(""),ROUND(Oudeglorie!S15/Oudeglorie!$O15*10,3)) | P64: =IF(Oudeglorie!T15=(""),(""),ROUND(Oudeglorie!T15/Oudeglorie!$O15*10,3)) | Q64: =IF(Oudeglorie!U15=(""),(""),ROUND(Oudeglorie!U15/Oudeglorie!$O15*10,3)) | R64: =IF(Oudeglorie!V15=(""),(""),ROUND(Oudeglorie!V15/Oudeglorie!$O15*10,3))
A65: =IF(SUM(E65:R65)=0,(" "),COUNTIF(E65:R65,">0")) -> 3 | B65: =Oudeglorie!B16 -> Van Ginderen Ludo | C65: =IF(Oudeglorie!AA16=0," ",SUM(E65:R65)) -> 30.625 | E65: =IF(Oudeglorie!D16=(""),(""),ROUND(Oudeglorie!D16/Oudeglorie!$C16*10,3)) | F65: =IF(Oudeglorie!E16=(""),(""),ROUND(Oudeglorie!E16/Oudeglorie!$C16*10,3)) | G65: =IF(Oudeglorie!F16=(""),(""),ROUND(Oudeglorie!F16/Oudeglorie!$C16*10,3)) | H65: =IF(Oudeglorie!G16=(""),(""),ROUND(Oudeglorie!G16/Oudeglorie!$C16*10,3)) | I65: =IF(Oudeglorie!H16=(""),(""),ROUND(Oudeglorie!H16/Oudeglorie!$C16*10,3)) -> 11.875 | J65: =IF(Oudeglorie!I16=(""),(""),ROUND(Oudeglorie!I16/Oudeglorie!$C16*10,3)) -> 5.625 | K65: =IF(Oudeglorie!J16=(""),(""),ROUND(Oudeglorie!J16/Oudeglorie!$C16*10,3)) -> 13.125 | L65: =IF(Oudeglorie!P16=(""),(""),ROUND(Oudeglorie!P16/Oudeglorie!$O16*10,3)) | M65: =IF(Oudeglorie!Q16=(""),(""),ROUND(Oudeglorie!Q16/Oudeglorie!$O16*10,3)) | N65: =IF(Oudeglorie!R16=(""),(""),ROUND(Oudeglorie!R16/Oudeglorie!$O16*10,3)) | O65: =IF(Oudeglorie!S16=(""),(""),ROUND(Oudeglorie!S16/Oudeglorie!$O16*10,3)) | P65: =IF(Oudeglorie!T16=(""),(""),ROUND(Oudeglorie!T16/Oudeglorie!$O16*10,3)) | Q65: =IF(Oudeglorie!U16=(""),(""),ROUND(Oudeglorie!U16/Oudeglorie!$O16*10,3)) | R65: =IF(Oudeglorie!V16=(""),(""),ROUND(Oudeglorie!V16/Oudeglorie!$O16*10,3))
A66: =IF(SUM(E66:R66)=0,(" "),COUNTIF(E66:R66,">0")) -> 4 | B66: =Oudeglorie!B17 -> Van Overvelt Ludo | C66: =IF(Oudeglorie!AA17=0," ",SUM(E66:R66)) -> 36.316 | E66: =IF(Oudeglorie!D17=(""),(""),ROUND(Oudeglorie!D17/Oudeglorie!$C17*10,3)) -> 11.316 | F66: =IF(Oudeglorie!E17=(""),(""),ROUND(Oudeglorie!E17/Oudeglorie!$C17*10,3)) -> 6.842 | G66: =IF(Oudeglorie!F17=(""),(""),ROUND(Oudeglorie!F17/Oudeglorie!$C17*10,3)) | H66: =IF(Oudeglorie!G17=(""),(""),ROUND(Oudeglorie!G17/Oudeglorie!$C17*10,3)) | I66: =IF(Oudeglorie!H17=(""),(""),ROUND(Oudeglorie!H17/Oudeglorie!$C17*10,3)) | J66: =IF(Oudeglorie!I17=(""),(""),ROUND(Oudeglorie!I17/Oudeglorie!$C17*10,3)) -> 8.421 | K66: =IF(Oudeglorie!J17=(""),(""),ROUND(Oudeglorie!J17/Oudeglorie!$C17*10,3)) | L66: =IF(Oudeglorie!P17=(""),(""),ROUND(Oudeglorie!P17/Oudeglorie!$O17*10,3)) -> 9.737 | M66: =IF(Oudeglorie!Q17=(""),(""),ROUND(Oudeglorie!Q17/Oudeglorie!$O17*10,3)) | N66: =IF(Oudeglorie!R17=(""),(""),ROUND(Oudeglorie!R17/Oudeglorie!$O17*10,3)) | O66: =IF(Oudeglorie!S17=(""),(""),ROUND(Oudeglorie!S17/Oudeglorie!$O17*10,3)) | P66: =IF(Oudeglorie!T17=(""),(""),ROUND(Oudeglorie!T17/Oudeglorie!$O17*10,3)) | Q66: =IF(Oudeglorie!U17=(""),(""),ROUND(Oudeglorie!U17/Oudeglorie!$O17*10,3)) | R66: =IF(Oudeglorie!V17=(""),(""),ROUND(Oudeglorie!V17/Oudeglorie!$O17*10,3))
A67: =IF(SUM(E67:R67)=0,(" "),COUNTIF(E67:R67,">0")) -> 6 | B67: =Oudeglorie!B18 -> Willemsen Willy | C67: =IF(Oudeglorie!AA18=0," ",SUM(E67:R67)) -> 58.421 | E67: =IF(Oudeglorie!D18=(""),(""),ROUND(Oudeglorie!D18/Oudeglorie!$C18*10,3)) -> 10.263 | F67: =IF(Oudeglorie!E18=(""),(""),ROUND(Oudeglorie!E18/Oudeglorie!$C18*10,3)) -> 3.684 | G67: =IF(Oudeglorie!F18=(""),(""),ROUND(Oudeglorie!F18/Oudeglorie!$C18*10,3)) -> 6.053 | H67: =IF(Oudeglorie!G18=(""),(""),ROUND(Oudeglorie!G18/Oudeglorie!$C18*10,3)) | I67: =IF(Oudeglorie!H18=(""),(""),ROUND(Oudeglorie!H18/Oudeglorie!$C18*10,3)) | J67: =IF(Oudeglorie!I18=(""),(""),ROUND(Oudeglorie!I18/Oudeglorie!$C18*10,3)) | K67: =IF(Oudeglorie!J18=(""),(""),ROUND(Oudeglorie!J18/Oudeglorie!$C18*10,3)) -> 15.263 | L67: =IF(Oudeglorie!P18=(""),(""),ROUND(Oudeglorie!P18/Oudeglorie!$O18*10,3)) -> 9.737 | M67: =IF(Oudeglorie!Q18=(""),(""),ROUND(Oudeglorie!Q18/Oudeglorie!$O18*10,3)) -> 13.421 | N67: =IF(Oudeglorie!R18=(""),(""),ROUND(Oudeglorie!R18/Oudeglorie!$O18*10,3)) | O67: =IF(Oudeglorie!S18=(""),(""),ROUND(Oudeglorie!S18/Oudeglorie!$O18*10,3)) | P67: =IF(Oudeglorie!T18=(""),(""),ROUND(Oudeglorie!T18/Oudeglorie!$O18*10,3)) | Q67: =IF(Oudeglorie!U18=(""),(""),ROUND(Oudeglorie!U18/Oudeglorie!$O18*10,3)) | R67: =IF(Oudeglorie!V18=(""),(""),ROUND(Oudeglorie!V18/Oudeglorie!$O18*10,3))
C68: =B53 -> OUDE GLORIE | D68: 5 | E68: =IF(SUM(E54:E67)=0,(" "),SUM(E54:E67)) -> 60.441 | F68: =IF(SUM(F54:F67)=0,(" "),SUM(F54:F67)) -> 44.322 | G68: =IF(SUM(G54:G67)=0,(" "),SUM(G54:G67)) -> 55.997 | H68: =IF(SUM(H54:H67)=0,(" "),SUM(H54:H67)) -> 64.993 | I68: =IF(SUM(I54:I67)=0,(" "),SUM(I54:I67)) -> 71.284 | J68: =IF(SUM(J54:J67)=0,(" "),SUM(J54:J67)) -> 47.463 | K68: =IF(SUM(K54:K67)=0,(" "),SUM(K54:K67)) -> 75.309 | L68: =IF(SUM(L54:L67)=0,(" "),SUM(L54:L67)) -> 53.124 | ... R68: =IF(SUM(R54:R67)=0,(" "),SUM(R54:R67))
C69: =SUM(C54:C67) -> 532.043 | D69: =B53 -> OUDE GLORIE | E69: =IF(E68=(" "),(" "),E68) -> 60.441 | F69: =IF(F68=(" "),(" "),E69+F68) -> 104.763 | G69: =IF(G68=(" "),(" "),F69+G68) -> 160.76 | H69: =IF(H68=(" "),(" "),G69+H68) -> 225.753 | I69: =IF(I68=(" "),(" "),H69+I68) -> 297.037 | J69: =IF(J68=(" "),(" "),I69+J68) -> 344.5 | K69: =IF(K68=(" "),(" "),J69+K68) -> 419.809 | L69: =IF(L68=(" "),(" "),K69+L68) -> 472.933 | M69: =IF(M68=(" "),(" "),L69+M68) -> 532.043 | ... R69: =IF(R68=(" "),(" "),Q69+R68)
B72: SEN. PUTTE | E72: 1 | F72: 2 | G72: 3 | H72: 4 | I72: 5 | J72: 6 | K72: 7 | L72: 8 | M72: 9 | N72: 10 | O72: 11 | P72: 12 | Q72: 13 | R72: 14
A73: =IF(SUM(E73:R73)=0,(" "),COUNTIF(E73:R73,">0")) -> 6 | B73: =Putte!B5 -> Anthonissen Paul | C73: =IF(Putte!AA5=0," ",SUM(E73:R73)) -> 62 | E73: =IF(Putte!D5=(""),(""),ROUND(Putte!D5/Putte!$C5*10,3)) | F73: =IF(Putte!E5=(""),(""),ROUND(Putte!E5/Putte!$C5*10,3)) | G73: =IF(Putte!F5=(""),(""),ROUND(Putte!F5/Putte!$C5*10,3)) | H73: =IF(Putte!G5=(""),(""),ROUND(Putte!G5/Putte!$C5*10,3)) -> 11.5 | I73: =IF(Putte!H5=(""),(""),ROUND(Putte!H5/Putte!$C5*10,3)) -> 6.5 | J73: =IF(Putte!I5=(""),(""),ROUND(Putte!I5/Putte!$C5*10,3)) -> 17.25 | K73: =IF(Putte!J5=(""),(""),ROUND(Putte!J5/Putte!$C5*10,3)) -> 12.25 | L73: =IF(Putte!P5=(""),(""),ROUND(Putte!P5/Putte!$O5*10,3)) -> 5.75 | M73: =IF(Putte!Q5=(""),(""),ROUND(Putte!Q5/Putte!$O5*10,3)) -> 8.75 | N73: =IF(Putte!R5=(""),(""),ROUND(Putte!R5/Putte!$O5*10,3)) | O73: =IF(Putte!S5=(""),(""),ROUND(Putte!S5/Putte!$O5*10,3)) | P73: =IF(Putte!T5=(""),(""),ROUND(Putte!T5/Putte!$O5*10,3)) | Q73: =IF(Putte!U5=(""),(""),ROUND(Putte!U5/Putte!$O5*10,3)) | R73: =IF(Putte!V5=(""),(""),ROUND(Putte!V5/Putte!$O5*10,3))
A74: =IF(SUM(E74:R74)=0,(" "),COUNTIF(E74:R74,">0")) -> 6 | B74: =Putte!B6 -> De Beukelaer Freddy | C74: =IF(Putte!AA6=0," ",SUM(E74:R74)) -> 59.999 | E74: =IF(Putte!D6=(""),(""),ROUND(Putte!D6/Putte!$C6*10,3)) -> 8.182 | F74: =IF(Putte!E6=(""),(""),ROUND(Putte!E6/Putte!$C6*10,3)) | G74: =IF(Putte!F6=(""),(""),ROUND(Putte!F6/Putte!$C6*10,3)) | H74: =IF(Putte!G6=(""),(""),ROUND(Putte!G6/Putte!$C6*10,3)) -> 7.727 | I74: =IF(Putte!H6=(""),(""),ROUND(Putte!H6/Putte!$C6*10,3)) -> 12.727 | J74: =IF(Putte!I6=(""),(""),ROUND(Putte!I6/Putte!$C6*10,3)) | K74: =IF(Putte!J6=(""),(""),ROUND(Putte!J6/Putte!$C6*10,3)) -> 15.909 | L74: =IF(Putte!P6=(""),(""),ROUND(Putte!P6/Putte!$O6*10,3)) -> 6.818 | M74: =IF(Putte!Q6=(""),(""),ROUND(Putte!Q6/Putte!$O6*10,3)) -> 8.636 | N74: =IF(Putte!R6=(""),(""),ROUND(Putte!R6/Putte!$O6*10,3)) | O74: =IF(Putte!S6=(""),(""),ROUND(Putte!S6/Putte!$O6*10,3)) | P74: =IF(Putte!T6=(""),(""),ROUND(Putte!T6/Putte!$O6*10,3)) | Q74: =IF(Putte!U6=(""),(""),ROUND(Putte!U6/Putte!$O6*10,3)) | R74: =IF(Putte!V6=(""),(""),ROUND(Putte!V6/Putte!$O6*10,3))
A75: =IF(SUM(E75:R75)=0,(" "),COUNTIF(E75:R75,">0")) -> 9 | B75: =Putte!B7 -> Eyckmans Luc | C75: =IF(Putte!AA7=0," ",SUM(E75:R75)) -> 92.857 | E75: =IF(Putte!D7=(""),(""),ROUND(Putte!D7/Putte!$C7*10,3)) -> 7.143 | F75: =IF(Putte!E7=(""),(""),ROUND(Putte!E7/Putte!$C7*10,3)) -> 8.095 | G75: =IF(Putte!F7=(""),(""),ROUND(Putte!F7/Putte!$C7*10,3)) -> 15.238 | H75: =IF(Putte!G7=(""),(""),ROUND(Putte!G7/Putte!$C7*10,3)) -> 12.857 | I75: =IF(Putte!H7=(""),(""),ROUND(Putte!H7/Putte!$C7*10,3)) -> 12.381 | J75: =IF(Putte!I7=(""),(""),ROUND(Putte!I7/Putte!$C7*10,3)) -> 7.619 | K75: =IF(Putte!J7=(""),(""),ROUND(Putte!J7/Putte!$C7*10,3)) -> 11.905 | L75: =IF(Putte!P7=(""),(""),ROUND(Putte!P7/Putte!$O7*10,3)) -> 8.095 | M75: =IF(Putte!Q7=(""),(""),ROUND(Putte!Q7/Putte!$O7*10,3)) -> 9.524 | N75: =IF(Putte!R7=(""),(""),ROUND(Putte!R7/Putte!$O7*10,3)) | O75: =IF(Putte!S7=(""),(""),ROUND(Putte!S7/Putte!$O7*10,3)) | P75: =IF(Putte!T7=(""),(""),ROUND(Putte!T7/Putte!$O7*10,3)) | Q75: =IF(Putte!U7=(""),(""),ROUND(Putte!U7/Putte!$O7*10,3)) | R75: =IF(Putte!V7=(""),(""),ROUND(Putte!V7/Putte!$O7*10,3))
A76: =IF(SUM(E76:R76)=0,(" "),COUNTIF(E76:R76,">0")) -> 6 | B76: =Putte!B8 -> Evers Henri | C76: =IF(Putte!AA8=0," ",SUM(E76:R76)) -> 38.825 | E76: =IF(Putte!D8=(""),(""),ROUND(Putte!D8/Putte!$C8*10,3)) | F76: =IF(Putte!E8=(""),(""),ROUND(Putte!E8/Putte!$C8*10,3)) -> 4.706 | G76: =IF(Putte!F8=(""),(""),ROUND(Putte!F8/Putte!$C8*10,3)) -> 4.118 | H76: =IF(Putte!G8=(""),(""),ROUND(Putte!G8/Putte!$C8*10,3)) -> 11.765 | I76: =IF(Putte!H8=(""),(""),ROUND(Putte!H8/Putte!$C8*10,3)) | J76: =IF(Putte!I8=(""),(""),ROUND(Putte!I8/Putte!$C8*10,3)) -> 6.471 | K76: =IF(Putte!J8=(""),(""),ROUND(Putte!J8/Putte!$C8*10,3)) -> 7.059 | L76: =IF(Putte!P8=(""),(""),ROUND(Putte!P8/Putte!$O8*10,3)) -> 4.706 | M76: =IF(Putte!Q8=(""),(""),ROUND(Putte!Q8/Putte!$O8*10,3)) | N76: =IF(Putte!R8=(""),(""),ROUND(Putte!R8/Putte!$O8*10,3)) | O76: =IF(Putte!S8=(""),(""),ROUND(Putte!S8/Putte!$O8*10,3)) | P76: =IF(Putte!T8=(""),(""),ROUND(Putte!T8/Putte!$O8*10,3)) | Q76: =IF(Putte!U8=(""),(""),ROUND(Putte!U8/Putte!$O8*10,3)) | R76: =IF(Putte!V8=(""),(""),ROUND(Putte!V8/Putte!$O8*10,3))
A77: =IF(SUM(E77:R77)=0,(" "),COUNTIF(E77:R77,">0")) -> 4 | B77: =Putte!B9 -> Palickx Fons | C77: =IF(Putte!AA9=0," ",SUM(E77:R77)) -> 29.101 | E77: =IF(Putte!D9=(""),(""),ROUND(Putte!D9/Putte!$C9*10,3)) -> 6.742 | F77: =IF(Putte!E9=(""),(""),ROUND(Putte!E9/Putte!$C9*10,3)) -> 8.876 | G77: =IF(Putte!F9=(""),(""),ROUND(Putte!F9/Putte!$C9*10,3)) | H77: =IF(Putte!G9=(""),(""),ROUND(Putte!G9/Putte!$C9*10,3)) -> 6.292 | I77: =IF(Putte!H9=(""),(""),ROUND(Putte!H9/Putte!$C9*10,3)) | J77: =IF(Putte!I9=(""),(""),ROUND(Putte!I9/Putte!$C9*10,3)) | K77: =IF(Putte!J9=(""),(""),ROUND(Putte!J9/Putte!$C9*10,3)) | L77: =IF(Putte!P9=(""),(""),ROUND(Putte!P9/Putte!$O9*10,3)) | M77: =IF(Putte!Q9=(""),(""),ROUND(Putte!Q9/Putte!$O9*10,3)) -> 7.191 | N77: =IF(Putte!R9=(""),(""),ROUND(Putte!R9/Putte!$O9*10,3)) | O77: =IF(Putte!S9=(""),(""),ROUND(Putte!S9/Putte!$O9*10,3)) | P77: =IF(Putte!T9=(""),(""),ROUND(Putte!T9/Putte!$O9*10,3)) | Q77: =IF(Putte!U9=(""),(""),ROUND(Putte!U9/Putte!$O9*10,3)) | R77: =IF(Putte!V9=(""),(""),ROUND(Putte!V9/Putte!$O9*10,3))
A78: =IF(SUM(E78:R78)=0,(" "),COUNTIF(E78:R78,">0")) | B78: =Putte!B10 -> Poulus Marinus | C78: =IF(Putte!AA10=0," ",SUM(E78:R78)) | E78: =IF(Putte!D10=(""),(""),ROUND(Putte!D10/Putte!$C10*10,3)) | F78: =IF(Putte!E10=(""),(""),ROUND(Putte!E10/Putte!$C10*10,3)) | G78: =IF(Putte!F10=(""),(""),ROUND(Putte!F10/Putte!$C10*10,3)) | H78: =IF(Putte!G10=(""),(""),ROUND(Putte!G10/Putte!$C10*10,3)) | I78: =IF(Putte!H10=(""),(""),ROUND(Putte!H10/Putte!$C10*10,3)) | J78: =IF(Putte!I10=(""),(""),ROUND(Putte!I10/Putte!$C10*10,3)) | K78: =IF(Putte!J10=(""),(""),ROUND(Putte!J10/Putte!$C10*10,3)) | L78: =IF(Putte!P10=(""),(""),ROUND(Putte!P10/Putte!$O10*10,3)) | M78: =IF(Putte!Q10=(""),(""),ROUND(Putte!Q10/Putte!$O10*10,3)) | N78: =IF(Putte!R10=(""),(""),ROUND(Putte!R10/Putte!$O10*10,3)) | O78: =IF(Putte!S10=(""),(""),ROUND(Putte!S10/Putte!$O10*10,3)) | P78: =IF(Putte!T10=(""),(""),ROUND(Putte!T10/Putte!$O10*10,3)) | Q78: =IF(Putte!U10=(""),(""),ROUND(Putte!U10/Putte!$O10*10,3)) | R78: =IF(Putte!V10=(""),(""),ROUND(Putte!V10/Putte!$O10*10,3))
A79: =IF(SUM(E79:R79)=0,(" "),COUNTIF(E79:R79,">0")) -> 7 | B79: =Putte!B11 -> Plompen Dirk | C79: =IF(Putte!AA11=0," ",SUM(E79:R79)) -> 78.571 | E79: =IF(Putte!D11=(""),(""),ROUND(Putte!D11/Putte!$C11*10,3)) -> 8.571 | F79: =IF(Putte!E11=(""),(""),ROUND(Putte!E11/Putte!$C11*10,3)) -> 14 | G79: =IF(Putte!F11=(""),(""),ROUND(Putte!F11/Putte!$C11*10,3)) | H79: =IF(Putte!G11=(""),(""),ROUND(Putte!G11/Putte!$C11*10,3)) -> 9.714 | I79: =IF(Putte!H11=(""),(""),ROUND(Putte!H11/Putte!$C11*10,3)) -> 13.714 | J79: =IF(Putte!I11=(""),(""),ROUND(Putte!I11/Putte!$C11*10,3)) -> 10.857 | K79: =IF(Putte!J11=(""),(""),ROUND(Putte!J11/Putte!$C11*10,3)) -> 12.286 | L79: =IF(Putte!P11=(""),(""),ROUND(Putte!P11/Putte!$O11*10,3)) -> 9.429 | M79: =IF(Putte!Q11=(""),(""),ROUND(Putte!Q11/Putte!$O11*10,3)) | N79: =IF(Putte!R11=(""),(""),ROUND(Putte!R11/Putte!$O11*10,3)) | O79: =IF(Putte!S11=(""),(""),ROUND(Putte!S11/Putte!$O11*10,3)) | P79: =IF(Putte!T11=(""),(""),ROUND(Putte!T11/Putte!$O11*10,3)) | Q79: =IF(Putte!U11=(""),(""),ROUND(Putte!U11/Putte!$O11*10,3)) | R79: =IF(Putte!V11=(""),(""),ROUND(Putte!V11/Putte!$O11*10,3))
A80: =IF(SUM(E80:R80)=0,(" "),COUNTIF(E80:R80,">0")) -> 4 | B80: =Putte!B12 -> Schaeken Pierre | C80: =IF(Putte!AA12=0," ",SUM(E80:R80)) -> 42.778 | E80: =IF(Putte!D12=(""),(""),ROUND(Putte!D12/Putte!$C12*10,3)) | F80: =IF(Putte!E12=(""),(""),ROUND(Putte!E12/Putte!$C12*10,3)) | G80: =IF(Putte!F12=(""),(""),ROUND(Putte!F12/Putte!$C12*10,3)) -> 17.778 | H80: =IF(Putte!G12=(""),(""),ROUND(Putte!G12/Putte!$C12*10,3)) | I80: =IF(Putte!H12=(""),(""),ROUND(Putte!H12/Putte!$C12*10,3)) | J80: =IF(Putte!I12=(""),(""),ROUND(Putte!I12/Putte!$C12*10,3)) | K80: =IF(Putte!J12=(""),(""),ROUND(Putte!J12/Putte!$C12*10,3)) -> 7.222 | L80: =IF(Putte!P12=(""),(""),ROUND(Putte!P12/Putte!$O12*10,3)) -> 10.556 | M80: =IF(Putte!Q12=(""),(""),ROUND(Putte!Q12/Putte!$O12*10,3)) -> 7.222 | N80: =IF(Putte!R12=(""),(""),ROUND(Putte!R12/Putte!$O12*10,3)) | O80: =IF(Putte!S12=(""),(""),ROUND(Putte!S12/Putte!$O12*10,3)) | P80: =IF(Putte!T12=(""),(""),ROUND(Putte!T12/Putte!$O12*10,3)) | Q80: =IF(Putte!U12=(""),(""),ROUND(Putte!U12/Putte!$O12*10,3)) | R80: =IF(Putte!V12=(""),(""),ROUND(Putte!V12/Putte!$O12*10,3))
A81: =IF(SUM(E81:R81)=0,(" "),COUNTIF(E81:R81,">0")) -> 4 | B81: =Putte!B13 -> Van Den Bleeken Eddie | C81: =IF(Putte!AA13=0," ",SUM(E81:R81)) -> 31.819 | E81: =IF(Putte!D13=(""),(""),ROUND(Putte!D13/Putte!$C13*10,3)) -> 6.97 | F81: =IF(Putte!E13=(""),(""),ROUND(Putte!E13/Putte!$C13*10,3)) -> 8.485 | G81: =IF(Putte!F13=(""),(""),ROUND(Putte!F13/Putte!$C13*10,3)) -> 7.879 | H81: =IF(Putte!G13=(""),(""),ROUND(Putte!G13/Putte!$C13*10,3)) | I81: =IF(Putte!H13=(""),(""),ROUND(Putte!H13/Putte!$C13*10,3)) | J81: =IF(Putte!I13=(""),(""),ROUND(Putte!I13/Putte!$C13*10,3)) -> 8.485 | K81: =IF(Putte!J13=(""),(""),ROUND(Putte!J13/Putte!$C13*10,3)) | L81: =IF(Putte!P13=(""),(""),ROUND(Putte!P13/Putte!$O13*10,3)) | M81: =IF(Putte!Q13=(""),(""),ROUND(Putte!Q13/Putte!$O13*10,3)) | N81: =IF(Putte!R13=(""),(""),ROUND(Putte!R13/Putte!$O13*10,3)) | O81: =IF(Putte!S13=(""),(""),ROUND(Putte!S13/Putte!$O13*10,3)) | P81: =IF(Putte!T13=(""),(""),ROUND(Putte!T13/Putte!$O13*10,3)) | Q81: =IF(Putte!U13=(""),(""),ROUND(Putte!U13/Putte!$O13*10,3)) | R81: =IF(Putte!V13=(""),(""),ROUND(Putte!V13/Putte!$O13*10,3))
A82: =IF(SUM(E82:R82)=0,(" "),COUNTIF(E82:R82,">0")) | B82: =Putte!B14 -> Van Riel Eddie | C82: =IF(Putte!AA14=0," ",SUM(E82:R82)) | E82: =IF(Putte!D14=(""),(""),ROUND(Putte!D14/Putte!$C14*10,3)) | F82: =IF(Putte!E14=(""),(""),ROUND(Putte!E14/Putte!$C14*10,3)) | G82: =IF(Putte!F14=(""),(""),ROUND(Putte!F14/Putte!$C14*10,3)) | H82: =IF(Putte!G14=(""),(""),ROUND(Putte!G14/Putte!$C14*10,3)) | I82: =IF(Putte!H14=(""),(""),ROUND(Putte!H14/Putte!$C14*10,3)) | J82: =IF(Putte!I14=(""),(""),ROUND(Putte!I14/Putte!$C14*10,3)) | K82: =IF(Putte!J14=(""),(""),ROUND(Putte!J14/Putte!$C14*10,3)) | L82: =IF(Putte!P14=(""),(""),ROUND(Putte!P14/Putte!$O14*10,3)) | M82: =IF(Putte!Q14=(""),(""),ROUND(Putte!Q14/Putte!$O14*10,3)) | N82: =IF(Putte!R14=(""),(""),ROUND(Putte!R14/Putte!$O14*10,3)) | O82: =IF(Putte!S14=(""),(""),ROUND(Putte!S14/Putte!$O14*10,3)) | P82: =IF(Putte!T14=(""),(""),ROUND(Putte!T14/Putte!$O14*10,3)) | Q82: =IF(Putte!U14=(""),(""),ROUND(Putte!U14/Putte!$O14*10,3)) | R82: =IF(Putte!V14=(""),(""),ROUND(Putte!V14/Putte!$O14*10,3))
A83: =IF(SUM(E83:R83)=0,(" "),COUNTIF(E83:R83,">0")) -> 4 | B83: =Putte!B15 -> Verelst Gilbert | C83: =IF(Putte!AA15=0," ",SUM(E83:R83)) -> 26.207 | E83: =IF(Putte!D15=(""),(""),ROUND(Putte!D15/Putte!$C15*10,3)) -> 4.828 | F83: =IF(Putte!E15=(""),(""),ROUND(Putte!E15/Putte!$C15*10,3)) -> 6.552 | G83: =IF(Putte!F15=(""),(""),ROUND(Putte!F15/Putte!$C15*10,3)) -> 3.448 | H83: =IF(Putte!G15=(""),(""),ROUND(Putte!G15/Putte!$C15*10,3)) | I83: =IF(Putte!H15=(""),(""),ROUND(Putte!H15/Putte!$C15*10,3)) -> 11.379 | J83: =IF(Putte!I15=(""),(""),ROUND(Putte!I15/Putte!$C15*10,3)) | K83: =IF(Putte!J15=(""),(""),ROUND(Putte!J15/Putte!$C15*10,3)) | L83: =IF(Putte!P15=(""),(""),ROUND(Putte!P15/Putte!$O15*10,3)) | M83: =IF(Putte!Q15=(""),(""),ROUND(Putte!Q15/Putte!$O15*10,3)) | N83: =IF(Putte!R15=(""),(""),ROUND(Putte!R15/Putte!$O15*10,3)) | O83: =IF(Putte!S15=(""),(""),ROUND(Putte!S15/Putte!$O15*10,3)) | P83: =IF(Putte!T15=(""),(""),ROUND(Putte!T15/Putte!$O15*10,3)) | Q83: =IF(Putte!U15=(""),(""),ROUND(Putte!U15/Putte!$O15*10,3)) | R83: =IF(Putte!V15=(""),(""),ROUND(Putte!V15/Putte!$O15*10,3))
A84: =IF(SUM(E84:R84)=0,(" "),COUNTIF(E84:R84,">0")) -> 4 | B84: =Putte!B16 -> Wolfcarius Jacques | C84: =IF(Putte!AA16=0," ",SUM(E84:R84)) -> 37.693 | E84: =IF(Putte!D16=(""),(""),ROUND(Putte!D16/Putte!$C16*10,3)) | F84: =IF(Putte!E16=(""),(""),ROUND(Putte!E16/Putte!$C16*10,3)) | G84: =IF(Putte!F16=(""),(""),ROUND(Putte!F16/Putte!$C16*10,3)) -> 8.462 | H84: =IF(Putte!G16=(""),(""),ROUND(Putte!G16/Putte!$C16*10,3)) | I84: =IF(Putte!H16=(""),(""),ROUND(Putte!H16/Putte!$C16*10,3)) -> 11.923 | J84: =IF(Putte!I16=(""),(""),ROUND(Putte!I16/Putte!$C16*10,3)) -> 11.923 | K84: =IF(Putte!J16=(""),(""),ROUND(Putte!J16/Putte!$C16*10,3)) | L84: =IF(Putte!P16=(""),(""),ROUND(Putte!P16/Putte!$O16*10,3)) | M84: =IF(Putte!Q16=(""),(""),ROUND(Putte!Q16/Putte!$O16*10,3)) -> 5.385 | N84: =IF(Putte!R16=(""),(""),ROUND(Putte!R16/Putte!$O16*10,3)) | O84: =IF(Putte!S16=(""),(""),ROUND(Putte!S16/Putte!$O16*10,3)) | P84: =IF(Putte!T16=(""),(""),ROUND(Putte!T16/Putte!$O16*10,3)) | Q84: =IF(Putte!U16=(""),(""),ROUND(Putte!U16/Putte!$O16*10,3)) | R84: =IF(Putte!V16=(""),(""),ROUND(Putte!V16/Putte!$O16*10,3))
A85: =IF(SUM(E85:R85)=0,(" "),COUNTIF(E85:R85,">0")) | B85: =Putte!B17 -> Moerbeek Wilfried (ns) | C85: =IF(Putte!AA17=0," ",SUM(E85:R85)) | E85: =IF(Putte!D17=(""),(""),ROUND(Putte!D17/Putte!$C17*10,3)) | F85: =IF(Putte!E17=(""),(""),ROUND(Putte!E17/Putte!$C17*10,3)) | G85: =IF(Putte!F17=(""),(""),ROUND(Putte!F17/Putte!$C17*10,3)) | H85: =IF(Putte!G17=(""),(""),ROUND(Putte!G17/Putte!$C17*10,3)) | I85: =IF(Putte!H17=(""),(""),ROUND(Putte!H17/Putte!$C17*10,3)) | J85: =IF(Putte!I17=(""),(""),ROUND(Putte!I17/Putte!$C17*10,3)) | K85: =IF(Putte!J17=(""),(""),ROUND(Putte!J17/Putte!$C17*10,3)) | L85: =IF(Putte!P17=(""),(""),ROUND(Putte!P17/Putte!$O17*10,3)) | M85: =IF(Putte!Q17=(""),(""),ROUND(Putte!Q17/Putte!$O17*10,3)) | N85: =IF(Putte!R17=(""),(""),ROUND(Putte!R17/Putte!$O17*10,3)) | O85: =IF(Putte!S17=(""),(""),ROUND(Putte!S17/Putte!$O17*10,3)) | P85: =IF(Putte!T17=(""),(""),ROUND(Putte!T17/Putte!$O17*10,3)) | Q85: =IF(Putte!U17=(""),(""),ROUND(Putte!U17/Putte!$O17*10,3)) | R85: =IF(Putte!V17=(""),(""),ROUND(Putte!V17/Putte!$O17*10,3))
C86: =B72 -> SEN. PUTTE | E86: =IF(SUM(E73:E85)=0,(" "),SUM(E73:E85)) -> 42.436 | F86: =IF(SUM(F73:F85)=0,(" "),SUM(F73:F85)) -> 50.714 | G86: =IF(SUM(G73:G85)=0,(" "),SUM(G73:G85)) -> 56.923 | H86: =IF(SUM(H73:H85)=0,(" "),SUM(H73:H85)) -> 59.855 | I86: =IF(SUM(I73:I85)=0,(" "),SUM(I73:I85)) -> 68.624 | J86: =IF(SUM(J73:J85)=0,(" "),SUM(J73:J85)) -> 62.605 | K86: =IF(SUM(K73:K85)=0,(" "),SUM(K73:K85)) -> 66.631 | L86: =IF(SUM(L73:L85)=0,(" "),SUM(L73:L85)) -> 45.354 | ... R86: =IF(SUM(R73:R85)=0,(" "),SUM(R73:R85))
C87: =SUM(C73:C85) -> 499.85 | D87: =B72 -> SEN. PUTTE | E87: =IF(E86=(" "),(" "),E86) -> 42.436 | F87: =IF(F86=(" "),(" "),E87+F86) -> 93.15 | G87: =IF(G86=(" "),(" "),F87+G86) -> 150.073 | H87: =IF(H86=(" "),(" "),G87+H86) -> 209.928 | I87: =IF(I86=(" "),(" "),H87+I86) -> 278.552 | J87: =IF(J86=(" "),(" "),I87+J86) -> 341.157 | K87: =IF(K86=(" "),(" "),J87+K86) -> 407.788 | L87: =IF(L86=(" "),(" "),K87+L86) -> 453.142 | M87: =IF(M86=(" "),(" "),L87+M86) -> 499.85 | ... R87: =IF(R86=(" "),(" "),Q87+R86)
A89: =IF(SUM(E90:R90)=0,(" "),COUNTIF(E90:R90,">0")) -> 3 | B89: WILDERT 1 | E89: 1 | F89: 2 | G89: 3 | H89: 4 | I89: 5 | J89: 6 | K89: 7 | L89: 8 | M89: 9 | N89: 10 | O89: 11 | P89: 12 | Q89: 13 | R89: 14
A90: =IF(SUM(E90:R90)=0,(" "),COUNTIF(E90:R90,">0")) -> 3 | B90: =Wildert1!B5 -> Adriaansen Jan | C90: =IF(Wildert1!AA5=0," ",SUM(E90:R90)) -> 27.647 | E90: =IF(Wildert1!D5=(""),(""),ROUND(Wildert1!D5/Wildert1!$C5*10,3)) -> 14.706 | F90: =IF(Wildert1!E5=(""),(""),ROUND(Wildert1!E5/Wildert1!$C5*10,3)) | G90: =IF(Wildert1!F5=(""),(""),ROUND(Wildert1!F5/Wildert1!$C5*10,3)) | H90: =IF(Wildert1!G5=(""),(""),ROUND(Wildert1!G5/Wildert1!$C5*10,3)) -> 3.529 | I90: =IF(Wildert1!H5=(""),(""),ROUND(Wildert1!H5/Wildert1!$C5*10,3)) | J90: =IF(Wildert1!I5=(""),(""),ROUND(Wildert1!I5/Wildert1!$C5*10,3)) | K90: =IF(Wildert1!J5=(""),(""),ROUND(Wildert1!J5/Wildert1!$C5*10,3)) | L90: =IF(Wildert1!P5=(""),(""),ROUND(Wildert1!P5/Wildert1!$O5*10,3)) -> 9.412 | M90: =IF(Wildert1!Q5=(""),(""),ROUND(Wildert1!Q5/Wildert1!$O5*10,3)) | N90: =IF(Wildert1!R5=(""),(""),ROUND(Wildert1!R5/Wildert1!$O5*10,3)) | O90: =IF(Wildert1!S5=(""),(""),ROUND(Wildert1!S5/Wildert1!$O5*10,3)) | P90: =IF(Wildert1!T5=(""),(""),ROUND(Wildert1!T5/Wildert1!$O5*10,3)) | Q90: =IF(Wildert1!U5=(""),(""),ROUND(Wildert1!U5/Wildert1!$O5*10,3)) | R90: =IF(Wildert1!V5=(""),(""),ROUND(Wildert1!V5/Wildert1!$O5*10,3))
A91: =IF(SUM(E91:R91)=0,(" "),COUNTIF(E91:R91,">0")) -> 7 | B91: =Wildert1!B6 -> Brouwers Adri | C91: =IF(Wildert1!AA6=0," ",SUM(E91:R91)) -> 70.278 | E91: =IF(Wildert1!D6=(""),(""),ROUND(Wildert1!D6/Wildert1!$C6*10,3)) -> 9.444 | F91: =IF(Wildert1!E6=(""),(""),ROUND(Wildert1!E6/Wildert1!$C6*10,3)) | G91: =IF(Wildert1!F6=(""),(""),ROUND(Wildert1!F6/Wildert1!$C6*10,3)) -> 9.722 | H91: =IF(Wildert1!G6=(""),(""),ROUND(Wildert1!G6/Wildert1!$C6*10,3)) -> 10 | I91: =IF(Wildert1!H6=(""),(""),ROUND(Wildert1!H6/Wildert1!$C6*10,3)) -> 14.167 | J91: =IF(Wildert1!I6=(""),(""),ROUND(Wildert1!I6/Wildert1!$C6*10,3)) -> 10.556 | K91: =IF(Wildert1!J6=(""),(""),ROUND(Wildert1!J6/Wildert1!$C6*10,3)) -> 7.222 | L91: =IF(Wildert1!P6=(""),(""),ROUND(Wildert1!P6/Wildert1!$O6*10,3)) | M91: =IF(Wildert1!Q6=(""),(""),ROUND(Wildert1!Q6/Wildert1!$O6*10,3)) -> 9.167 | N91: =IF(Wildert1!R6=(""),(""),ROUND(Wildert1!R6/Wildert1!$O6*10,3)) | O91: =IF(Wildert1!S6=(""),(""),ROUND(Wildert1!S6/Wildert1!$O6*10,3)) | P91: =IF(Wildert1!T6=(""),(""),ROUND(Wildert1!T6/Wildert1!$O6*10,3)) | Q91: =IF(Wildert1!U6=(""),(""),ROUND(Wildert1!U6/Wildert1!$O6*10,3)) | R91: =IF(Wildert1!V6=(""),(""),ROUND(Wildert1!V6/Wildert1!$O6*10,3))
A92: =IF(SUM(E92:R92)=0,(" "),COUNTIF(E92:R92,">0")) -> 5 | B92: =Wildert1!B7 -> Buijk Jan [NS 55] | C92: =IF(Wildert1!AA7=0," ",SUM(E92:R92)) -> 51.441 | E92: =IF(Wildert1!D7=(""),(""),ROUND(Wildert1!D7/55*10,3)) -> 7.273 | F92: =IF(Wildert1!E7=(""),(""),ROUND(Wildert1!E7/Wildert1!$C7*10,3)) | G92: =IF(Wildert1!F7=(""),(""),ROUND(Wildert1!F7/55*10,3)) -> 16 | H92: =IF(Wildert1!G7=(""),(""),ROUND(Wildert1!G7/Wildert1!$C7*10,3)) | I92: =IF(Wildert1!H7=(""),(""),ROUND(Wildert1!H7/55*10,3)) -> 13.091 | J92: =IF(Wildert1!I7=(""),(""),ROUND(Wildert1!I7/Wildert1!$C7*10,3)) | K92: =IF(Wildert1!J7=(""),(""),ROUND(Wildert1!J7/Wildert1!$C7*10,3)) -> 6.716 | L92: =IF(Wildert1!P7=(""),(""),ROUND(Wildert1!P7/Wildert1!$O7*10,3)) | M92: =IF(Wildert1!Q7=(""),(""),ROUND(Wildert1!Q7/Wildert1!$O7*10,3)) -> 8.361 | N92: =IF(Wildert1!R7=(""),(""),ROUND(Wildert1!R7/Wildert1!$O7*10,3)) | O92: =IF(Wildert1!S7=(""),(""),ROUND(Wildert1!S7/Wildert1!$O7*10,3)) | P92: =IF(Wildert1!T7=(""),(""),ROUND(Wildert1!T7/Wildert1!$O7*10,3)) | Q92: =IF(Wildert1!U7=(""),(""),ROUND(Wildert1!U7/Wildert1!$O7*10,3)) | R92: =IF(Wildert1!V7=(""),(""),ROUND(Wildert1!V7/Wildert1!$O7*10,3))
A93: =IF(SUM(E93:R93)=0,(" "),COUNTIF(E93:R93,">0")) -> 2 | B93: =Wildert1!B8 -> Denissens Frans | C93: =IF(Wildert1!AA8=0," ",SUM(E93:R93)) -> 16.25 | E93: =IF(Wildert1!D8=(""),(""),ROUND(Wildert1!D8/Wildert1!$C8*10,3)) -> 6.25 | F93: =IF(Wildert1!E8=(""),(""),ROUND(Wildert1!E8/Wildert1!$C8*10,3)) | G93: =IF(Wildert1!F8=(""),(""),ROUND(Wildert1!F8/Wildert1!$C8*10,3)) | H93: =IF(Wildert1!G8=(""),(""),ROUND(Wildert1!G8/Wildert1!$C8*10,3)) | I93: =IF(Wildert1!H8=(""),(""),ROUND(Wildert1!H8/Wildert1!$C8*10,3)) | J93: =IF(Wildert1!I8=(""),(""),ROUND(Wildert1!I8/Wildert1!$C8*10,3)) -> 10 | K93: =IF(Wildert1!J8=(""),(""),ROUND(Wildert1!J8/Wildert1!$C8*10,3)) | L93: =IF(Wildert1!P8=(""),(""),ROUND(Wildert1!P8/Wildert1!$O8*10,3)) | M93: =IF(Wildert1!Q8=(""),(""),ROUND(Wildert1!Q8/Wildert1!$O8*10,3)) | N93: =IF(Wildert1!R8=(""),(""),ROUND(Wildert1!R8/Wildert1!$O8*10,3)) | O93: =IF(Wildert1!S8=(""),(""),ROUND(Wildert1!S8/Wildert1!$O8*10,3)) | P93: =IF(Wildert1!T8=(""),(""),ROUND(Wildert1!T8/Wildert1!$O8*10,3)) | Q93: =IF(Wildert1!U8=(""),(""),ROUND(Wildert1!U8/Wildert1!$O8*10,3)) | R93: =IF(Wildert1!V8=(""),(""),ROUND(Wildert1!V8/Wildert1!$O8*10,3))
A94: =IF(SUM(E94:R94)=0,(" "),COUNTIF(E94:R94,">0")) -> 6 | B94: =Wildert1!B9 -> Dries Louis | C94: =IF(Wildert1!AA9=0," ",SUM(E94:R94)) -> 60.689 | E94: =IF(Wildert1!D9=(""),(""),ROUND(Wildert1!D9/Wildert1!$C9*10,3)) | F94: =IF(Wildert1!E9=(""),(""),ROUND(Wildert1!E9/Wildert1!$C9*10,3)) -> 12.069 | G94: =IF(Wildert1!F9=(""),(""),ROUND(Wildert1!F9/Wildert1!$C9*10,3)) -> 13.793 | H94: =IF(Wildert1!G9=(""),(""),ROUND(Wildert1!G9/Wildert1!$C9*10,3)) -> 5.862 | I94: =IF(Wildert1!H9=(""),(""),ROUND(Wildert1!H9/Wildert1!$C9*10,3)) | J94: =IF(Wildert1!I9=(""),(""),ROUND(Wildert1!I9/Wildert1!$C9*10,3)) -> 9.31 | K94: =IF(Wildert1!J9=(""),(""),ROUND(Wildert1!J9/Wildert1!$C9*10,3)) -> 11.034 | L94: =IF(Wildert1!P9=(""),(""),ROUND(Wildert1!P9/Wildert1!$O9*10,3)) -> 8.621 | M94: =IF(Wildert1!Q9=(""),(""),ROUND(Wildert1!Q9/Wildert1!$O9*10,3)) | N94: =IF(Wildert1!R9=(""),(""),ROUND(Wildert1!R9/Wildert1!$O9*10,3)) | O94: =IF(Wildert1!S9=(""),(""),ROUND(Wildert1!S9/Wildert1!$O9*10,3)) | P94: =IF(Wildert1!T9=(""),(""),ROUND(Wildert1!T9/Wildert1!$O9*10,3)) | Q94: =IF(Wildert1!U9=(""),(""),ROUND(Wildert1!U9/Wildert1!$O9*10,3)) | R94: =IF(Wildert1!V9=(""),(""),ROUND(Wildert1!V9/Wildert1!$O9*10,3))
A95: =IF(SUM(E95:R95)=0,(" "),COUNTIF(E95:R95,">0")) -> 1 | B95: =Wildert1!B10 -> Kerstens Marc | C95: =IF(Wildert1!AA10=0," ",SUM(E95:R95)) -> 7.143 | E95: =IF(Wildert1!D10=(""),(""),ROUND(Wildert1!D10/Wildert1!$C10*10,3)) | F95: =IF(Wildert1!E10=(""),(""),ROUND(Wildert1!E10/Wildert1!$C10*10,3)) | G95: =IF(Wildert1!F10=(""),(""),ROUND(Wildert1!F10/Wildert1!$C10*10,3)) | H95: =IF(Wildert1!G10=(""),(""),ROUND(Wildert1!G10/Wildert1!$C10*10,3)) | I95: =IF(Wildert1!H10=(""),(""),ROUND(Wildert1!H10/Wildert1!$C10*10,3)) -> 7.143 | J95: =IF(Wildert1!I10=(""),(""),ROUND(Wildert1!I10/Wildert1!$C10*10,3)) | K95: =IF(Wildert1!J10=(""),(""),ROUND(Wildert1!J10/Wildert1!$C10*10,3)) | L95: =IF(Wildert1!P10=(""),(""),ROUND(Wildert1!P10/Wildert1!$O10*10,3)) | M95: =IF(Wildert1!Q10=(""),(""),ROUND(Wildert1!Q10/Wildert1!$O10*10,3)) | N95: =IF(Wildert1!R10=(""),(""),ROUND(Wildert1!R10/Wildert1!$O10*10,3)) | O95: =IF(Wildert1!S10=(""),(""),ROUND(Wildert1!S10/Wildert1!$O10*10,3)) | P95: =IF(Wildert1!T10=(""),(""),ROUND(Wildert1!T10/Wildert1!$O10*10,3)) | Q95: =IF(Wildert1!U10=(""),(""),ROUND(Wildert1!U10/Wildert1!$O10*10,3)) | R95: =IF(Wildert1!V10=(""),(""),ROUND(Wildert1!V10/Wildert1!$O10*10,3))
A96: =IF(SUM(E96:R96)=0,(" "),COUNTIF(E96:R96,">0")) -> 1 | B96: =Wildert1!B11 -> Kerstens Ronald | C96: =IF(Wildert1!AA11=0," ",SUM(E96:R96)) -> 11.25 | E96: =IF(Wildert1!D11=(""),(""),ROUND(Wildert1!D11/Wildert1!$C11*10,3)) | F96: =IF(Wildert1!E11=(""),(""),ROUND(Wildert1!E11/Wildert1!$C11*10,3)) | G96: =IF(Wildert1!F11=(""),(""),ROUND(Wildert1!F11/Wildert1!$C11*10,3)) | H96: =IF(Wildert1!G11=(""),(""),ROUND(Wildert1!G11/Wildert1!$C11*10,3)) | I96: =IF(Wildert1!H11=(""),(""),ROUND(Wildert1!H11/Wildert1!$C11*10,3)) | J96: =IF(Wildert1!I11=(""),(""),ROUND(Wildert1!I11/Wildert1!$C11*10,3)) | K96: =IF(Wildert1!J11=(""),(""),ROUND(Wildert1!J11/Wildert1!$C11*10,3)) | L96: =IF(Wildert1!P11=(""),(""),ROUND(Wildert1!P11/Wildert1!$O11*10,3)) -> 11.25 | M96: =IF(Wildert1!Q11=(""),(""),ROUND(Wildert1!Q11/Wildert1!$O11*10,3)) | N96: =IF(Wildert1!R11=(""),(""),ROUND(Wildert1!R11/Wildert1!$O11*10,3)) | O96: =IF(Wildert1!S11=(""),(""),ROUND(Wildert1!S11/Wildert1!$O11*10,3)) | P96: =IF(Wildert1!T11=(""),(""),ROUND(Wildert1!T11/Wildert1!$O11*10,3)) | Q96: =IF(Wildert1!U11=(""),(""),ROUND(Wildert1!U11/Wildert1!$O11*10,3)) | R96: =IF(Wildert1!V11=(""),(""),ROUND(Wildert1!V11/Wildert1!$O11*10,3))
A97: =IF(SUM(E97:R97)=0,(" "),COUNTIF(E97:R97,">0")) -> 5 | B97: =Wildert1!B12 -> Konings Guido | C97: =IF(Wildert1!AA12=0," ",SUM(E97:R97)) -> 53.667 | E97: =IF(Wildert1!D12=(""),(""),ROUND(Wildert1!D12/Wildert1!$C12*10,3)) -> 6.667 | F97: =IF(Wildert1!E12=(""),(""),ROUND(Wildert1!E12/Wildert1!$C12*10,3)) -> 13 | G97: =IF(Wildert1!F12=(""),(""),ROUND(Wildert1!F12/Wildert1!$C12*10,3)) | H97: =IF(Wildert1!G12=(""),(""),ROUND(Wildert1!G12/Wildert1!$C12*10,3)) -> 8 | I97: =IF(Wildert1!H12=(""),(""),ROUND(Wildert1!H12/Wildert1!$C12*10,3)) -> 16.333 | J97: =IF(Wildert1!I12=(""),(""),ROUND(Wildert1!I12/Wildert1!$C12*10,3)) -> 9.667 | K97: =IF(Wildert1!J12=(""),(""),ROUND(Wildert1!J12/Wildert1!$C12*10,3)) | L97: =IF(Wildert1!P12=(""),(""),ROUND(Wildert1!P12/Wildert1!$O12*10,3)) | M97: =IF(Wildert1!Q12=(""),(""),ROUND(Wildert1!Q12/Wildert1!$O12*10,3)) | N97: =IF(Wildert1!R12=(""),(""),ROUND(Wildert1!R12/Wildert1!$O12*10,3)) | O97: =IF(Wildert1!S12=(""),(""),ROUND(Wildert1!S12/Wildert1!$O12*10,3)) | P97: =IF(Wildert1!T12=(""),(""),ROUND(Wildert1!T12/Wildert1!$O12*10,3)) | Q97: =IF(Wildert1!U12=(""),(""),ROUND(Wildert1!U12/Wildert1!$O12*10,3)) | R97: =IF(Wildert1!V12=(""),(""),ROUND(Wildert1!V12/Wildert1!$O12*10,3))
A98: =IF(SUM(E98:R98)=0,(" "),COUNTIF(E98:R98,">0")) -> 6 | B98: =Wildert1!B13 -> Kustermans Toon | C98: =IF(Wildert1!AA13=0," ",SUM(E98:R98)) -> 69.211 | E98: =IF(Wildert1!D13=(""),(""),ROUND(Wildert1!D13/Wildert1!$C13*10,3)) | F98: =IF(Wildert1!E13=(""),(""),ROUND(Wildert1!E13/Wildert1!$C13*10,3)) | G98: =IF(Wildert1!F13=(""),(""),ROUND(Wildert1!F13/Wildert1!$C13*10,3)) -> 9.737 | H98: =IF(Wildert1!G13=(""),(""),ROUND(Wildert1!G13/Wildert1!$C13*10,3)) -> 14.211 | I98: =IF(Wildert1!H13=(""),(""),ROUND(Wildert1!H13/Wildert1!$C13*10,3)) | J98: =IF(Wildert1!I13=(""),(""),ROUND(Wildert1!I13/Wildert1!$C13*10,3)) -> 13.684 | K98: =IF(Wildert1!J13=(""),(""),ROUND(Wildert1!J13/Wildert1!$C13*10,3)) -> 11.316 | L98: =IF(Wildert1!P13=(""),(""),ROUND(Wildert1!P13/Wildert1!$O13*10,3)) -> 10.526 | M98: =IF(Wildert1!Q13=(""),(""),ROUND(Wildert1!Q13/Wildert1!$O13*10,3)) -> 9.737 | N98: =IF(Wildert1!R13=(""),(""),ROUND(Wildert1!R13/Wildert1!$O13*10,3)) | O98: =IF(Wildert1!S13=(""),(""),ROUND(Wildert1!S13/Wildert1!$O13*10,3)) | P98: =IF(Wildert1!T13=(""),(""),ROUND(Wildert1!T13/Wildert1!$O13*10,3)) | Q98: =IF(Wildert1!U13=(""),(""),ROUND(Wildert1!U13/Wildert1!$O13*10,3)) | R98: =IF(Wildert1!V13=(""),(""),ROUND(Wildert1!V13/Wildert1!$O13*10,3))
A99: =IF(SUM(E99:R99)=0,(" "),COUNTIF(E99:R99,">0")) -> 8 | B99: =Wildert1!B14 -> Sarra-Ribo Jef | C99: =IF(Wildert1!AA14=0," ",SUM(E99:R99)) -> 65.057 | E99: =IF(Wildert1!D14=(""),(""),ROUND(Wildert1!D14/Wildert1!$C14*10,3)) -> 7.126 | F99: =IF(Wildert1!E14=(""),(""),ROUND(Wildert1!E14/Wildert1!$C14*10,3)) -> 11.494 | G99: =IF(Wildert1!F14=(""),(""),ROUND(Wildert1!F14/Wildert1!$C14*10,3)) -> 6.782 | H99: =IF(Wildert1!G14=(""),(""),ROUND(Wildert1!G14/Wildert1!$C14*10,3)) -> 4.598 | I99: =IF(Wildert1!H14=(""),(""),ROUND(Wildert1!H14/Wildert1!$C14*10,3)) -> 9.885 | J99: =IF(Wildert1!I14=(""),(""),ROUND(Wildert1!I14/Wildert1!$C14*10,3)) | K99: =IF(Wildert1!J14=(""),(""),ROUND(Wildert1!J14/Wildert1!$C14*10,3)) -> 10 | L99: =IF(Wildert1!P14=(""),(""),ROUND(Wildert1!P14/Wildert1!$O14*10,3)) -> 9.31 | M99: =IF(Wildert1!Q14=(""),(""),ROUND(Wildert1!Q14/Wildert1!$O14*10,3)) -> 5.862 | N99: =IF(Wildert1!R14=(""),(""),ROUND(Wildert1!R14/Wildert1!$O14*10,3)) | O99: =IF(Wildert1!S14=(""),(""),ROUND(Wildert1!S14/Wildert1!$O14*10,3)) | P99: =IF(Wildert1!T14=(""),(""),ROUND(Wildert1!T14/Wildert1!$O14*10,3)) | Q99: =IF(Wildert1!U14=(""),(""),ROUND(Wildert1!U14/Wildert1!$O14*10,3)) | R99: =IF(Wildert1!V14=(""),(""),ROUND(Wildert1!V14/Wildert1!$O14*10,3))
A100: =IF(SUM(E100:R100)=0,(" "),COUNTIF(E100:R100,">0")) -> 4 | B100: =Wildert1!B15 -> Sas Ronny | C100: =IF(Wildert1!AA15=0," ",SUM(E100:R100)) -> 34.839 | E100: =IF(Wildert1!D15=(""),(""),ROUND(Wildert1!D15/Wildert1!$C15*10,3)) | F100: =IF(Wildert1!E15=(""),(""),ROUND(Wildert1!E15/Wildert1!$C15*10,3)) -> 9.677 | G100: =IF(Wildert1!F15=(""),(""),ROUND(Wildert1!F15/Wildert1!$C15*10,3)) | H100: =IF(Wildert1!G15=(""),(""),ROUND(Wildert1!G15/Wildert1!$C15*10,3)) | I100: =IF(Wildert1!H15=(""),(""),ROUND(Wildert1!H15/Wildert1!$C15*10,3)) -> 11.613 | J100: =IF(Wildert1!I15=(""),(""),ROUND(Wildert1!I15/Wildert1!$C15*10,3)) -> 8.065 | K100: =IF(Wildert1!J15=(""),(""),ROUND(Wildert1!J15/Wildert1!$C15*10,3)) | L100: =IF(Wildert1!P15=(""),(""),ROUND(Wildert1!P15/Wildert1!$O15*10,3)) | M100: =IF(Wildert1!Q15=(""),(""),ROUND(Wildert1!Q15/Wildert1!$O15*10,3)) -> 5.484 | N100: =IF(Wildert1!R15=(""),(""),ROUND(Wildert1!R15/Wildert1!$O15*10,3)) | O100: =IF(Wildert1!S15=(""),(""),ROUND(Wildert1!S15/Wildert1!$O15*10,3)) | P100: =IF(Wildert1!T15=(""),(""),ROUND(Wildert1!T15/Wildert1!$O15*10,3)) | Q100: =IF(Wildert1!U15=(""),(""),ROUND(Wildert1!U15/Wildert1!$O15*10,3)) | R100: =IF(Wildert1!V15=(""),(""),ROUND(Wildert1!V15/Wildert1!$O15*10,3))
A101: =IF(SUM(E101:R101)=0,(" "),COUNTIF(E101:R101,">0")) -> 3 | B101: =Wildert1!B16 -> Thijs Jef | C101: =IF(Wildert1!AA16=0," ",SUM(E101:R101)) -> 33.334 | E101: =IF(Wildert1!D16=(""),(""),ROUND(Wildert1!D16/Wildert1!$C16*10,3)) | F101: =IF(Wildert1!E16=(""),(""),ROUND(Wildert1!E16/Wildert1!$C16*10,3)) -> 14.286 | G101: =IF(Wildert1!F16=(""),(""),ROUND(Wildert1!F16/Wildert1!$C16*10,3)) | H101: =IF(Wildert1!G16=(""),(""),ROUND(Wildert1!G16/Wildert1!$C16*10,3)) | I101: =IF(Wildert1!H16=(""),(""),ROUND(Wildert1!H16/Wildert1!$C16*10,3)) | J101: =IF(Wildert1!I16=(""),(""),ROUND(Wildert1!I16/Wildert1!$C16*10,3)) | K101: =IF(Wildert1!J16=(""),(""),ROUND(Wildert1!J16/Wildert1!$C16*10,3)) -> 9.048 | L101: =IF(Wildert1!P16=(""),(""),ROUND(Wildert1!P16/Wildert1!$O16*10,3)) | M101: =IF(Wildert1!Q16=(""),(""),ROUND(Wildert1!Q16/Wildert1!$O16*10,3)) -> 10 | N101: =IF(Wildert1!R16=(""),(""),ROUND(Wildert1!R16/Wildert1!$O16*10,3)) | O101: =IF(Wildert1!S16=(""),(""),ROUND(Wildert1!S16/Wildert1!$O16*10,3)) | P101: =IF(Wildert1!T16=(""),(""),ROUND(Wildert1!T16/Wildert1!$O16*10,3)) | Q101: =IF(Wildert1!U16=(""),(""),ROUND(Wildert1!U16/Wildert1!$O16*10,3)) | R101: =IF(Wildert1!V16=(""),(""),ROUND(Wildert1!V16/Wildert1!$O16*10,3))
A102: =IF(SUM(E102:R102)=0,(" "),COUNTIF(E102:R102,">0")) -> 2 | B102: =Wildert1!B17 -> Wetzer Rik (ns) | C102: =IF(Wildert1!AA17=0," ",SUM(E102:R102)) -> 13 | E102: =IF(Wildert1!D17=(""),(""),ROUND(Wildert1!D17/Wildert1!$C17*10,3)) | F102: =IF(Wildert1!E17=(""),(""),ROUND(Wildert1!E17/20*10,3)) -> 9 | G102: =IF(Wildert1!F17=(""),(""),ROUND(Wildert1!F17/20*10,3)) -> 4 | H102: =IF(Wildert1!G17=(""),(""),ROUND(Wildert1!G17/Wildert1!$C17*10,3)) | I102: =IF(Wildert1!H17=(""),(""),ROUND(Wildert1!H17/Wildert1!$C17*10,3)) | J102: =IF(Wildert1!I17=(""),(""),ROUND(Wildert1!I17/Wildert1!$C17*10,3)) | K102: =IF(Wildert1!J17=(""),(""),ROUND(Wildert1!J17/Wildert1!$C17*10,3)) | L102: =IF(Wildert1!P17=(""),(""),ROUND(Wildert1!P17/Wildert1!$O17*10,3)) | M102: =IF(Wildert1!Q17=(""),(""),ROUND(Wildert1!Q17/Wildert1!$O17*10,3)) | N102: =IF(Wildert1!R17=(""),(""),ROUND(Wildert1!R17/Wildert1!$O17*10,3)) | O102: =IF(Wildert1!S17=(""),(""),ROUND(Wildert1!S17/Wildert1!$O17*10,3)) | P102: =IF(Wildert1!T17=(""),(""),ROUND(Wildert1!T17/Wildert1!$O17*10,3)) | Q102: =IF(Wildert1!U17=(""),(""),ROUND(Wildert1!U17/Wildert1!$O17*10,3)) | R102: =IF(Wildert1!V17=(""),(""),ROUND(Wildert1!V17/Wildert1!$O17*10,3))
A103: =IF(SUM(E103:R103)=0,(" "),COUNTIF(E103:R103,">0")) -> 1 | B103: =Wildert1!B18 -> Seymus Eddy (ns) | C103: =IF(Wildert1!AA18=0," ",SUM(E103:R103)) -> 5.143 | E103: =IF(Wildert1!D18=(""),(""),ROUND(Wildert1!D18/Wildert1!$C18*10,3)) | F103: =IF(Wildert1!E18=(""),(""),ROUND(Wildert1!E18/20*10,3)) | G103: =IF(Wildert1!F18=(""),(""),ROUND(Wildert1!F18/20*10,3)) | H103: =IF(Wildert1!G18=(""),(""),ROUND(Wildert1!G18/Wildert1!$C18*10,3)) | I103: =IF(Wildert1!H18=(""),(""),ROUND(Wildert1!H18/Wildert1!$C18*10,3)) | J103: =IF(Wildert1!I18=(""),(""),ROUND(Wildert1!I18/Wildert1!$C18*10,3)) | K103: =IF(Wildert1!J18=(""),(""),ROUND(Wildert1!J18/Wildert1!$C18*10,3)) | L103: =IF(Wildert1!P18=(""),(""),ROUND(Wildert1!P18/Wildert1!$O18*10,3)) -> 5.143 | M103: =IF(Wildert1!Q18=(""),(""),ROUND(Wildert1!Q18/Wildert1!$O18*10,3)) | N103: =IF(Wildert1!R18=(""),(""),ROUND(Wildert1!R18/Wildert1!$O18*10,3)) | O103: =IF(Wildert1!S18=(""),(""),ROUND(Wildert1!S18/Wildert1!$O18*10,3)) | P103: =IF(Wildert1!T18=(""),(""),ROUND(Wildert1!T18/Wildert1!$O18*10,3)) | Q103: =IF(Wildert1!U18=(""),(""),ROUND(Wildert1!U18/Wildert1!$O18*10,3)) | R103: =IF(Wildert1!V18=(""),(""),ROUND(Wildert1!V18/Wildert1!$O18*10,3))
C104: =B89 -> WILDERT 1 | E104: =IF(SUM(E90:E103)=0,(" "),SUM(E90:E103)) -> 51.466 | F104: =IF(SUM(F90:F103)=0,(" "),SUM(F90:F103)) -> 69.526 | G104: =IF(SUM(G90:G103)=0,(" "),SUM(G90:G103)) -> 60.034 | H104: =IF(SUM(H90:H103)=0,(" "),SUM(H90:H103)) -> 46.2 | I104: =IF(SUM(I90:I103)=0,(" "),SUM(I90:I103)) -> 72.232 | J104: =IF(SUM(J90:J103)=0,(" "),SUM(J90:J103)) -> 61.282 | K104: =IF(SUM(K90:K103)=0,(" "),SUM(K90:K103)) -> 55.336 | L104: =IF(SUM(L90:L103)=0,(" "),SUM(L90:L103)) -> 54.262 | ... R104: =IF(SUM(R90:R103)=0,(" "),SUM(R90:R103))
C105: =SUM(C90:C103) -> 518.949 | D105: =B89 -> WILDERT 1 | E105: =IF(E104=(" "),(" "),E104) -> 51.466 | F105: =IF(F104=(" "),(" "),E105+F104) -> 120.992 | G105: =IF(G104=(" "),(" "),F105+G104) -> 181.026 | H105: =IF(H104=(" "),(" "),G105+H104) -> 227.226 | I105: =IF(I104=(" "),(" "),H105+I104) -> 299.458 | J105: =IF(J104=(" "),(" "),I105+J104) -> 360.74 | K105: =IF(K104=(" "),(" "),J105+K104) -> 416.076 | L105: =IF(L104=(" "),(" "),K105+L104) -> 470.338 | M105: =IF(M104=(" "),(" "),L105+M104) -> 518.949 | ... R105: =IF(R104=(" "),(" "),Q105+R104)
B107: WILDERT 2 | E107: 1 | F107: 2 | G107: 3 | H107: 4 | I107: 5 | J107: 6 | K107: 7 | L107: 8 | M107: 9 | N107: 10 | O107: 11 | P107: 12 | Q107: 13 | R107: 14
A108: =IF(SUM(E108:R108)=0,(" "),COUNTIF(E108:R108,">0")) -> 6 | B108: =Wildert2!B5 -> Aernouts Johan | C108: =IF(Wildert2!AA5=0," ",SUM(E108:R108)) -> 50.869 | E108: =IF(Wildert2!D5=(""),(""),ROUND(Wildert2!D5/Wildert2!$C5*10,3)) -> 9.348 | F108: =IF(Wildert2!E5=(""),(""),ROUND(Wildert2!E5/Wildert2!$C5*10,3)) | G108: =IF(Wildert2!F5=(""),(""),ROUND(Wildert2!F5/Wildert2!$C5*10,3)) -> 7.391 | H108: =IF(Wildert2!G5=(""),(""),ROUND(Wildert2!G5/Wildert2!$C5*10,3)) -> 2.826 | I108: =IF(Wildert2!H5=(""),(""),ROUND(Wildert2!H5/Wildert2!$C5*10,3)) | J108: =IF(Wildert2!I5=(""),(""),ROUND(Wildert2!I5/Wildert2!$C5*10,3)) | K108: =IF(Wildert2!J5=(""),(""),ROUND(Wildert2!J5/Wildert2!$C5*10,3)) -> 8.478 | L108: =IF(Wildert2!P5=(""),(""),ROUND(Wildert2!P5/Wildert2!$O5*10,3)) -> 14.565 | M108: =IF(Wildert2!Q5=(""),(""),ROUND(Wildert2!Q5/Wildert2!$O5*10,3)) -> 8.261 | N108: =IF(Wildert2!R5=(""),(""),ROUND(Wildert2!R5/Wildert2!$O5*10,3)) | O108: =IF(Wildert2!S5=(""),(""),ROUND(Wildert2!S5/Wildert2!$O5*10,3)) | P108: =IF(Wildert2!T5=(""),(""),ROUND(Wildert2!T5/Wildert2!$O5*10,3)) | Q108: =IF(Wildert2!U5=(""),(""),ROUND(Wildert2!U5/Wildert2!$O5*10,3)) | R108: =IF(Wildert2!V5=(""),(""),ROUND(Wildert2!V5/Wildert2!$O5*10,3))
...

Sheet Uitslagen
A2: 30ste België - Nederland biljarttornooi | E2: Laatst gewijzigd
A3: van de Essense seniorenadviesraad 2025 - 2026 | E3: 46072
B4: 1ste Ronde
A6: Datum | B6: Thuisploeg | C6: Bezoekers | D6: Punten | E6: Punten
A8: 45894 | B8: Sen. Nispen | C8: Wildert 1 | D8: =VLOOKUP(B8,Punten!$C$3:$R$141,3,0) -> 44.451 | E8: =VLOOKUP(C8,Punten!$C$3:$R$141,3,0) -> 51.466
A9: 45896 | B9: de Spil | C9: Sen. Putte | D9: =VLOOKUP(B9,Punten!$C$3:$R$141,3,0) -> 50.906 | E9: =VLOOKUP(C9,Punten!$C$3:$R$141,3,0) -> 42.436
A10: 45896 | B10: Oude Glorie | C10: Wildert 2 | D10: =VLOOKUP(B10,Punten!$C$3:$R$141,3,0) -> 60.441 | E10: =VLOOKUP(C10,Punten!$C$3:$R$141,3,0) -> 65.34
A11: 45897 | B11: Kerkuilen | C11: Horendonk | D11: =VLOOKUP(B11,Punten!$C$3:$R$141,3,0) -> 58.379 | E11: =VLOOKUP(C11,Punten!$C$3:$R$141,3,0) -> 69.16
A14: 45908 | B14: Sen. Putte | C14: Wildert 2 | D14: =VLOOKUP(B14,Punten!$C$3:$R$141,4,0) -> 50.714 | E14: =VLOOKUP(C14,Punten!$C$3:$R$141,4,0) -> 59.665
A15: 45908 | B15: Sen. Nispen | C15: Oude Glorie | D15: =VLOOKUP(B15,Punten!$C$3:$R$141,4,0) -> 35.499 | E15: =VLOOKUP(C15,Punten!$C$3:$R$141,4,0) -> 44.322
A16: 45910 | B16: de Spil | C16: Kerkuilen | D16: =VLOOKUP(B16,Punten!$C$3:$R$141,4,0) -> 43.376 | E16: =VLOOKUP(C16,Punten!$C$3:$R$141,4,0) -> 65.284
A17: 45912 | B17: Wildert 1 | C17: Horendonk | D17: =VLOOKUP(B17,Punten!$C$3:$R$141,4,0) -> 69.526 | E17: =VLOOKUP(C17,Punten!$C$3:$R$141,4,0) -> 73.288
A20: 45923 | B20: Wildert 2 | C20: de Spil | D20: =VLOOKUP(B20,Punten!$C$3:$R$141,5,0) -> 63.081 | E20: =VLOOKUP(C20,Punten!$C$3:$R$141,5,0) -> 59.793
A21: 45931 | B21: Horendonk | C21: Sen. Nispen | D21: =VLOOKUP(B21,Punten!$C$3:$R$141,5,0) -> 45.146 | E21: =VLOOKUP(C21,Punten!$C$3:$R$141,5,0) -> 65.714
A22: 45924 | B22: Oude Glorie | C22: Wildert 1 | D22: =VLOOKUP(B22,Punten!$C$3:$R$141,5,0) -> 55.997 | E22: =VLOOKUP(C22,Punten!$C$3:$R$141,5,0) -> 60.034
A23: 45926 | B23: Kerkuilen | C23: Sen. Putte | D23: =VLOOKUP(B23,Punten!$C$3:$R$141,5,0) -> 50.583 | E23: =VLOOKUP(C23,Punten!$C$3:$R$141,5,0) -> 56.923
A26: 45936 | B26: Sen. Putte | C26: Sen. Nispen | D26: =VLOOKUP(B26,Punten!$C$3:$R$141,6,0) -> 59.855 | E26: =VLOOKUP(C26,Punten!$C$3:$R$141,6,0) -> 63.667
A27: 45937 | B27: Wildert 2 | C27: Kerkuilen | D27: =VLOOKUP(B27,Punten!$C$3:$R$141,6,0) -> 65.993 | E27: =VLOOKUP(C27,Punten!$C$3:$R$141,6,0) -> 49.919
A28: 45938 | B28: Horendonk | C28: Oude Glorie | D28: =VLOOKUP(B28,Punten!$C$3:$R$141,6,0) -> 48.378 | E28: =VLOOKUP(C28,Punten!$C$3:$R$141,6,0) -> 64.993
A29: 45940 | B29: Wildert 1 | C29: de Spil | D29: =VLOOKUP(B29,Punten!$C$3:$R$141,6,0) -> 46.2 | E29: =VLOOKUP(C29,Punten!$C$3:$R$141,6,0) -> 51.898
A32: 45950 | B32: Sen. Putte | C32: Oude Glorie | D32: =VLOOKUP(B32,Punten!$C$3:$R$141,7,0) -> 68.624 | E32: =VLOOKUP(C32,Punten!$C$3:$R$141,7,0) -> 71.284
A33: 45950 | B33: Sen. Nispen | C33: Wildert 2 | D33: =VLOOKUP(B33,Punten!$C$3:$R$141,7,0) -> 40.949 | E33: =VLOOKUP(C33,Punten!$C$3:$R$141,7,0) -> 43.373
A34: 45952 | B34: de Spil | C34: Horendonk | D34: =VLOOKUP(B34,Punten!$C$3:$R$141,7,0) -> 58.473 | E34: =VLOOKUP(C34,Punten!$C$3:$R$141,7,0) -> 59.703
A35: 45953 | B35: Kerkuilen | C35: Wildert 1 | D35: =VLOOKUP(B35,Punten!$C$3:$R$141,7,0) -> 67.445 | E35: =VLOOKUP(C35,Punten!$C$3:$R$141,7,0) -> 72.232
A38: 45964 | B38: Sen. Nispen | C38: Kerkuilen | D38: =VLOOKUP(B38,Punten!$C$3:$R$141,8,0) -> 58.245 | E38: =VLOOKUP(C38,Punten!$C$3:$R$141,8,0) -> 46.561
A39: 45964 | B39: de Spil | C39: Oude Glorie | D39: =VLOOKUP(B39,Punten!$C$3:$R$141,8,0) -> 60.559 | E39: =VLOOKUP(C39,Punten!$C$3:$R$141,8,0) -> 47.463
A40: 45966 | B40: Horendonk | C40: Sen. Putte | D40: =VLOOKUP(B40,Punten!$C$3:$R$141,8,0) -> 51.969 | E40: =VLOOKUP(C40,Punten!$C$3:$R$141,8,0) -> 62.605
A41: 45968 | B41: Wildert 1 | C41: Wildert 2 | D41: =VLOOKUP(B41,Punten!$C$3:$R$141,8,0) -> 61.282 | E41: =VLOOKUP(C41,Punten!$C$3:$R$141,8,0) -> 46.592
A44: 45978 | B44: Sen. Putte | C44: Wildert 1 | D44: =VLOOKUP(B44,Punten!$C$3:$R$141,9,0) -> 66.631 | E44: =VLOOKUP(C44,Punten!$C$3:$R$141,9,0) -> 55.336
A45: 45979 | B45: Wildert 2 | C45: Horendonk | D45: =VLOOKUP(B45,Punten!$C$3:$R$141,9,0) -> 63.544 | E45: =VLOOKUP(C45,Punten!$C$3:$R$141,9,0) -> 64.595
A46: 45980 | B46: de Spil | C46: Sen. Nispen | D46: =VLOOKUP(B46,Punten!$C$3:$R$141,9,0) -> 57.513 | E46: =VLOOKUP(C46,Punten!$C$3:$R$141,9,0) -> 52.099
A47: 45981 | B47: Kerkuilen | C47: Oude Glorie | D47: =VLOOKUP(B47,Punten!$C$3:$R$141,9,0) -> 55.644 | E47: =VLOOKUP(C47,Punten!$C$3:$R$141,9,0) -> 75.309
A51: 30ste België - Nederland biljarttornooi
A52: van de Essense seniorenadviesraad 2025 - 2026
B53: 2de Ronde
A55: Datum | B55: Thuisploeg | C55: Bezoekers | D55: Punten | E55: Punten
A57: 46056 | B57: Wildert 2 | C57: Sen. Nispen | D57: =VLOOKUP(B57,Punten!$C$3:$R$141,10,0) -> 67.363 | E57: =VLOOKUP(C57,Punten!$C$3:$R$141,10,0) -> 55.951
A58: 46057 | B58: Horendonk | C58: de Spil | D58: =VLOOKUP(B58,Punten!$C$3:$R$141,10,0) -> 70.551 | E58: =VLOOKUP(C58,Punten!$C$3:$R$141,10,0) -> 62.56
A59: 46057 | B59: Oude Glorie | C59: Sen. Putte | D59: =VLOOKUP(B59,Punten!$C$3:$R$141,10,0) -> 53.124 | E59: =VLOOKUP(C59,Punten!$C$3:$R$141,10,0) -> 45.354
A60: 46059 | B60: Wildert 1 | C60: Kerkuilen | D60: =VLOOKUP(B60,Punten!$C$3:$R$141,10,0) -> 54.262 | E60: =VLOOKUP(C60,Punten!$C$3:$R$141,10,0) -> 49.704
A63: 46069 | B63: Sen. Putte | C63: Horendonk | D63: =VLOOKUP(B63,Punten!$C$3:$R$141,11,0) -> 46.708 | E63: =VLOOKUP(C63,Punten!$C$3:$R$141,11,0) -> 47.715
A64: 46070 | B64: Wildert 2 | C64: Wildert 1 | D64: =VLOOKUP(B64,Punten!$C$3:$R$141,11,0) -> 70.142 | E64: =VLOOKUP(C64,Punten!$C$3:$R$141,11,0) -> 48.611
A65: 46071 | B65: Oude Glorie | C65: de Spil | D65: =VLOOKUP(B65,Punten!$C$3:$R$141,11,0) -> 59.11 | E65: =VLOOKUP(C65,Punten!$C$3:$R$141,11,0) -> 63.589
A66: 46072 | B66: Kerkuilen | C66: Sen. Nispen | D66: =VLOOKUP(B66,Punten!$C$3:$R$141,11,0) -> 60.244 | E66: =VLOOKUP(C66,Punten!$C$3:$R$141,11,0) -> 75.825
A69: 46083 | B69: Sen. Nispen | C69: de Spil | D69: =VLOOKUP(B69,Punten!$C$3:$R$141,12,0) -> 0 | E69: =VLOOKUP(C69,Punten!$C$3:$R$141,12,0)
A70: 46085 | B70: Oude Glorie | C70: Kerkuilen | D70: =VLOOKUP(B70,Punten!$C$3:$R$141,12,0) | E70: =VLOOKUP(C70,Punten!$C$3:$R$141,12,0)
A71: 46085 | B71: Horendonk | C71: Wildert 2 | D71: =VLOOKUP(B71,Punten!$C$3:$R$141,12,0) | E71: =VLOOKUP(C71,Punten!$C$3:$R$141,12,0)
A72: 46087 | B72: Wildert 1 | C72: Sen. Putte | D72: =VLOOKUP(B72,Punten!$C$3:$R$141,12,0) | E72: =VLOOKUP(C72,Punten!$C$3:$R$141,12,0)
A75: 46097 | B75: Sen. Nispen | C75: Sen. Putte | D75: =VLOOKUP(B75,Punten!$C$3:$R$141,13,0) | E75: =VLOOKUP(C75,Punten!$C$3:$R$141,13,0)
A76: 46099 | B76: Oude Glorie | C76: Horendonk | D76: =VLOOKUP(B76,Punten!$C$3:$R$141,13,0) | E76: =VLOOKUP(C76,Punten!$C$3:$R$141,13,0)
A77: 46092 | B77: de Spil | C77: Wildert 1 | D77: =VLOOKUP(B77,Punten!$C$3:$R$141,13,0) | E77: =VLOOKUP(C77,Punten!$C$3:$R$141,13,0)
A78: 46100 | B78: Kerkuilen | C78: Wildert 2 | D78: =VLOOKUP(B78,Punten!$C$3:$R$141,13,0) | E78: =VLOOKUP(C78,Punten!$C$3:$R$141,13,0)
A81: 46111 | B81: Sen. Putte | C81: de Spil | D81: =VLOOKUP(B81,Punten!$C$3:$R$141,14,0) | E81: =VLOOKUP(C81,Punten!$C$3:$R$141,14,0)
A82: 46112 | B82: Wildert 2 | C82: Oude Glorie | D82: =VLOOKUP(B82,Punten!$C$3:$R$141,14,0) | E82: =VLOOKUP(C82,Punten!$C$3:$R$141,14,0)
A83: 46113 | B83: Horendonk | C83: Kerkuilen | D83: =VLOOKUP(B83,Punten!$C$3:$R$141,14,0) | E83: =VLOOKUP(C83,Punten!$C$3:$R$141,14,0)
A84: 46114 | B84: Wildert 1 | C84: Sen. Nispen | D84: =VLOOKUP(B84,Punten!$C$3:$R$141,14,0) | E84: =VLOOKUP(C84,Punten!$C$3:$R$141,14,0)
A87: 46125 | B87: Kerkuilen | C87: de Spil | D87: =VLOOKUP(B87,Punten!$C$3:$R$141,15,0) | E87: =VLOOKUP(C87,Punten!$C$3:$R$141,15,0)
A88: 46126 | B88: Wildert 2 | C88: Sen. Putte | D88: =VLOOKUP(B88,Punten!$C$3:$R$141,15,0) | E88: =VLOOKUP(C88,Punten!$C$3:$R$141,15,0)
A89: 46127 | B89: Oude Glorie | C89: Sen. Nispen | D89: =VLOOKUP(B89,Punten!$C$3:$R$141,15,0) | E89: =VLOOKUP(C89,Punten!$C$3:$R$141,15,0)
A90: 46127 | B90: Horendonk | C90: Wildert 1 | D90: =VLOOKUP(B90,Punten!$C$3:$R$141,15,0) | E90: =VLOOKUP(C90,Punten!$C$3:$R$141,15,0)
A93: 46139 | B93: Sen. Putte | C93: Kerkuilen | D93: =VLOOKUP(B93,Punten!$C$3:$R$141,16,0) | E93: =VLOOKUP(C93,Punten!$C$3:$R$141,16,0)
A94: 46141 | B94: Sen. Nispen | C94: Horendonk | D94: =VLOOKUP(B94,Punten!$C$3:$R$141,16,0) | E94: =VLOOKUP(C94,Punten!$C$3:$R$141,16,0)
A95: 46141 | B95: De Spil | C95: Wildert 2 | D95: =VLOOKUP(B95,Punten!$C$3:$R$141,16,0) | E95: =VLOOKUP(C95,Punten!$C$3:$R$141,16,0)
A96: 46141 | B96: Wildert 1 | C96: Oude Glorie | D96: =VLOOKUP(B96,Punten!$C$3:$R$141,16,0) | E96: =VLOOKUP(C96,Punten!$C$3:$R$141,16,0)
A98: Rode tekst : Wedstrijd omgewisseld | C98: Blauwe tekst : Niet normale thuisspeeldag
A99: Groene tekst: wedstrijd verzet naar een andere week

Sheet Horendonk
B2: 30ste België - Nederland biljarttornooi ingericht door de Essense Seniorenraad 2025 - 2026 | AA2: Jaartotalen | AE2: =IF(Rangschikking!A3>=15,0,Rangschikking!A3) -> 1
B3: HORENDONK | C3: Sterktegetal | D3: Wedstrijden 1ste kompetitiehelft | K3: Totaal Punten | L3: Gespeelde wedstrijden | M3: Gemiddelde 1ste helft | N3: % Nieuw/Oud 2025 - 2026 | O3: Sterktegetal 2de helft | P3: Wedstrijden 2de kompetitiehelft | W3: Totaal Punten | X3: Gespeelde wedstrijden | Y3: Gemiddelde 2de helft | AA3: Totaal Punten | AB3: Gespeelde wedstrijden | AC3: Gemiddelde seizoen | AD3: % Nieuw/Oud 2025 - 2026
D4: 1 | E4: 2 | F4: 3 | G4: 4 | H4: 5 | I4: 6 | J4: 7 | P4: 8 | Q4: 9 | R4: 10 | S4: 11 | T4: 12 | U4: 13 | V4: 14
B5: Ansems Ferre | C5: 24 | D5: 25 | F5: 24 | G5: 20 | K5: =SUM(D5:J5) -> 69 | L5: =COUNTIF(D5:J5,">0") -> 3 | M5: =IF(K5=0," ",K5/L5) -> 23 | N5: =IF(K5=0," ",K5/(L5*C5)*100) -> 95.833333 | O5: 24 | Q5: 20 | W5: =SUM(P5:V5) -> 20 | X5: =COUNTIF(P5:V5,">0") -> 1 | Y5: =IF(W5=0," ",W5/X5) -> 20 | AA5: =K5+W5 -> 89 | AB5: =L5+X5 -> 4 | AC5: =IF(AA5=0," ",AA5/AB5) -> 22.25 | AD5: =IF(AA5=0," ",AA5/(AB5*O5)*100) -> 92.708333 | AE5: =IF(AB5>=$AE$2,AA5/(AB5*O5)*100,"0") -> 92.708333
B6: Arnouts Louis | C6: 36 | D6: 46 | E6: 58 | H6: 27 | I6: 46 | J6: 50 | K6: =SUM(D6:J6) -> 227 | L6: =COUNTIF(D6:J6,">0") -> 5 | M6: =IF(K6=0," ",K6/L6) -> 45.4 | N6: =IF(K6=0," ",K6/(L6*C6)*100) -> 126.11111 | O6: 36 | W6: =SUM(P6:V6) -> 0 | X6: =COUNTIF(P6:V6,">0") -> 0 | Y6: =IF(W6=0," ",W6/X6) | AA6: =K6+W6 -> 227 | AB6: =L6+X6 -> 5 | AC6: =IF(AA6=0," ",AA6/AB6) -> 45.4 | AD6: =IF(AA6=0," ",AA6/(AB6*O6)*100) -> 126.11111 | AE6: =IF(AB6>=$AE$2,AA6/(AB6*O6)*100,"0") -> 126.11111
B7: Brosens Jan | C7: 26 | D7: 42 | F7: 15 | K7: =SUM(D7:J7) -> 57 | L7: =COUNTIF(D7:J7,">0") -> 2 | M7: =IF(K7=0," ",K7/L7) -> 28.5 | N7: =IF(K7=0," ",K7/(L7*C7)*100) -> 109.61538 | O7: 26 | W7: =SUM(P7:V7) -> 0 | X7: =COUNTIF(P7:V7,">0") -> 0 | Y7: =IF(W7=0," ",W7/X7) | AA7: =K7+W7 -> 57 | AB7: =L7+X7 -> 2 | AC7: =IF(AA7=0," ",AA7/AB7) -> 28.5 | AD7: =IF(AA7=0," ",AA7/(AB7*O7)*100) -> 109.61538 | AE7: =IF(AB7>=$AE$2,AA7/(AB7*O7)*100,"0") -> 109.61538
B8: De Backer Jef | C8: 25 | E8: 26 | F8: 7 | G8: 22 | H8: 24 | J8: 30 | K8: =SUM(D8:J8) -> 109 | L8: =COUNTIF(D8:J8,">0") -> 5 | M8: =IF(K8=0," ",K8/L8) -> 21.8 | N8: =IF(K8=0," ",K8/(L8*C8)*100) -> 87.2 | O8: 25 | P8: 31 | Q8: 21 | W8: =SUM(P8:V8) -> 52 | X8: =COUNTIF(P8:V8,">0") -> 2 | Y8: =IF(W8=0," ",W8/X8) -> 26 | AA8: =K8+W8 -> 161 | AB8: =L8+X8 -> 7 | AC8: =IF(AA8=0," ",AA8/AB8) -> 23 | AD8: =IF(AA8=0," ",AA8/(AB8*O8)*100) -> 92 | AE8: =IF(AB8>=$AE$2,AA8/(AB8*O8)*100,"0") -> 92
B9: Herreygers Remy | C9: 43 | D9: 43 | E9: 55 | F9: 29 | G9: 26 | K9: =SUM(D9:J9) -> 153 | L9: =COUNTIF(D9:J9,">0") -> 4 | M9: =IF(K9=0," ",K9/L9) -> 38.25 | N9: =IF(K9=0," ",K9/(L9*C9)*100) -> 88.953488 | O9: 43 | P9: 36 | Q9: 17 | W9: =SUM(P9:V9) -> 53 | X9: =COUNTIF(P9:V9,">0") -> 2 | Y9: =IF(W9=0," ",W9/X9) -> 26.5 | AA9: =K9+W9 -> 206 | AB9: =L9+X9 -> 6 | AC9: =IF(AA9=0," ",AA9/AB9) -> 34.333333 | AD9: =IF(AA9=0," ",AA9/(AB9*O9)*100) -> 79.844961 | AE9: =IF(AB9>=$AE$2,AA9/(AB9*O9)*100,"0") -> 79.844961
B10: Maas Guy | C10: 20 | E10: 13 | F10: 18 | H10: 18 | I10: 17 | K10: =SUM(D10:J10) -> 66 | L10: =COUNTIF(D10:J10,">0") -> 4 | M10: =IF(K10=0," ",K10/L10) -> 16.5 | N10: =IF(K10=0," ",K10/(L10*C10)*100) -> 82.5 | O10: 20 | Q10: 27 | W10: =SUM(P10:V10) -> 27 | X10: =COUNTIF(P10:V10,">0") -> 1 | Y10: =IF(W10=0," ",W10/X10) -> 27 | AA10: =K10+W10 -> 93 | AB10: =L10+X10 -> 5 | AC10: =IF(AA10=0," ",AA10/AB10) -> 18.6 | AD10: =IF(AA10=0," ",AA10/(AB10*O10)*100) -> 93 | AE10: =IF(AB10>=$AE$2,AA10/(AB10*O10)*100,"0") -> 93
B11: Nelen Johan | C11: 17 | D11: 10 | G11: 11 | H11: 21 | I11: 9 | J11: 13 | K11: =SUM(D11:J11) -> 64 | L11: =COUNTIF(D11:J11,">0") -> 5 | M11: =IF(K11=0," ",K11/L11) -> 12.8 | N11: =IF(K11=0," ",K11/(L11*C11)*100) -> 75.294118 | O11: 17 | Q11: 6 | W11: =SUM(P11:V11) -> 6 | X11: =COUNTIF(P11:V11,">0") -> 1 | Y11: =IF(W11=0," ",W11/X11) -> 6 | AA11: =K11+W11 -> 70 | AB11: =L11+X11 -> 6 | AC11: =IF(AA11=0," ",AA11/AB11) -> 11.666667 | AD11: =IF(AA11=0," ",AA11/(AB11*O11)*100) -> 68.627451 | AE11: =IF(AB11>=$AE$2,AA11/(AB11*O11)*100,"0") -> 68.627451
B12: Oerlemans Willy | C12: 28 | D12: 39 | G12: 22 | I12: 19 | J12: 30 | K12: =SUM(D12:J12) -> 110 | L12: =COUNTIF(D12:J12,">0") -> 4 | M12: =IF(K12=0," ",K12/L12) -> 27.5 | N12: =IF(K12=0," ",K12/(L12*C12)*100) -> 98.214286 | O12: 28 | P12: 33 | W12: =SUM(P12:V12) -> 33 | X12: =COUNTIF(P12:V12,">0") -> 1 | Y12: =IF(W12=0," ",W12/X12) -> 33 | AA12: =K12+W12 -> 143 | AB12: =L12+X12 -> 5 | AC12: =IF(AA12=0," ",AA12/AB12) -> 28.6 | AD12: =IF(AA12=0," ",AA12/(AB12*O12)*100) -> 102.14286 | AE12: =IF(AB12>=$AE$2,AA12/(AB12*O12)*100,"0") -> 102.14286
B13: Siemons Jos | C13: 23 | G13: 25 | H13: 23 | K13: =SUM(D13:J13) -> 48 | L13: =COUNTIF(D13:J13,">0") -> 2 | M13: =IF(K13=0," ",K13/L13) -> 24 | N13: =IF(K13=0," ",K13/(L13*C13)*100) -> 104.34783 | O13: 23 | P13: 28 | Q13: 23 | W13: =SUM(P13:V13) -> 51 | X13: =COUNTIF(P13:V13,">0") -> 2 | Y13: =IF(W13=0," ",W13/X13) -> 25.5 | AA13: =K13+W13 -> 99 | AB13: =L13+X13 -> 4 | AC13: =IF(AA13=0," ",AA13/AB13) -> 24.75 | AD13: =IF(AA13=0," ",AA13/(AB13*O13)*100) -> 107.6087 | AE13: =IF(AB13>=$AE$2,AA13/(AB13*O13)*100,"0") -> 107.6087
B14: van Aert André | C14: 24 | E14: 37 | F14: 26 | H14: 27 | I14: 26 | J14: 24 | K14: =SUM(D14:J14) -> 140 | L14: =COUNTIF(D14:J14,">0") -> 5 | M14: =IF(K14=0," ",K14/L14) -> 28 | N14: =IF(K14=0," ",K14/(L14*C14)*100) -> 116.66667 | O14: 24 | P14: 33 | W14: =SUM(P14:V14) -> 33 | X14: =COUNTIF(P14:V14,">0") -> 1 | Y14: =IF(W14=0," ",W14/X14) -> 33 | AA14: =K14+W14 -> 173 | AB14: =L14+X14 -> 6 | AC14: =IF(AA14=0," ",AA14/AB14) -> 28.833333 | AD14: =IF(AA14=0," ",AA14/(AB14*O14)*100) -> 120.13889 | AE14: =IF(AB14>=$AE$2,AA14/(AB14*O14)*100,"0") -> 120.13889
B15: Veraart Jef (ns) | C15: 27 | I15: 21 | K15: =SUM(D15:J15) -> 21 | L15: =COUNTIF(D15:J15,">0") -> 1 | M15: =IF(K15=0," ",K15/L15) -> 21 | N15: =IF(K15=0," ",K15/(L15*C15)*100) -> 77.777778 | O15: 27 | W15: =SUM(P15:V15) -> 0 | X15: =COUNTIF(P15:V15,">0") -> 0 | Y15: =IF(W15=0," ",W15/X15) | AA15: =K15+W15 -> 21 | AB15: =L15+X15 -> 1 | AC15: =IF(AA15=0," ",AA15/AB15) -> 21 | AD15: =IF(AA15=0," ",AA15/(AB15*O15)*100) -> 77.777778 | AE15: =IF(AB15>=$AE$2,AA15/(AB15*O15)*100,"0") -> 77.777778
B16: Vergouwen René | C16: 29 | E16: 35 | J16: 30 | K16: =SUM(D16:J16) -> 65 | L16: =COUNTIF(D16:J16,">0") -> 2 | M16: =IF(K16=0," ",K16/L16) -> 32.5 | N16: =IF(K16=0," ",K16/(L16*C16)*100) -> 112.06897 | O16: 29 | P16: 35 | W16: =SUM(P16:V16) -> 35 | X16: =COUNTIF(P16:V16,">0") -> 1 | Y16: =IF(W16=0," ",W16/X16) -> 35 | AA16: =K16+W16 -> 100 | AB16: =L16+X16 -> 3 | AC16: =IF(AA16=0," ",AA16/AB16) -> 33.333333 | AD16: =IF(AA16=0," ",AA16/(AB16*O16)*100) -> 114.94253 | AE16: =IF(AB16>=$AE$2,AA16/(AB16*O16)*100,"0") -> 114.94253
K17: =SUM(D17:J17) -> 0 | L17: =COUNTIF(D17:J17,">0") -> 0 | M17: =IF(K17=0," ",K17/L17) | N17: =IF(K17=0," ",K17/(L17*C17)*100) | W17: =SUM(P17:V17) -> 0 | X17: =COUNTIF(P17:V17,">0") -> 0 | Y17: =IF(W17=0," ",W17/X17) | AA17: =K17+W17 -> 0 | AB17: =L17+X17 -> 0 | AC17: =IF(AA17=0," ",AA17/AB17) | AD17: =IF(AA17=0," ",AA17/(AB17*O17)*100) | AE17: =IF(AB17>=$AE$2,AA17/(AB17*O17)*100,"0") -> 0
B18: 0 | C18: 0 | K18: =SUM(D18:J18) -> 0 | L18: =COUNTIF(D18:J18,">0") -> 0 | M18: =IF(K18=0," ",K18/L18) | N18: =IF(K18=0," ",K18/(L18*C18)*100) | O18: 0 | W18: =SUM(P18:V18) -> 0 | X18: =COUNTIF(P18:V18,">0") -> 0 | Y18: =IF(W18=0," ",W18/X18) | AA18: =K18+W18 -> 0 | AB18: =L18+X18 -> 0 | AC18: =IF(AA18=0," ",AA18/AB18) | AD18: =IF(AA18=0," ",AA18/(AB18*O18)*100) | AE18: =IF(AB18>=$AE$2,AA18/(AB18*O18)*100,"0") -> 0
B19: 0 | C19: 0 | K19: =SUM(D19:J19) -> 0 | L19: =COUNTIF(D19:J19,">0") -> 0 | M19: =IF(K19=0," ",K19/L19) | N19: =IF(K19=0," ",K19/(L19*C19)*100) | O19: 0 | W19: =SUM(P19:V19) -> 0 | X19: =COUNTIF(P19:V19,">0") -> 0 | Y19: =IF(W19=0," ",W19/X19) | AA19: =K19+W19 -> 0 | AB19: =L19+X19 -> 0 | AC19: =IF(AA19=0," ",AA19/AB19) | AD19: =IF(AA19=0," ",AA19/(AB19*O19)*100) | AE19: =IF(AB19>=$AE$2,AA19/(AB19*O19)*100,"0") -> 0
C20: =SUM(C5:C19) -> 322 | D20: =SUM(D5:D19) -> 205 | E20: =SUM(E5:E19) -> 224 | F20: =SUM(F5:F19) -> 119 | G20: =SUM(G5:G19) -> 126 | H20: =SUM(H5:H19) -> 140 | I20: =SUM(I5:I19) -> 138 | J20: =SUM(J5:J19) -> 177 | ... L20: =SUM(L5:L19) -> 42 | M20: =K20/L20 -> 26.880952 | O20: =SUM(O5:O19) -> 322 | P20: =SUM(P5:P19) -> 196 | Q20: =SUM(Q5:Q19) -> 114 | R20: =SUM(R5:R19) -> 0 | S20: =SUM(S5:S19) -> 0 | T20: =SUM(T5:T19) -> 0 | U20: =SUM(U5:U19) -> 0 | V20: =SUM(V5:V19) -> 0 | ... X20: =SUM(X5:X19) -> 12 | Y20: =W20/X20 -> 25.833333 | AA20: =SUM(AA5:AA19) -> 1439 | AB20: =SUM(AB5:AB19) -> 54 | AC20: =AA20/AB20 -> 26.648148

Sheet Kerkuilen
B2: 30ste België - Nederland biljarttornooi ingericht door de Essense Seniorenraad 2025 - 2026 | AA2: Jaartotalen | AE2: =IF(Rangschikking!A3>=15,0,Rangschikking!A3) -> 1
B3: DE KERKUILEN | C3: Sterktegetal | D3: Wedstrijden 1ste kompetitiehelft | K3: Totaal Punten | L3: Gespeelde wedstrijden | M3: Gemiddelde 1ste helft | N3: % Nieuw/Oud 2025 - 2026 | O3: Sterktegetal 2de helft | P3: Wedstrijden 2de kompetitiehelft | W3: Totaal Punten | X3: Gespeelde wedstrijden | Y3: Gemiddelde 2de helft | AA3: Totaal Punten | AB3: Gespeelde wedstrijden | AC3: Gemiddelde seizoen | AD3: % Nieuw/Oud 2025 - 2026
D4: 1 | E4: 2 | F4: 3 | G4: 4 | H4: 5 | I4: 6 | J4: 7 | P4: 8 | Q4: 9 | R4: 10 | S4: 11 | T4: 12 | U4: 13 | V4: 14
B5: Antonissen Gust | C5: 34 | D5: 59 | E5: 28 | J5: 39 | K5: =SUM(D5:J5) -> 126 | L5: =COUNTIF(D5:J5,">0") -> 3 | M5: =IF(K5=0," ",K5/L5) -> 42 | N5: =IF(K5=0," ",K5/(L5*C5)*100) -> 123.52941 | O5: 34 | Q5: 43 | W5: =SUM(P5:V5) -> 43 | X5: =COUNTIF(P5:V5,">0") -> 1 | Y5: =IF(W5=0," ",W5/X5) -> 43 | AA5: =K5+W5 -> 169 | AB5: =L5+X5 -> 4 | AC5: =IF(AA5=0," ",AA5/AB5) -> 42.25 | AD5: =IF(AA5=0," ",AA5/(AB5*O5)*100) -> 124.26471 | AE5: =IF(AB5>=$AE$2,AA5/(AB5*O5)*100,"0") -> 124.26471
B6: De Kaey Piet | C6: 49 | G6: 77 | H6: 52 | I6: 63 | J6: 61 | K6: =SUM(D6:J6) -> 253 | L6: =COUNTIF(D6:J6,">0") -> 4 | M6: =IF(K6=0," ",K6/L6) -> 63.25 | N6: =IF(K6=0," ",K6/(L6*C6)*100) -> 129.08163 | O6: 49 | P6: 42 | Q6: 51 | W6: =SUM(P6:V6) -> 93 | X6: =COUNTIF(P6:V6,">0") -> 2 | Y6: =IF(W6=0," ",W6/X6) -> 46.5 | AA6: =K6+W6 -> 346 | AB6: =L6+X6 -> 6 | AC6: =IF(AA6=0," ",AA6/AB6) -> 57.666667 | AD6: =IF(AA6=0," ",AA6/(AB6*O6)*100) -> 117.68707 | AE6: =IF(AB6>=$AE$2,AA6/(AB6*O6)*100,"0") -> 117.68707
B7: Elst Stan | C7: 38 | G7: 25 | K7: =SUM(D7:J7) -> 25 | L7: =COUNTIF(D7:J7,">0") -> 1 | M7: =IF(K7=0," ",K7/L7) -> 25 | N7: =IF(K7=0," ",K7/(L7*C7)*100) -> 65.789474 | O7: 38 | W7: =SUM(P7:V7) -> 0 | X7: =COUNTIF(P7:V7,">0") -> 0 | Y7: =IF(W7=0," ",W7/X7) | AA7: =K7+W7 -> 25 | AB7: =L7+X7 -> 1 | AC7: =IF(AA7=0," ",AA7/AB7) -> 25 | AD7: =IF(AA7=0," ",AA7/(AB7*O7)*100) -> 65.789474 | AE7: =IF(AB7>=$AE$2,AA7/(AB7*O7)*100,"0") -> 65.789474
B8: Hectors Hugo | C8: 18 | D8: 13 | E8: 29 | G8: 10 | H8: 27 | J8: 10 | K8: =SUM(D8:J8) -> 89 | L8: =COUNTIF(D8:J8,">0") -> 5 | M8: =IF(K8=0," ",K8/L8) -> 17.8 | N8: =IF(K8=0," ",K8/(L8*C8)*100) -> 98.888889 | O8: 18 | P8: 17 | W8: =SUM(P8:V8) -> 17 | X8: =COUNTIF(P8:V8,">0") -> 1 | Y8: =IF(W8=0," ",W8/X8) -> 17 | AA8: =K8+W8 -> 106 | AB8: =L8+X8 -> 6 | AC8: =IF(AA8=0," ",AA8/AB8) -> 17.666667 | AD8: =IF(AA8=0," ",AA8/(AB8*O8)*100) -> 98.148148 | AE8: =IF(AB8>=$AE$2,AA8/(AB8*O8)*100,"0") -> 98.148148
B9: Jacobis Martin | C9: 27 | H9: 39 | I9: 32 | K9: =SUM(D9:J9) -> 71 | L9: =COUNTIF(D9:J9,">0") -> 2 | M9: =IF(K9=0," ",K9/L9) -> 35.5 | N9: =IF(K9=0," ",K9/(L9*C9)*100) -> 131.48148 | O9: 27 | P9: 24 | Q9: 26 | W9: =SUM(P9:V9) -> 50 | X9: =COUNTIF(P9:V9,">0") -> 2 | Y9: =IF(W9=0," ",W9/X9) -> 25 | AA9: =K9+W9 -> 121 | AB9: =L9+X9 -> 4 | AC9: =IF(AA9=0," ",AA9/AB9) -> 30.25 | AD9: =IF(AA9=0," ",AA9/(AB9*O9)*100) -> 112.03704 | AE9: =IF(AB9>=$AE$2,AA9/(AB9*O9)*100,"0") -> 112.03704
B10: Lambrechts Jef | C10: 63 | D10: 40 | F10: 48 | G10: 40 | H10: 74 | I10: 37 | K10: =SUM(D10:J10) -> 239 | L10: =COUNTIF(D10:J10,">0") -> 5 | M10: =IF(K10=0," ",K10/L10) -> 47.8 | N10: =IF(K10=0," ",K10/(L10*C10)*100) -> 75.873016 | O10: 63 | W10: =SUM(P10:V10) -> 0 | X10: =COUNTIF(P10:V10,">0") -> 0 | Y10: =IF(W10=0," ",W10/X10) | AA10: =K10+W10 -> 239 | AB10: =L10+X10 -> 5 | AC10: =IF(AA10=0," ",AA10/AB10) -> 47.8 | AD10: =IF(AA10=0," ",AA10/(AB10*O10)*100) -> 75.873016 | AE10: =IF(AB10>=$AE$2,AA10/(AB10*O10)*100,"0") -> 75.873016
B11: Naulaerts Rik | C11: 51 | G11: 45 | I11: 33 | J11: 53 | K11: =SUM(D11:J11) -> 131 | L11: =COUNTIF(D11:J11,">0") -> 3 | M11: =IF(K11=0," ",K11/L11) -> 43.666667 | N11: =IF(K11=0," ",K11/(L11*C11)*100) -> 85.620915 | O11: 51 | W11: =SUM(P11:V11) -> 0 | X11: =COUNTIF(P11:V11,">0") -> 0 | Y11: =IF(W11=0," ",W11/X11) | AA11: =K11+W11 -> 131 | AB11: =L11+X11 -> 3 | AC11: =IF(AA11=0," ",AA11/AB11) -> 43.666667 | AD11: =IF(AA11=0," ",AA11/(AB11*O11)*100) -> 85.620915 | AE11: =IF(AB11>=$AE$2,AA11/(AB11*O11)*100,"0") -> 85.620915
B12: Peeters Wies | C12: 29 | D12: 21 | E12: 40 | F12: 21 | K12: =SUM(D12:J12) -> 82 | L12: =COUNTIF(D12:J12,">0") -> 3 | M12: =IF(K12=0," ",K12/L12) -> 27.333333 | N12: =IF(K12=0," ",K12/(L12*C12)*100) -> 94.252874 | O12: 29 | W12: =SUM(P12:V12) -> 0 | X12: =COUNTIF(P12:V12,">0") -> 0 | Y12: =IF(W12=0," ",W12/X12) | AA12: =K12+W12 -> 82 | AB12: =L12+X12 -> 3 | AC12: =IF(AA12=0," ",AA12/AB12) -> 27.333333 | AD12: =IF(AA12=0," ",AA12/(AB12*O12)*100) -> 94.252874 | AE12: =IF(AB12>=$AE$2,AA12/(AB12*O12)*100,"0") -> 94.252874
B13: Pleysier Luc | C13: 87 | E13: 90 | F13: 86 | I13: 34 | K13: =SUM(D13:J13) -> 210 | L13: =COUNTIF(D13:J13,">0") -> 3 | M13: =IF(K13=0," ",K13/L13) -> 70 | N13: =IF(K13=0," ",K13/(L13*C13)*100) -> 80.45977 | O13: 87 | P13: 100 | W13: =SUM(P13:V13) -> 100 | X13: =COUNTIF(P13:V13,">0") -> 1 | Y13: =IF(W13=0," ",W13/X13) -> 100 | AA13: =K13+W13 -> 310 | AB13: =L13+X13 -> 4 | AC13: =IF(AA13=0," ",AA13/AB13) -> 77.5 | AD13: =IF(AA13=0," ",AA13/(AB13*O13)*100) -> 89.08046 | AE13: =IF(AB13>=$AE$2,AA13/(AB13*O13)*100,"0") -> 89.08046
B14: Quick Gerard | C14: 24 | F14: 24 | K14: =SUM(D14:J14) -> 24 | L14: =COUNTIF(D14:J14,">0") -> 1 | M14: =IF(K14=0," ",K14/L14) -> 24 | N14: =IF(K14=0," ",K14/(L14*C14)*100) -> 100 | O14: 24 | Q14: 23 | W14: =SUM(P14:V14) -> 23 | X14: =COUNTIF(P14:V14,">0") -> 1 | Y14: =IF(W14=0," ",W14/X14) -> 23 | AA14: =K14+W14 -> 47 | AB14: =L14+X14 -> 2 | AC14: =IF(AA14=0," ",AA14/AB14) -> 23.5 | AD14: =IF(AA14=0," ",AA14/(AB14*O14)*100) -> 97.916667 | AE14: =IF(AB14>=$AE$2,AA14/(AB14*O14)*100,"0") -> 97.916667
B15: Schrooyen Jef | C15: 58 | F15: 67 | G15: 40 | J15: 48 | K15: =SUM(D15:J15) -> 155 | L15: =COUNTIF(D15:J15,">0") -> 3 | M15: =IF(K15=0," ",K15/L15) -> 51.666667 | N15: =IF(K15=0," ",K15/(L15*C15)*100) -> 89.08046 | O15: 58 | W15: =SUM(P15:V15) -> 0 | X15: =COUNTIF(P15:V15,">0") -> 0 | Y15: =IF(W15=0," ",W15/X15) | AA15: =K15+W15 -> 155 | AB15: =L15+X15 -> 3 | AC15: =IF(AA15=0," ",AA15/AB15) -> 51.666667 | AD15: =IF(AA15=0," ",AA15/(AB15*O15)*100) -> 89.08046 | AE15: =IF(AB15>=$AE$2,AA15/(AB15*O15)*100,"0") -> 89.08046
B16: Uytdewilligen Hubert | C16: 36 | K16: =SUM(D16:J16) -> 0 | L16: =COUNTIF(D16:J16,">0") -> 0 | M16: =IF(K16=0," ",K16/L16) | N16: =IF(K16=0," ",K16/(L16*C16)*100) | O16: 36 | Q16: 30 | W16: =SUM(P16:V16) -> 30 | X16: =COUNTIF(P16:V16,">0") -> 1 | Y16: =IF(W16=0," ",W16/X16) -> 30 | AA16: =K16+W16 -> 30 | AB16: =L16+X16 -> 1 | AC16: =IF(AA16=0," ",AA16/AB16) -> 30 | AD16: =IF(AA16=0," ",AA16/(AB16*O16)*100) -> 83.333333 | AE16: =IF(AB16>=$AE$2,AA16/(AB16*O16)*100,"0") -> 83.333333
B17: Van Ginneken Cyriel [NS 20] | C17: 20 | D17: 24 | E17: 20 | J17: 15 | K17: =SUM(D17:J17) -> 59 | L17: =COUNTIF(D17:J17,">0") -> 3 | M17: =IF(K17=0," ",K17/L17) -> 19.666667 | N17: =IF(K17=0," ",K17/(L17*C17)*100) -> 98.333333 | O17: 20 | P17: 11 | W17: =SUM(P17:V17) -> 11 | X17: =COUNTIF(P17:V17,">0") -> 1 | Y17: =IF(W17=0," ",W17/X17) -> 11 | AA17: =K17+W17 -> 70 | AB17: =L17+X17 -> 4 | AC17: =IF(AA17=0," ",AA17/AB17) -> 17.5 | AD17: =IF(AA17=0," ",AA17/(AB17*O17)*100) -> 87.5 | AE17: =IF(AB17>=$AE$2,AA17/(AB17*O17)*100,"0") -> 87.5
B18: Van Oers Danny [NS 50] | C18: 31 | E18: 34 | H18: 30 | I18: 28 | K18: =SUM(D18:J18) -> 92 | L18: =COUNTIF(D18:J18,">0") -> 3 | M18: =IF(K18=0," ",K18/L18) -> 30.666667 | N18: =IF(K18=0," ",K18/(L18*C18)*100) -> 98.924731 | O18: 31 | P18: 18 | W18: =SUM(P18:V18) -> 18 | X18: =COUNTIF(P18:V18,">0") -> 1 | Y18: =IF(W18=0," ",W18/X18) -> 18 | AA18: =K18+W18 -> 110 | AB18: =L18+X18 -> 4 | AC18: =IF(AA18=0," ",AA18/AB18) -> 27.5 | AD18: =IF(AA18=0," ",AA18/(AB18*O18)*100) -> 88.709677 | AE18: =IF(AB18>=$AE$2,AA18/(AB18*O18)*100,"0") -> 88.709677
B19: Van Oers John | C19: 28 | D19: 23 | F19: 12 | H19: 27 | K19: =SUM(D19:J19) -> 62 | L19: =COUNTIF(D19:J19,">0") -> 3 | M19: =IF(K19=0," ",K19/L19) -> 20.666667 | N19: =IF(K19=0," ",K19/(L19*C19)*100) -> 73.809524 | O19: 28 | Q19: 27 | W19: =SUM(P19:V19) -> 27 | X19: =COUNTIF(P19:V19,">0") -> 1 | Y19: =IF(W19=0," ",W19/X19) -> 27 | AA19: =K19+W19 -> 89 | AB19: =L19+X19 -> 4 | AC19: =IF(AA19=0," ",AA19/AB19) -> 22.25 | AD19: =IF(AA19=0," ",AA19/(AB19*O19)*100) -> 79.464286 | AE19: =IF(AB19>=$AE$2,AA19/(AB19*O19)*100,"0") -> 79.464286
C20: =SUM(C5:C19) -> 593 | D20: =SUM(D5:D19) -> 180 | E20: =SUM(E5:E19) -> 241 | F20: =SUM(F5:F19) -> 258 | G20: =SUM(G5:G19) -> 237 | H20: =SUM(H5:H19) -> 249 | I20: =SUM(I5:I19) -> 227 | J20: =SUM(J5:J19) -> 226 | ... L20: =SUM(L5:L19) -> 42 | M20: =K20/L20 -> 38.52381 | O20: =SUM(O5:O19) -> 593 | P20: =SUM(P5:P19) -> 212 | Q20: =SUM(Q5:Q19) -> 200 | R20: =SUM(R5:R19) -> 0 | S20: =SUM(S5:S19) -> 0 | T20: =SUM(T5:T19) -> 0 | U20: =SUM(U5:U19) -> 0 | V20: =SUM(V5:V19) -> 0 | ... X20: =SUM(X5:X19) -> 12 | Y20: =W20/X20 -> 34.333333 | AA20: =SUM(AA5:AA19) -> 2030 | AB20: =SUM(AB5:AB19) -> 54 | AC20: =AA20/AB20 -> 37.592593

Sheet Nispen
B2: 30ste België - Nederland biljarttornooi ingericht door de Essense Seniorenraad 2025 - 2026 | AA2: Jaartotalen | AE2: =IF(Rangschikking!A3>=15,0,Rangschikking!A3) -> 1
B3: Senioren NISPEN | C3: Sterktegetal | D3: Wedstrijden 1ste kompetitiehelft | K3: Totaal Punten | L3: Gespeelde wedstrijden | M3: Gemiddelde 1ste helft | N3: % Nieuw/Oud 2025 - 2026 | O3: Sterktegetal 2de helft | P3: Wedstrijden 2de kompetitiehelft | W3: Totaal Punten | X3: Gespeelde wedstrijden | Y3: Gemiddelde 2de helft | AA3: Totaal Punten | AB3: Gespeelde wedstrijden | AC3: Gemiddelde seizoen | AD3: % Nieuw/Oud 2025 - 2026
D4: 1 | E4: 2 | F4: 3 | G4: 4 | H4: 5 | I4: 6 | J4: 7 | P4: 8 | Q4: 9 | R4: 10 | S4: 11 | T4: 15 | U4: 13 | V4: 14
B5: Kerstens Jac | C5: 40 | D5: 30 | E5: 21 | F5: 30 | G5: 42 | H5: 15 | I5: 36 | J5: 24 | K5: =SUM(D5:J5) -> 198 | L5: =COUNTIF(D5:J5,">0") -> 7 | M5: =IF(K5=0," ",K5/L5) -> 28.285714 | N5: =IF(K5=0," ",K5/(L5*C5)*100) -> 70.714286 | O5: 40 | P5: 23 | Q5: 39 | R5: 50 | W5: =SUM(P5:V5) -> 112 | X5: =COUNTIF(P5:V5,">0") -> 3 | Y5: =IF(W5=0," ",W5/X5) -> 37.333333 | AA5: =K5+W5 -> 310 | AB5: =L5+X5 -> 10 | AC5: =IF(AA5=0," ",AA5/AB5) -> 31 | AD5: =IF(AA5=0," ",AA5/(AB5*O5)*100) -> 77.5 | AE5: =IF(AB5>=$AE$2,AA5/(AB5*O5)*100,"0") -> 77.5
B6: Martens Gerrit | C6: 15 | F6: 19 | H6: 16 | I6: 20 | J6: 22 | K6: =SUM(D6:J6) -> 77 | L6: =COUNTIF(D6:J6,">0") -> 4 | M6: =IF(K6=0," ",K6/L6) -> 19.25 | N6: =IF(K6=0," ",K6/(L6*C6)*100) -> 128.33333 | O6: 15 | P6: 17 | Q6: 16 | W6: =SUM(P6:V6) -> 33 | X6: =COUNTIF(P6:V6,">0") -> 2 | Y6: =IF(W6=0," ",W6/X6) -> 16.5 | AA6: =K6+W6 -> 110 | AB6: =L6+X6 -> 6 | AC6: =IF(AA6=0," ",AA6/AB6) -> 18.333333 | AD6: =IF(AA6=0," ",AA6/(AB6*O6)*100) -> 122.22222 | AE6: =IF(AB6>=$AE$2,AA6/(AB6*O6)*100,"0") -> 122.22222
B7: Raats Antoon | C7: 18 | D7: 8 | F7: 26 | G7: 18 | I7: 21 | J7: 7 | K7: =SUM(D7:J7) -> 80 | L7: =COUNTIF(D7:J7,">0") -> 5 | M7: =IF(K7=0," ",K7/L7) -> 16 | N7: =IF(K7=0," ",K7/(L7*C7)*100) -> 88.888889 | O7: 18 | Q7: 36 | W7: =SUM(P7:V7) -> 36 | X7: =COUNTIF(P7:V7,">0") -> 1 | Y7: =IF(W7=0," ",W7/X7) -> 36 | AA7: =K7+W7 -> 116 | AB7: =L7+X7 -> 6 | AC7: =IF(AA7=0," ",AA7/AB7) -> 19.333333 | AD7: =IF(AA7=0," ",AA7/(AB7*O7)*100) -> 107.40741 | AE7: =IF(AB7>=$AE$2,AA7/(AB7*O7)*100,"0") -> 107.40741
B8: Schrauwen Jeanne | C8: 18 | D8: 16 | G8: 23 | H8: 16 | I8: 12 | J8: 19 | K8: =SUM(D8:J8) -> 86 | L8: =COUNTIF(D8:J8,">0") -> 5 | M8: =IF(K8=0," ",K8/L8) -> 17.2 | N8: =IF(K8=0," ",K8/(L8*C8)*100) -> 95.555556 | O8: 18 | Q8: 23 | W8: =SUM(P8:V8) -> 23 | X8: =COUNTIF(P8:V8,">0") -> 1 | Y8: =IF(W8=0," ",W8/X8) -> 23 | AA8: =K8+W8 -> 109 | AB8: =L8+X8 -> 6 | AC8: =IF(AA8=0," ",AA8/AB8) -> 18.166667 | AD8: =IF(AA8=0," ",AA8/(AB8*O8)*100) -> 100.92593 | AE8: =IF(AB8>=$AE$2,AA8/(AB8*O8)*100,"0") -> 100.92593
B9: Swaanen Piet | C9: 59 | E9: 47 | K9: =SUM(D9:J9) -> 47 | L9: =COUNTIF(D9:J9,">0") -> 1 | M9: =IF(K9=0," ",K9/L9) -> 47 | N9: =IF(K9=0," ",K9/(L9*C9)*100) -> 79.661017 | O9: 59 | W9: =SUM(P9:V9) -> 0 | X9: =COUNTIF(P9:V9,">0") -> 0 | Y9: =IF(W9=0," ",W9/X9) | AA9: =K9+W9 -> 47 | AB9: =L9+X9 -> 1 | AC9: =IF(AA9=0," ",AA9/AB9) -> 47 | AD9: =IF(AA9=0," ",AA9/(AB9*O9)*100) -> 79.661017 | AE9: =IF(AB9>=$AE$2,AA9/(AB9*O9)*100,"0") -> 79.661017
B10: Talboom Ad | C10: 15 | H10: 6 | K10: =SUM(D10:J10) -> 6 | L10: =COUNTIF(D10:J10,">0") -> 1 | M10: =IF(K10=0," ",K10/L10) -> 6 | N10: =IF(K10=0," ",K10/(L10*C10)*100) -> 40 | O10: 15 | W10: =SUM(P10:V10) -> 0 | X10: =COUNTIF(P10:V10,">0") -> 0 | Y10: =IF(W10=0," ",W10/X10) | AA10: =K10+W10 -> 6 | AB10: =L10+X10 -> 1 | AC10: =IF(AA10=0," ",AA10/AB10) -> 6 | AD10: =IF(AA10=0," ",AA10/(AB10*O10)*100) -> 40 | AE10: =IF(AB10>=$AE$2,AA10/(AB10*O10)*100,"0") -> 40
B11: Thielen Jef | C11: 28 | D11: 22 | F11: 25 | G11: 31 | H11: 27 | I11: 20 | J11: 22 | K11: =SUM(D11:J11) -> 147 | L11: =COUNTIF(D11:J11,">0") -> 6 | M11: =IF(K11=0," ",K11/L11) -> 24.5 | N11: =IF(K11=0," ",K11/(L11*C11)*100) -> 87.5 | O11: 28 | P11: 33 | Q11: 29 | W11: =SUM(P11:V11) -> 62 | X11: =COUNTIF(P11:V11,">0") -> 2 | Y11: =IF(W11=0," ",W11/X11) -> 31 | AA11: =K11+W11 -> 209 | AB11: =L11+X11 -> 8 | AC11: =IF(AA11=0," ",AA11/AB11) -> 26.125 | AD11: =IF(AA11=0," ",AA11/(AB11*O11)*100) -> 93.303571 | AE11: =IF(AB11>=$AE$2,AA11/(AB11*O11)*100,"0") -> 93.303571
B12: Uijtdehaag Nico | C12: 23 | D12: 19 | E12: 11 | F12: 28 | I12: 24 | J12: 21 | K12: =SUM(D12:J12) -> 103 | L12: =COUNTIF(D12:J12,">0") -> 5 | M12: =IF(K12=0," ",K12/L12) -> 20.6 | N12: =IF(K12=0," ",K12/(L12*C12)*100) -> 89.565217 | O12: 23 | P12: 25 | W12: =SUM(P12:V12) -> 25 | X12: =COUNTIF(P12:V12,">0") -> 1 | Y12: =IF(W12=0," ",W12/X12) -> 25 | AA12: =K12+W12 -> 128 | AB12: =L12+X12 -> 6 | AC12: =IF(AA12=0," ",AA12/AB12) -> 21.333333 | AD12: =IF(AA12=0," ",AA12/(AB12*O12)*100) -> 92.753623 | AE12: =IF(AB12>=$AE$2,AA12/(AB12*O12)*100,"0") -> 92.753623
B13: Van Turnhout Herman [NS 20] | C13: 15 | D13: 15 | E13: 4 | F13: 11 | H13: 6 | K13: =SUM(D13:J13) -> 36 | L13: =COUNTIF(D13:J13,">0") -> 4 | M13: =IF(K13=0," ",K13/L13) -> 9 | N13: =IF(K13=0," ",K13/(L13*C13)*100) -> 60 | O13: 15 | P13: 10 | W13: =SUM(P13:V13) -> 10 | X13: =COUNTIF(P13:V13,">0") -> 1 | Y13: =IF(W13=0," ",W13/X13) -> 10 | AA13: =K13+W13 -> 46 | AB13: =L13+X13 -> 5 | AC13: =IF(AA13=0," ",AA13/AB13) -> 9.2 | AD13: =IF(AA13=0," ",AA13/(AB13*O13)*100) -> 61.333333 | AE13: =IF(AB13>=$AE$2,AA13/(AB13*O13)*100,"0") -> 61.333333
B14: Van Wesel Jos | C14: 22 | E14: 22 | F14: 22 | G14: 15 | K14: =SUM(D14:J14) -> 59 | L14: =COUNTIF(D14:J14,">0") -> 3 | M14: =IF(K14=0," ",K14/L14) -> 19.666667 | N14: =IF(K14=0," ",K14/(L14*C14)*100) -> 89.393939 | O14: 22 | P14: 21 | Q14: 27 | W14: =SUM(P14:V14) -> 48 | X14: =COUNTIF(P14:V14,">0") -> 2 | Y14: =IF(W14=0," ",W14/X14) -> 24 | AA14: =K14+W14 -> 107 | AB14: =L14+X14 -> 5 | AC14: =IF(AA14=0," ",AA14/AB14) -> 21.4 | AD14: =IF(AA14=0," ",AA14/(AB14*O14)*100) -> 97.272727 | AE14: =IF(AB14>=$AE$2,AA14/(AB14*O14)*100,"0") -> 97.272727
B15: 0 | C15: 0 | K15: =SUM(D15:J15) -> 0 | L15: =COUNTIF(D15:J15,">0") -> 0 | M15: =IF(K15=0," ",K15/L15) | N15: =IF(K15=0," ",K15/(L15*C15)*100) | O15: 0 | W15: =SUM(P15:V15) -> 0 | X15: =COUNTIF(P15:V15,">0") -> 0 | Y15: =IF(W15=0," ",W15/X15) | AA15: =K15+W15 -> 0 | AB15: =L15+X15 -> 0 | AC15: =IF(AA15=0," ",AA15/AB15) | AD15: =IF(AA15=0," ",AA15/(AB15*O15)*100) | AE15: =IF(AB15>=$AE$2,AA15/(AB15*O15)*100,"0") -> 0
K16: =SUM(D16:J16) -> 0 | L16: =COUNTIF(D16:J16,">0") -> 0 | M16: =IF(K16=0," ",K16/L16) | N16: =IF(K16=0," ",K16/(L16*C16)*100) | W16: =SUM(P16:V16) -> 0 | X16: =COUNTIF(P16:V16,">0") -> 0 | Y16: =IF(W16=0," ",W16/X16) | AA16: =K16+W16 -> 0 | AB16: =L16+X16 -> 0 | AC16: =IF(AA16=0," ",AA16/AB16) | AD16: =IF(AA16=0," ",AA16/(AB16*O16)*100) | AE16: =IF(AB16>=$AE$2,AA16/(AB16*O16)*100,"0") -> 0
K17: =SUM(D17:J17) -> 0 | L17: =COUNTIF(D17:J17,">0") -> 0 | M17: =IF(K17=0," ",K17/L17) | N17: =IF(K17=0," ",K17/(L17*C17)*100) | W17: =SUM(P17:V17) -> 0 | X17: =COUNTIF(P17:V17,">0") -> 0 | Y17: =IF(W17=0," ",W17/X17) | AA17: =K17+W17 -> 0 | AB17: =L17+X17 -> 0 | AC17: =IF(AA17=0," ",AA17/AB17) | AD17: =IF(AA17=0," ",AA17/(AB17*O17)*100) | AE17: =IF(AB17>=$AE$2,AA17/(AB17*O17)*100,"0") -> 0
K18: =SUM(D18:J18) -> 0 | L18: =COUNTIF(D18:J18,">0") -> 0 | M18: =IF(K18=0," ",K18/L18) | N18: =IF(K18=0," ",K18/(L18*C18)*100) | W18: =SUM(P18:V18) -> 0 | X18: =COUNTIF(P18:V18,">0") -> 0 | Y18: =IF(W18=0," ",W18/X18) | AA18: =K18+W18 -> 0 | AB18: =L18+X18 -> 0 | AC18: =IF(AA18=0," ",AA18/AB18) | AD18: =IF(AA18=0," ",AA18/(AB18*O18)*100) | AE18: =IF(AB18>=$AE$2,AA18/(AB18*O18)*100,"0") -> 0
K19: =SUM(D19:J19) -> 0 | L19: =COUNTIF(D19:J19,">0") -> 0 | M19: =IF(K19=0," ",K19/L19) | N19: =IF(K19=0," ",K19/(L19*C19)*100) | W19: =SUM(P19:V19) -> 0 | X19: =COUNTIF(P19:V19,">0") -> 0 | Y19: =IF(W19=0," ",W19/X19) | AA19: =K19+W19 -> 0 | AB19: =L19+X19 -> 0 | AC19: =IF(AA19=0," ",AA19/AB19) | AD19: =IF(AA19=0," ",AA19/(AB19*O19)*100) | AE19: =IF(AB19>=$AE$2,AA19/(AB19*O19)*100,"0") -> 0
C20: =SUM(C5:C19) -> 253 | D20: =SUM(D5:D19) -> 110 | E20: =SUM(E5:E19)+F13 -> 116 | F20: =SUM(F5:F19)-F13 -> 150 | G20: =SUM(G5:G19)+R5 -> 179 | H20: =SUM(H5:H19) -> 86 | I20: =SUM(I5:I19) -> 133 | J20: =SUM(J5:J19) -> 115 | K20: =SUM(K5:K19) -> 839 | L20: =SUM(L5:L19) -> 41 | M20: =K20/L20 -> 20.463415 | O20: =SUM(O5:O19) -> 253 | P20: =SUM(P5:P19) -> 129 | Q20: =SUM(Q5:Q19) -> 170 | R20: =SUM(R5:R19)-R5 -> 0 | S20: =SUM(S5:S19) -> 0 | T20: =SUM(T5:T19) -> 0 | U20: =SUM(U5:U19) -> 0 | V20: =SUM(V5:V19) -> 0 | W20: =SUM(W5:W19) -> 349 | X20: =SUM(X5:X19) -> 13 | Y20: =W20/X20 -> 26.846154 | AA20: =SUM(AA5:AA19) -> 1188 | AB20: =SUM(AB5:AB19) -> 54 | AC20: =AA20/AB20 -> 22

Sheet Oudeglorie
B2: 30ste België - Nederland biljarttornooi ingericht door de Essense Seniorenraad 2025 - 2026 | AA2: Jaartotalen | AE2: =IF(Rangschikking!A3>=15,0,Rangschikking!A3) -> 1
B3: OUDE GLORIE | C3: Sterktegetal | D3: Wedstrijden 1ste kompetitiehelft | K3: Totaal Punten | L3: Gespeelde wedstrijden | M3: Gemiddelde 1ste helft | N3: % Nieuw/Oud 2025 - 2026 | O3: Sterktegetal 2de helft | P3: Wedstrijden 2de kompetitiehelft | W3: Totaal Punten | X3: Gespeelde wedstrijden | Y3: Gemiddelde 2de helft | AA3: Totaal Punten | AB3: Gespeelde wedstrijden | AC3: Gemiddelde seizoen | AD3: % Nieuw/Oud 2025 - 2026
D4: 1 | E4: 2 | F4: 3 | G4: 4 | H4: 5 | I4: 6 | J4: 7 | P4: 8 | Q4: 9 | R4: 10 | S4: 11 | T4: 12 | U4: 13 | V4: 14
B5: Aerden Carl | C5: 23 | D5: 25 | K5: =SUM(D5:J5) -> 25 | L5: =COUNTIF(D5:J5,">0") -> 1 | M5: =IF(K5=0," ",K5/L5) -> 25 | N5: =IF(K5=0," ",K5/(L5*C5)*100) -> 108.69565 | O5: 23 | P5: 17 | W5: =SUM(P5:V5) -> 17 | X5: =COUNTIF(P5:V5,">0") -> 1 | Y5: =IF(W5=0," ",W5/X5) -> 17 | AA5: =K5+W5 -> 42 | AB5: =L5+X5 -> 2 | AC5: =IF(AA5=0," ",AA5/AB5) -> 21 | AD5: =IF(AA5=0," ",AA5/(AB5*O5)*100) -> 91.304348 | AE5: =IF(AB5>=$AE$2,AA5/(AB5*O5)*100,"0") -> 91.304348
B6: Beyers Jos | C6: 24 | E6: 26 | F6: 22 | G6: 33 | H6: 36 | K6: =SUM(D6:J6) -> 117 | L6: =COUNTIF(D6:J6,">0") -> 4 | M6: =IF(K6=0," ",K6/L6) -> 29.25 | N6: =IF(K6=0," ",K6/(L6*C6)*100) -> 121.875 | O6: 24 | Q6: 18 | W6: =SUM(P6:V6) -> 18 | X6: =COUNTIF(P6:V6,">0") -> 1 | Y6: =IF(W6=0," ",W6/X6) -> 18 | AA6: =K6+W6 -> 135 | AB6: =L6+X6 -> 5 | AC6: =IF(AA6=0," ",AA6/AB6) -> 27 | AD6: =IF(AA6=0," ",AA6/(AB6*O6)*100) -> 112.5 | AE6: =IF(AB6>=$AE$2,AA6/(AB6*O6)*100,"0") -> 112.5
B7: Beyers Roger | C7: 54 | D7: 51 | E7: 23 | F7: 83 | G7: 39 | K7: =SUM(D7:J7) -> 196 | L7: =COUNTIF(D7:J7,">0") -> 4 | M7: =IF(K7=0," ",K7/L7) -> 49 | N7: =IF(K7=0," ",K7/(L7*C7)*100) -> 90.740741 | O7: 54 | Q7: 77 | W7: =SUM(P7:V7) -> 77 | X7: =COUNTIF(P7:V7,">0") -> 1 | Y7: =IF(W7=0," ",W7/X7) -> 77 | AA7: =K7+W7 -> 273 | AB7: =L7+X7 -> 5 | AC7: =IF(AA7=0," ",AA7/AB7) -> 54.6 | AD7: =IF(AA7=0," ",AA7/(AB7*O7)*100) -> 101.11111 | AE7: =IF(AB7>=$AE$2,AA7/(AB7*O7)*100,"0") -> 101.11111
B8: Braat Guido | C8: 34 | F8: 34 | G8: 48 | H8: 48 | I8: 17 | K8: =SUM(D8:J8) -> 147 | L8: =COUNTIF(D8:J8,">0") -> 4 | M8: =IF(K8=0," ",K8/L8) -> 36.75 | N8: =IF(K8=0," ",K8/(L8*C8)*100) -> 108.08824 | O8: 34 | W8: =SUM(P8:V8) -> 0 | X8: =COUNTIF(P8:V8,">0") -> 0 | Y8: =IF(W8=0," ",W8/X8) | AA8: =K8+W8 -> 147 | AB8: =L8+X8 -> 4 | AC8: =IF(AA8=0," ",AA8/AB8) -> 36.75 | AD8: =IF(AA8=0," ",AA8/(AB8*O8)*100) -> 108.08824 | AE8: =IF(AB8>=$AE$2,AA8/(AB8*O8)*100,"0") -> 108.08824
B9: Cleeren Guido | C9: 18 | J9: 29 | K9: =SUM(D9:J9) -> 29 | L9: =COUNTIF(D9:J9,">0") -> 1 | M9: =IF(K9=0," ",K9/L9) -> 29 | N9: =IF(K9=0," ",K9/(L9*C9)*100) -> 161.11111 | O9: 18 | W9: =SUM(P9:V9) -> 0 | X9: =COUNTIF(P9:V9,">0") -> 0 | Y9: =IF(W9=0," ",W9/X9) | AA9: =K9+W9 -> 29 | AB9: =L9+X9 -> 1 | AC9: =IF(AA9=0," ",AA9/AB9) -> 29 | AD9: =IF(AA9=0," ",AA9/(AB9*O9)*100) -> 161.11111 | AE9: =IF(AB9>=$AE$2,AA9/(AB9*O9)*100,"0") -> 161.11111
B10: Gommers Jac | C10: 16 | E10: 24 | I10: 22 | J10: 25 | K10: =SUM(D10:J10) -> 71 | L10: =COUNTIF(D10:J10,">0") -> 3 | M10: =IF(K10=0," ",K10/L10) -> 23.666667 | N10: =IF(K10=0," ",K10/(L10*C10)*100) -> 147.91667 | O10: 16 | P10: 25 | Q10: 12 | W10: =SUM(P10:V10) -> 37 | X10: =COUNTIF(P10:V10,">0") -> 2 | Y10: =IF(W10=0," ",W10/X10) -> 18.5 | AA10: =K10+W10 -> 108 | AB10: =L10+X10 -> 5 | AC10: =IF(AA10=0," ",AA10/AB10) -> 21.6 | AD10: =IF(AA10=0," ",AA10/(AB10*O10)*100) -> 135 | AE10: =IF(AB10>=$AE$2,AA10/(AB10*O10)*100,"0") -> 135
B11: Jacobs Alfons | C11: 27 | D11: 22 | E11: 10 | F11: 20 | K11: =SUM(D11:J11) -> 52 | L11: =COUNTIF(D11:J11,">0") -> 3 | M11: =IF(K11=0," ",K11/L11) -> 17.333333 | N11: =IF(K11=0," ",K11/(L11*C11)*100) -> 64.197531 | O11: 27 | P11: 12 | Q11: 26 | W11: =SUM(P11:V11) -> 38 | X11: =COUNTIF(P11:V11,">0") -> 2 | Y11: =IF(W11=0," ",W11/X11) -> 19 | AA11: =K11+W11 -> 90 | AB11: =L11+X11 -> 5 | AC11: =IF(AA11=0," ",AA11/AB11) -> 18 | AD11: =IF(AA11=0," ",AA11/(AB11*O11)*100) -> 66.666667 | AE11: =IF(AB11>=$AE$2,AA11/(AB11*O11)*100,"0") -> 66.666667
B12: Jacobs Frans | C12: 63 | H12: 59 | I12: 42 | J12: 63 | K12: =SUM(D12:J12) -> 164 | L12: =COUNTIF(D12:J12,">0") -> 3 | M12: =IF(K12=0," ",K12/L12) -> 54.666667 | N12: =IF(K12=0," ",K12/(L12*C12)*100) -> 86.772487 | O12: 63 | P12: 39 | W12: =SUM(P12:V12) -> 39 | X12: =COUNTIF(P12:V12,">0") -> 1 | Y12: =IF(W12=0," ",W12/X12) -> 39 | AA12: =K12+W12 -> 203 | AB12: =L12+X12 -> 4 | AC12: =IF(AA12=0," ",AA12/AB12) -> 50.75 | AD12: =IF(AA12=0," ",AA12/(AB12*O12)*100) -> 80.555556 | AE12: =IF(AB12>=$AE$2,AA12/(AB12*O12)*100,"0") -> 80.555556
B13: Nelen Frans | C13: 27 | G13: 28 | H13: 25 | J13: 14 | K13: =SUM(D13:J13) -> 67 | L13: =COUNTIF(D13:J13,">0") -> 3 | M13: =IF(K13=0," ",K13/L13) -> 22.333333 | N13: =IF(K13=0," ",K13/(L13*C13)*100) -> 82.716049 | O13: 27 | W13: =SUM(P13:V13) -> 0 | X13: =COUNTIF(P13:V13,">0") -> 0 | Y13: =IF(W13=0," ",W13/X13) | AA13: =K13+W13 -> 67 | AB13: =L13+X13 -> 3 | AC13: =IF(AA13=0," ",AA13/AB13) -> 22.333333 | AD13: =IF(AA13=0," ",AA13/(AB13*O13)*100) -> 82.716049 | AE13: =IF(AB13>=$AE$2,AA13/(AB13*O13)*100,"0") -> 82.716049
B14: Nelen Jef [NS 25] | C14: 25 | D14: 26 | G14: 28 | K14: =SUM(D14:J14) -> 54 | L14: =COUNTIF(D14:J14,">0") -> 2 | M14: =IF(K14=0," ",K14/L14) -> 27 | N14: =IF(K14=0," ",K14/(L14*C14)*100) -> 108 | O14: 24 | Q14: 17 | W14: =SUM(P14:V14) -> 17 | X14: =COUNTIF(P14:V14,">0") -> 1 | Y14: =IF(W14=0," ",W14/X14) -> 17 | AA14: =K14+W14 -> 71 | AB14: =L14+X14 -> 3 | AC14: =IF(AA14=0," ",AA14/AB14) -> 23.666667 | AD14: =IF(AA14=0," ",AA14/(AB14*O14)*100) -> 98.611111 | AE14: =IF(AB14>=$AE$2,AA14/(AB14*O14)*100,"0") -> 98.611111
B15: Sommers Ludo | C15: 30 | F15: 24 | G15: 25 | H15: 35 | I15: 24 | K15: =SUM(D15:J15) -> 108 | L15: =COUNTIF(D15:J15,">0") -> 4 | M15: =IF(K15=0," ",K15/L15) -> 27 | N15: =IF(K15=0," ",K15/(L15*C15)*100) -> 90 | O15: 30 | W15: =SUM(P15:V15) -> 0 | X15: =COUNTIF(P15:V15,">0") -> 0 | Y15: =IF(W15=0," ",W15/X15) | AA15: =K15+W15 -> 108 | AB15: =L15+X15 -> 4 | AC15: =IF(AA15=0," ",AA15/AB15) -> 27 | AD15: =IF(AA15=0," ",AA15/(AB15*O15)*100) -> 90 | AE15: =IF(AB15>=$AE$2,AA15/(AB15*O15)*100,"0") -> 90
B16: Van Ginderen Ludo | C16: 16 | H16: 19 | I16: 9 | J16: 21 | K16: =SUM(D16:J16) -> 49 | L16: =COUNTIF(D16:J16,">0") -> 3 | M16: =IF(K16=0," ",K16/L16) -> 16.333333 | N16: =IF(K16=0," ",K16/(L16*C16)*100) -> 102.08333 | O16: 16 | W16: =SUM(P16:V16) -> 0 | X16: =COUNTIF(P16:V16,">0") -> 0 | Y16: =IF(W16=0," ",W16/X16) | AA16: =K16+W16 -> 49 | AB16: =L16+X16 -> 3 | AC16: =IF(AA16=0," ",AA16/AB16) -> 16.333333 | AD16: =IF(AA16=0," ",AA16/(AB16*O16)*100) -> 102.08333 | AE16: =IF(AB16>=$AE$2,AA16/(AB16*O16)*100,"0") -> 102.08333
B17: Van Overvelt Ludo | C17: 38 | D17: 43 | E17: 26 | I17: 32 | K17: =SUM(D17:J17) -> 101 | L17: =COUNTIF(D17:J17,">0") -> 3 | M17: =IF(K17=0," ",K17/L17) -> 33.666667 | N17: =IF(K17=0," ",K17/(L17*C17)*100) -> 88.596491 | O17: 38 | P17: 37 | W17: =SUM(P17:V17) -> 37 | X17: =COUNTIF(P17:V17,">0") -> 1 | Y17: =IF(W17=0," ",W17/X17) -> 37 | AA17: =K17+W17 -> 138 | AB17: =L17+X17 -> 4 | AC17: =IF(AA17=0," ",AA17/AB17) -> 34.5 | AD17: =IF(AA17=0," ",AA17/(AB17*O17)*100) -> 90.789474 | AE17: =IF(AB17>=$AE$2,AA17/(AB17*O17)*100,"0") -> 90.789474
B18: Willemsen Willy | C18: 38 | D18: 39 | E18: 14 | F18: 23 | J18: 58 | K18: =SUM(D18:J18) -> 134 | L18: =COUNTIF(D18:J18,">0") -> 4 | M18: =IF(K18=0," ",K18/L18) -> 33.5 | N18: =IF(K18=0," ",K18/(L18*C18)*100) -> 88.157895 | O18: 38 | P18: 37 | Q18: 51 | W18: =SUM(P18:V18) -> 88 | X18: =COUNTIF(P18:V18,">0") -> 2 | Y18: =IF(W18=0," ",W18/X18) -> 44 | AA18: =K18+W18 -> 222 | AB18: =L18+X18 -> 6 | AC18: =IF(AA18=0," ",AA18/AB18) -> 37 | AD18: =IF(AA18=0," ",AA18/(AB18*O18)*100) -> 97.368421 | AE18: =IF(AB18>=$AE$2,AA18/(AB18*O18)*100,"0") -> 97.368421
K19: =SUM(D19:J19) -> 0 | L19: =COUNTIF(D19:J19,">0") -> 0 | M19: =IF(K19=0," ",K19/L19) | N19: =IF(K19=0," ",K19/(L19*C19)*100) | W19: =SUM(P19:V19) -> 0 | X19: =COUNTIF(P19:V19,">0") -> 0 | Y19: =IF(W19=0," ",W19/X19) | AA19: =K19+W19 -> 0 | AB19: =L19+X19 -> 0 | AC19: =IF(AA19=0," ",AA19/AB19) | AD19: =IF(AA19=0," ",AA19/(AB19*O19)*100) | AE19: =IF(AB19>=$AE$2,AA19/(AB19*O19)*100,"0") -> 0
C20: =SUM(C5:C19) -> 433 | D20: =SUM(D5:D19) -> 206 | E20: =SUM(E5:E19) -> 123 | F20: =SUM(F5:F19) -> 206 | G20: =SUM(G5:G19) -> 201 | H20: =SUM(H5:H19) -> 222 | I20: =SUM(I5:I19) -> 146 | J20: =SUM(J5:J19) -> 210 | ... L20: =SUM(L5:L19) -> 42 | M20: =K20/L20 -> 31.285714 | O20: =SUM(O5:O19) -> 432 | P20: =SUM(P5:P19) -> 167 | Q20: =SUM(Q5:Q19) -> 201 | R20: =SUM(R5:R19) -> 0 | S20: =SUM(S5:S19) -> 0 | T20: =SUM(T5:T19) -> 0 | U20: =SUM(U5:U19) -> 0 | V20: =SUM(V5:V19) -> 0 | ... X20: =SUM(X5:X19) -> 12 | Y20: =W20/X20 -> 30.666667 | AA20: =SUM(AA5:AA19) -> 1682 | AB20: =SUM(AB5:AB19) -> 54 | AC20: =AA20/AB20 -> 31.148148

Sheet Putte
B2: 30ste België - Nederland biljarttornooi ingericht door de Essense Seniorenraad 2025 - 2026 | AA2: Jaartotalen | AE2: =IF(Rangschikking!A3>=15,0,Rangschikking!A3) -> 1
B3: Senioren PUTTE | C3: Sterktegetal | D3: Wedstrijden 1ste kompetitiehelft | K3: Totaal Punten | L3: Gespeelde wedstrijden | M3: Gemiddelde 1ste helft | N3: % Nieuw/Oud 2025 - 2026 | O3: Sterktegetal 2de helft | P3: Wedstrijden 2de kompetitiehelft | W3: Totaal Punten | X3: Gespeelde wedstrijden | Y3: Gemiddelde 2de helft | AA3: Totaal Punten | AB3: Gespeelde wedstrijden | AC3: Gemiddelde seizoen | AD3: % Nieuw/Oud 2025 - 2026
D4: 1 | E4: 2 | F4: 3 | G4: 4 | H4: 5 | I4: 6 | J4: 7 | P4: 8 | Q4: 9 | R4: 10 | S4: 11 | T4: 12 | U4: 13 | V4: 14
B5: Anthonissen Paul | C5: 40 | G5: 46 | H5: 26 | I5: 69 | J5: 49 | K5: =SUM(D5:J5) -> 190 | L5: =COUNTIF(D5:J5,">0") -> 4 | M5: =IF(K5=0," ",K5/L5) -> 47.5 | N5: =IF(K5=0," ",K5/(L5*C5)*100) -> 118.75 | O5: 40 | P5: 23 | Q5: 35 | W5: =SUM(P5:V5) -> 58 | X5: =COUNTIF(P5:V5,">0") -> 2 | Y5: =IF(W5=0," ",W5/X5) -> 29 | AA5: =K5+W5 -> 248 | AB5: =L5+X5 -> 6 | AC5: =IF(AA5=0," ",AA5/AB5) -> 41.333333 | AD5: =IF(AA5=0," ",AA5/(AB5*O5)*100) -> 103.33333 | AE5: =IF(AB5>=$AE$2,AA5/(AB5*O5)*100,"0") -> 103.33333
B6: De Beukelaer Freddy | C6: 22 | D6: 18 | G6: 17 | H6: 28 | J6: 35 | K6: =SUM(D6:J6) -> 98 | L6: =COUNTIF(D6:J6,">0") -> 4 | M6: =IF(K6=0," ",K6/L6) -> 24.5 | N6: =IF(K6=0," ",K6/(L6*C6)*100) -> 111.36364 | O6: 22 | P6: 15 | Q6: 19 | W6: =SUM(P6:V6) -> 34 | X6: =COUNTIF(P6:V6,">0") -> 2 | Y6: =IF(W6=0," ",W6/X6) -> 17 | AA6: =K6+W6 -> 132 | AB6: =L6+X6 -> 6 | AC6: =IF(AA6=0," ",AA6/AB6) -> 22 | AD6: =IF(AA6=0," ",AA6/(AB6*O6)*100) -> 100 | AE6: =IF(AB6>=$AE$2,AA6/(AB6*O6)*100,"0") -> 100
B7: Eyckmans Luc | C7: 21 | D7: 15 | E7: 17 | F7: 32 | G7: 27 | H7: 26 | I7: 16 | J7: 25 | K7: =SUM(D7:J7) -> 158 | L7: =COUNTIF(D7:J7,">0") -> 7 | M7: =IF(K7=0," ",K7/L7) -> 22.571429 | N7: =IF(K7=0," ",K7/(L7*C7)*100) -> 107.48299 | O7: 21 | P7: 17 | Q7: 20 | W7: =SUM(P7:V7) -> 37 | X7: =COUNTIF(P7:V7,">0") -> 2 | Y7: =IF(W7=0," ",W7/X7) -> 18.5 | AA7: =K7+W7 -> 195 | AB7: =L7+X7 -> 9 | AC7: =IF(AA7=0," ",AA7/AB7) -> 21.666667 | AD7: =IF(AA7=0," ",AA7/(AB7*O7)*100) -> 103.1746 | AE7: =IF(AB7>=$AE$2,AA7/(AB7*O7)*100,"0") -> 103.1746
B8: Evers Henri | C8: 17 | E8: 8 | F8: 7 | G8: 20 | I8: 11 | J8: 12 | K8: =SUM(D8:J8) -> 58 | L8: =COUNTIF(D8:J8,">0") -> 5 | M8: =IF(K8=0," ",K8/L8) -> 11.6 | N8: =IF(K8=0," ",K8/(L8*C8)*100) -> 68.235294 | O8: 17 | P8: 8 | W8: =SUM(P8:V8) -> 8 | X8: =COUNTIF(P8:V8,">0") -> 1 | Y8: =IF(W8=0," ",W8/X8) -> 8 | AA8: =K8+W8 -> 66 | AB8: =L8+X8 -> 6 | AC8: =IF(AA8=0," ",AA8/AB8) -> 11 | AD8: =IF(AA8=0," ",AA8/(AB8*O8)*100) -> 64.705882 | AE8: =IF(AB8>=$AE$2,AA8/(AB8*O8)*100,"0") -> 64.705882
B9: Palickx Fons | C9: 89 | D9: 60 | E9: 79 | G9: 56 | K9: =SUM(D9:J9) -> 195 | L9: =COUNTIF(D9:J9,">0") -> 3 | M9: =IF(K9=0," ",K9/L9) -> 65 | N9: =IF(K9=0," ",K9/(L9*C9)*100) -> 73.033708 | O9: 89 | Q9: 64 | W9: =SUM(P9:V9) -> 64 | X9: =COUNTIF(P9:V9,">0") -> 1 | Y9: =IF(W9=0," ",W9/X9) -> 64 | AA9: =K9+W9 -> 259 | AB9: =L9+X9 -> 4 | AC9: =IF(AA9=0," ",AA9/AB9) -> 64.75 | AD9: =IF(AA9=0," ",AA9/(AB9*O9)*100) -> 72.752809 | AE9: =IF(AB9>=$AE$2,AA9/(AB9*O9)*100,"0") -> 72.752809
B10: Poulus Marinus | C10: 48 | K10: =SUM(D10:J10) -> 0 | L10: =COUNTIF(D10:J10,">0") -> 0 | M10: =IF(K10=0," ",K10/L10) | N10: =IF(K10=0," ",K10/(L10*C10)*100) | O10: 48 | W10: =SUM(P10:V10) -> 0 | X10: =COUNTIF(P10:V10,">0") -> 0 | Y10: =IF(W10=0," ",W10/X10) | AA10: =K10+W10 -> 0 | AB10: =L10+X10 -> 0 | AC10: =IF(AA10=0," ",AA10/AB10) | AD10: =IF(AA10=0," ",AA10/(AB10*O10)*100) | AE10: =IF(AB10>=$AE$2,AA10/(AB10*O10)*100,"0") -> 0
B11: Plompen Dirk | C11: 35 | D11: 30 | E11: 49 | G11: 34 | H11: 48 | I11: 38 | J11: 43 | K11: =SUM(D11:J11) -> 242 | L11: =COUNTIF(D11:J11,">0") -> 6 | M11: =IF(K11=0," ",K11/L11) -> 40.333333 | N11: =IF(K11=0," ",K11/(L11*C11)*100) -> 115.2381 | O11: 35 | P11: 33 | W11: =SUM(P11:V11) -> 33 | X11: =COUNTIF(P11:V11,">0") -> 1 | Y11: =IF(W11=0," ",W11/X11) -> 33 | AA11: =K11+W11 -> 275 | AB11: =L11+X11 -> 7 | AC11: =IF(AA11=0," ",AA11/AB11) -> 39.285714 | AD11: =IF(AA11=0," ",AA11/(AB11*O11)*100) -> 112.2449 | AE11: =IF(AB11>=$AE$2,AA11/(AB11*O11)*100,"0") -> 112.2449
B12: Schaeken Pierre | C12: 18 | F12: 32 | J12: 13 | K12: =SUM(D12:J12) -> 45 | L12: =COUNTIF(D12:J12,">0") -> 2 | M12: =IF(K12=0," ",K12/L12) -> 22.5 | N12: =IF(K12=0," ",K12/(L12*C12)*100) -> 125 | O12: 18 | P12: 19 | Q12: 13 | W12: =SUM(P12:V12) -> 32 | X12: =COUNTIF(P12:V12,">0") -> 2 | Y12: =IF(W12=0," ",W12/X12) -> 16 | AA12: =K12+W12 -> 77 | AB12: =L12+X12 -> 4 | AC12: =IF(AA12=0," ",AA12/AB12) -> 19.25 | AD12: =IF(AA12=0," ",AA12/(AB12*O12)*100) -> 106.94444 | AE12: =IF(AB12>=$AE$2,AA12/(AB12*O12)*100,"0") -> 106.94444
B13: Van Den Bleeken Eddie | C13: 33 | D13: 23 | E13: 28 | F13: 26 | I13: 28 | K13: =SUM(D13:J13) -> 105 | L13: =COUNTIF(D13:J13,">0") -> 4 | M13: =IF(K13=0," ",K13/L13) -> 26.25 | N13: =IF(K13=0," ",K13/(L13*C13)*100) -> 79.545455 | O13: 33 | W13: =SUM(P13:V13) -> 0 | X13: =COUNTIF(P13:V13,">0") -> 0 | Y13: =IF(W13=0," ",W13/X13) | AA13: =K13+W13 -> 105 | AB13: =L13+X13 -> 4 | AC13: =IF(AA13=0," ",AA13/AB13) -> 26.25 | AD13: =IF(AA13=0," ",AA13/(AB13*O13)*100) -> 79.545455 | AE13: =IF(AB13>=$AE$2,AA13/(AB13*O13)*100,"0") -> 79.545455
B14: Van Riel Eddie | C14: 68 | K14: =SUM(D14:J14) -> 0 | L14: =COUNTIF(D14:J14,">0") -> 0 | M14: =IF(K14=0," ",K14/L14) | N14: =IF(K14=0," ",K14/(L14*C14)*100) | O14: 68 | W14: =SUM(P14:V14) -> 0 | X14: =COUNTIF(P14:V14,">0") -> 0 | Y14: =IF(W14=0," ",W14/X14) | AA14: =K14+W14 -> 0 | AB14: =L14+X14 -> 0 | AC14: =IF(AA14=0," ",AA14/AB14) | AD14: =IF(AA14=0," ",AA14/(AB14*O14)*100) | AE14: =IF(AB14>=$AE$2,AA14/(AB14*O14)*100,"0") -> 0
B15: Verelst Gilbert | C15: 29 | D15: 14 | E15: 19 | F15: 10 | H15: 33 | K15: =SUM(D15:J15) -> 76 | L15: =COUNTIF(D15:J15,">0") -> 4 | M15: =IF(K15=0," ",K15/L15) -> 19 | N15: =IF(K15=0," ",K15/(L15*C15)*100) -> 65.517241 | O15: 29 | W15: =SUM(P15:V15) -> 0 | X15: =COUNTIF(P15:V15,">0") -> 0 | Y15: =IF(W15=0," ",W15/X15) | AA15: =K15+W15 -> 76 | AB15: =L15+X15 -> 4 | AC15: =IF(AA15=0," ",AA15/AB15) -> 19 | AD15: =IF(AA15=0," ",AA15/(AB15*O15)*100) -> 65.517241 | AE15: =IF(AB15>=$AE$2,AA15/(AB15*O15)*100,"0") -> 65.517241
B16: Wolfcarius Jacques | C16: 26 | F16: 22 | H16: 31 | I16: 31 | K16: =SUM(D16:J16) -> 84 | L16: =COUNTIF(D16:J16,">0") -> 3 | M16: =IF(K16=0," ",K16/L16) -> 28 | N16: =IF(K16=0," ",K16/(L16*C16)*100) -> 107.69231 | O16: 26 | Q16: 14 | W16: =SUM(P16:V16) -> 14 | X16: =COUNTIF(P16:V16,">0") -> 1 | Y16: =IF(W16=0," ",W16/X16) -> 14 | AA16: =K16+W16 -> 98 | AB16: =L16+X16 -> 4 | AC16: =IF(AA16=0," ",AA16/AB16) -> 24.5 | AD16: =IF(AA16=0," ",AA16/(AB16*O16)*100) -> 94.230769 | AE16: =IF(AB16>=$AE$2,AA16/(AB16*O16)*100,"0") -> 94.230769
B17: Moerbeek Wilfried (ns) | C17: 0 | K17: =SUM(D17:J17) -> 0 | L17: =COUNTIF(D17:J17,">0") -> 0 | M17: =IF(K17=0," ",K17/L17) | N17: =IF(K17=0," ",K17/(L17*C17)*100) | O17: 20 | W17: =SUM(P17:V17) -> 0 | X17: =COUNTIF(P17:V17,">0") -> 0 | Y17: =IF(W17=0," ",W17/X17) | AA17: =K17+W17 -> 0 | AB17: =L17+X17 -> 0 | AC17: =IF(AA17=0," ",AA17/AB17) | AD17: =IF(AA17=0," ",AA17/(AB17*O17)*100) | AE17: =IF(AB17>=$AE$2,AA17/(AB17*O17)*100,"0") -> 0
K18: =SUM(D18:J18) -> 0 | L18: =COUNTIF(D18:J18,">0") -> 0 | M18: =IF(K18=0," ",K18/L18) | N18: =IF(K18=0," ",K18/(L18*C18)*100) | W18: =SUM(P18:V18) -> 0 | X18: =COUNTIF(P18:V18,">0") -> 0 | Y18: =IF(W18=0," ",W18/X18) | AA18: =K18+W18 -> 0 | AB18: =L18+X18 -> 0 | AC18: =IF(AA18=0," ",AA18/AB18) | AD18: =IF(AA18=0," ",AA18/(AB18*O18)*100) | AE18: =IF(AB18>=$AE$2,AA18/(AB18*O18)*100,"0") -> 0
K19: =SUM(D19:J19) -> 0 | L19: =COUNTIF(D19:J19,">0") -> 0 | M19: =IF(K19=0," ",K19/L19) | N19: =IF(K19=0," ",K19/(L19*C19)*100) | W19: =SUM(P19:V19) -> 0 | X19: =COUNTIF(P19:V19,">0") -> 0 | Y19: =IF(W19=0," ",W19/X19) | AA19: =K19+W19 -> 0 | AB19: =L19+X19 -> 0 | AC19: =IF(AA19=0," ",AA19/AB19) | AD19: =IF(AA19=0," ",AA19/(AB19*O19)*100) | AE19: =IF(AB19>=$AE$2,AA19/(AB19*O19)*100,"0") -> 0
C20: =SUM(C5:C19) -> 446 | D20: =SUM(D5:D19) -> 160 | E20: =SUM(E5:E19) -> 200 | F20: =SUM(F5:F19) -> 129 | G20: =SUM(G5:G19) -> 200 | H20: =SUM(H5:H19) -> 192 | I20: =SUM(I5:I19) -> 193 | J20: =SUM(J5:J19) -> 177 | ... L20: =SUM(L5:L19) -> 42 | M20: =K20/L20 -> 29.785714 | O20: =SUM(O5:O19) -> 466 | P20: =SUM(P5:P19) -> 115 | Q20: =SUM(Q5:Q19) -> 165 | R20: =SUM(R5:R19) -> 0 | S20: =SUM(S5:S19) -> 0 | T20: =SUM(T5:T19) -> 0 | U20: =SUM(U5:U19) -> 0 | V20: =SUM(V5:V19) -> 0 | ... X20: =SUM(X5:X19) -> 12 | Y20: =W20/X20 -> 23.333333 | AA20: =SUM(AA5:AA19) -> 1531 | AB20: =SUM(AB5:AB19) -> 54 | AC20: =AA20/AB20 -> 28.351852

Sheet Wildert1
B2: 30ste België - Nederland biljarttornooi ingericht door de Essense Seniorenraad 2025 - 2026 | AA2: Jaartotalen | AE2: =IF(Rangschikking!A3>=15,0,Rangschikking!A3) -> 1
B3: WILDERT 1 | C3: Sterktegetal | D3: Wedstrijden 1ste kompetitiehelft | K3: Totaal Punten | L3: Gespeelde wedstrijden | M3: Gemiddelde 1ste helft | N3: % Nieuw/Oud 2025 - 2026 | O3: Sterktegetal 2de helft | P3: Wedstrijden 2de kompetitiehelft | W3: Totaal Punten | X3: Gespeelde wedstrijden | Y3: Gemiddelde 2de helft | AA3: Totaal Punten | AB3: Gespeelde wedstrijden | AC3: Gemiddelde seizoen | AD3: % Nieuw/Oud 2025 - 2026
D4: 1 | E4: 2 | F4: 3 | G4: 4 | H4: 5 | I4: 6 | J4: 7 | P4: 8 | Q4: 9 | R4: 10 | S4: 11 | T4: 12 | U4: 13 | V4: 14
B5: Adriaansen Jan | C5: 17 | D5: 25 | G5: 6 | K5: =SUM(D5:J5) -> 31 | L5: =COUNTIF(D5:J5,">0") -> 2 | M5: =IF(K5=0," ",K5/L5) -> 15.5 | N5: =IF(K5=0," ",K5/(L5*C5)*100) -> 91.176471 | O5: 17 | P5: 16 | W5: =SUM(P5:V5) -> 16 | X5: =COUNTIF(P5:V5,">0") -> 1 | Y5: =IF(W5=0," ",W5/X5) -> 16 | AA5: =K5+W5 -> 47 | AB5: =L5+X5 -> 3 | AC5: =IF(AA5=0," ",AA5/AB5) -> 15.666667 | AD5: =IF(AA5=0," ",AA5/(AB5*O5)*100) -> 92.156863 | AE5: =IF(AB5>=$AE$2,AA5/(AB5*O5)*100,"0") -> 92.156863
B6: Brouwers Adri | C6: 36 | D6: 34 | F6: 35 | G6: 36 | H6: 51 | I6: 38 | J6: 26 | K6: =SUM(D6:J6) -> 220 | L6: =COUNTIF(D6:J6,">0") -> 6 | M6: =IF(K6=0," ",K6/L6) -> 36.666667 | N6: =IF(K6=0," ",K6/(L6*C6)*100) -> 101.85185 | O6: 36 | Q6: 33 | W6: =SUM(P6:V6) -> 33 | X6: =COUNTIF(P6:V6,">0") -> 1 | Y6: =IF(W6=0," ",W6/X6) -> 33 | AA6: =K6+W6 -> 253 | AB6: =L6+X6 -> 7 | AC6: =IF(AA6=0," ",AA6/AB6) -> 36.142857 | AD6: =IF(AA6=0," ",AA6/(AB6*O6)*100) -> 100.39683 | AE6: =IF(AB6>=$AE$2,AA6/(AB6*O6)*100,"0") -> 100.39683
B7: Buijk Jan [NS 55] | C7: 67 | D7: 40 | F7: 88 | H7: 72 | J7: 45 | K7: =SUM(D7:J7) -> 245 | L7: =COUNTIF(D7:J7,">0") -> 4 | M7: =IF(K7=0," ",K7/L7) -> 61.25 | N7: =IF(K7=0," ",K7/(L7*C7)*100) -> 91.41791 | O7: 61 | Q7: 51 | W7: =SUM(P7:V7) -> 51 | X7: =COUNTIF(P7:V7,">0") -> 1 | Y7: =IF(W7=0," ",W7/X7) -> 51 | AA7: =K7+W7 -> 296 | AB7: =L7+X7 -> 5 | AC7: =IF(AA7=0," ",AA7/AB7) -> 59.2 | AD7: =IF(AA7=0," ",AA7/(AB7*O7)*100) -> 97.04918 | AE7: =IF(AB7>=$AE$2,AA7/(AB7*O7)*100,"0") -> 97.04918
B8: Denissens Frans | C8: 16 | D8: 10 | I8: 16 | K8: =SUM(D8:J8) -> 26 | L8: =COUNTIF(D8:J8,">0") -> 2 | M8: =IF(K8=0," ",K8/L8) -> 13 | N8: =IF(K8=0," ",K8/(L8*C8)*100) -> 81.25 | O8: 16 | W8: =SUM(P8:V8) -> 0 | X8: =COUNTIF(P8:V8,">0") -> 0 | Y8: =IF(W8=0," ",W8/X8) | AA8: =K8+W8 -> 26 | AB8: =L8+X8 -> 2 | AC8: =IF(AA8=0," ",AA8/AB8) -> 13 | AD8: =IF(AA8=0," ",AA8/(AB8*O8)*100) -> 81.25 | AE8: =IF(AB8>=$AE$2,AA8/(AB8*O8)*100,"0") -> 81.25
B9: Dries Louis | C9: 29 | E9: 35 | F9: 40 | G9: 17 | I9: 27 | J9: 32 | K9: =SUM(D9:J9) -> 151 | L9: =COUNTIF(D9:J9,">0") -> 5 | M9: =IF(K9=0," ",K9/L9) -> 30.2 | N9: =IF(K9=0," ",K9/(L9*C9)*100) -> 104.13793 | O9: 29 | P9: 25 | W9: =SUM(P9:V9) -> 25 | X9: =COUNTIF(P9:V9,">0") -> 1 | Y9: =IF(W9=0," ",W9/X9) -> 25 | AA9: =K9+W9 -> 176 | AB9: =L9+X9 -> 6 | AC9: =IF(AA9=0," ",AA9/AB9) -> 29.333333 | AD9: =IF(AA9=0," ",AA9/(AB9*O9)*100) -> 101.14943 | AE9: =IF(AB9>=$AE$2,AA9/(AB9*O9)*100,"0") -> 101.14943
B10: Kerstens Marc | C10: 28 | H10: 20 | K10: =SUM(D10:J10) -> 20 | L10: =COUNTIF(D10:J10,">0") -> 1 | M10: =IF(K10=0," ",K10/L10) -> 20 | N10: =IF(K10=0," ",K10/(L10*C10)*100) -> 71.428571 | O10: 28 | W10: =SUM(P10:V10) -> 0 | X10: =COUNTIF(P10:V10,">0") -> 0 | Y10: =IF(W10=0," ",W10/X10) | AA10: =K10+W10 -> 20 | AB10: =L10+X10 -> 1 | AC10: =IF(AA10=0," ",AA10/AB10) -> 20 | AD10: =IF(AA10=0," ",AA10/(AB10*O10)*100) -> 71.428571 | AE10: =IF(AB10>=$AE$2,AA10/(AB10*O10)*100,"0") -> 71.428571
B11: Kerstens Ronald | C11: 24 | K11: =SUM(D11:J11) -> 0 | L11: =COUNTIF(D11:J11,">0") -> 0 | M11: =IF(K11=0," ",K11/L11) | N11: =IF(K11=0," ",K11/(L11*C11)*100) | O11: 24 | P11: 27 | W11: =SUM(P11:V11) -> 27 | X11: =COUNTIF(P11:V11,">0") -> 1 | Y11: =IF(W11=0," ",W11/X11) -> 27 | AA11: =K11+W11 -> 27 | AB11: =L11+X11 -> 1 | AC11: =IF(AA11=0," ",AA11/AB11) -> 27 | AD11: =IF(AA11=0," ",AA11/(AB11*O11)*100) -> 112.5 | AE11: =IF(AB11>=$AE$2,AA11/(AB11*O11)*100,"0") -> 112.5
B12: Konings Guido | C12: 30 | D12: 20 | E12: 39 | G12: 24 | H12: 49 | I12: 29 | K12: =SUM(D12:J12) -> 161 | L12: =COUNTIF(D12:J12,">0") -> 5 | M12: =IF(K12=0," ",K12/L12) -> 32.2 | N12: =IF(K12=0," ",K12/(L12*C12)*100) -> 107.33333 | O12: 30 | W12: =SUM(P12:V12) -> 0 | X12: =COUNTIF(P12:V12,">0") -> 0 | Y12: =IF(W12=0," ",W12/X12) | AA12: =K12+W12 -> 161 | AB12: =L12+X12 -> 5 | AC12: =IF(AA12=0," ",AA12/AB12) -> 32.2 | AD12: =IF(AA12=0," ",AA12/(AB12*O12)*100) -> 107.33333 | AE12: =IF(AB12>=$AE$2,AA12/(AB12*O12)*100,"0") -> 107.33333
B13: Kustermans Toon | C13: 38 | F13: 37 | G13: 54 | I13: 52 | J13: 43 | K13: =SUM(D13:J13) -> 186 | L13: =COUNTIF(D13:J13,">0") -> 4 | M13: =IF(K13=0," ",K13/L13) -> 46.5 | N13: =IF(K13=0," ",K13/(L13*C13)*100) -> 122.36842 | O13: 38 | P13: 40 | Q13: 37 | W13: =SUM(P13:V13) -> 77 | X13: =COUNTIF(P13:V13,">0") -> 2 | Y13: =IF(W13=0," ",W13/X13) -> 38.5 | AA13: =K13+W13 -> 263 | AB13: =L13+X13 -> 6 | AC13: =IF(AA13=0," ",AA13/AB13) -> 43.833333 | AD13: =IF(AA13=0," ",AA13/(AB13*O13)*100) -> 115.35088 | AE13: =IF(AB13>=$AE$2,AA13/(AB13*O13)*100,"0") -> 115.35088
B14: Sarra-Ribo Jef | C14: 87 | D14: 62 | E14: 100 | F14: 59 | G14: 40 | H14: 86 | J14: 87 | K14: =SUM(D14:J14) -> 434 | L14: =COUNTIF(D14:J14,">0") -> 6 | M14: =IF(K14=0," ",K14/L14) -> 72.333333 | N14: =IF(K14=0," ",K14/(L14*C14)*100) -> 83.141762 | O14: 87 | P14: 81 | Q14: 51 | W14: =SUM(P14:V14) -> 132 | X14: =COUNTIF(P14:V14,">0") -> 2 | Y14: =IF(W14=0," ",W14/X14) -> 66 | AA14: =K14+W14 -> 566 | AB14: =L14+X14 -> 8 | AC14: =IF(AA14=0," ",AA14/AB14) -> 70.75 | AD14: =IF(AA14=0," ",AA14/(AB14*O14)*100) -> 81.321839 | AE14: =IF(AB14>=$AE$2,AA14/(AB14*O14)*100,"0") -> 81.321839
B15: Sas Ronny | C15: 31 | E15: 30 | H15: 36 | I15: 25 | K15: =SUM(D15:J15) -> 91 | L15: =COUNTIF(D15:J15,">0") -> 3 | M15: =IF(K15=0," ",K15/L15) -> 30.333333 | N15: =IF(K15=0," ",K15/(L15*C15)*100) -> 97.849462 | O15: 31 | Q15: 17 | W15: =SUM(P15:V15) -> 17 | X15: =COUNTIF(P15:V15,">0") -> 1 | Y15: =IF(W15=0," ",W15/X15) -> 17 | AA15: =K15+W15 -> 108 | AB15: =L15+X15 -> 4 | AC15: =IF(AA15=0," ",AA15/AB15) -> 27 | AD15: =IF(AA15=0," ",AA15/(AB15*O15)*100) -> 87.096774 | AE15: =IF(AB15>=$AE$2,AA15/(AB15*O15)*100,"0") -> 87.096774
B16: Thijs Jef | C16: 21 | E16: 30 | J16: 19 | K16: =SUM(D16:J16) -> 49 | L16: =COUNTIF(D16:J16,">0") -> 2 | M16: =IF(K16=0," ",K16/L16) -> 24.5 | N16: =IF(K16=0," ",K16/(L16*C16)*100) -> 116.66667 | O16: 21 | Q16: 21 | W16: =SUM(P16:V16) -> 21 | X16: =COUNTIF(P16:V16,">0") -> 1 | Y16: =IF(W16=0," ",W16/X16) -> 21 | AA16: =K16+W16 -> 70 | AB16: =L16+X16 -> 3 | AC16: =IF(AA16=0," ",AA16/AB16) -> 23.333333 | AD16: =IF(AA16=0," ",AA16/(AB16*O16)*100) -> 111.11111 | AE16: =IF(AB16>=$AE$2,AA16/(AB16*O16)*100,"0") -> 111.11111
B17: Wetzer Rik (ns) | C17: 20 | E17: 18 | F17: 8 | K17: =SUM(D17:J17) -> 26 | L17: =COUNTIF(D17:J17,">0") -> 2 | M17: =IF(K17=0," ",K17/L17) -> 13 | N17: =IF(K17=0," ",K17/(L17*C17)*100) -> 65 | O17: 20 | W17: =SUM(P17:V17) -> 0 | X17: =COUNTIF(P17:V17,">0") -> 0 | Y17: =IF(W17=0," ",W17/X17) | AA17: =K17+W17 -> 26 | AB17: =L17+X17 -> 2 | AC17: =IF(AA17=0," ",AA17/AB17) -> 13 | AD17: =IF(AA17=0," ",AA17/(AB17*O17)*100) -> 65 | AE17: =IF(AB17>=$AE$2,AA17/(AB17*O17)*100,"0") -> 65
B18: Seymus Eddy (ns) | C18: 0 | K18: =SUM(D18:J18) -> 0 | L18: =COUNTIF(D18:J18,">0") -> 0 | M18: =IF(K18=0," ",K18/L18) | N18: =IF(K18=0," ",K18/(L18*C18)*100) | O18: 35 | P18: 18 | W18: =SUM(P18:V18) -> 18 | X18: =COUNTIF(P18:V18,">0") -> 1 | Y18: =IF(W18=0," ",W18/X18) -> 18 | AA18: =K18+W18 -> 18 | AB18: =L18+X18 -> 1 | AC18: =IF(AA18=0," ",AA18/AB18) -> 18 | AD18: =IF(AA18=0," ",AA18/(AB18*O18)*100) -> 51.428571 | AE18: =IF(AB18>=$AE$2,AA18/(AB18*O18)*100,"0") -> 51.428571
B19: 0 | K19: =SUM(D19:J19) -> 0 | L19: =COUNTIF(D19:J19,">0") -> 0 | M19: =IF(K19=0," ",K19/L19) | N19: =IF(K19=0," ",K19/(L19*C19)*100) | W19: =SUM(P19:V19) -> 0 | X19: =COUNTIF(P19:V19,">0") -> 0 | Y19: =IF(W19=0," ",W19/X19) | AA19: =K19+W19 -> 0 | AB19: =L19+X19 -> 0 | AC19: =IF(AA19=0," ",AA19/AB19) | AD19: =IF(AA19=0," ",AA19/(AB19*O19)*100) | AE19: =IF(AB19>=$AE$2,AA19/(AB19*O19)*100,"0") -> 0
C20: =SUM(C5:C19) -> 444 | D20: =SUM(D5:D19) -> 191 | E20: =SUM(E5:E19) -> 252 | F20: =SUM(F5:F19) -> 267 | G20: =SUM(G5:G19) -> 177 | H20: =SUM(H5:H19) -> 314 | I20: =SUM(I5:I19) -> 187 | J20: =SUM(J5:J19) -> 252 | ... L20: =SUM(L5:L19) -> 42 | M20: =K20/L20 -> 39.047619 | O20: =SUM(O5:O19) -> 473 | P20: =SUM(P5:P19) -> 207 | Q20: =SUM(Q5:Q19) -> 210 | R20: =SUM(R5:R19) -> 0 | S20: =SUM(S5:S19) -> 0 | T20: =SUM(T5:T19) -> 0 | U20: =SUM(U5:U19) -> 0 | V20: =SUM(V5:V19) -> 0 | ... X20: =SUM(X5:X19) -> 12 | Y20: =W20/X20 -> 34.75 | AA20: =SUM(AA5:AA19) -> 2057 | AB20: =SUM(AB5:AB19) -> 54 | AC20: =AA20/AB20 -> 38.092593

Sheet Wildert2
AA2: Jaartotalen | AE2: =IF(Rangschikking!A3>=15,0,Rangschikking!A3) -> 1
B3: WILDERT 2 | C3: Sterktegetal | D3: Wedstrijden 1ste kompetitiehelft | K3: Totaal Punten | L3: Gespeelde wedstrijden | M3: Gemiddelde 1ste helft | N3: % Nieuw/Oud 2025 - 2026 | O3: Sterktegetal 2de helft | P3: Wedstrijden 2de kompetitiehelft | W3: Totaal Punten | X3: Gespeelde wedstrijden | Y3: Gemiddelde 2de helft | AA3: Totaal Punten | AB3: Gespeelde wedstrijden | AC3: Gemiddelde seizoen | AD3: % Nieuw/Oud 2025 - 2026
D4: 1 | E4: 2 | F4: 3 | G4: 4 | H4: 5 | I4: 6 | J4: 7 | P4: 8 | Q4: 9 | R4: 10 | S4: 11 | T4: 12 | U4: 13 | V4: 14
B5: Aernouts Johan | C5: 46 | D5: 43 | F5: 34 | G5: 13 | J5: 39 | K5: =SUM(D5:J5) -> 129 | L5: =COUNTIF(D5:J5,">0") -> 4 | M5: =IF(K5=0," ",K5/L5) -> 32.25 | N5: =IF(K5=0," ",K5/(L5*C5)*100) -> 70.108696 | O5: 46 | P5: 67 | Q5: 38 | W5: =SUM(P5:V5) -> 105 | X5: =COUNTIF(P5:V5,">0") -> 2 | Y5: =IF(W5=0," ",W5/X5) -> 52.5 | AA5: =K5+W5 -> 234 | AB5: =L5+X5 -> 6 | AC5: =IF(AA5=0," ",AA5/AB5) -> 39 | AD5: =IF(AA5=0," ",AA5/(AB5*O5)*100) -> 84.782609 | AE5: =IF(AB5>=$AE$2,AA5/(AB5*O5)*100,"0") -> 84.782609
B6: Eestermans René | C6: 29 | D6: 41 | F6: 12 | G6: 58 | H6: 32 | J6: 33 | K6: =SUM(D6:J6) -> 176 | L6: =COUNTIF(D6:J6,">0") -> 5 | M6: =IF(K6=0," ",K6/L6) -> 35.2 | N6: =IF(K6=0," ",K6/(L6*C6)*100) -> 121.37931 | O6: 29 | P6: 42 | Q6: 37 | W6: =SUM(P6:V6) -> 79 | X6: =COUNTIF(P6:V6,">0") -> 2 | Y6: =IF(W6=0," ",W6/X6) -> 39.5 | AA6: =K6+W6 -> 255 | AB6: =L6+X6 -> 7 | AC6: =IF(AA6=0," ",AA6/AB6) -> 36.428571 | AD6: =IF(AA6=0," ",AA6/(AB6*O6)*100) -> 125.61576 | AE6: =IF(AB6>=$AE$2,AA6/(AB6*O6)*100,"0") -> 125.61576
B7: Eijckholt Adrie | C7: 37 | D7: 40 | E7: 33 | G7: 32 | H7: 30 | K7: =SUM(D7:J7) -> 135 | L7: =COUNTIF(D7:J7,">0") -> 4 | M7: =IF(K7=0," ",K7/L7) -> 33.75 | N7: =IF(K7=0," ",K7/(L7*C7)*100) -> 91.216216 | O7: 37 | Q7: 29 | W7: =SUM(P7:V7) -> 29 | X7: =COUNTIF(P7:V7,">0") -> 1 | Y7: =IF(W7=0," ",W7/X7) -> 29 | AA7: =K7+W7 -> 164 | AB7: =L7+X7 -> 5 | AC7: =IF(AA7=0," ",AA7/AB7) -> 32.8 | AD7: =IF(AA7=0," ",AA7/(AB7*O7)*100) -> 88.648649 | AE7: =IF(AB7>=$AE$2,AA7/(AB7*O7)*100,"0") -> 88.648649
B8: Francken Robert | C8: 46 | D8: 63 | E8: 50 | G8: 52 | H8: 30 | I8: 35 | J8: 55 | K8: =SUM(D8:J8) -> 285 | L8: =COUNTIF(D8:J8,">0") -> 6 | M8: =IF(K8=0," ",K8/L8) -> 47.5 | N8: =IF(K8=0," ",K8/(L8*C8)*100) -> 103.26087 | O8: 46 | Q8: 53 | W8: =SUM(P8:V8) -> 53 | X8: =COUNTIF(P8:V8,">0") -> 1 | Y8: =IF(W8=0," ",W8/X8) -> 53 | AA8: =K8+W8 -> 338 | AB8: =L8+X8 -> 7 | AC8: =IF(AA8=0," ",AA8/AB8) -> 48.285714 | AD8: =IF(AA8=0," ",AA8/(AB8*O8)*100) -> 104.96894 | AE8: =IF(AB8>=$AE$2,AA8/(AB8*O8)*100,"0") -> 104.96894
B9: Leys Herman | C9: 27 | D9: 27 | E9: 35 | H9: 15 | I9: 15 | K9: =SUM(D9:J9) -> 92 | L9: =COUNTIF(D9:J9,">0") -> 4 | M9: =IF(K9=0," ",K9/L9) -> 23 | N9: =IF(K9=0," ",K9/(L9*C9)*100) -> 85.185185 | O9: 27 | Q9: 36 | W9: =SUM(P9:V9) -> 36 | X9: =COUNTIF(P9:V9,">0") -> 1 | Y9: =IF(W9=0," ",W9/X9) -> 36 | AA9: =K9+W9 -> 128 | AB9: =L9+X9 -> 5 | AC9: =IF(AA9=0," ",AA9/AB9) -> 25.6 | AD9: =IF(AA9=0," ",AA9/(AB9*O9)*100) -> 94.814815 | AE9: =IF(AB9>=$AE$2,AA9/(AB9*O9)*100,"0") -> 94.814815
B10: Mutsters Louis | C10: 19 | K10: =SUM(D10:J10) -> 0 | L10: =COUNTIF(D10:J10,">0") -> 0 | M10: =IF(K10=0," ",K10/L10) | N10: =IF(K10=0," ",K10/(L10*C10)*100) | O10: 19 | W10: =SUM(P10:V10) -> 0 | X10: =COUNTIF(P10:V10,">0") -> 0 | Y10: =IF(W10=0," ",W10/X10) | AA10: =K10+W10 -> 0 | AB10: =L10+X10 -> 0 | AC10: =IF(AA10=0," ",AA10/AB10) | AD10: =IF(AA10=0," ",AA10/(AB10*O10)*100) | AE10: =IF(AB10>=$AE$2,AA10/(AB10*O10)*100,"0") -> 0
B11: Peeters Hugo (ns) | C11: 36 | F11: 53 | K11: =SUM(D11:J11) -> 53 | L11: =COUNTIF(D11:J11,">0") -> 1 | M11: =IF(K11=0," ",K11/L11) -> 53 | N11: =IF(K11=0," ",K11/(L11*C11)*100) -> 147.22222 | O11: 36 | W11: =SUM(P11:V11) -> 0 | X11: =COUNTIF(P11:V11,">0") -> 0 | Y11: =IF(W11=0," ",W11/X11) | AA11: =K11+W11 -> 53 | AB11: =L11+X11 -> 1 | AC11: =IF(AA11=0," ",AA11/AB11) -> 53 | AD11: =IF(AA11=0," ",AA11/(AB11*O11)*100) -> 147.22222 | AE11: =IF(AB11>=$AE$2,AA11/(AB11*O11)*100,"0") -> 147.22222
B12: Scholtis Vic [NS 49] | C12: 51 | D12: 36 | E12: 37 | F12: 81 | H12: 24 | I12: 30 | K12: =SUM(D12:J12) -> 208 | L12: =COUNTIF(D12:J12,">0") -> 5 | M12: =IF(K12=0," ",K12/L12) -> 41.6 | N12: =IF(K12=0," ",K12/(L12*C12)*100) -> 81.568627 | O12: 42 | P12: 44 | Q12: 69 | W12: =SUM(P12:V12) -> 113 | X12: =COUNTIF(P12:V12,">0") -> 2 | Y12: =IF(W12=0," ",W12/X12) -> 56.5 | AA12: =K12+W12 -> 321 | AB12: =L12+X12 -> 7 | AC12: =IF(AA12=0," ",AA12/AB12) -> 45.857143 | AD12: =IF(AA12=0," ",AA12/(AB12*O12)*100) -> 109.18367 | AE12: =IF(AB12>=$AE$2,AA12/(AB12*O12)*100,"0") -> 109.18367
B13: Van Den Bergh Jacky | C13: 107 | E13: 107 | I13: 68 | K13: =SUM(D13:J13) -> 175 | L13: =COUNTIF(D13:J13,">0") -> 2 | M13: =IF(K13=0," ",K13/L13) -> 87.5 | N13: =IF(K13=0," ",K13/(L13*C13)*100) -> 81.775701 | O13: 107 | W13: =SUM(P13:V13) -> 0 | X13: =COUNTIF(P13:V13,">0") -> 0 | Y13: =IF(W13=0," ",W13/X13) | AA13: =K13+W13 -> 175 | AB13: =L13+X13 -> 2 | AC13: =IF(AA13=0," ",AA13/AB13) -> 87.5 | AD13: =IF(AA13=0," ",AA13/(AB13*O13)*100) -> 81.775701 | AE13: =IF(AB13>=$AE$2,AA13/(AB13*O13)*100,"0") -> 81.775701
B14: Van Ginneken Ludo | C14: 42 | F14: 37 | I14: 32 | J14: 53 | K14: =SUM(D14:J14) -> 122 | L14: =COUNTIF(D14:J14,">0") -> 3 | M14: =IF(K14=0," ",K14/L14) -> 40.666667 | N14: =IF(K14=0," ",K14/(L14*C14)*100) -> 96.825397 | O14: 42 | P14: 44 | W14: =SUM(P14:V14) -> 44 | X14: =COUNTIF(P14:V14,">0") -> 1 | Y14: =IF(W14=0," ",W14/X14) -> 44 | AA14: =K14+W14 -> 166 | AB14: =L14+X14 -> 4 | AC14: =IF(AA14=0," ",AA14/AB14) -> 41.5 | AD14: =IF(AA14=0," ",AA14/(AB14*O14)*100) -> 98.809524 | AE14: =IF(AB14>=$AE$2,AA14/(AB14*O14)*100,"0") -> 98.809524
B15: Van Hooydonck Swa | C15: 28 | G15: 37 | I15: 38 | J15: 41 | K15: =SUM(D15:J15) -> 116 | L15: =COUNTIF(D15:J15,">0") -> 3 | M15: =IF(K15=0," ",K15/L15) -> 38.666667 | N15: =IF(K15=0," ",K15/(L15*C15)*100) -> 138.09524 | O15: 28 | P15: 23 | W15: =SUM(P15:V15) -> 23 | X15: =COUNTIF(P15:V15,">0") -> 1 | Y15: =IF(W15=0," ",W15/X15) -> 23 | AA15: =K15+W15 -> 139 | AB15: =L15+X15 -> 4 | AC15: =IF(AA15=0," ",AA15/AB15) -> 34.75 | AD15: =IF(AA15=0," ",AA15/(AB15*O15)*100) -> 124.10714 | AE15: =IF(AB15>=$AE$2,AA15/(AB15*O15)*100,"0") -> 124.10714
B16: Wiericx Herman | C16: 47 | E16: 44 | F16: 54 | G16: 47 | H16: 35 | J16: 21 | K16: =SUM(D16:J16) -> 201 | L16: =COUNTIF(D16:J16,">0") -> 5 | M16: =IF(K16=0," ",K16/L16) -> 40.2 | N16: =IF(K16=0," ",K16/(L16*C16)*100) -> 85.531915 | O16: 47 | P16: 43 | W16: =SUM(P16:V16) -> 43 | X16: =COUNTIF(P16:V16,">0") -> 1 | Y16: =IF(W16=0," ",W16/X16) -> 43 | AA16: =K16+W16 -> 244 | AB16: =L16+X16 -> 6 | AC16: =IF(AA16=0," ",AA16/AB16) -> 40.666667 | AD16: =IF(AA16=0," ",AA16/(AB16*O16)*100) -> 86.524823 | AE16: =IF(AB16>=$AE$2,AA16/(AB16*O16)*100,"0") -> 86.524823
K17: =SUM(D17:J17) -> 0 | L17: =COUNTIF(D17:J17,">0") -> 0 | M17: =IF(K17=0," ",K17/L17) | N17: =IF(K17=0," ",K17/(L17*C17)*100) | W17: =SUM(P17:V17) -> 0 | X17: =COUNTIF(P17:V17,">0") -> 0 | Y17: =IF(W17=0," ",W17/X17) | AA17: =K17+W17 -> 0 | AB17: =L17+X17 -> 0 | AC17: =IF(AA17=0," ",AA17/AB17) | AD17: =IF(AA17=0," ",AA17/(AB17*O17)*100) | AE17: =IF(AB17>=$AE$2,AA17/(AB17*O17)*100,"0") -> 0
K18: =SUM(D18:J18) -> 0 | L18: =COUNTIF(D18:J18,">0") -> 0 | M18: =IF(K18=0," ",K18/L18) | N18: =IF(K18=0," ",K18/(L18*C18)*100) | W18: =SUM(P18:V18) -> 0 | X18: =COUNTIF(P18:V18,">0") -> 0 | Y18: =IF(W18=0," ",W18/X18) | AA18: =K18+W18 -> 0 | AB18: =L18+X18 -> 0 | AC18: =IF(AA18=0," ",AA18/AB18) | AD18: =IF(AA18=0," ",AA18/(AB18*O18)*100) | AE18: =IF(AB18>=$AE$2,AA18/(AB18*O18)*100,"0") -> 0
K19: =SUM(D19:J19) -> 0 | L19: =COUNTIF(D19:J19,">0") -> 0 | M19: =IF(K19=0," ",K19/L19) | N19: =IF(K19=0," ",K19/(L19*C19)*100) | W19: =SUM(P19:V19) -> 0 | X19: =COUNTIF(P19:V19,">0") -> 0 | Y19: =IF(W19=0," ",W19/X19) | AA19: =K19+W19 -> 0 | AB19: =L19+X19 -> 0 | AC19: =IF(AA19=0," ",AA19/AB19) | AD19: =IF(AA19=0," ",AA19/(AB19*O19)*100) | AE19: =IF(AB19>=$AE$2,AA19/(AB19*O19)*100,"0") -> 0
C20: =SUM(C5:C19) -> 515 | D20: =SUM(D5:D19) -> 250 | E20: =SUM(E5:E19) -> 306 | F20: =SUM(F5:F19) -> 271 | G20: =SUM(G5:G19) -> 239 | H20: =SUM(H5:H19) -> 166 | I20: =SUM(I5:I19) -> 218 | J20: =SUM(J5:J19) -> 242 | ... L20: =SUM(L5:L19) -> 42 | M20: =K20/L20 -> 40.285714 | O20: =SUM(O5:O19) -> 506 | P20: =SUM(P5:P19) -> 263 | Q20: =SUM(Q5:Q19) -> 262 | R20: =SUM(R5:R19) -> 0 | S20: =SUM(S5:S19) -> 0 | T20: =SUM(T5:T19) -> 0 | U20: =SUM(U5:U19) -> 0 | V20: =SUM(V5:V19) -> 0 | ... X20: =SUM(X5:X19) -> 12 | Y20: =W20/X20 -> 43.75 | AA20: =SUM(AA5:AA19) -> 2217 | AB20: =SUM(AB5:AB19) -> 54 | AC20: =AA20/AB20 -> 41.055556

Sheet DeSpil
B2: 30ste België - Nederland biljarttornooi ingericht door de Essense Seniorenraad 2025 - 2026 | AA2: Jaartotalen | AE2: =IF(Rangschikking!A3>=15,0,Rangschikking!A3) -> 1
B3: DE SPIL | C3: Sterktegetal | D3: Wedstrijden 1ste kompetitiehelft | K3: Totaal Punten | L3: Gespeelde wedstrijden | M3: Gemiddelde 1ste helft | N3: % Nieuw/Oud 2025 - 2026 | O3: Sterktegetal 2de helft | P3: Wedstrijden 2de kompetitiehelft | W3: Totaal Punten | X3: Gespeelde wedstrijden | Y3: Gemiddelde 2de helft | AA3: Totaal Punten | AB3: Gespeelde wedstrijden | AC3: Gemiddelde seizoen | AD3: % Nieuw/Oud 2025 - 2026
D4: 1 | E4: 2 | F4: 3 | G4: 4 | H4: 5 | I4: 6 | J4: 7 | P4: 8 | Q4: 9 | R4: 10 | S4: 11 | T4: 12 | U4: 13 | V4: 14
B5: Dekkers Kees | C5: 25 | E5: 24 | F5: 28 | G5: 19 | I5: 28 | K5: =SUM(D5:J5) -> 99 | L5: =COUNTIF(D5:J5,">0") -> 4 | M5: =IF(K5=0," ",K5/L5) -> 24.75 | N5: =IF(K5=0," ",K5/(L5*C5)*100) -> 99 | O5: 25 | P5: 13 | Q5: 22 | W5: =SUM(P5:V5) -> 35 | X5: =COUNTIF(P5:V5,">0") -> 2 | Y5: =IF(W5=0," ",W5/X5) -> 17.5 | AA5: =K5+W5 -> 134 | AB5: =L5+X5 -> 6 | AC5: =IF(AA5=0," ",AA5/AB5) -> 22.333333 | AD5: =IF(AA5=0," ",AA5/(AB5*O5)*100) -> 89.333333 | AE5: =IF(AB5>=$AE$2,AA5/(AB5*O5)*100,"0") -> 89.333333
B6: Elst Jack | C6: 18 | D6: 18 | E6: 11 | H6: 16 | J6: 23 | K6: =SUM(D6:J6) -> 68 | L6: =COUNTIF(D6:J6,">0") -> 4 | M6: =IF(K6=0," ",K6/L6) -> 17 | N6: =IF(K6=0," ",K6/(L6*C6)*100) -> 94.444444 | O6: 18 | W6: =SUM(P6:V6) -> 0 | X6: =COUNTIF(P6:V6,">0") -> 0 | Y6: =IF(W6=0," ",W6/X6) | AA6: =K6+W6 -> 68 | AB6: =L6+X6 -> 4 | AC6: =IF(AA6=0," ",AA6/AB6) -> 17 | AD6: =IF(AA6=0," ",AA6/(AB6*O6)*100) -> 94.444444 | AE6: =IF(AB6>=$AE$2,AA6/(AB6*O6)*100,"0") -> 94.444444
B7: Elst Jan | C7: 24 | D7: 33 | F7: 45 | G7: 23 | I7: 25 | J7: 22 | K7: =SUM(D7:J7) -> 148 | L7: =COUNTIF(D7:J7,">0") -> 5 | M7: =IF(K7=0," ",K7/L7) -> 29.6 | N7: =IF(K7=0," ",K7/(L7*C7)*100) -> 123.33333 | O7: 24 | P7: 30 | Q7: 24 | W7: =SUM(P7:V7) -> 54 | X7: =COUNTIF(P7:V7,">0") -> 2 | Y7: =IF(W7=0," ",W7/X7) -> 27 | AA7: =K7+W7 -> 202 | AB7: =L7+X7 -> 7 | AC7: =IF(AA7=0," ",AA7/AB7) -> 28.857143 | AD7: =IF(AA7=0," ",AA7/(AB7*O7)*100) -> 120.2381 | AE7: =IF(AB7>=$AE$2,AA7/(AB7*O7)*100,"0") -> 120.2381
B8: Huijsmans Marion | C8: 41 | E8: 30 | F8: 33 | H8: 28 | J8: 35 | K8: =SUM(D8:J8) -> 126 | L8: =COUNTIF(D8:J8,">0") -> 4 | M8: =IF(K8=0," ",K8/L8) -> 31.5 | N8: =IF(K8=0," ",K8/(L8*C8)*100) -> 76.829268 | O8: 41 | Q8: 63 | W8: =SUM(P8:V8) -> 63 | X8: =COUNTIF(P8:V8,">0") -> 1 | Y8: =IF(W8=0," ",W8/X8) -> 63 | AA8: =K8+W8 -> 189 | AB8: =L8+X8 -> 5 | AC8: =IF(AA8=0," ",AA8/AB8) -> 37.8 | AD8: =IF(AA8=0," ",AA8/(AB8*O8)*100) -> 92.195122 | AE8: =IF(AB8>=$AE$2,AA8/(AB8*O8)*100,"0") -> 92.195122
B9: Kerstens Ad [NS 31] | C9: 26 | F9: 25 | G9: 25 | H9: 29 | I9: 34 | K9: =SUM(D9:J9) -> 113 | L9: =COUNTIF(D9:J9,">0") -> 4 | M9: =IF(K9=0," ",K9/L9) -> 28.25 | N9: =IF(K9=0," ",K9/(L9*C9)*100) -> 108.65385 | O9: 28 | P9: 26 | W9: =SUM(P9:V9) -> 26 | X9: =COUNTIF(P9:V9,">0") -> 1 | Y9: =IF(W9=0," ",W9/X9) -> 26 | AA9: =K9+W9 -> 139 | AB9: =L9+X9 -> 5 | AC9: =IF(AA9=0," ",AA9/AB9) -> 27.8 | AD9: =IF(AA9=0," ",AA9/(AB9*O9)*100) -> 99.285714 | AE9: =IF(AB9>=$AE$2,AA9/(AB9*O9)*100,"0") -> 99.285714
B10: Meijers Jan [NS 23] | C10: 24 | D10: 26 | E10: 15 | H10: 30 | K10: =SUM(D10:J10) -> 71 | L10: =COUNTIF(D10:J10,">0") -> 3 | M10: =IF(K10=0," ",K10/L10) -> 23.666667 | N10: =IF(K10=0," ",K10/(L10*C10)*100) -> 98.611111 | O10: 24 | Q10: 14 | W10: =SUM(P10:V10) -> 14 | X10: =COUNTIF(P10:V10,">0") -> 1 | Y10: =IF(W10=0," ",W10/X10) -> 14 | AA10: =K10+W10 -> 85 | AB10: =L10+X10 -> 4 | AC10: =IF(AA10=0," ",AA10/AB10) -> 21.25 | AD10: =IF(AA10=0," ",AA10/(AB10*O10)*100) -> 88.541667 | AE10: =IF(AB10>=$AE$2,AA10/(AB10*O10)*100,"0") -> 88.541667
B11: Raaymakers Adrie | C11: 50 | D11: 14 | E11: 14 | F11: 24 | G11: 35 | K11: =SUM(D11:J11) -> 87 | L11: =COUNTIF(D11:J11,">0") -> 4 | M11: =IF(K11=0," ",K11/L11) -> 21.75 | N11: =IF(K11=0," ",K11/(L11*C11)*100) -> 43.5 | O11: 50 | W11: =SUM(P11:V11) -> 0 | X11: =COUNTIF(P11:V11,">0") -> 0 | Y11: =IF(W11=0," ",W11/X11) | AA11: =K11+W11 -> 87 | AB11: =L11+X11 -> 4 | AC11: =IF(AA11=0," ",AA11/AB11) -> 21.75 | AD11: =IF(AA11=0," ",AA11/(AB11*O11)*100) -> 43.5 | AE11: =IF(AB11>=$AE$2,AA11/(AB11*O11)*100,"0") -> 43.5
B12: Stok Adrie | C12: 39 | E12: 43 | G12: 27 | J12: 40 | K12: =SUM(D12:J12) -> 110 | L12: =COUNTIF(D12:J12,">0") -> 3 | M12: =IF(K12=0," ",K12/L12) -> 36.666667 | N12: =IF(K12=0," ",K12/(L12*C12)*100) -> 94.017094 | O12: 39 | Q12: 53 | W12: =SUM(P12:V12) -> 53 | X12: =COUNTIF(P12:V12,">0") -> 1 | Y12: =IF(W12=0," ",W12/X12) -> 53 | AA12: =K12+W12 -> 163 | AB12: =L12+X12 -> 4 | AC12: =IF(AA12=0," ",AA12/AB12) -> 40.75 | AD12: =IF(AA12=0," ",AA12/(AB12*O12)*100) -> 104.48718 | AE12: =IF(AB12>=$AE$2,AA12/(AB12*O12)*100,"0") -> 104.48718
B13: Uitdewillegen Harry | C13: 28 | D13: 20 | F13: 25 | H13: 29 | I13: 24 | K13: =SUM(D13:J13) -> 98 | L13: =COUNTIF(D13:J13,">0") -> 4 | M13: =IF(K13=0," ",K13/L13) -> 24.5 | N13: =IF(K13=0," ",K13/(L13*C13)*100) -> 87.5 | O13: 28 | P13: 41 | W13: =SUM(P13:V13) -> 41 | X13: =COUNTIF(P13:V13,">0") -> 1 | Y13: =IF(W13=0," ",W13/X13) -> 41 | AA13: =K13+W13 -> 139 | AB13: =L13+X13 -> 5 | AC13: =IF(AA13=0," ",AA13/AB13) -> 27.8 | AD13: =IF(AA13=0," ",AA13/(AB13*O13)*100) -> 99.285714 | AE13: =IF(AB13>=$AE$2,AA13/(AB13*O13)*100,"0") -> 99.285714
B14: Van Gastel Jac | C14: 21 | H14: 21 | I14: 22 | J14: 19 | K14: =SUM(D14:J14) -> 62 | L14: =COUNTIF(D14:J14,">0") -> 3 | M14: =IF(K14=0," ",K14/L14) -> 20.666667 | N14: =IF(K14=0," ",K14/(L14*C14)*100) -> 98.412698 | O14: 21 | P14: 22 | Q14: 21 | W14: =SUM(P14:V14) -> 43 | X14: =COUNTIF(P14:V14,">0") -> 2 | Y14: =IF(W14=0," ",W14/X14) -> 21.5 | AA14: =K14+W14 -> 105 | AB14: =L14+X14 -> 5 | AC14: =IF(AA14=0," ",AA14/AB14) -> 21 | AD14: =IF(AA14=0," ",AA14/(AB14*O14)*100) -> 100 | AE14: =IF(AB14>=$AE$2,AA14/(AB14*O14)*100,"0") -> 100
B15: Van Limpt Wim | C15: 22 | D15: 13 | G15: 28 | I15: 15 | J15: 17 | K15: =SUM(D15:J15) -> 73 | L15: =COUNTIF(D15:J15,">0") -> 4 | M15: =IF(K15=0," ",K15/L15) -> 18.25 | N15: =IF(K15=0," ",K15/(L15*C15)*100) -> 82.954545 | O15: 22 | P15: 23 | W15: =SUM(P15:V15) -> 23 | X15: =COUNTIF(P15:V15,">0") -> 1 | Y15: =IF(W15=0," ",W15/X15) -> 23 | AA15: =K15+W15 -> 96 | AB15: =L15+X15 -> 5 | AC15: =IF(AA15=0," ",AA15/AB15) -> 19.2 | AD15: =IF(AA15=0," ",AA15/(AB15*O15)*100) -> 87.272727 | AE15: =IF(AB15>=$AE$2,AA15/(AB15*O15)*100,"0") -> 87.272727
K16: =SUM(D16:J16) -> 0 | L16: =COUNTIF(D16:J16,">0") -> 0 | M16: =IF(K16=0," ",K16/L16) | N16: =IF(K16=0," ",K16/(L16*C16)*100) | W16: =SUM(P16:V16) -> 0 | X16: =COUNTIF(P16:V16,">0") -> 0 | Y16: =IF(W16=0," ",W16/X16) | AA16: =K16+W16 -> 0 | AB16: =L16+X16 -> 0 | AC16: =IF(AA16=0," ",AA16/AB16) | AD16: =IF(AA16=0," ",AA16/(AB16*O16)*100) | AE16: =IF(AB16>=$AE$2,AA16/(AB16*O16)*100,"0") -> 0
K17: =SUM(D17:J17) -> 0 | L17: =COUNTIF(D17:J17,">0") -> 0 | M17: =IF(K17=0," ",K17/L17) | N17: =IF(K17=0," ",K17/(L17*C17)*100) | W17: =SUM(P17:V17) -> 0 | X17: =COUNTIF(P17:V17,">0") -> 0 | Y17: =IF(W17=0," ",W17/X17) | AA17: =K17+W17 -> 0 | AB17: =L17+X17 -> 0 | AC17: =IF(AA17=0," ",AA17/AB17) | AD17: =IF(AA17=0," ",AA17/(AB17*O17)*100) | AE17: =IF(AB17>=$AE$2,AA17/(AB17*O17)*100,"0") -> 0
K18: =SUM(D18:J18) -> 0 | L18: =COUNTIF(D18:J18,">0") -> 0 | M18: =IF(K18=0," ",K18/L18) | N18: =IF(K18=0," ",K18/(L18*C18)*100) | W18: =SUM(P18:V18) -> 0 | X18: =COUNTIF(P18:V18,">0") -> 0 | Y18: =IF(W18=0," ",W18/X18) | AA18: =K18+W18 -> 0 | AB18: =L18+X18 -> 0 | AC18: =IF(AA18=0," ",AA18/AB18) | AE18: =IF(AB18>=$AE$2,AA18/(AB18*O18)*100,"0") -> 0
K19: =SUM(D19:J19) -> 0 | L19: =COUNTIF(D19:J19,">0") -> 0 | M19: =IF(K19=0," ",K19/L19) | N19: =IF(K19=0," ",K19/(L19*C19)*100) | W19: =SUM(P19:V19) -> 0 | X19: =COUNTIF(P19:V19,">0") -> 0 | Y19: =IF(W19=0," ",W19/X19) | AA19: =K19+W19 -> 0 | AB19: =L19+X19 -> 0 | AC19: =IF(AA19=0," ",AA19/AB19) | AD19: =IF(AA19=0," ",AA19/(AB19*O19)*100) | AE19: =IF(AB19>=$AE$2,AA19/(AB19*O19)*100,"0") -> 0
C20: =SUM(C5:C19) -> 318 | D20: =SUM(D5:D19) -> 124 | E20: =SUM(E5:E19) -> 137 | F20: =SUM(F5:F19) -> 180 | G20: =SUM(G5:G19) -> 157 | H20: =SUM(H5:H19) -> 153 | I20: =SUM(I5:I19) -> 148 | J20: =SUM(J5:J19) -> 156 | ... L20: =SUM(L5:L19) -> 42 | M20: =K20/L20 -> 25.119048 | O20: =SUM(O5:O19) -> 320 | P20: =SUM(P5:P19) -> 155 | Q20: =SUM(Q5:Q19) -> 197 | R20: =SUM(R5:R19) -> 0 | S20: =SUM(S5:S19) -> 0 | T20: =SUM(T5:T19) -> 0 | U20: =SUM(U5:U19) -> 0 | V20: =SUM(V5:V19) -> 0 | ... X20: =SUM(X5:X19) -> 12 | Y20: =W20/X20 -> 29.333333 | AA20: =SUM(AA5:AA19) -> 1407 | AB20: =SUM(AB5:AB19) -> 54 | AC20: =AA20/AB20 -> 26.055556

Sheet Spelers
B1: Spelerslijst België - Nederland 2025 - 2026
B3: HORENDONK | E3: KERKUILEN | H3: Sen NISPEN
B4: =Horendonk!B5 -> Ansems Ferre | C4: =Horendonk!O5 -> 24 | E4: =Kerkuilen!B5 -> Antonissen Gust | F4: =Kerkuilen!O5 -> 34 | H4: =Nispen!B5 -> Kerstens Jac | I4: =Nispen!O5 -> 40
B5: =Horendonk!B6 -> Arnouts Louis | C5: =Horendonk!O6 -> 36 | E5: =Kerkuilen!B6 -> De Kaey Piet | F5: =Kerkuilen!O6 -> 49 | H5: =Nispen!B6 -> Martens Gerrit | I5: =Nispen!O6 -> 15
B6: =Horendonk!B7 -> Brosens Jan | C6: =Horendonk!O7 -> 26 | E6: =Kerkuilen!B7 -> Elst Stan | F6: =Kerkuilen!O7 -> 38 | H6: =Nispen!B7 -> Raats Antoon | I6: =Nispen!O7 -> 18
B7: =Horendonk!B8 -> De Backer Jef | C7: =Horendonk!O8 -> 25 | E7: =Kerkuilen!B8 -> Hectors Hugo | F7: =Kerkuilen!O8 -> 18 | H7: =Nispen!B8 -> Schrauwen Jeanne | I7: =Nispen!O8 -> 18
B8: =Horendonk!B9 -> Herreygers Remy | C8: =Horendonk!O9 -> 43 | E8: =Kerkuilen!B9 -> Jacobis Martin | F8: =Kerkuilen!O9 -> 27 | H8: =Nispen!B9 -> Swaanen Piet | I8: =Nispen!O9 -> 59
B9: =Horendonk!B10 -> Maas Guy | C9: =Horendonk!O10 -> 20 | E9: =Kerkuilen!B10 -> Lambrechts Jef | F9: =Kerkuilen!O10 -> 63 | H9: =Nispen!B10 -> Talboom Ad | I9: =Nispen!O10 -> 15
B10: =Horendonk!B11 -> Nelen Johan | C10: =Horendonk!O11 -> 17 | E10: =Kerkuilen!B11 -> Naulaerts Rik | F10: =Kerkuilen!O11 -> 51 | H10: =Nispen!B11 -> Thielen Jef | I10: =Nispen!O11 -> 28
B11: =Horendonk!B12 -> Oerlemans Willy | C11: =Horendonk!O12 -> 28 | E11: =Kerkuilen!B12 -> Peeters Wies | F11: =Kerkuilen!O12 -> 29 | H11: =Nispen!B12 -> Uijtdehaag Nico | I11: =Nispen!O12 -> 23
B12: =Horendonk!B13 -> Siemons Jos | C12: =Horendonk!O13 -> 23 | E12: =Kerkuilen!B13 -> Pleysier Luc | F12: =Kerkuilen!O13 -> 87 | H12: =Nispen!B13 -> Van Turnhout Herman [NS 20] | I12: =Nispen!O13 -> 15
B13: =Horendonk!B14 -> van Aert André | C13: =Horendonk!O14 -> 24 | E13: =Kerkuilen!B14 -> Quick Gerard | F13: =Kerkuilen!O14 -> 24 | H13: =Nispen!B14 -> Van Wesel Jos | I13: =Nispen!O14 -> 22
B14: =Horendonk!B15 -> Veraart Jef (ns) | C14: =Horendonk!O15 -> 27 | E14: =Kerkuilen!B15 -> Schrooyen Jef | F14: =Kerkuilen!O15 -> 58 | H14: =Nispen!B15 -> 0 | I14: =Nispen!O15 -> 0
B15: =Horendonk!B16 -> Vergouwen René | C15: =Horendonk!O16 -> 29 | E15: =Kerkuilen!B16 -> Uytdewilligen Hubert | F15: =Kerkuilen!O16 -> 36 | H15: =Nispen!B16 -> 0 | I15: =Nispen!O16 -> 0
B16: =Horendonk!B17 -> 0 | C16: =Horendonk!O17 -> 0 | E16: =Kerkuilen!B17 -> Van Ginneken Cyriel [NS 20] | F16: =Kerkuilen!O17 -> 20 | H16: =Nispen!B17 -> 0 | I16: =Nispen!O17 -> 0
E17: =Kerkuilen!B18 -> Van Oers Danny [NS 50] | F17: =Kerkuilen!O18 -> 31 | H17: =Nispen!B18 -> 0 | I17: =Nispen!O18 -> 0
E18: =Kerkuilen!B19 -> Van Oers John | F18: =Kerkuilen!O19 -> 28
C19: =SUM(C4:C18) -> 322 | F19: =SUM(F4:F18) -> 593 | I19: =SUM(I4:I18) -> 253
B21: OUDE GLORIE | E21: Sen PUTTE | H21: WILDERT 1
B22: =Oudeglorie!B5 -> Aerden Carl | C22: =Oudeglorie!O5 -> 23 | E22: =Putte!B5 -> Anthonissen Paul | F22: =Putte!O5 -> 40 | H22: =Wildert1!B5 -> Adriaansen Jan | I22: =Wildert1!O5 -> 17
B23: =Oudeglorie!B6 -> Beyers Jos | C23: =Oudeglorie!O6 -> 24 | E23: =Putte!B6 -> De Beukelaer Freddy | F23: =Putte!O6 -> 22 | H23: =Wildert1!B6 -> Brouwers Adri | I23: =Wildert1!O6 -> 36
B24: =Oudeglorie!B7 -> Beyers Roger | C24: =Oudeglorie!O7 -> 54 | E24: =Putte!B7 -> Eyckmans Luc | F24: =Putte!O7 -> 21 | H24: =Wildert1!B7 -> Buijk Jan [NS 55] | I24: =Wildert1!O7 -> 61
B25: =Oudeglorie!B8 -> Braat Guido | C25: =Oudeglorie!O8 -> 34 | E25: =Putte!B8 -> Evers Henri | F25: =Putte!O8 -> 17 | H25: =Wildert1!B8 -> Denissens Frans | I25: =Wildert1!O8 -> 16
B26: =Oudeglorie!B9 -> Cleeren Guido | C26: =Oudeglorie!O9 -> 18 | E26: =Putte!B9 -> Palickx Fons | F26: =Putte!O9 -> 89 | H26: =Wildert1!B9 -> Dries Louis | I26: =Wildert1!O9 -> 29
B27: =Oudeglorie!B10 -> Gommers Jac | C27: =Oudeglorie!O10 -> 16 | E27: =Putte!B10 -> Poulus Marinus | F27: =Putte!O10 -> 48 | H27: =Wildert1!B10 -> Kerstens Marc | I27: =Wildert1!O10 -> 28
B28: =Oudeglorie!B11 -> Jacobs Alfons | C28: =Oudeglorie!O11 -> 27 | E28: =Putte!B11 -> Plompen Dirk | F28: =Putte!O11 -> 35 | H28: =Wildert1!B11 -> Kerstens Ronald | I28: =Wildert1!O11 -> 24
B29: =Oudeglorie!B12 -> Jacobs Frans | C29: =Oudeglorie!O12 -> 63 | E29: =Putte!B12 -> Schaeken Pierre | F29: =Putte!O12 -> 18 | H29: =Wildert1!B12 -> Konings Guido | I29: =Wildert1!O12 -> 30
B30: =Oudeglorie!B13 -> Nelen Frans | C30: =Oudeglorie!O13 -> 27 | E30: =Putte!B13 -> Van Den Bleeken Eddie | F30: =Putte!O13 -> 33 | H30: =Wildert1!B13 -> Kustermans Toon | I30: =Wildert1!O13 -> 38
B31: =Oudeglorie!B14 -> Nelen Jef [NS 25] | C31: =Oudeglorie!O14 -> 24 | E31: =Putte!B14 -> Van Riel Eddie | F31: =Putte!O14 -> 68 | H31: =Wildert1!B14 -> Sarra-Ribo Jef | I31: =Wildert1!O14 -> 87
B32: =Oudeglorie!B15 -> Sommers Ludo | C32: =Oudeglorie!O15 -> 30 | E32: =Putte!B15 -> Verelst Gilbert | F32: =Putte!O15 -> 29 | H32: =Wildert1!B15 -> Sas Ronny | I32: =Wildert1!O15 -> 31
B33: =Oudeglorie!B16 -> Van Ginderen Ludo | C33: =Oudeglorie!O16 -> 16 | E33: =Putte!B16 -> Wolfcarius Jacques | F33: =Putte!O16 -> 26 | H33: =Wildert1!B17 -> Wetzer Rik (ns) | I33: =Wildert1!O17 -> 20
B34: =Oudeglorie!B17 -> Van Overvelt Ludo | C34: =Oudeglorie!O17 -> 38 | E34: =Putte!B17 -> Moerbeek Wilfried (ns) | F34: =Putte!O17 -> 20 | H34: =Wildert1!B18 -> Seymus Eddy (ns) | I34: =Wildert1!O18 -> 35
B35: =Oudeglorie!B18 -> Willemsen Willy | C35: =Oudeglorie!O18 -> 38 | E35: =Putte!B18 -> 0 | F35: =Putte!O18 -> 0 | H35: =Wildert1!B19 -> 0 | I35: =Wildert1!O19 -> 0
H36: =Wildert1!B20 -> 0
C37: =SUM(C22:C35) -> 432 | F37: =SUM(F22:F36) -> 466 | I37: =SUM(I22:I36) -> 452
B39: WILDERT 2 | E39: DE SPIL
B40: =Wildert2!B5 -> Aernouts Johan | C40: =Wildert2!O5 -> 46 | E40: =DeSpil!B5 -> Dekkers Kees | F40: =DeSpil!O5 -> 25
B41: =Wildert2!B6 -> Eestermans René | C41: =Wildert2!O6 -> 29 | E41: =DeSpil!B6 -> Elst Jack | F41: =DeSpil!O6 -> 18
B42: =Wildert2!B7 -> Eijckholt Adrie | C42: =Wildert2!O7 -> 37 | E42: =DeSpil!B7 -> Elst Jan | F42: =DeSpil!O7 -> 24
B43: =Wildert2!B8 -> Francken Robert | C43: =Wildert2!O8 -> 46 | E43: =DeSpil!B8 -> Huijsmans Marion | F43: =DeSpil!O8 -> 41
B44: =Wildert2!B9 -> Leys Herman | C44: =Wildert2!O9 -> 27 | E44: =DeSpil!B9 -> Kerstens Ad [NS 31] | F44: =DeSpil!O9 -> 28
B45: =Wildert2!B10 -> Mutsters Louis | C45: =Wildert2!O10 -> 19 | E45: =DeSpil!B10 -> Meijers Jan [NS 23] | F45: =DeSpil!O10 -> 24
B46: =Wildert2!B11 -> Peeters Hugo (ns) | C46: =Wildert2!O11 -> 36 | E46: =DeSpil!B11 -> Raaymakers Adrie | F46: =DeSpil!O11 -> 50
B47: =Wildert2!B12 -> Scholtis Vic [NS 49] | C47: =Wildert2!O12 -> 42 | E47: =DeSpil!B12 -> Stok Adrie | F47: =DeSpil!O12 -> 39
B48: =Wildert2!B13 -> Van Den Bergh Jacky | C48: =Wildert2!O13 -> 107 | E48: =DeSpil!B13 -> Uitdewillegen Harry | F48: =DeSpil!O13 -> 28
B49: =Wildert2!B14 -> Van Ginneken Ludo | C49: =Wildert2!O14 -> 42 | E49: =DeSpil!B14 -> Van Gastel Jac | F49: =DeSpil!O14 -> 21
B50: =Wildert2!B15 -> Van Hooydonck Swa | C50: =Wildert2!O15 -> 28 | E50: =DeSpil!B15 -> Van Limpt Wim | F50: =DeSpil!O15 -> 22
B51: =Wildert2!B16 -> Wiericx Herman | C51: =Wildert2!O16 -> 47 | E51: =DeSpil!B16 -> 0 | F51: =DeSpil!O16 -> 0
B52: =Wildert2!B17 -> 0 | E52: =DeSpil!B17 -> 0
B53: =Wildert2!B18 -> 0
C55: =SUM(C40:C54) -> 506 | F55: =SUM(F40:F54) -> 320

Sheet Voorzitters
C2: Lijst van de voorzitters van de deelnemende biljartverenigingen 2025 - 2026
C3: ingericht door de gemeentelijke seniorenraad van Essen.
B8: Oude Glorie | C8: voorzitter | D8: Beyers Roger | E8: Spilbeekweg 4 | F8: 2910 | G8: Essen | I8: 0032 (0)3 235 70 36 | J8: r.beyers@outlook.com
H9: gsm | I9: 0032 (0)494 90 08 80
B11: Horendonk | C11: voorzitter | D11: Guy Maas | E11: Deckerslaan 6 | F11: 2910 | G11: Essen | I11: 0032 (0)3 667 48 41 | J11: guy.maas@proximus.be
H12: gsm | I12: 0032 (0)486 45 04 87
B14: Senioren Nispen | C14: voorzitter | D14: Talboom Ad | E14: Nispenseweg 10 | F14: 4707 RB | G14: Roosendaal | H14: Nederland | I14: 0031 (0)165 53 78 48 | J14: atalboom41@gmail.com
B17: Bc Kerkuilen | C17: voorzitter | D17: Schrooyen Jef | E17: Koekoestraat 44 | F17: 2910 | G17: Essen | I17: 0032 (0)3 667 45 72 | J17: jefschrooyen@skynet.be
B20: Sen Putte | C20: voorzitter | D20: Van Riel Eddie | E20: Ertbrandstraat 227 | F20: 2950 | G20: Kapellen | H20: gsm | I20: 0032 (0)497 45 75 10 | J20: eddievanriel@skynet.be
B23: Wildert 1 | C23: voorzitter | D23: Dries Louis | E23: Sint Janstraat 191 | F23: 2910 | G23: Essen | I23: 0032 (0)3 677 22 87 | J23: ludo.dries@telenet.be
H24: gsm | I24: 0032 (0)494 69 06 79
B26: Wildert 2 | C26: voorzitter | D26: Van Den Bergh Jacky | E26: Patrijzenlaan 4 | F26: 2910 | G26: Essen | I26: 0032 (0)3 685 12 72 | J26: vandenberghjacky@hotmail.com
H27: gsm | I27: 0032 (0) 495 82 83 83
B29: De Spil | C29: voorzitter | D29: Stok Adrie | H29: Nederland | J29: adriestok55@gmail.com
H30: gsm | I30: 0031 (0) 645 13 01 06

Sheet Thuislokalen
B2: Lijst van thuislokalen van de deelnemende biljartverenigingen 2025 - 2026
B3: ingericht door de gemeentelijke seniorenraad van Essen
J4: Thuisspeeldag
J5: Thuisspeeldag
B9: Oude Glorie | C9: Café Bostella | D9: Moerkantsebaan 196 | E9: 2910 | F9: Essen | H9: 0032 (0)3 284 85 45 | J9: Woensdag
B11: Horendonk | C11: Café Arabieren | D11: Horendonk 263 | E11: 2910 | F11: Essen | H11: 0032 (0)3 297 05 36 | J11: Woensdag
B13: Sen Nispen | C13: Nisipa | D13: Bergsebaan 8 | E13: 4709 AE | F13: Nispen | G13: Nederland | H13: 0031 (0)165 36 54 37 | J13: Maandag
B15: Bc Kerkuilen | C15: Parochiecentrum | D15: Dreveneind 3 | E15: 2910 | F15: Essen | H15: 0032 (0)3 677 08 37 | J15: Donderdag
B17: Putte | C17: t Kalf (dienstencentrum) | D17: Veldstraat 97 | E17: 2940 | F17: Stabroek (Putte) | H17: 0032 (0)3 605 42 55 | J17: Maandag
B19: Wildert 1 | C19: Café Bostella | D19: Moerkantsebaan 196 | E19: 2910 | F19: Essen | H19: 0032(0)3 284 85 45 | J19: Vrijdag
B21: Wildert 2 | C21: De Middel | D21: Elf Novemberstraat 2 | E21: 2910 | F21: Essen | H21: 0032 (0)3 677 20 04 | J21: Dinsdag
B23: De Spil | C23: De Spil | D23: Plantagebaan 223 | F23: Wouwse Plantage | G23: Nederland | H23: 0031 (0)165 37 92 93 | J23: Woensdag
C26: Administratie | D26: (Gemeentelijke seniorenraad)
B28: Biljartverantwoordelijke | C28: Jacobs Frans | D28: Nolsebaan 71 | E28: 2910 | F28: Essen | H28: 0032 (0)485 03 34 09 | I28: frans.jacobs2@telenet.be
B30: Tornooileider | C30: Jacobs Frans | D30: Nolsebaan 71 | E30: 2910 | F30: Essen | H30: 0032 (0)485 03 34 09 | I30: frans.jacobs2@telenet.be
B32: Secretaris | C32: Vossen Filip | D32: Rodenbachlaan 2 | E32: 2910 | F32: Essen | H32: 0032 (0)473 98 07 71 | I32: filip.vossen@telenet.be
H34: Wedstrijduitslagen | I34: biljart.gse@gmail.com

Sheet Reserve1
A1: 26ste België - Nederland biljarttornooi ingericht door de Essense Seniorenraad 2020 - 2022 | AD1: Jaartotalen
A2: Reserve 1 | B2: Sterktegetal | C2: Wedstrijden 1ste kompetitiehelft | L2: Totaal Punten | M2: Gespeelde wedstrijden | N2: Gemiddelde 1ste helft | O2: % Nieuw/Oud 2021 - 2022 | P2: Sterktegetal 2de helft | Q2: Wedstrijden 2de kompetitiehelft | Z2: Totaal Punten | AA2: Gespeelde wedstrijden | AB2: Gemiddelde 2de helft | AD2: Totaal Punten | AE2: Gespeelde wedstrijden | AF2: Gemiddelde seizoen | AG2: % Nieuw/Oud 2021 - 2022
C3: 1 | D3: 2 | E3: 3 | F3: 4 | G3: 5 | H3: 6 | I3: 7 | J3: 8 | K3: 9 | Q3: 10 | R3: 11 | S3: 12 | T3: 13 | U3: 14 | V3: 15 | W3: 16 | X3: 17 | Y3: 18
B4: 0.0001 | L4: =SUM(C4:K4) -> 0 | M4: =COUNTIF(C4:K4,">0") -> 0 | N4: =IF(L4=0," ",L4/M4) | O4: =IF(L4=0," ",L4/(M4*B4)*100) | Z4: =SUM(Q4:Y4) -> 0 | AA4: =COUNTIF(Q4:Y4,">0") -> 0 | AB4: =IF(Z4=0," ",Z4/AA4) | AD4: =L4+Z4 -> 0 | AE4: =M4+AA4 -> 0 | AF4: =IF(AD4=0," ",AD4/AE4) | AG4: =IF(AD4=0," ",AD4/(AE4*P4)*100)
B5: 0.0001 | L5: =SUM(C5:K5) -> 0 | M5: =COUNTIF(C5:K5,">0") -> 0 | N5: =IF(L5=0," ",L5/M5) | O5: =IF(L5=0," ",L5/(M5*B5)*100) | P5: 0.0001 | Z5: =SUM(Q5:Y5) -> 0 | AA5: =COUNTIF(Q5:Y5,">0") -> 0 | AB5: =IF(Z5=0," ",Z5/AA5) | AD5: =L5+Z5 -> 0 | AE5: =M5+AA5 -> 0 | AF5: =IF(AD5=0," ",AD5/AE5) | AG5: =IF(AD5=0," ",AD5/(AE5*P5)*100)
B6: 0.0001 | L6: =SUM(C6:K6) -> 0 | M6: =COUNTIF(C6:K6,">0") -> 0 | N6: =IF(L6=0," ",L6/M6) | O6: =IF(L6=0," ",L6/(M6*B6)*100) | P6: 0.0001 | Z6: =SUM(Q6:Y6) -> 0 | AA6: =COUNTIF(Q6:Y6,">0") -> 0 | AB6: =IF(Z6=0," ",Z6/AA6) | AD6: =L6+Z6 -> 0 | AE6: =M6+AA6 -> 0 | AF6: =IF(AD6=0," ",AD6/AE6) | AG6: =IF(AD6=0," ",AD6/(AE6*P6)*100)
B7: 0 | L7: =SUM(C7:K7) -> 0 | M7: =COUNTIF(C7:K7,">0") -> 0 | N7: =IF(L7=0," ",L7/M7) | O7: =IF(L7=0," ",L7/(M7*B7)*100) | P7: 0.0001 | Z7: =SUM(Q7:Y7) -> 0 | AA7: =COUNTIF(Q7:Y7,">0") -> 0 | AB7: =IF(Z7=0," ",Z7/AA7) | AD7: =L7+Z7 -> 0 | AE7: =M7+AA7 -> 0 | AF7: =IF(AD7=0," ",AD7/AE7) | AG7: =IF(AD7=0," ",AD7/(AE7*P7)*100)
B8: 0.0001 | L8: =SUM(C8:K8) -> 0 | M8: =COUNTIF(C8:K8,">0") -> 0 | N8: =IF(L8=0," ",L8/M8) | O8: =IF(L8=0," ",L8/(M8*B8)*100) | P8: 0.0001 | Z8: =SUM(Q8:Y8) -> 0 | AA8: =COUNTIF(Q8:Y8,">0") -> 0 | AB8: =IF(Z8=0," ",Z8/AA8) | AD8: =L8+Z8 -> 0 | AE8: =M8+AA8 -> 0 | AF8: =IF(AD8=0," ",AD8/AE8) | AG8: =IF(AD8=0," ",AD8/(AE8*P8)*100)
B9: 0.0001 | L9: =SUM(C9:K9) -> 0 | M9: =COUNTIF(C9:K9,">0") -> 0 | N9: =IF(L9=0," ",L9/M9) | O9: =IF(L9=0," ",L9/(M9*B9)*100) | P9: 0.0001 | Z9: =SUM(Q9:Y9) -> 0 | AA9: =COUNTIF(Q9:Y9,">0") -> 0 | AB9: =IF(Z9=0," ",Z9/AA9) | AD9: =L9+Z9 -> 0 | AE9: =M9+AA9 -> 0 | AF9: =IF(AD9=0," ",AD9/AE9) | AG9: =IF(AD9=0," ",AD9/(AE9*P9)*100)
