Workbook

Sheet Rangschikking
A1: 0 | B1: Rangschikking 2025 - 2026
F2: Laatst gewijzigd
B3: België - Nederland | F3: 46028
B4: =IF(A8=14,"EINDSTAND", "TUSSENSTAND" ) -> TUSSENSTAND
N5: CONTROLE T/M RONDE | O5: CONTROLE PER RONDE
A6: Gespeeld | C6: Ploeg | D6: Punten | F6: Caramboles | H6: CLUB-KAMPIOEN | K6: NIEUW GEMIDDELDE | L6: WEDSTRIJDEN GESPEELD | N6: 7 | O6: 7
A8: =COUNTIF(Punten!$E$68:'Punten'!$R$68,">0") -> 7 | B8: =IF(A8>0,"W", " ") -> W | C8: Oude Glorie | D8: =Punten!$C$69 -> 419.809 | F8: =Oudeglorie!$AA$20 -> 1314 | H8: =INDEX(Oudeglorie!$B$5:$B$19,MATCH(MAX(Oudeglorie!$AD$5:$AD$19),Oudeglorie!$AD$5:$AD$19,0)) -> Cleeren Guido | J8: =MAX(Oudeglorie!$AD$5:$AD$19) -> 161.11111 | K8: =VLOOKUP($H8,Oudeglorie!$B$5:$AC$19,28,0) -> 29 | L8: =VLOOKUP($H8,Oudeglorie!$B$5:$AC$19,27,0) -> 1 | N8: =VLOOKUP($C8,Punten!$D$4:$R$139,1+$N$6,0) -> 419.809 | O8: =VLOOKUP($C8,Punten!$C$4:$R$139,2+$O$6,0) -> 75.309
A9: =COUNTIF(Punten!$E$104:'Punten'!$R$104,">0") -> 7 | B9: =IF(A9>0,"W", " ") -> W | C9: Wildert 1 | D9: =Punten!$C$105 -> 416.076 | F9: =Wildert1!$AA$20 -> 1640 | H9: =INDEX(Wildert1!$B$5:$B$19,MATCH(MAX(Wildert1!$AD$5:$AD$19),Wildert1!$AD$5:$AD$19,0)) -> Kustermans Toon | J9: =MAX(Wildert1!$AD$5:$AD$19) -> 122.36842 | K9: =VLOOKUP($H9,Wildert1!$B$5:$AC$19,28,0) -> 46.5 | L9: =VLOOKUP($H9,Wildert1!$B$5:$AC$19,27,0) -> 4 | N9: =VLOOKUP($C9,Punten!$D$4:$R$139,1+$N$6,0) -> 416.076 | O9: =VLOOKUP($C9,Punten!$C$4:$R$139,2+$O$6,0) -> 55.336
A10: =COUNTIF(Punten!$E$18:'Punten'!$R$18,">0") -> 7 | B10: =IF(A10>0,"W", " ") -> W | C10: Horendonk | D10: =Punten!$C$18 -> 412.239 | F10: =Horendonk!$AA$20 -> 1129 | H10: =INDEX(Horendonk!$B$5:$B$19,MATCH(MAX(Horendonk!$AD$5:$AD$19),Horendonk!$AD$5:$AD$19,0)) -> Arnouts Louis | J10: =MAX(Horendonk!$AD$5:$AD$19) -> 126.11111 | K10: =VLOOKUP($H10,Horendonk!$B$5:$AC$19,28,0) -> 45.4 | L10: =VLOOKUP($H10,Horendonk!$B$5:$AC$19,27,0) -> 5 | N10: =VLOOKUP($C10,Punten!$D$4:$R$139,1+$N$6,0) -> 412.239 | O10: =VLOOKUP($C10,Punten!$C$4:$R$139,2+$O$6,0) -> 64.595
A11: =COUNTIF(Punten!$E$86:'Punten'!$R$86,">0") -> 7 | B11: =IF(A11>0,"W", " ") -> W | C11: Sen. Putte | D11: =Punten!$C$87 -> 407.788 | F11: =Putte!$AA$20 -> 1251 | H11: =INDEX(Putte!$B$5:$B$19,MATCH(MAX(Putte!$AD$5:$AD$19),Putte!$AD$5:$AD$19,0)) -> Schaeken Pierre | J11: =MAX(Putte!$AD$5:$AD$19) -> 125 | K11: =VLOOKUP($H11,Putte!$B$5:$AC$19,28,0) -> 22.5 | L11: =VLOOKUP($H11,Putte!$B$5:$AC$19,27,0) -> 2 | N11: =VLOOKUP($C11,Punten!$D$4:$R$139,1+$N$6,0) -> 407.788 | O11: =VLOOKUP($C11,Punten!$C$4:$R$139,2+$O$6,0) -> 66.631
A12: =COUNTIF(Punten!$E$120:'Punten'!$R$120,">0") -> 7 | B12: =IF(A12>0,"W", " ") -> W | C12: Wildert 2 | D12: =Punten!$C$121 -> 407.588 | F12: =Wildert2!$AA$20 -> 1692 | H12: =INDEX(Wildert2!$B$5:$B$19,MATCH(MAX(Wildert2!$AD$5:$AD$19),Wildert2!$AD$5:$AD$19,0)) -> Peeters Hugo (ns) | J12: =MAX(Wildert2!$AD$5:$AD$19) -> 147.22222 | K12: =VLOOKUP($H12,Wildert2!$B$5:$AC$19,28,0) -> 53 | L12: =VLOOKUP($H12,Wildert2!$B$5:$AC$19,27,0) -> 1 | N12: =VLOOKUP($C12,Punten!$D$4:$R$139,1+$N$6,0) -> 407.588 | O12: =VLOOKUP($C12,Punten!$C$4:$R$139,2+$O$6,0) -> 63.544
A13: =COUNTIF(Punten!$E$50:'Punten'!$R$50,">0") -> 7 | B13: =IF(A13>0,"W", " ") -> W | C13: Kerkuilen | D13: =Punten!$C$51 -> 393.815 | F13: =Kerkuilen!$AA$20 -> 1618 | H13: =INDEX(Kerkuilen!$B$5:$B$19,MATCH(MAX(Kerkuilen!$AD$5:$AD$19),Kerkuilen!$AD$5:$AD$19,0)) -> Jacobis Martin | J13: =MAX(Kerkuilen!$AD$5:$AD$19) -> 131.48148 | K13: =VLOOKUP($H13,Kerkuilen!$B$5:$AC$19,28,0) -> 35.5 | L13: =VLOOKUP($H13,Kerkuilen!$B$5:$AC$19,27,0) -> 2 | N13: =VLOOKUP($C13,Punten!$D$4:$R$139,1+$N$6,0) -> 393.815 | O13: =VLOOKUP($C13,Punten!$C$4:$R$139,2+$O$6,0) -> 55.644
A14: =COUNTIF(Punten!$E$138:'Punten'!$R$138,">0") -> 7 | B14: =IF(A14>0,"W", " ") -> W | C14: De Spil | D14: =Punten!$C$139 -> 382.518 | F14: =DeSpil!$AA$20 -> 1055 | H14: =INDEX(DeSpil!$B$5:$B$19,MATCH(MAX(DeSpil!$AD$5:$AD$19),DeSpil!$AD$5:$AD$19,0)) -> Elst Jan | J14: =MAX(DeSpil!$AD$5:$AD$19) -> 123.33333 | K14: =VLOOKUP($H14,DeSpil!$B$5:$AC$19,28,0) -> 29.6 | L14: =VLOOKUP($H14,DeSpil!$B$5:$AC$19,27,0) -> 5 | N14: =VLOOKUP($C14,Punten!$D$4:$R$139,1+$N$6,0) -> 382.518 | O14: =VLOOKUP($C14,Punten!$C$4:$R$139,2+$O$6,0) -> 57.513
A15: =COUNTIF(Punten!$E$31:'Punten'!$R$31,">0") -> 7 | B15: =IF(A15>0,"W", " ") -> W | C15: Sen. Nispen | D15: =Punten!$C$32 -> 360.624 | F15: =Nispen!$AA$20 -> 889 | H15: =INDEX(Nispen!$B$5:$B$19,MATCH(MAX(Nispen!$AD$5:$AD$19),Nispen!$AD$5:$AD$19,0)) -> Martens Gerrit | J15: =MAX(Nispen!$AD$5:$AD$19) -> 128.33333 | K15: =VLOOKUP($H15,Nispen!$B$5:$AC$19,28,0) -> 19.25 | L15: =VLOOKUP($H15,Nispen!$B$5:$AC$19,27,0) -> 4 | N15: =VLOOKUP($C15,Punten!$D$4:$R$139,1+$N$6,0) -> 360.624 | O15: =VLOOKUP($C15,Punten!$C$4:$R$139,2+$O$6,0) -> 52.099
C21: Uitslagen en evoluties zijn wekelijks te volgen op:
C22: https://blog.seniorennet.be/GSE_Essen

Sheet Punten
A1: Aantal | C1: Totaal
A2: wedstr | C2: punten
B4: HORENDONK | E4: 1 | F4: 2 | G4: 3 | H4: 4 | I4: 5 | J4: 6 | K4: 7 | L4: 8 | M4: 9 | N4: 10 | O4: 11 | P4: 12 | Q4: 13 | R4: 14
A5: =IF(SUM(E5:R5)=0,(" "),COUNTIF(E5:R5,">0")) -> 3 | B5: =Horendonk!$B5 -> Ansems Ferre | C5: =IF(Horendonk!$AA5=0," ",SUM(E5:R5)) -> 28.75 | E5: =IF(Horendonk!D5=(""),(""),ROUND(Horendonk!D5/Horendonk!$C5*10,3)) -> 10.417 | F5: =IF(Horendonk!E5=(""),(""),ROUND(Horendonk!E5/Horendonk!$C5*10,3)) | G5: =IF(Horendonk!F5=(""),(""),ROUND(Horendonk!F5/Horendonk!$C5*10,3)) -> 10 | H5: =IF(Horendonk!G5=(""),(""),ROUND(Horendonk!G5/Horendonk!$C5*10,3)) -> 8.333 | I5: =IF(Horendonk!H5=(""),(""),ROUND(Horendonk!H5/Horendonk!$C5*10,3)) | J5: =IF(Horendonk!I5=(""),(""),ROUND(Horendonk!I5/Horendonk!$C5*10,3)) | K5: =IF(Horendonk!J5=(""),(""),ROUND(Horendonk!J5/Horendonk!$C5*10,3)) | L5: =IF(Horendonk!P5=(""),(""),ROUND(Horendonk!P5/Horendonk!$O5*10,3)) | M5: =IF(Horendonk!Q5=(""),(""),ROUND(Horendonk!Q5/Horendonk!$O5*10,3)) | N5: =IF(Horendonk!R5=(""),(""),ROUND(Horendonk!R5/Horendonk!$O5*10,3)) | O5: =IF(Horendonk!S5=(""),(""),ROUND(Horendonk!S5/Horendonk!$O5*10,3)) | P5: =IF(Horendonk!T5=(""),(""),ROUND(Horendonk!T5/Horendonk!$O5*10,3)) | Q5: =IF(Horendonk!U5=(""),(""),ROUND(Horendonk!U5/Horendonk!$O5*10,3)) | R5: =IF(Horendonk!V5=(""),(""),ROUND(Horendonk!V5/Horendonk!$O5*10,3))
A6: =IF(SUM(E6:R6)=0,(" "),COUNTIF(E6:R6,">0")) -> 5 | B6: =Horendonk!B6 -> Arnouts Louis | C6: =IF(Horendonk!AA6=0," ",SUM(E6:R6)) -> 63.056 | E6: =IF(Horendonk!D6=(""),(""),ROUND(Horendonk!D6/Horendonk!$C6*10,3)) -> 12.778 | F6: =IF(Horendonk!E6=(""),(""),ROUND(Horendonk!E6/Horendonk!$C6*10,3)) -> 16.111 | G6: =IF(Horendonk!F6=(""),(""),ROUND(Horendonk!F6/Horendonk!$C6*10,3)) | H6: =IF(Horendonk!G6=(""),(""),ROUND(Horendonk!G6/Horendonk!$C6*10,3)) | I6: =IF(Horendonk!H6=(""),(""),ROUND(Horendonk!H6/Horendonk!$C6*10,3)) -> 7.5 | J6: =IF(Horendonk!I6=(""),(""),ROUND(Horendonk!I6/Horendonk!$C6*10,3)) -> 12.778 | K6: =IF(Horendonk!J6=(""),(""),ROUND(Horendonk!J6/Horendonk!$C6*10,3)) -> 13.889 | L6: =IF(Horendonk!P6=(""),(""),ROUND(Horendonk!P6/Horendonk!$O6*10,3)) | M6: =IF(Horendonk!Q6=(""),(""),ROUND(Horendonk!Q6/Horendonk!$O6*10,3)) | N6: =IF(Horendonk!R6=(""),(""),ROUND(Horendonk!R6/Horendonk!$O6*10,3)) | O6: =IF(Horendonk!S6=(""),(""),ROUND(Horendonk!S6/Horendonk!$O6*10,3)) | P6: =IF(Horendonk!T6=(""),(""),ROUND(Horendonk!T6/Horendonk!$O6*10,3)) | Q6: =IF(Horendonk!U6=(""),(""),ROUND(Horendonk!U6/Horendonk!$O6*10,3)) | R6: =IF(Horendonk!V6=(""),(""),ROUND(Horendonk!V6/Horendonk!$O6*10,3))
A7: =IF(SUM(E7:R7)=0,(" "),COUNTIF(E7:R7,">0")) -> 2 | B7: =Horendonk!B7 -> Brosens Jan | C7: =IF(Horendonk!AA7=0," ",SUM(E7:R7)) -> 21.923 | E7: =IF(Horendonk!D7=(""),(""),ROUND(Horendonk!D7/Horendonk!$C7*10,3)) -> 16.154 | F7: =IF(Horendonk!E7=(""),(""),ROUND(Horendonk!E7/Horendonk!$C7*10,3)) | G7: =IF(Horendonk!F7=(""),(""),ROUND(Horendonk!F7/Horendonk!$C7*10,3)) -> 5.769 | H7: =IF(Horendonk!G7=(""),(""),ROUND(Horendonk!G7/Horendonk!$C7*10,3)) | I7: =IF(Horendonk!H7=(""),(""),ROUND(Horendonk!H7/Horendonk!$C7*10,3)) | J7: =IF(Horendonk!I7=(""),(""),ROUND(Horendonk!I7/Horendonk!$C7*10,3)) | K7: =IF(Horendonk!J7=(""),(""),ROUND(Horendonk!J7/Horendonk!$C7*10,3)) | L7: =IF(Horendonk!P7=(""),(""),ROUND(Horendonk!P7/Horendonk!$O7*10,3)) | M7: =IF(Horendonk!Q7=(""),(""),ROUND(Horendonk!Q7/Horendonk!$O7*10,3)) | N7: =IF(Horendonk!R7=(""),(""),ROUND(Horendonk!R7/Horendonk!$O7*10,3)) | O7: =IF(Horendonk!S7=(""),(""),ROUND(Horendonk!S7/Horendonk!$O7*10,3)) | P7: =IF(Horendonk!T7=(""),(""),ROUND(Horendonk!T7/Horendonk!$O7*10,3)) | Q7: =IF(Horendonk!U7=(""),(""),ROUND(Horendonk!U7/Horendonk!$O7*10,3)) | R7: =IF(Horendonk!V7=(""),(""),ROUND(Horendonk!V7/Horendonk!$O7*10,3))
A8: =IF(SUM(E8:R8)=0,(" "),COUNTIF(E8:R8,">0")) -> 5 | B8: =Horendonk!B8 -> De Backer Jef | C8: =IF(Horendonk!AA8=0," ",SUM(E8:R8)) -> 43.6 | E8: =IF(Horendonk!D8=(""),(""),ROUND(Horendonk!D8/Horendonk!$C8*10,3)) | F8: =IF(Horendonk!E8=(""),(""),ROUND(Horendonk!E8/Horendonk!$C8*10,3)) -> 10.4 | G8: =IF(Horendonk!F8=(""),(""),ROUND(Horendonk!F8/Horendonk!$C8*10,3)) -> 2.8 | H8: =IF(Horendonk!G8=(""),(""),ROUND(Horendonk!G8/Horendonk!$C8*10,3)) -> 8.8 | I8: =IF(Horendonk!H8=(""),(""),ROUND(Horendonk!H8/Horendonk!$C8*10,3)) -> 9.6 | J8: =IF(Horendonk!I8=(""),(""),ROUND(Horendonk!I8/Horendonk!$C8*10,3)) | K8: =IF(Horendonk!J8=(""),(""),ROUND(Horendonk!J8/Horendonk!$C8*10,3)) -> 12 | L8: =IF(Horendonk!P8=(""),(""),ROUND(Horendonk!P8/Horendonk!$O8*10,3)) | M8: =IF(Horendonk!Q8=(""),(""),ROUND(Horendonk!Q8/Horendonk!$O8*10,3)) | N8: =IF(Horendonk!R8=(""),(""),ROUND(Horendonk!R8/Horendonk!$O8*10,3)) | O8: =IF(Horendonk!S8=(""),(""),ROUND(Horendonk!S8/Horendonk!$O8*10,3)) | P8: =IF(Horendonk!T8=(""),(""),ROUND(Horendonk!T8/Horendonk!$O8*10,3)) | Q8: =IF(Horendonk!U8=(""),(""),ROUND(Horendonk!U8/Horendonk!$O8*10,3)) | R8: =IF(Horendonk!V8=(""),(""),ROUND(Horendonk!V8/Horendonk!$O8*10,3))
A9: =IF(SUM(E9:R9)=0,(" "),COUNTIF(E9:R9,">0")) -> 4 | B9: =Horendonk!B9 -> Herreygers Remy | C9: =IF(Horendonk!AA9=0," ",SUM(E9:R9)) -> 35.582 | E9: =IF(Horendonk!D9=(""),(""),ROUND(Horendonk!D9/Horendonk!$C9*10,3)) -> 10 | F9: =IF(Horendonk!E9=(""),(""),ROUND(Horendonk!E9/Horendonk!$C9*10,3)) -> 12.791 | G9: =IF(Horendonk!F9=(""),(""),ROUND(Horendonk!F9/Horendonk!$C9*10,3)) -> 6.744 | H9: =IF(Horendonk!G9=(""),(""),ROUND(Horendonk!G9/Horendonk!$C9*10,3)) -> 6.047 | I9: =IF(Horendonk!H9=(""),(""),ROUND(Horendonk!H9/Horendonk!$C9*10,3)) | J9: =IF(Horendonk!I9=(""),(""),ROUND(Horendonk!I9/Horendonk!$C9*10,3)) | K9: =IF(Horendonk!J9=(""),(""),ROUND(Horendonk!J9/Horendonk!$C9*10,3)) | L9: =IF(Horendonk!P9=(""),(""),ROUND(Horendonk!P9/Horendonk!$O9*10,3)) | M9: =IF(Horendonk!Q9=(""),(""),ROUND(Horendonk!Q9/Horendonk!$O9*10,3)) | N9: =IF(Horendonk!R9=(""),(""),ROUND(Horendonk!R9/Horendonk!$O9*10,3)) | O9: =IF(Horendonk!S9=(""),(""),ROUND(Horendonk!S9/Horendonk!$O9*10,3)) | P9: =IF(Horendonk!T9=(""),(""),ROUND(Horendonk!T9/Horendonk!$O9*10,3)) | Q9: =IF(Horendonk!U9=(""),(""),ROUND(Horendonk!U9/Horendonk!$O9*10,3)) | R9: =IF(Horendonk!V9=(""),(""),ROUND(Horendonk!V9/Horendonk!$O9*10,3))
A10: =IF(SUM(E10:R10)=0,(" "),COUNTIF(E10:R10,">0")) -> 4 | B10: =Horendonk!B10 -> Maas Guy | C10: =IF(Horendonk!AA10=0," ",SUM(E10:R10)) -> 33 | E10: =IF(Horendonk!D10=(""),(""),ROUND(Horendonk!D10/Horendonk!$C10*10,3)) | F10: =IF(Horendonk!E10=(""),(""),ROUND(Horendonk!E10/Horendonk!$C10*10,3)) -> 6.5 | G10: =IF(Horendonk!F10=(""),(""),ROUND(Horendonk!F10/Horendonk!$C10*10,3)) -> 9 | H10: =IF(Horendonk!G10=(""),(""),ROUND(Horendonk!G10/Horendonk!$C10*10,3)) | I10: =IF(Horendonk!H10=(""),(""),ROUND(Horendonk!H10/Horendonk!$C10*10,3)) -> 9 | J10: =IF(Horendonk!I10=(""),(""),ROUND(Horendonk!I10/Horendonk!$C10*10,3)) -> 8.5 | K10: =IF(Horendonk!J10=(""),(""),ROUND(Horendonk!J10/Horendonk!$C10*10,3)) | L10: =IF(Horendonk!P10=(""),(""),ROUND(Horendonk!P10/Horendonk!$O10*10,3)) | M10: =IF(Horendonk!Q10=(""),(""),ROUND(Horendonk!Q10/Horendonk!$O10*10,3)) | N10: =IF(Horendonk!R10=(""),(""),ROUND(Horendonk!R10/Horendonk!$O10*10,3)) | O10: =IF(Horendonk!S10=(""),(""),ROUND(Horendonk!S10/Horendonk!$O10*10,3)) | P10: =IF(Horendonk!T10=(""),(""),ROUND(Horendonk!T10/Horendonk!$O10*10,3)) | Q10: =IF(Horendonk!U10=(""),(""),ROUND(Horendonk!U10/Horendonk!$O10*10,3)) | R10: =IF(Horendonk!V10=(""),(""),ROUND(Horendonk!V10/Horendonk!$O10*10,3))
A11: =IF(SUM(E11:R11)=0,(" "),COUNTIF(E11:R11,">0")) -> 5 | B11: =Horendonk!B11 -> Nelen Johan | C11: =IF(Horendonk!AA11=0," ",SUM(E11:R11)) -> 37.647 | E11: =IF(Horendonk!D11=(""),(""),ROUND(Horendonk!D11/Horendonk!$C11*10,3)) -> 5.882 | F11: =IF(Horendonk!E11=(""),(""),ROUND(Horendonk!E11/Horendonk!$C11*10,3)) | G11: =IF(Horendonk!F11=(""),(""),ROUND(Horendonk!F11/Horendonk!$C11*10,3)) | H11: =IF(Horendonk!G11=(""),(""),ROUND(Horendonk!G11/Horendonk!$C11*10,3)) -> 6.471 | I11: =IF(Horendonk!H11=(""),(""),ROUND(Horendonk!H11/Horendonk!$C11*10,3)) -> 12.353 | J11: =IF(Horendonk!I11=(""),(""),ROUND(Horendonk!I11/Horendonk!$C11*10,3)) -> 5.294 | K11: =IF(Horendonk!J11=(""),(""),ROUND(Horendonk!J11/Horendonk!$C11*10,3)) -> 7.647 | L11: =IF(Horendonk!P11=(""),(""),ROUND(Horendonk!P11/Horendonk!$O11*10,3)) | M11: =IF(Horendonk!Q11=(""),(""),ROUND(Horendonk!Q11/Horendonk!$O11*10,3)) | N11: =IF(Horendonk!R11=(""),(""),ROUND(Horendonk!R11/Horendonk!$O11*10,3)) | O11: =IF(Horendonk!S11=(""),(""),ROUND(Horendonk!S11/Horendonk!$O11*10,3)) | P11: =IF(Horendonk!T11=(""),(""),ROUND(Horendonk!T11/Horendonk!$O11*10,3)) | Q11: =IF(Horendonk!U11=(""),(""),ROUND(Horendonk!U11/Horendonk!$O11*10,3)) | R11: =IF(Horendonk!V11=(""),(""),ROUND(Horendonk!V11/Horendonk!$O11*10,3))
A12: =IF(SUM(E12:R12)=0,(" "),COUNTIF(E12:R12,">0")) -> 4 | B12: =Horendonk!B12 -> Oerlemans Willy | C12: =IF(Horendonk!AA12=0," ",SUM(E12:R12)) -> 39.286 | E12: =IF(Horendonk!D12=(""),(""),ROUND(Horendonk!D12/Horendonk!$C12*10,3)) -> 13.929 | F12: =IF(Horendonk!E12=(""),(""),ROUND(Horendonk!E12/Horendonk!$C12*10,3)) | G12: =IF(Horendonk!F12=(""),(""),ROUND(Horendonk!F12/Horendonk!$C12*10,3)) | H12: =IF(Horendonk!G12=(""),(""),ROUND(Horendonk!G12/Horendonk!$C12*10,3)) -> 7.857 | I12: =IF(Horendonk!H12=(""),(""),ROUND(Horendonk!H12/Horendonk!$C12*10,3)) | J12: =IF(Horendonk!I12=(""),(""),ROUND(Horendonk!I12/Horendonk!$C12*10,3)) -> 6.786 | K12: =IF(Horendonk!J12=(""),(""),ROUND(Horendonk!J12/Horendonk!$C12*10,3)) -> 10.714 | L12: =IF(Horendonk!P12=(""),(""),ROUND(Horendonk!P12/Horendonk!$O12*10,3)) | M12: =IF(Horendonk!Q12=(""),(""),ROUND(Horendonk!Q12/Horendonk!$O12*10,3)) | N12: =IF(Horendonk!R12=(""),(""),ROUND(Horendonk!R12/Horendonk!$O12*10,3)) | O12: =IF(Horendonk!S12=(""),(""),ROUND(Horendonk!S12/Horendonk!$O12*10,3)) | P12: =IF(Horendonk!T12=(""),(""),ROUND(Horendonk!T12/Horendonk!$O12*10,3)) | Q12: =IF(Horendonk!U12=(""),(""),ROUND(Horendonk!U12/Horendonk!$O12*10,3)) | R12: =IF(Horendonk!V12=(""),(""),ROUND(Horendonk!V12/Horendonk!$O12*10,3))
A13: =IF(SUM(E13:R13)=0,(" "),COUNTIF(E13:R13,">0")) -> 2 | B13: =Horendonk!B13 -> Siemons Jos | C13: =IF(Horendonk!AA13=0," ",SUM(E13:R13)) -> 20.87 | E13: =IF(Horendonk!D13=(""),(""),ROUND(Horendonk!D13/Horendonk!$C13*10,3)) | F13: =IF(Horendonk!E13=(""),(""),ROUND(Horendonk!E13/Horendonk!$C13*10,3)) | G13: =IF(Horendonk!F13=(""),(""),ROUND(Horendonk!F13/Horendonk!$C13*10,3)) | H13: =IF(Horendonk!G13=(""),(""),ROUND(Horendonk!G13/Horendonk!$C13*10,3)) -> 10.87 | I13: =IF(Horendonk!H13=(""),(""),ROUND(Horendonk!H13/Horendonk!$C13*10,3)) -> 10 | J13: =IF(Horendonk!I13=(""),(""),ROUND(Horendonk!I13/Horendonk!$C13*10,3)) | K13: =IF(Horendonk!J13=(""),(""),ROUND(Horendonk!J13/Horendonk!$C13*10,3)) | L13: =IF(Horendonk!P13=(""),(""),ROUND(Horendonk!P13/Horendonk!$O13*10,3)) | M13: =IF(Horendonk!Q13=(""),(""),ROUND(Horendonk!Q13/Horendonk!$O13*10,3)) | N13: =IF(Horendonk!R13=(""),(""),ROUND(Horendonk!R13/Horendonk!$O13*10,3)) | O13: =IF(Horendonk!S13=(""),(""),ROUND(Horendonk!S13/Horendonk!$O13*10,3)) | P13: =IF(Horendonk!T13=(""),(""),ROUND(Horendonk!T13/Horendonk!$O13*10,3)) | Q13: =IF(Horendonk!U13=(""),(""),ROUND(Horendonk!U13/Horendonk!$O13*10,3)) | R13: =IF(Horendonk!V13=(""),(""),ROUND(Horendonk!V13/Horendonk!$O13*10,3))
A14: =IF(SUM(E14:R14)=0,(" "),COUNTIF(E14:R14,">0")) -> 5 | B14: =Horendonk!B14 -> van Aert André | C14: =IF(Horendonk!AA14=0," ",SUM(E14:R14)) -> 58.333 | E14: =IF(Horendonk!D14=(""),(""),ROUND(Horendonk!D14/Horendonk!$C14*10,3)) | F14: =IF(Horendonk!E14=(""),(""),ROUND(Horendonk!E14/Horendonk!$C14*10,3)) -> 15.417 | G14: =IF(Horendonk!F14=(""),(""),ROUND(Horendonk!F14/Horendonk!$C14*10,3)) -> 10.833 | H14: =IF(Horendonk!G14=(""),(""),ROUND(Horendonk!G14/Horendonk!$C14*10,3)) | I14: =IF(Horendonk!H14=(""),(""),ROUND(Horendonk!H14/Horendonk!$C14*10,3)) -> 11.25 | J14: =IF(Horendonk!I14=(""),(""),ROUND(Horendonk!I14/Horendonk!$C14*10,3)) -> 10.833 | K14: =IF(Horendonk!J14=(""),(""),ROUND(Horendonk!J14/Horendonk!$C14*10,3)) -> 10 | L14: =IF(Horendonk!P14=(""),(""),ROUND(Horendonk!P14/Horendonk!$O14*10,3)) | M14: =IF(Horendonk!Q14=(""),(""),ROUND(Horendonk!Q14/Horendonk!$O14*10,3)) | N14: =IF(Horendonk!R14=(""),(""),ROUND(Horendonk!R14/Horendonk!$O14*10,3)) | O14: =IF(Horendonk!S14=(""),(""),ROUND(Horendonk!S14/Horendonk!$O14*10,3)) | P14: =IF(Horendonk!T14=(""),(""),ROUND(Horendonk!T14/Horendonk!$O14*10,3)) | Q14: =IF(Horendonk!U14=(""),(""),ROUND(Horendonk!U14/Horendonk!$O14*10,3)) | R14: =IF(Horendonk!V14=(""),(""),ROUND(Horendonk!V14/Horendonk!$O14*10,3))
A15: =IF(SUM(E15:R15)=0,(" "),COUNTIF(E15:R15,">0")) -> 1 | B15: =Horendonk!B15 -> Veraart Jef (ns) | C15: =IF(Horendonk!AA15=0," ",SUM(E15:R15)) -> 7.778 | E15: =IF(Horendonk!D15=(""),(""),ROUND(Horendonk!D15/Horendonk!$C15*10,3)) | F15: =IF(Horendonk!E15=(""),(""),ROUND(Horendonk!E15/Horendonk!$C15*10,3)) | G15: =IF(Horendonk!F15=(""),(""),ROUND(Horendonk!F15/Horendonk!$C15*10,3)) | H15: =IF(Horendonk!G15=(""),(""),ROUND(Horendonk!G15/Horendonk!$C15*10,3)) | I15: =IF(Horendonk!H15=(""),(""),ROUND(Horendonk!H15/Horendonk!$C15*10,3)) | J15: =IF(Horendonk!I15=(""),(""),ROUND(Horendonk!I15/Horendonk!$C15*10,3)) -> 7.778 | K15: =IF(Horendonk!J15=(""),(""),ROUND(Horendonk!J15/Horendonk!$C15*10,3)) | L15: =IF(Horendonk!P15=(""),(""),ROUND(Horendonk!P15/Horendonk!$O15*10,3)) | M15: =IF(Horendonk!Q15=(""),(""),ROUND(Horendonk!Q15/Horendonk!$O15*10,3)) | N15: =IF(Horendonk!R15=(""),(""),ROUND(Horendonk!R15/Horendonk!$O15*10,3)) | O15: =IF(Horendonk!S15=(""),(""),ROUND(Horendonk!S15/Horendonk!$O15*10,3)) | P15: =IF(Horendonk!T15=(""),(""),ROUND(Horendonk!T15/Horendonk!$O15*10,3)) | Q15: =IF(Horendonk!U15=(""),(""),ROUND(Horendonk!U15/Horendonk!$O15*10,3)) | R15: =IF(Horendonk!V15=(""),(""),ROUND(Horendonk!V15/Horendonk!$O15*10,3))
A16: =IF(SUM(E16:R16)=0,(" "),COUNTIF(E16:R16,">0")) -> 2 | B16: =Horendonk!B16 -> Vergouwen René | C16: =IF(Horendonk!AA16=0," ",SUM(E16:R16)) -> 22.414 | E16: =IF(Horendonk!D16=(""),(""),ROUND(Horendonk!D16/Horendonk!$C16*10,3)) | F16: =IF(Horendonk!E16=(""),(""),ROUND(Horendonk!E16/Horendonk!$C16*10,3)) -> 12.069 | G16: =IF(Horendonk!F16=(""),(""),ROUND(Horendonk!F16/Horendonk!$C16*10,3)) | H16: =IF(Horendonk!G16=(""),(""),ROUND(Horendonk!G16/Horendonk!$C16*10,3)) | I16: =IF(Horendonk!H16=(""),(""),ROUND(Horendonk!H16/Horendonk!$C16*10,3)) | J16: =IF(Horendonk!I16=(""),(""),ROUND(Horendonk!I16/Horendonk!$C16*10,3)) | K16: =IF(Horendonk!J16=(""),(""),ROUND(Horendonk!J16/Horendonk!$C16*10,3)) -> 10.345 | L16: =IF(Horendonk!P16=(""),(""),ROUND(Horendonk!P16/Horendonk!$O16*10,3)) | M16: =IF(Horendonk!Q16=(""),(""),ROUND(Horendonk!Q16/Horendonk!$O16*10,3)) | N16: =IF(Horendonk!R16=(""),(""),ROUND(Horendonk!R16/Horendonk!$O16*10,3)) | O16: =IF(Horendonk!S16=(""),(""),ROUND(Horendonk!S16/Horendonk!$O16*10,3)) | P16: =IF(Horendonk!T16=(""),(""),ROUND(Horendonk!T16/Horendonk!$O16*10,3)) | Q16: =IF(Horendonk!U16=(""),(""),ROUND(Horendonk!U16/Horendonk!$O16*10,3)) | R16: =IF(Horendonk!V16=(""),(""),ROUND(Horendonk!V16/Horendonk!$O16*10,3))
C17: Horendonk | D17: 5 | E17: =IF(SUM(E5:E16)=0,(" "),SUM(E5:E16)) -> 69.16 | F17: =IF(SUM(F5:F16)=0,(" "),SUM(F5:F16)) -> 73.288 | G17: =IF(SUM(G5:G16)=0,(" "),SUM(G5:G16)) -> 45.146 | H17: =IF(SUM(H5:H16)=0,(" "),SUM(H5:H16)) -> 48.378 | I17: =IF(SUM(I5:I16)=0,(" "),SUM(I5:I16)) -> 59.703 | J17: =IF(SUM(J5:J16)=0,(" "),SUM(J5:J16)) -> 51.969 | K17: =IF(SUM(K5:K16)=0,(" "),SUM(K5:K16)) -> 64.595 | L17: =IF(SUM(L5:L16)=0,(" "),SUM(L5:L16)) | ... R17: =IF(SUM(R5:R16)=0,(" "),SUM(R5:R16))
C18: =SUM(C5:C16) -> 412.239 | D18: =B4 -> HORENDONK | E18: =IF(E17=(" "),(" "),E17) -> 69.16 | F18: =IF(F17=(" "),(" "),E18+F17) -> 142.448 | G18: =IF(G17=(" "),(" "),F18+G17) -> 187.594 | H18: =IF(H17=(" "),(" "),G18+H17) -> 235.972 | I18: =IF(I17=(" "),(" "),H18+I17) -> 295.675 | J18: =IF(J17=(" "),(" "),I18+J17) -> 347.644 | K18: =IF(K17=(" "),(" "),J18+K17) -> 412.239 | L18: =IF(L17=(" "),(" "),K18+L17) | M18: =IF(M17=(" "),(" "),L18+M17) | ... R18: =IF(R17=(" "),(" "),Q18+R17)
B20: Sen. NISPEN | E20: 1 | F20: 2 | G20: 3 | H20: 4 | I20: 5 | J20: 6 | K20: 7 | L20: 8 | M20: 9 | N20: 10 | O20: 11 | P20: 12 | Q20: 13 | R20: 14
A21: =IF(SUM(E21:R21)=0,(" "),COUNTIF(E21:R21,">0")) -> 8 | B21: =Nispen!B5 -> Kerstens Jac | C21: =IF(Nispen!AA5=0," ",SUM(E21:R21)) -> 62 | E21: =IF(Nispen!D5=(""),(""),ROUND(Nispen!D5/Nispen!$C5*10,3)) -> 7.5 | F21: =IF(Nispen!E5=(""),(""),ROUND(Nispen!E5/Nispen!$C5*10,3)) -> 5.25 | G21: =IF(Nispen!F5=(""),(""),ROUND(Nispen!F5/Nispen!$C5*10,3)) -> 7.5 | H21: =IF(Nispen!G5=(""),(""),ROUND(Nispen!G5/Nispen!$C5*10,3)) -> 10.5 | I21: =IF(Nispen!H5=(""),(""),ROUND(Nispen!H5/Nispen!$C5*10,3)) -> 3.75 | J21: =IF(Nispen!I5=(""),(""),ROUND(Nispen!I5/Nispen!$C5*10,3)) -> 9 | K21: =IF(Nispen!J5=(""),(""),ROUND(Nispen!J5/Nispen!$C5*10,3)) -> 6 | L21: =IF(Nispen!P5=(""),(""),ROUND(Nispen!P5/Nispen!$O5*10,3)) -> 12.5 | M21: =IF(Nispen!Q5=(""),(""),ROUND(Nispen!Q5/Nispen!$O5*10,3)) | N21: =IF(Nispen!R5=(""),(""),ROUND(Nispen!R5/Nispen!$O5*10,3)) | O21: =IF(Nispen!S5=(""),(""),ROUND(Nispen!S5/Nispen!$O5*10,3)) | P21: =IF(Nispen!T5=(""),(""),ROUND(Nispen!T5/Nispen!$O5*10,3)) | Q21: =IF(Nispen!U5=(""),(""),ROUND(Nispen!U5/Nispen!$O5*10,3)) | R21: =IF(Nispen!V5=(""),(""),ROUND(Nispen!V5/Nispen!$O5*10,3))
A22: =IF(SUM(E22:R22)=0,(" "),COUNTIF(E22:R22,">0")) -> 4 | B22: =Nispen!B6 -> Martens Gerrit | C22: =IF(Nispen!AA6=0," ",SUM(E22:R22)) -> 51.334 | E22: =IF(Nispen!D6=(""),(""),ROUND(Nispen!D6/Nispen!$C6*10,3)) | F22: =IF(Nispen!E6=(""),(""),ROUND(Nispen!E6/Nispen!$C6*10,3)) | G22: =IF(Nispen!F6=(""),(""),ROUND(Nispen!F6/Nispen!$C6*10,3)) -> 12.667 | H22: =IF(Nispen!G6=(""),(""),ROUND(Nispen!G6/Nispen!$C6*10,3)) | I22: =IF(Nispen!H6=(""),(""),ROUND(Nispen!H6/Nispen!$C6*10,3)) -> 10.667 | J22: =IF(Nispen!I6=(""),(""),ROUND(Nispen!I6/Nispen!$C6*10,3)) -> 13.333 | K22: =IF(Nispen!J6=(""),(""),ROUND(Nispen!J6/Nispen!$C6*10,3)) -> 14.667 | L22: =IF(Nispen!P6=(""),(""),ROUND(Nispen!P6/Nispen!$O6*10,3)) | M22: =IF(Nispen!Q6=(""),(""),ROUND(Nispen!Q6/Nispen!$O6*10,3)) | N22: =IF(Nispen!R6=(""),(""),ROUND(Nispen!R6/Nispen!$O6*10,3)) | O22: =IF(Nispen!S6=(""),(""),ROUND(Nispen!S6/Nispen!$O6*10,3)) | P22: =IF(Nispen!T6=(""),(""),ROUND(Nispen!T6/Nispen!$O6*10,3)) | Q22: =IF(Nispen!U6=(""),(""),ROUND(Nispen!U6/Nispen!$O6*10,3)) | R22: =IF(Nispen!V6=(""),(""),ROUND(Nispen!V6/Nispen!$O6*10,3))
A23: =IF(SUM(E23:R23)=0,(" "),COUNTIF(E23:R23,">0")) -> 5 | B23: =Nispen!B7 -> Raats Antoon | C23: =IF(Nispen!AA7=0," ",SUM(E23:R23)) -> 44.444 | E23: =IF(Nispen!D7=(""),(""),ROUND(Nispen!D7/Nispen!$C7*10,3)) -> 4.444 | F23: =IF(Nispen!E7=(""),(""),ROUND(Nispen!E7/Nispen!$C7*10,3)) | G23: =IF(Nispen!F7=(""),(""),ROUND(Nispen!F7/Nispen!$C7*10,3)) -> 14.444 | H23: =IF(Nispen!G7=(""),(""),ROUND(Nispen!G7/Nispen!$C7*10,3)) -> 10 | I23: =IF(Nispen!H7=(""),(""),ROUND(Nispen!H7/Nispen!$C7*10,3)) | J23: =IF(Nispen!I7=(""),(""),ROUND(Nispen!I7/Nispen!$C7*10,3)) -> 11.667 | K23: =IF(Nispen!J7=(""),(""),ROUND(Nispen!J7/Nispen!$C7*10,3)) -> 3.889 | L23: =IF(Nispen!P7=(""),(""),ROUND(Nispen!P7/Nispen!$O7*10,3)) | M23: =IF(Nispen!Q7=(""),(""),ROUND(Nispen!Q7/Nispen!$O7*10,3)) | N23: =IF(Nispen!R7=(""),(""),ROUND(Nispen!R7/Nispen!$O7*10,3)) | O23: =IF(Nispen!S7=(""),(""),ROUND(Nispen!S7/Nispen!$O7*10,3)) | P23: =IF(Nispen!T7=(""),(""),ROUND(Nispen!T7/Nispen!$O7*10,3)) | Q23: =IF(Nispen!U7=(""),(""),ROUND(Nispen!U7/Nispen!$O7*10,3)) | R23: =IF(Nispen!V7=(""),(""),ROUND(Nispen!V7/Nispen!$O7*10,3))
A24: =IF(SUM(E24:R24)=0,(" "),COUNTIF(E24:R24,">0")) -> 5 | B24: =Nispen!B8 -> Schrauwen Jeanne | C24: =IF(Nispen!AA8=0," ",SUM(E24:R24)) -> 47.779 | E24: =IF(Nispen!D8=(""),(""),ROUND(Nispen!D8/Nispen!$C8*10,3)) -> 8.889 | F24: =IF(Nispen!E8=(""),(""),ROUND(Nispen!E8/Nispen!$C8*10,3)) | G24: =IF(Nispen!F8=(""),(""),ROUND(Nispen!F8/Nispen!$C8*10,3)) | H24: =IF(Nispen!G8=(""),(""),ROUND(Nispen!G8/Nispen!$C8*10,3)) -> 12.778 | I24: =IF(Nispen!H8=(""),(""),ROUND(Nispen!H8/Nispen!$C8*10,3)) -> 8.889 | J24: =IF(Nispen!I8=(""),(""),ROUND(Nispen!I8/Nispen!$C8*10,3)) -> 6.667 | K24: =IF(Nispen!J8=(""),(""),ROUND(Nispen!J8/Nispen!$C8*10,3)) -> 10.556 | L24: =IF(Nispen!P8=(""),(""),ROUND(Nispen!P8/Nispen!$O8*10,3)) | M24: =IF(Nispen!Q8=(""),(""),ROUND(Nispen!Q8/Nispen!$O8*10,3)) | N24: =IF(Nispen!R8=(""),(""),ROUND(Nispen!R8/Nispen!$O8*10,3)) | O24: =IF(Nispen!S8=(""),(""),ROUND(Nispen!S8/Nispen!$O8*10,3)) | P24: =IF(Nispen!T8=(""),(""),ROUND(Nispen!T8/Nispen!$O8*10,3)) | Q24: =IF(Nispen!U8=(""),(""),ROUND(Nispen!U8/Nispen!$O8*10,3)) | R24: =IF(Nispen!V8=(""),(""),ROUND(Nispen!V8/Nispen!$O8*10,3))
A25: =IF(SUM(E25:R25)=0,(" "),COUNTIF(E25:R25,">0")) -> 1 | B25: =Nispen!B9 -> Swaanen Piet | C25: =IF(Nispen!AA9=0," ",SUM(E25:R25)) -> 7.966 | E25: =IF(Nispen!D9=(""),(""),ROUND(Nispen!D9/Nispen!$C9*10,3)) | F25: =IF(Nispen!E9=(""),(""),ROUND(Nispen!E9/Nispen!$C9*10,3)) -> 7.966 | G25: =IF(Nispen!F9=(""),(""),ROUND(Nispen!F9/Nispen!$C9*10,3)) | H25: =IF(Nispen!G9=(""),(""),ROUND(Nispen!G9/Nispen!$C9*10,3)) | I25: =IF(Nispen!H9=(""),(""),ROUND(Nispen!H9/Nispen!$C9*10,3)) | J25: =IF(Nispen!I9=(""),(""),ROUND(Nispen!I9/Nispen!$C9*10,3)) | K25: =IF(Nispen!J9=(""),(""),ROUND(Nispen!J9/Nispen!$C9*10,3)) | L25: =IF(Nispen!P9=(""),(""),ROUND(Nispen!P9/Nispen!$O9*10,3)) | M25: =IF(Nispen!Q9=(""),(""),ROUND(Nispen!Q9/Nispen!$O9*10,3)) | N25: =IF(Nispen!R9=(""),(""),ROUND(Nispen!R9/Nispen!$O9*10,3)) | O25: =IF(Nispen!S9=(""),(""),ROUND(Nispen!S9/Nispen!$O9*10,3)) | P25: =IF(Nispen!T9=(""),(""),ROUND(Nispen!T9/Nispen!$O9*10,3)) | Q25: =IF(Nispen!U9=(""),(""),ROUND(Nispen!U9/Nispen!$O9*10,3)) | R25: =IF(Nispen!V9=(""),(""),ROUND(Nispen!V9/Nispen!$O9*10,3))
A26: =IF(SUM(E26:R26)=0,(" "),COUNTIF(E26:R26,">0")) -> 1 | B26: =Nispen!B10 -> Talboom Ad | C26: =IF(Nispen!AA10=0," ",SUM(E26:R26)) -> 4 | E26: =IF(Nispen!D10=(""),(""),ROUND(Nispen!D10/Nispen!$C10*10,3)) | F26: =IF(Nispen!E10=(""),(""),ROUND(Nispen!E10/Nispen!$C10*10,3)) | G26: =IF(Nispen!F10=(""),(""),ROUND(Nispen!F10/Nispen!$C10*10,3)) | H26: =IF(Nispen!G10=(""),(""),ROUND(Nispen!G10/Nispen!$C10*10,3)) | I26: =IF(Nispen!H10=(""),(""),ROUND(Nispen!H10/Nispen!$C10*10,3)) -> 4 | J26: =IF(Nispen!I10=(""),(""),ROUND(Nispen!I10/Nispen!$C10*10,3)) | K26: =IF(Nispen!J10=(""),(""),ROUND(Nispen!J10/Nispen!$C10*10,3)) | L26: =IF(Nispen!P10=(""),(""),ROUND(Nispen!P10/Nispen!$O10*10,3)) | M26: =IF(Nispen!Q10=(""),(""),ROUND(Nispen!Q10/Nispen!$O10*10,3)) | N26: =IF(Nispen!R10=(""),(""),ROUND(Nispen!R10/Nispen!$O10*10,3)) | O26: =IF(Nispen!S10=(""),(""),ROUND(Nispen!S10/Nispen!$O10*10,3)) | P26: =IF(Nispen!T10=(""),(""),ROUND(Nispen!T10/Nispen!$O10*10,3)) | Q26: =IF(Nispen!U10=(""),(""),ROUND(Nispen!U10/Nispen!$O10*10,3)) | R26: =IF(Nispen!V10=(""),(""),ROUND(Nispen!V10/Nispen!$O10*10,3))
A27: =IF(SUM(E27:R27)=0,(" "),COUNTIF(E27:R27,">0")) -> 6 | B27: =Nispen!B11 -> Thielen Jef | C27: =IF(Nispen!AA11=0," ",SUM(E27:R27)) -> 52.5 | E27: =IF(Nispen!D11=(""),(""),ROUND(Nispen!D11/Nispen!$C11*10,3)) -> 7.857 | F27: =IF(Nispen!E11=(""),(""),ROUND(Nispen!E11/Nispen!$C11*10,3)) | G27: =IF(Nispen!F11=(""),(""),ROUND(Nispen!F11/Nispen!$C11*10,3)) -> 8.929 | H27: =IF(Nispen!G11=(""),(""),ROUND(Nispen!G11/Nispen!$C11*10,3)) -> 11.071 | I27: =IF(Nispen!H11=(""),(""),ROUND(Nispen!H11/Nispen!$C11*10,3)) -> 9.643 | J27: =IF(Nispen!I11=(""),(""),ROUND(Nispen!I11/Nispen!$C11*10,3)) -> 7.143 | K27: =IF(Nispen!J11=(""),(""),ROUND(Nispen!J11/Nispen!$C11*10,3)) -> 7.857 | L27: =IF(Nispen!P11=(""),(""),ROUND(Nispen!P11/Nispen!$O11*10,3)) | M27: =IF(Nispen!Q11=(""),(""),ROUND(Nispen!Q11/Nispen!$O11*10,3)) | N27: =IF(Nispen!R11=(""),(""),ROUND(Nispen!R11/Nispen!$O11*10,3)) | O27: =IF(Nispen!S11=(""),(""),ROUND(Nispen!S11/Nispen!$O11*10,3)) | P27: =IF(Nispen!T11=(""),(""),ROUND(Nispen!T11/Nispen!$O11*10,3)) | Q27: =IF(Nispen!U11=(""),(""),ROUND(Nispen!U11/Nispen!$O11*10,3)) | R27: =IF(Nispen!V11=(""),(""),ROUND(Nispen!V11/Nispen!$O11*10,3))
A28: =IF(SUM(E28:R28)=0,(" "),COUNTIF(E28:R28,">0")) -> 5 | B28: =Nispen!B12 -> Uijtdehaag Nico | C28: =IF(Nispen!AA12=0," ",SUM(E28:R28)) -> 44.783 | E28: =IF(Nispen!D12=(""),(""),ROUND(Nispen!D12/Nispen!$C12*10,3)) -> 8.261 | F28: =IF(Nispen!E12=(""),(""),ROUND(Nispen!E12/Nispen!$C12*10,3)) -> 4.783 | G28: =IF(Nispen!F12=(""),(""),ROUND(Nispen!F12/Nispen!$C12*10,3)) -> 12.174 | H28: =IF(Nispen!G12=(""),(""),ROUND(Nispen!G12/Nispen!$C12*10,3)) | I28: =IF(Nispen!H12=(""),(""),ROUND(Nispen!H12/Nispen!$C12*10,3)) | J28: =IF(Nispen!I12=(""),(""),ROUND(Nispen!I12/Nispen!$C12*10,3)) -> 10.435 | K28: =IF(Nispen!J12=(""),(""),ROUND(Nispen!J12/Nispen!$C12*10,3)) -> 9.13 | L28: =IF(Nispen!P12=(""),(""),ROUND(Nispen!P12/Nispen!$O12*10,3)) | M28: =IF(Nispen!Q12=(""),(""),ROUND(Nispen!Q12/Nispen!$O12*10,3)) | N28: =IF(Nispen!R12=(""),(""),ROUND(Nispen!R12/Nispen!$O12*10,3)) | O28: =IF(Nispen!S12=(""),(""),ROUND(Nispen!S12/Nispen!$O12*10,3)) | P28: =IF(Nispen!T12=(""),(""),ROUND(Nispen!T12/Nispen!$O12*10,3)) | Q28: =IF(Nispen!U12=(""),(""),ROUND(Nispen!U12/Nispen!$O12*10,3)) | R28: =IF(Nispen!V12=(""),(""),ROUND(Nispen!V12/Nispen!$O12*10,3))
A29: =IF(SUM(E29:R29)=0,(" "),COUNTIF(E29:R29,">0")) -> 4 | B29: =Nispen!B13 -> Van Turnhout Herman [NS 20] | C29: =IF(Nispen!AA13=0," ",SUM(E29:R29)) -> 19 | E29: =IF(Nispen!D13=(""),(""),ROUND(Nispen!D13/20*10,3)) -> 7.5 | F29: =IF(Nispen!E13=(""),(""),ROUND(Nispen!E13/20*10,3)) -> 2 | G29: =IF(Nispen!F13=(""),(""),ROUND(Nispen!F13/20*10,3)) -> 5.5 | H29: =IF(Nispen!G13=(""),(""),ROUND(Nispen!G13/Nispen!$C13*10,3)) | I29: =IF(Nispen!H13=(""),(""),ROUND(Nispen!H13/Nispen!$C13*10,3)) -> 4 | J29: =IF(Nispen!I13=(""),(""),ROUND(Nispen!I13/Nispen!$C13*10,3)) | K29: =IF(Nispen!J13=(""),(""),ROUND(Nispen!J13/Nispen!$C13*10,3)) | L29: =IF(Nispen!P13=(""),(""),ROUND(Nispen!P13/Nispen!$O13*10,3)) | M29: =IF(Nispen!Q13=(""),(""),ROUND(Nispen!Q13/Nispen!$O13*10,3)) | N29: =IF(Nispen!R13=(""),(""),ROUND(Nispen!R13/Nispen!$O13*10,3)) | O29: =IF(Nispen!S13=(""),(""),ROUND(Nispen!S13/Nispen!$O13*10,3)) | P29: =IF(Nispen!T13=(""),(""),ROUND(Nispen!T13/Nispen!$O13*10,3)) | Q29: =IF(Nispen!U13=(""),(""),ROUND(Nispen!U13/Nispen!$O13*10,3)) | R29: =IF(Nispen!V13=(""),(""),ROUND(Nispen!V13/Nispen!$O13*10,3))
A30: =IF(SUM(E30:R30)=0,(" "),COUNTIF(E30:R30,">0")) -> 3 | B30: =Nispen!B14 -> Van Wesel Jos | C30: =IF(Nispen!AA14=0," ",SUM(E30:R30)) -> 26.818 | E30: =IF(Nispen!D14=(""),(""),ROUND(Nispen!D14/Nispen!$C14*10,3)) | F30: =IF(Nispen!E14=(""),(""),ROUND(Nispen!E14/Nispen!$C14*10,3)) -> 10 | G30: =IF(Nispen!F14=(""),(""),ROUND(Nispen!F14/Nispen!$C14*10,3)) -> 10 | H30: =IF(Nispen!G14=(""),(""),ROUND(Nispen!G14/Nispen!$C14*10,3)) -> 6.818 | I30: =IF(Nispen!H14=(""),(""),ROUND(Nispen!H14/Nispen!$C14*10,3)) | J30: =IF(Nispen!I14=(""),(""),ROUND(Nispen!I14/Nispen!$C14*10,3)) | K30: =IF(Nispen!J14=(""),(""),ROUND(Nispen!J14/Nispen!$C14*10,3)) | L30: =IF(Nispen!P14=(""),(""),ROUND(Nispen!P14/Nispen!$O14*10,3)) | M30: =IF(Nispen!Q14=(""),(""),ROUND(Nispen!Q14/Nispen!$O14*10,3)) | N30: =IF(Nispen!R14=(""),(""),ROUND(Nispen!R14/Nispen!$O14*10,3)) | O30: =IF(Nispen!S14=(""),(""),ROUND(Nispen!S14/Nispen!$O14*10,3)) | P30: =IF(Nispen!T14=(""),(""),ROUND(Nispen!T14/Nispen!$O14*10,3)) | Q30: =IF(Nispen!U14=(""),(""),ROUND(Nispen!U14/Nispen!$O14*10,3)) | R30: =IF(Nispen!V14=(""),(""),ROUND(Nispen!V14/Nispen!$O14*10,3))
C31: =B20 -> Sen. NISPEN | D31: 5 | E31: =IF(SUM(E21:E30)=0,(" "),SUM(E21:E30)) -> 44.451 | F31: =IF(SUM(F21:F30)=0,(" "),SUM(F21:F30))+G29 -> 35.499 | G31: =IF(SUM(G21:G30)=0,(" "),SUM(G21:G30))-G29 -> 65.714 | H31: =IF(SUM(H21:H30)=0,(" "),SUM(H21:H30))+L21 -> 63.667 | I31: =IF(SUM(I21:I30)=0,("0"),SUM(I21:I30)) -> 40.949 | J31: =IF(SUM(J21:J30)=0,(" "),SUM(J21:J30)) -> 58.245 | K31: =IF(SUM(K21:K30)=0,(" "),SUM(K21:K30)) -> 52.099 | L31: =IF(SUM(L21:L30)=0,(" "),SUM(L21:L30))-L21 -> 0 | M31: =IF(SUM(M21:M30)=0,(" "),SUM(M21:M30)) | N31: =IF(SUM(N21:N30)=0,(" "),SUM(N21:N30)) | O31: =IF(SUM(O21:O30)=0,(" "),SUM(O21:O30)) | P31: =IF(SUM(P21:P30)=0,(" "),SUM(P21:P30)) | Q31: =IF(SUM(Q21:Q30)=0,(" "),SUM(Q21:Q30)) | R31: =IF(SUM(R21:R30)=0,(" "),SUM(R21:R30))
C32: =SUM(C21:C30) -> 360.624 | D32: =B20 -> Sen. NISPEN | E32: =IF(E31=(" "),(" "),E31) -> 44.451 | F32: =IF(F31=(" "),(" "),E32+F31) -> 79.95 | G32: =IF(G31=(" "),(" "),F32+G31) -> 145.664 | H32: =IF(H31=(" "),(" "),G32+H31) -> 209.331 | I32: =IF(I31=(" "),(" "),H32+I31) -> 250.28 | J32: =IF(J31=(" "),(" "),I32+J31) -> 308.525 | K32: =IF(K31=(" "),(" "),J32+K31) -> 360.624 | L32: =IF(L31=(" "),(" "),K32+L31) -> 360.624 | M32: =IF(M31=(" "),(" "),L32+M31) | ... R32: =IF(R31=(" "),(" "),Q32+R31)
B34: KERKUILEN | E34: 1 | F34: 2 | G34: 3 | H34: 4 | I34: 5 | J34: 6 | K34: 7 | L34: 8 | M34: 9 | N34: 10 | O34: 11 | P34: 12 | Q34: 13 | R34: 14
A35: =IF(SUM(E35:R35)=0,(" "),COUNTIF(E35:R35,">0")) -> 3 | B35: =Kerkuilen!B5 -> Antonissen Gust | C35: =IF(Kerkuilen!AA5=0," ",SUM(E35:R35)) -> 37.059 | E35: =IF(Kerkuilen!D5=(""),(""),ROUND(Kerkuilen!D5/Kerkuilen!$C5*10,3)) -> 17.353 | F35: =IF(Kerkuilen!E5=(""),(""),ROUND(Kerkuilen!E5/Kerkuilen!$C5*10,3)) -> 8.235 | G35: =IF(Kerkuilen!F5=(""),(""),ROUND(Kerkuilen!F5/Kerkuilen!$C5*10,3)) | H35: =IF(Kerkuilen!G5=(""),(""),ROUND(Kerkuilen!G5/Kerkuilen!$C5*10,3)) | I35: =IF(Kerkuilen!H5=(""),(""),ROUND(Kerkuilen!H5/Kerkuilen!$C5*10,3)) | J35: =IF(Kerkuilen!I5=(""),(""),ROUND(Kerkuilen!I5/Kerkuilen!$C5*10,3)) | K35: =IF(Kerkuilen!J5=(""),(""),ROUND(Kerkuilen!J5/Kerkuilen!$C5*10,3)) -> 11.471 | L35: =IF(Kerkuilen!P5=(""),(""),ROUND(Kerkuilen!P5/Kerkuilen!$O5*10,3)) | M35: =IF(Kerkuilen!Q5=(""),(""),ROUND(Kerkuilen!Q5/Kerkuilen!$O5*10,3)) | N35: =IF(Kerkuilen!R5=(""),(""),ROUND(Kerkuilen!R5/Kerkuilen!$O5*10,3)) | O35: =IF(Kerkuilen!S5=(""),(""),ROUND(Kerkuilen!S5/Kerkuilen!$O5*10,3)) | P35: =IF(Kerkuilen!T5=(""),(""),ROUND(Kerkuilen!T5/Kerkuilen!$O5*10,3)) | Q35: =IF(Kerkuilen!U5=(""),(""),ROUND(Kerkuilen!U5/Kerkuilen!$O5*10,3)) | R35: =IF(Kerkuilen!V5=(""),(""),ROUND(Kerkuilen!V5/Kerkuilen!$O5*10,3))
A36: =IF(SUM(E36:R36)=0,(" "),COUNTIF(E36:R36,">0")) -> 4 | B36: =Kerkuilen!B6 -> De Kaey Piet | C36: =IF(Kerkuilen!AA6=0," ",SUM(E36:R36)) -> 51.632 | E36: =IF(Kerkuilen!D6=(""),(""),ROUND(Kerkuilen!D6/Kerkuilen!$C6*10,3)) | F36: =IF(Kerkuilen!E6=(""),(""),ROUND(Kerkuilen!E6/Kerkuilen!$C6*10,3)) | G36: =IF(Kerkuilen!F6=(""),(""),ROUND(Kerkuilen!F6/Kerkuilen!$C6*10,3)) | H36: =IF(Kerkuilen!G6=(""),(""),ROUND(Kerkuilen!G6/Kerkuilen!$C6*10,3)) -> 15.714 | I36: =IF(Kerkuilen!H6=(""),(""),ROUND(Kerkuilen!H6/Kerkuilen!$C6*10,3)) -> 10.612 | J36: =IF(Kerkuilen!I6=(""),(""),ROUND(Kerkuilen!I6/Kerkuilen!$C6*10,3)) -> 12.857 | K36: =IF(Kerkuilen!J6=(""),(""),ROUND(Kerkuilen!J6/Kerkuilen!$C6*10,3)) -> 12.449 | L36: =IF(Kerkuilen!P6=(""),(""),ROUND(Kerkuilen!P6/Kerkuilen!$O6*10,3)) | M36: =IF(Kerkuilen!Q6=(""),(""),ROUND(Kerkuilen!Q6/Kerkuilen!$O6*10,3)) | N36: =IF(Kerkuilen!R6=(""),(""),ROUND(Kerkuilen!R6/Kerkuilen!$O6*10,3)) | O36: =IF(Kerkuilen!S6=(""),(""),ROUND(Kerkuilen!S6/Kerkuilen!$O6*10,3)) | P36: =IF(Kerkuilen!T6=(""),(""),ROUND(Kerkuilen!T6/Kerkuilen!$O6*10,3)) | Q36: =IF(Kerkuilen!U6=(""),(""),ROUND(Kerkuilen!U6/Kerkuilen!$O6*10,3)) | R36: =IF(Kerkuilen!V6=(""),(""),ROUND(Kerkuilen!V6/Kerkuilen!$O6*10,3))
A37: =IF(SUM(E37:R37)=0,(" "),COUNTIF(E37:R37,">0")) -> 1 | B37: =Kerkuilen!B7 -> Elst Stan | C37: =IF(Kerkuilen!AA7=0," ",SUM(E37:R37)) -> 6.579 | E37: =IF(Kerkuilen!D7=(""),(""),ROUND(Kerkuilen!D7/Kerkuilen!$C7*10,3)) | F37: =IF(Kerkuilen!E7=(""),(""),ROUND(Kerkuilen!E7/Kerkuilen!$C7*10,3)) | G37: =IF(Kerkuilen!F7=(""),(""),ROUND(Kerkuilen!F7/Kerkuilen!$C7*10,3)) | H37: =IF(Kerkuilen!G7=(""),(""),ROUND(Kerkuilen!G7/Kerkuilen!$C7*10,3)) -> 6.579 | I37: =IF(Kerkuilen!H7=(""),(""),ROUND(Kerkuilen!H7/Kerkuilen!$C7*10,3)) | J37: =IF(Kerkuilen!I7=(""),(""),ROUND(Kerkuilen!I7/Kerkuilen!$C7*10,3)) | K37: =IF(Kerkuilen!J7=(""),(""),ROUND(Kerkuilen!J7/Kerkuilen!$C7*10,3)) | L37: =IF(Kerkuilen!P7=(""),(""),ROUND(Kerkuilen!P7/Kerkuilen!$O7*10,3)) | M37: =IF(Kerkuilen!Q7=(""),(""),ROUND(Kerkuilen!Q7/Kerkuilen!$O7*10,3)) | N37: =IF(Kerkuilen!R7=(""),(""),ROUND(Kerkuilen!R7/Kerkuilen!$O7*10,3)) | O37: =IF(Kerkuilen!S7=(""),(""),ROUND(Kerkuilen!S7/Kerkuilen!$O7*10,3)) | P37: =IF(Kerkuilen!T7=(""),(""),ROUND(Kerkuilen!T7/Kerkuilen!$O7*10,3)) | Q37: =IF(Kerkuilen!U7=(""),(""),ROUND(Kerkuilen!U7/Kerkuilen!$O7*10,3)) | R37: =IF(Kerkuilen!V7=(""),(""),ROUND(Kerkuilen!V7/Kerkuilen!$O7*10,3))
A38: =IF(SUM(E38:R38)=0,(" "),COUNTIF(E38:R38,">0")) -> 5 | B38: =Kerkuilen!B8 -> Hectors Hugo | C38: =IF(Kerkuilen!AA8=0," ",SUM(E38:R38)) -> 49.445 | E38: =IF(Kerkuilen!D8=(""),(""),ROUND(Kerkuilen!D8/Kerkuilen!$C8*10,3)) -> 7.222 | F38: =IF(Kerkuilen!E8=(""),(""),ROUND(Kerkuilen!E8/Kerkuilen!$C8*10,3)) -> 16.111 | G38: =IF(Kerkuilen!F8=(""),(""),ROUND(Kerkuilen!F8/Kerkuilen!$C8*10,3)) | H38: =IF(Kerkuilen!G8=(""),(""),ROUND(Kerkuilen!G8/Kerkuilen!$C8*10,3)) -> 5.556 | I38: =IF(Kerkuilen!H8=(""),(""),ROUND(Kerkuilen!H8/Kerkuilen!$C8*10,3)) -> 15 | J38: =IF(Kerkuilen!I8=(""),(""),ROUND(Kerkuilen!I8/Kerkuilen!$C8*10,3)) | K38: =IF(Kerkuilen!J8=(""),(""),ROUND(Kerkuilen!J8/Kerkuilen!$C8*10,3)) -> 5.556 | L38: =IF(Kerkuilen!P8=(""),(""),ROUND(Kerkuilen!P8/Kerkuilen!$O8*10,3)) | M38: =IF(Kerkuilen!Q8=(""),(""),ROUND(Kerkuilen!Q8/Kerkuilen!$O8*10,3)) | N38: =IF(Kerkuilen!R8=(""),(""),ROUND(Kerkuilen!R8/Kerkuilen!$O8*10,3)) | O38: =IF(Kerkuilen!S8=(""),(""),ROUND(Kerkuilen!S8/Kerkuilen!$O8*10,3)) | P38: =IF(Kerkuilen!T8=(""),(""),ROUND(Kerkuilen!T8/Kerkuilen!$O8*10,3)) | Q38: =IF(Kerkuilen!U8=(""),(""),ROUND(Kerkuilen!U8/Kerkuilen!$O8*10,3)) | R38: =IF(Kerkuilen!V8=(""),(""),ROUND(Kerkuilen!V8/Kerkuilen!$O8*10,3))
A39: =IF(SUM(E39:R39)=0,(" "),COUNTIF(E39:R39,">0")) -> 2 | B39: =Kerkuilen!B9 -> Jacobis Martin | C39: =IF(Kerkuilen!AA9=0," ",SUM(E39:R39)) -> 26.296 | E39: =IF(Kerkuilen!D9=(""),(""),ROUND(Kerkuilen!D9/Kerkuilen!$C9*10,3)) | F39: =IF(Kerkuilen!E9=(""),(""),ROUND(Kerkuilen!E9/Kerkuilen!$C9*10,3)) | G39: =IF(Kerkuilen!F9=(""),(""),ROUND(Kerkuilen!F9/Kerkuilen!$C9*10,3)) | H39: =IF(Kerkuilen!G9=(""),(""),ROUND(Kerkuilen!G9/Kerkuilen!$C9*10,3)) | I39: =IF(Kerkuilen!H9=(""),(""),ROUND(Kerkuilen!H9/Kerkuilen!$C9*10,3)) -> 14.444 | J39: =IF(Kerkuilen!I9=(""),(""),ROUND(Kerkuilen!I9/Kerkuilen!$C9*10,3)) -> 11.852 | K39: =IF(Kerkuilen!J9=(""),(""),ROUND(Kerkuilen!J9/Kerkuilen!$C9*10,3)) | L39: =IF(Kerkuilen!P9=(""),(""),ROUND(Kerkuilen!P9/Kerkuilen!$O9*10,3)) | M39: =IF(Kerkuilen!Q9=(""),(""),ROUND(Kerkuilen!Q9/Kerkuilen!$O9*10,3)) | N39: =IF(Kerkuilen!R9=(""),(""),ROUND(Kerkuilen!R9/Kerkuilen!$O9*10,3)) | O39: =IF(Kerkuilen!S9=(""),(""),ROUND(Kerkuilen!S9/Kerkuilen!$O9*10,3)) | P39: =IF(Kerkuilen!T9=(""),(""),ROUND(Kerkuilen!T9/Kerkuilen!$O9*10,3)) | Q39: =IF(Kerkuilen!U9=(""),(""),ROUND(Kerkuilen!U9/Kerkuilen!$O9*10,3)) | R39: =IF(Kerkuilen!V9=(""),(""),ROUND(Kerkuilen!V9/Kerkuilen!$O9*10,3))
A40: =IF(SUM(E40:R40)=0,(" "),COUNTIF(E40:R40,">0")) -> 5 | B40: =Kerkuilen!B10 -> Lambrechts Jef | C40: =IF(Kerkuilen!AA10=0," ",SUM(E40:R40)) -> 37.936 | E40: =IF(Kerkuilen!D10=(""),(""),ROUND(Kerkuilen!D10/Kerkuilen!$C10*10,3)) -> 6.349 | F40: =IF(Kerkuilen!E10=(""),(""),ROUND(Kerkuilen!E10/Kerkuilen!$C10*10,3)) | G40: =IF(Kerkuilen!F10=(""),(""),ROUND(Kerkuilen!F10/Kerkuilen!$C10*10,3)) -> 7.619 | H40: =IF(Kerkuilen!G10=(""),(""),ROUND(Kerkuilen!G10/Kerkuilen!$C10*10,3)) -> 6.349 | I40: =IF(Kerkuilen!H10=(""),(""),ROUND(Kerkuilen!H10/Kerkuilen!$C10*10,3)) -> 11.746 | J40: =IF(Kerkuilen!I10=(""),(""),ROUND(Kerkuilen!I10/Kerkuilen!$C10*10,3)) -> 5.873 | K40: =IF(Kerkuilen!J10=(""),(""),ROUND(Kerkuilen!J10/Kerkuilen!$C10*10,3)) | L40: =IF(Kerkuilen!P10=(""),(""),ROUND(Kerkuilen!P10/Kerkuilen!$O10*10,3)) | M40: =IF(Kerkuilen!Q10=(""),(""),ROUND(Kerkuilen!Q10/Kerkuilen!$O10*10,3)) | N40: =IF(Kerkuilen!R10=(""),(""),ROUND(Kerkuilen!R10/Kerkuilen!$O10*10,3)) | O40: =IF(Kerkuilen!S10=(""),(""),ROUND(Kerkuilen!S10/Kerkuilen!$O10*10,3)) | P40: =IF(Kerkuilen!T10=(""),(""),ROUND(Kerkuilen!T10/Kerkuilen!$O10*10,3)) | Q40: =IF(Kerkuilen!U10=(""),(""),ROUND(Kerkuilen!U10/Kerkuilen!$O10*10,3)) | R40: =IF(Kerkuilen!V10=(""),(""),ROUND(Kerkuilen!V10/Kerkuilen!$O10*10,3))
A41: =IF(SUM(E41:R41)=0,(" "),COUNTIF(E41:R41,">0")) -> 3 | B41: =Kerkuilen!B11 -> Naulaerts Rik | C41: =IF(Kerkuilen!AA11=0," ",SUM(E41:R41)) -> 25.687 | E41: =IF(Kerkuilen!D11=(""),(""),ROUND(Kerkuilen!D11/Kerkuilen!$C11*10,3)) | F41: =IF(Kerkuilen!E11=(""),(""),ROUND(Kerkuilen!E11/Kerkuilen!$C11*10,3)) | G41: =IF(Kerkuilen!F11=(""),(""),ROUND(Kerkuilen!F11/Kerkuilen!$C11*10,3)) | H41: =IF(Kerkuilen!G11=(""),(""),ROUND(Kerkuilen!G11/Kerkuilen!$C11*10,3)) -> 8.824 | I41: =IF(Kerkuilen!H11=(""),(""),ROUND(Kerkuilen!H11/Kerkuilen!$C11*10,3)) | J41: =IF(Kerkuilen!I11=(""),(""),ROUND(Kerkuilen!I11/Kerkuilen!$C11*10,3)) -> 6.471 | K41: =IF(Kerkuilen!J11=(""),(""),ROUND(Kerkuilen!J11/Kerkuilen!$C11*10,3)) -> 10.392 | L41: =IF(Kerkuilen!P11=(""),(""),ROUND(Kerkuilen!P11/Kerkuilen!$O11*10,3)) | M41: =IF(Kerkuilen!Q11=(""),(""),ROUND(Kerkuilen!Q11/Kerkuilen!$O11*10,3)) | N41: =IF(Kerkuilen!R11=(""),(""),ROUND(Kerkuilen!R11/Kerkuilen!$O11*10,3)) | O41: =IF(Kerkuilen!S11=(""),(""),ROUND(Kerkuilen!S11/Kerkuilen!$O11*10,3)) | P41: =IF(Kerkuilen!T11=(""),(""),ROUND(Kerkuilen!T11/Kerkuilen!$O11*10,3)) | Q41: =IF(Kerkuilen!U11=(""),(""),ROUND(Kerkuilen!U11/Kerkuilen!$O11*10,3)) | R41: =IF(Kerkuilen!V11=(""),(""),ROUND(Kerkuilen!V11/Kerkuilen!$O11*10,3))
A42: =IF(SUM(E42:R42)=0,(" "),COUNTIF(E42:R42,">0")) -> 3 | B42: =Kerkuilen!B12 -> Peeters Wies | C42: =IF(Kerkuilen!AA12=0," ",SUM(E42:R42)) -> 28.275 | E42: =IF(Kerkuilen!D12=(""),(""),ROUND(Kerkuilen!D12/Kerkuilen!$C12*10,3)) -> 7.241 | F42: =IF(Kerkuilen!E12=(""),(""),ROUND(Kerkuilen!E12/Kerkuilen!$C12*10,3)) -> 13.793 | G42: =IF(Kerkuilen!F12=(""),(""),ROUND(Kerkuilen!F12/Kerkuilen!$C12*10,3)) -> 7.241 | H42: =IF(Kerkuilen!G12=(""),(""),ROUND(Kerkuilen!G12/Kerkuilen!$C12*10,3)) | I42: =IF(Kerkuilen!H12=(""),(""),ROUND(Kerkuilen!H12/Kerkuilen!$C12*10,3)) | J42: =IF(Kerkuilen!I12=(""),(""),ROUND(Kerkuilen!I12/Kerkuilen!$C12*10,3)) | K42: =IF(Kerkuilen!J12=(""),(""),ROUND(Kerkuilen!J12/Kerkuilen!$C12*10,3)) | L42: =IF(Kerkuilen!P12=(""),(""),ROUND(Kerkuilen!P12/Kerkuilen!$O12*10,3)) | M42: =IF(Kerkuilen!Q12=(""),(""),ROUND(Kerkuilen!Q12/Kerkuilen!$O12*10,3)) | N42: =IF(Kerkuilen!R12=(""),(""),ROUND(Kerkuilen!R12/Kerkuilen!$O12*10,3)) | O42: =IF(Kerkuilen!S12=(""),(""),ROUND(Kerkuilen!S12/Kerkuilen!$O12*10,3)) | P42: =IF(Kerkuilen!T12=(""),(""),ROUND(Kerkuilen!T12/Kerkuilen!$O12*10,3)) | Q42: =IF(Kerkuilen!U12=(""),(""),ROUND(Kerkuilen!U12/Kerkuilen!$O12*10,3)) | R42: =IF(Kerkuilen!V12=(""),(""),ROUND(Kerkuilen!V12/Kerkuilen!$O12*10,3))
A43: =IF(SUM(E43:R43)=0,(" "),COUNTIF(E43:R43,">0")) -> 3 | B43: =Kerkuilen!B13 -> Pleysier Luc | C43: =IF(Kerkuilen!AA13=0," ",SUM(E43:R43)) -> 24.138 | E43: =IF(Kerkuilen!D13=(""),(""),ROUND(Kerkuilen!D13/Kerkuilen!$C13*10,3)) | F43: =IF(Kerkuilen!E13=(""),(""),ROUND(Kerkuilen!E13/Kerkuilen!$C13*10,3)) -> 10.345 | G43: =IF(Kerkuilen!F13=(""),(""),ROUND(Kerkuilen!F13/Kerkuilen!$C13*10,3)) -> 9.885 | H43: =IF(Kerkuilen!G13=(""),(""),ROUND(Kerkuilen!G13/Kerkuilen!$C13*10,3)) | I43: =IF(Kerkuilen!H13=(""),(""),ROUND(Kerkuilen!H13/Kerkuilen!$C13*10,3)) | J43: =IF(Kerkuilen!I13=(""),(""),ROUND(Kerkuilen!I13/Kerkuilen!$C13*10,3)) -> 3.908 | K43: =IF(Kerkuilen!J13=(""),(""),ROUND(Kerkuilen!J13/Kerkuilen!$C13*10,3)) | L43: =IF(Kerkuilen!P13=(""),(""),ROUND(Kerkuilen!P13/Kerkuilen!$O13*10,3)) | M43: =IF(Kerkuilen!Q13=(""),(""),ROUND(Kerkuilen!Q13/Kerkuilen!$O13*10,3)) | N43: =IF(Kerkuilen!R13=(""),(""),ROUND(Kerkuilen!R13/Kerkuilen!$O13*10,3)) | O43: =IF(Kerkuilen!S13=(""),(""),ROUND(Kerkuilen!S13/Kerkuilen!$O13*10,3)) | P43: =IF(Kerkuilen!T13=(""),(""),ROUND(Kerkuilen!T13/Kerkuilen!$O13*10,3)) | Q43: =IF(Kerkuilen!U13=(""),(""),ROUND(Kerkuilen!U13/Kerkuilen!$O13*10,3)) | R43: =IF(Kerkuilen!V13=(""),(""),ROUND(Kerkuilen!V13/Kerkuilen!$O13*10,3))
...

Sheet Uitslagen
A2: 30ste België - Nederland biljarttornooi | E2: Laatst gewijzigd
A3: van de Essense seniorenadviesraad 2025 - 2026 | E3: =Rangschikking!F3 -> 46028
B4: 1ste Ronde
A6: Datum | B6: Thuisploeg | C6: Bezoekers | D6: Punten | E6: Punten
A8: 45894 | B8: Sen. Nispen | C8: Wildert 1 | D8: =VLOOKUP(B8,Punten!$C$3:$R$141,3,0) -> 44.451 | E8: =VLOOKUP(C8,Punten!$C$3:$R$141,3,0) -> 51.466
A9: 45896 | B9: de Spil | C9: Sen. Putte | D9: =VLOOKUP(B9,Punten!$C$3:$R$141,3,0) -> 50.906 | E9: =VLOOKUP(C9,Punten!$C$3:$R$141,3,0) -> 42.436
A10: 45896 | B10: Oude Glorie | C10: Wildert 2 | D10: =VLOOKUP(B10,Punten!$C$3:$R$141,3,0) -> 60.441 | E10: =VLOOKUP(C10,Punten!$C$3:$R$141,3,0) -> 65.34
A11: 45897 | B11: Kerkuilen | C11: Horendonk | D11: =VLOOKUP(B11,Punten!$C$3:$R$141,3,0) -> 58.379 | E11: =VLOOKUP(C11,Punten!$C$3:$R$141,3,0) -> 69.16
A14: 45908 | B14: Sen. Putte | C14: Wildert 2 | D14: =VLOOKUP(B14,Punten!$C$3:$R$141,4,0) -> 50.714 | E14: =VLOOKUP(C14,Punten!$C$3:$R$141,4,0) -> 59.665
A15: 45908 | B15: Sen. Nispen | C15: Oude Glorie | D15: =VLOOKUP(B15,Punten!$C$3:$R$141,4,0) -> 35.499 | E15: =VLOOKUP(C15,Punten!$C$3:$R$141,4,0) -> 44.322
A16: 45910 | B16: de Spil | C16: Kerkuilen | D16: =VLOOKUP(B16,Punten!$C$3:$R$141,4,0) -> 43.376 | E16: =VLOOKUP(C16,Punten!$C$3:$R$141,4,0) -> 65.284
A17: 45912 | B17: Wildert 1 | C17: Horendonk | D17: =VLOOKUP(B17,Punten!$C$3:$R$141,4,0) -> 69.526 | E17: =VLOOKUP(C17,Punten!$C$3:$R$141,4,0) -> 73.288
A20: 45923 | B20: Wildert 2 | C20: de Spil | D20: =VLOOKUP(B20,Punten!$C$3:$R$141,5,0) -> 63.081 | E20: =VLOOKUP(C20,Punten!$C$3:$R$141,5,0) -> 59.793
A21: 45931 | B21: Horendonk | C21: Sen. Nispen | D21: =VLOOKUP(B21,Punten!$C$3:$R$141,5,0) -> 45.146 | E21: =VLOOKUP(C21,Punten!$C$3:$R$141,5,0) -> 65.714
A22: 45924 | B22: Oude Glorie | C22: Wildert 1 | D22: =VLOOKUP(B22,Punten!$C$3:$R$141,5,0) -> 55.997 | E22: =VLOOKUP(C22,Punten!$C$3:$R$141,5,0) -> 60.034
A23: 45926 | B23: Kerkuilen | C23: Sen. Putte | D23: =VLOOKUP(B23,Punten!$C$3:$R$141,5,0) -> 50.583 | E23: =VLOOKUP(C23,Punten!$C$3:$R$141,5,0) -> 56.923
A26: 45936 | B26: Sen. Putte | C26: Sen. Nispen | D26: =VLOOKUP(B26,Punten!$C$3:$R$141,6,0) -> 59.855 | E26: =VLOOKUP(C26,Punten!$C$3:$R$141,6,0) -> 63.667
A27: 45937 | B27: Wildert 2 | C27: Kerkuilen | D27: =VLOOKUP(B27,Punten!$C$3:$R$141,6,0) -> 65.993 | E27: =VLOOKUP(C27,Punten!$C$3:$R$141,6,0) -> 49.919
A28: 45938 | B28: Horendonk | C28: Oude Glorie | D28: =VLOOKUP(B28,Punten!$C$3:$R$141,6,0) -> 48.378 | E28: =VLOOKUP(C28,Punten!$C$3:$R$141,6,0) -> 64.993
A29: 45940 | B29: Wildert 1 | C29: de Spil | D29: =VLOOKUP(B29,Punten!$C$3:$R$141,6,0) -> 46.2 | E29: =VLOOKUP(C29,Punten!$C$3:$R$141,6,0) -> 51.898
A32: 45950 | B32: Sen. Putte | C32: Oude Glorie | D32: =VLOOKUP(B32,Punten!$C$3:$R$141,7,0) -> 68.624 | E32: =VLOOKUP(C32,Punten!$C$3:$R$141,7,0) -> 71.284
A33: 45950 | B33: Sen. Nispen | C33: Wildert 2 | D33: =VLOOKUP(B33,Punten!$C$3:$R$141,7,0) -> 40.949 | E33: =VLOOKUP(C33,Punten!$C$3:$R$141,7,0) -> 43.373
A34: 45952 | B34: de Spil | C34: Horendonk | D34: =VLOOKUP(B34,Punten!$C$3:$R$141,7,0) -> 58.473 | E34: =VLOOKUP(C34,Punten!$C$3:$R$141,7,0) -> 59.703
A35: 45953 | B35: Kerkuilen | C35: Wildert 1 | D35: =VLOOKUP(B35,Punten!$C$3:$R$141,7,0) -> 67.445 | E35: =VLOOKUP(C35,Punten!$C$3:$R$141,7,0) -> 72.232
A38: 45964 | B38: Sen. Nispen | C38: Kerkuilen | D38: =VLOOKUP(B38,Punten!$C$3:$R$141,8,0) -> 58.245 | E38: =VLOOKUP(C38,Punten!$C$3:$R$141,8,0) -> 46.561
A39: 45964 | B39: de Spil | C39: Oude Glorie | D39: =VLOOKUP(B39,Punten!$C$3:$R$141,8,0) -> 60.559 | E39: =VLOOKUP(C39,Punten!$C$3:$R$141,8,0) -> 47.463
A40: 45966 | B40: Horendonk | C40: Sen. Putte | D40: =VLOOKUP(B40,Punten!$C$3:$R$141,8,0) -> 51.969 | E40: =VLOOKUP(C40,Punten!$C$3:$R$141,8,0) -> 62.605
A41: 45968 | B41: Wildert 1 | C41: Wildert 2 | D41: =VLOOKUP(B41,Punten!$C$3:$R$141,8,0) -> 61.282 | E41: =VLOOKUP(C41,Punten!$C$3:$R$141,8,0) -> 46.592
A44: 45978 | B44: Sen. Putte | C44: Wildert 1 | D44: =VLOOKUP(B44,Punten!$C$3:$R$141,9,0) -> 66.631 | E44: =VLOOKUP(C44,Punten!$C$3:$R$141,9,0) -> 55.336
A45: 45979 | B45: Wildert 2 | C45: Horendonk | D45: =VLOOKUP(B45,Punten!$C$3:$R$141,9,0) -> 63.544 | E45: =VLOOKUP(C45,Punten!$C$3:$R$141,9,0) -> 64.595
A46: 45980 | B46: de Spil | C46: Sen. Nispen | D46: =VLOOKUP(B46,Punten!$C$3:$R$141,9,0) -> 57.513 | E46: =VLOOKUP(C46,Punten!$C$3:$R$141,9,0) -> 52.099
A47: 45981 | B47: Kerkuilen | C47: Oude Glorie | D47: =VLOOKUP(B47,Punten!$C$3:$R$141,9,0) -> 55.644 | E47: =VLOOKUP(C47,Punten!$C$3:$R$141,9,0) -> 75.309
A51: 30ste België - Nederland biljarttornooi
A52: van de Essense seniorenadviesraad 2025 - 2026
B53: 2de Ronde
A55: Datum | B55: Thuisploeg | C55: Bezoekers | D55: Punten | E55: Punten
A57: 46056 | B57: Wildert 2 | C57: Sen. Nispen | D57: =VLOOKUP(B57,Punten!$C$3:$R$141,10,0) | E57: =VLOOKUP(C57,Punten!$C$3:$R$141,10,0) -> 0
A58: 46057 | B58: Horendonk | C58: de Spil | D58: =VLOOKUP(B58,Punten!$C$3:$R$141,10,0) | E58: =VLOOKUP(C58,Punten!$C$3:$R$141,10,0)
A59: 46057 | B59: Oude Glorie | C59: Sen. Putte | D59: =VLOOKUP(B59,Punten!$C$3:$R$141,10,0) | E59: =VLOOKUP(C59,Punten!$C$3:$R$141,10,0)
A60: 46059 | B60: Wildert 1 | C60: Kerkuilen | D60: =VLOOKUP(B60,Punten!$C$3:$R$141,10,0) | E60: =VLOOKUP(C60,Punten!$C$3:$R$141,10,0)
...

Sheet Horendonk
B2: 30ste België - Nederland biljarttornooi ingericht door de Essense Seniorenraad 2025 - 2026 | AA2: Jaartotalen
B3: HORENDONK | C3: Sterktegetal | D3: Wedstrijden 1ste kompetitiehelft | K3: Totaal Punten | L3: Gespeelde wedstrijden | M3: Gemiddelde 1ste helft | N3: % Nieuw/Oud 2025 - 2026 | O3: Sterktegetal 2de helft | P3: Wedstrijden 2de kompetitiehelft | W3: Totaal Punten | X3: Gespeelde wedstrijden | Y3: Gemiddelde 2de helft | AA3: Totaal Punten | AB3: Gespeelde wedstrijden | AC3: Gemiddelde seizoen | AD3: % Nieuw/Oud 2025 - 2026
D4: 1 | E4: 2 | F4: 3 | G4: 4 | H4: 5 | I4: 6 | J4: 7 | P4: 8 | Q4: 9 | R4: 10 | S4: 11 | T4: 12 | U4: 13 | V4: 14
B5: Ansems Ferre | C5: 24 | D5: 25 | F5: 24 | G5: 20 | K5: =SUM(D5:J5) -> 69 | L5: =COUNTIF(D5:J5,">0") -> 3 | M5: =IF(K5=0," ",K5/L5) -> 23 | N5: =IF(K5=0," ",K5/(L5*C5)*100) -> 95.833333 | O5: 24 | W5: =SUM(P5:V5) -> 0 | X5: =COUNTIF(P5:V5,">0") -> 0 | Y5: =IF(W5=0," ",W5/X5) | AA5: =K5+W5 -> 69 | AB5: =L5+X5 -> 3 | AC5: =IF(AA5=0," ",AA5/AB5) -> 23 | AD5: =IF(AA5=0," ",AA5/(AB5*O5)*100) -> 95.833333
B6: Arnouts Louis | C6: 36 | D6: 46 | E6: 58 | H6: 27 | I6: 46 | J6: 50 | K6: =SUM(D6:J6) -> 227 | L6: =COUNTIF(D6:J6,">0") -> 5 | M6: =IF(K6=0," ",K6/L6) -> 45.4 | N6: =IF(K6=0," ",K6/(L6*C6)*100) -> 126.11111 | O6: 36 | W6: =SUM(P6:V6) -> 0 | X6: =COUNTIF(P6:V6,">0") -> 0 | Y6: =IF(W6=0," ",W6/X6) | AA6: =K6+W6 -> 227 | AB6: =L6+X6 -> 5 | AC6: =IF(AA6=0," ",AA6/AB6) -> 45.4 | AD6: =IF(AA6=0," ",AA6/(AB6*O6)*100) -> 126.11111
B7: Brosens Jan | C7: 26 | D7: 42 | F7: 15 | K7: =SUM(D7:J7) -> 57 | L7: =COUNTIF(D7:J7,">0") -> 2 | M7: =IF(K7=0," ",K7/L7) -> 28.5 | N7: =IF(K7=0," ",K7/(L7*C7)*100) -> 109.61538 | O7: 26 | W7: =SUM(P7:V7) -> 0 | X7: =COUNTIF(P7:V7,">0") -> 0 | Y7: =IF(W7=0," ",W7/X7) | AA7: =K7+W7 -> 57 | AB7: =L7+X7 -> 2 | AC7: =IF(AA7=0," ",AA7/AB7) -> 28.5 | AD7: =IF(AA7=0," ",AA7/(AB7*O7)*100) -> 109.61538
B8: De Backer Jef | C8: 25 | E8: 26 | F8: 7 | G8: 22 | H8: 24 | J8: 30 | K8: =SUM(D8:J8) -> 109 | L8: =COUNTIF(D8:J8,">0") -> 5 | M8: =IF(K8=0," ",K8/L8) -> 21.8 | N8: =IF(K8=0," ",K8/(L8*C8)*100) -> 87.2 | O8: 25 | W8: =SUM(P8:V8) -> 0 | X8: =COUNTIF(P8:V8,">0") -> 0 | Y8: =IF(W8=0," ",W8/X8) | AA8: =K8+W8 -> 109 | AB8: =L8+X8 -> 5 | AC8: =IF(AA8=0," ",AA8/AB8) -> 21.8 | AD8: =IF(AA8=0," ",AA8/(AB8*O8)*100) -> 87.2
B9: Herreygers Remy | C9: 43 | D9: 43 | E9: 55 | F9: 29 | G9: 26 | K9: =SUM(D9:J9) -> 153 | L9: =COUNTIF(D9:J9,">0") -> 4 | M9: =IF(K9=0," ",K9/L9) -> 38.25 | N9: =IF(K9=0," ",K9/(L9*C9)*100) -> 88.953488 | O9: 43 | W9: =SUM(P9:V9) -> 0 | X9: =COUNTIF(P9:V9,">0") -> 0 | Y9: =IF(W9=0," ",W9/X9) | AA9: =K9+W9 -> 153 | AB9: =L9+X9 -> 4 | AC9: =IF(AA9=0," ",AA9/AB9) -> 38.25 | AD9: =IF(AA9=0," ",AA9/(AB9*O9)*100) -> 88.953488
B10: Maas Guy | C10: 20 | E10: 13 | F10: 18 | H10: 18 | I10: 17 | K10: =SUM(D10:J10) -> 66 | L10: =COUNTIF(D10:J10,">0") -> 4 | M10: =IF(K10=0," ",K10/L10) -> 16.5 | N10: =IF(K10=0," ",K10/(L10*C10)*100) -> 82.5 | O10: 20 | W10: =SUM(P10:V10) -> 0 | X10: =COUNTIF(P10:V10,">0") -> 0 | Y10: =IF(W10=0," ",W10/X10) | AA10: =K10+W10 -> 66 | AB10: =L10+X10 -> 4 | AC10: =IF(AA10=0," ",AA10/AB10) -> 16.5 | AD10: =IF(AA10=0," ",AA10/(AB10*O10)*100) -> 82.5
B11: Nelen Johan | C11: 17 | D11: 10 | G11: 11 | H11: 21 | I11: 9 | J11: 13 | K11: =SUM(D11:J11) -> 64 | L11: =COUNTIF(D11:J11,">0") -> 5 | M11: =IF(K11=0," ",K11/L11) -> 12.8 | N11: =IF(K11=0," ",K11/(L11*C11)*100) -> 75.294118 | O11: 17 | W11: =SUM(P11:V11) -> 0 | X11: =COUNTIF(P11:V11,">0") -> 0 | Y11: =IF(W11=0," ",W11/X11) | AA11: =K11+W11 -> 64 | AB11: =L11+X11 -> 5 | AC11: =IF(AA11=0," ",AA11/AB11) -> 12.8 | AD11: =IF(AA11=0," ",AA11/(AB11*O11)*100) -> 75.294118
B12: Oerlemans Willy | C12: 28 | D12: 39 | G12: 22 | I12: 19 | J12: 30 | K12: =SUM(D12:J12) -> 110 | L12: =COUNTIF(D12:J12,">0") -> 4 | M12: =IF(K12=0," ",K12/L12) -> 27.5 | N12: =IF(K12=0," ",K12/(L12*C12)*100) -> 98.214286 | O12: 28 | W12: =SUM(P12:V12) -> 0 | X12: =COUNTIF(P12:V12,">0") -> 0 | Y12: =IF(W12=0," ",W12/X12) | AA12: =K12+W12 -> 110 | AB12: =L12+X12 -> 4 | AC12: =IF(AA12=0," ",AA12/AB12) -> 27.5 | AD12: =IF(AA12=0," ",AA12/(AB12*O12)*100) -> 98.214286
B13: Siemons Jos | C13: 23 | G13: 25 | H13: 23 | K13: =SUM(D13:J13) -> 48 | L13: =COUNTIF(D13:J13,">0") -> 2 | M13: =IF(K13=0," ",K13/L13) -> 24 | N13: =IF(K13=0," ",K13/(L13*C13)*100) -> 104.34783 | O13: 23 | W13: =SUM(P13:V13) -> 0 | X13: =COUNTIF(P13:V13,">0") -> 0 | Y13: =IF(W13=0," ",W13/X13) | AA13: =K13+W13 -> 48 | AB13: =L13+X13 -> 2 | AC13: =IF(AA13=0," ",AA13/AB13) -> 24 | AD13: =IF(AA13=0," ",AA13/(AB13*O13)*100) -> 104.34783
B14: van Aert André | C14: 24 | E14: 37 | F14: 26 | H14: 27 | I14: 26 | J14: 24 | K14: =SUM(D14:J14) -> 140 | L14: =COUNTIF(D14:J14,">0") -> 5 | M14: =IF(K14=0," ",K14/L14) -> 28 | N14: =IF(K14=0," ",K14/(L14*C14)*100) -> 116.66667 | O14: 24 | W14: =SUM(P14:V14) -> 0 | X14: =COUNTIF(P14:V14,">0") -> 0 | Y14: =IF(W14=0," ",W14/X14) | AA14: =K14+W14 -> 140 | AB14: =L14+X14 -> 5 | AC14: =IF(AA14=0," ",AA14/AB14) -> 28 | AD14: =IF(AA14=0," ",AA14/(AB14*O14)*100) -> 116.66667
B15: Veraart Jef (ns) | C15: 27 | I15: 21 | K15: =SUM(D15:J15) -> 21 | L15: =COUNTIF(D15:J15,">0") -> 1 | M15: =IF(K15=0," ",K15/L15) -> 21 | N15: =IF(K15=0," ",K15/(L15*C15)*100) -> 77.777778 | O15: 27 | W15: =SUM(P15:V15) -> 0 | X15: =COUNTIF(P15:V15,">0") -> 0 | Y15: =IF(W15=0," ",W15/X15) | AA15: =K15+W15 -> 21 | AB15: =L15+X15 -> 1 | AC15: =IF(AA15=0," ",AA15/AB15) -> 21 | AD15: =IF(AA15=0," ",AA15/(AB15*O15)*100) -> 77.777778
B16: Vergouwen René | C16: 29 | E16: 35 | J16: 30 | K16: =SUM(D16:J16) -> 65 | L16: =COUNTIF(D16:J16,">0") -> 2 | M16: =IF(K16=0," ",K16/L16) -> 32.5 | N16: =IF(K16=0," ",K16/(L16*C16)*100) -> 112.06897 | O16: 29 | W16: =SUM(P16:V16) -> 0 | X16: =COUNTIF(P16:V16,">0") -> 0 | Y16: =IF(W16=0," ",W16/X16) | AA16: =K16+W16 -> 65 | AB16: =L16+X16 -> 2
K17: =SUM(D17:J17) -> 0 | L17: =COUNTIF(D17:J17,">0") -> 0 | M17: =IF(K17=0," ",K17/L17) | N17: =IF(K17=0," ",K17/(L17*C17)*100) | W17: =SUM(P17:V17) -> 0 | X17: =COUNTIF(P17:V17,">0") -> 0 | Y17: =IF(W17=0," ",W17/X17) | AA17: =K17+W17 -> 0 | AB17: =L17+X17 -> 0 | AC17: =IF(AA17=0," ",AA17/AB17) | AD17: =IF(AA17=0," ",AA17/(AB17*O17)*100)
B18: 0 | C18: 0 | K18: =SUM(D18:J18) -> 0 | L18: =COUNTIF(D18:J18,">0") -> 0 | M18: =IF(K18=0," ",K18/L18) | N18: =IF(K18=0," ",K18/(L18*C18)*100) | O18: 0 | W18: =SUM(P18:V18) -> 0 | X18: =COUNTIF(P18:V18,">0") -> 0 | Y18: =IF(W18=0," ",W18/X18) | AA18: =K18+W18 -> 0 | AB18: =L18+X18 -> 0 | AC18: =IF(AA18=0," ",AA18/AB18) | AD18: =IF(AA18=0," ",AA18/(AB18*O18)*100)
B19: 0 | C19: 0 | K19: =SUM(D19:J19) -> 0 | L19: =COUNTIF(D19:J19,">0") -> 0 | M19: =IF(K19=0," ",K19/L19) | N19: =IF(K19=0," ",K19/(L19*C19)*100) | O19: 0 | W19: =SUM(P19:V19) -> 0 | X19: =COUNTIF(P19:V19,">0") -> 0 | Y19: =IF(W19=0," ",W19/X19) | AA19: =K19+W19 -> 0 | AB19: =L19+X19 -> 0 | AC19: =IF(AA19=0," ",AA19/AB19) | AD19: =IF(AA19=0," ",AA19/(AB19*O19)*100)
C20: =SUM(C5:C19) -> 322 | D20: =SUM(D5:D19) -> 205 | E20: =SUM(E5:E19) -> 224 | F20: =SUM(F5:F19) -> 119 | G20: =SUM(G5:G19) -> 126 | H20: =SUM(H5:H19) -> 140 | I20: =SUM(I5:I19) -> 138 | J20: =SUM(J5:J19) -> 177 | ... L20: =SUM(L5:L19) -> 42 | M20: =K20/L20 -> 26.880952 | O20: =SUM(O5:O19) -> 322 | P20: =SUM(P5:P19) -> 0 | Q20: =SUM(Q5:Q19) -> 0 | R20: =SUM(R5:R19) -> 0 | S20: =SUM(S5:S19) -> 0 | T20: =SUM(T5:T19) -> 0 | U20: =SUM(U5:U19) -> 0 | V20: =SUM(V5:V19) -> 0 | ... X20: =SUM(X5:X19) -> 0 | Y20: =W20/X20 -> #DIV/0! | AA20: =SUM(AA5:AA19) -> 1129 | AB20: =SUM(AB5:AB19) -> 42 | AC20: =AA20/AB20 -> 26.880952

Sheet Kerkuilen
B2: 30ste België - Nederland biljarttornooi ingericht door de Essense Seniorenraad 2025 - 2026 | AA2: Jaartotalen
B3: DE KERKUILEN | C3: Sterktegetal | D3: Wedstrijden 1ste kompetitiehelft | K3: Totaal Punten | L3: Gespeelde wedstrijden | M3: Gemiddelde 1ste helft | N3: % Nieuw/Oud 2025 - 2026 | O3: Sterktegetal 2de helft | P3: Wedstrijden 2de kompetitiehelft | W3: Totaal Punten | X3: Gespeelde wedstrijden | Y3: Gemiddelde 2de helft | AA3: Totaal Punten | AB3: Gespeelde wedstrijden | AC3: Gemiddelde seizoen | AD3: % Nieuw/Oud 2025 - 2026
D4: 1 | E4: 2 | F4: 3 | G4: 4 | H4: 5 | I4: 6 | J4: 7 | P4: 8 | Q4: 9 | R4: 10 | S4: 11 | T4: 12 | U4: 13 | V4: 14
B5: Antonissen Gust | C5: 34 | D5: 59 | E5: 28 | J5: 39 | K5: =SUM(D5:J5) -> 126 | L5: =COUNTIF(D5:J5,">0") -> 3 | M5: =IF(K5=0," ",K5/L5) -> 42 | N5: =IF(K5=0," ",K5/(L5*C5)*100) -> 123.52941 | O5: 34 | W5: =SUM(P5:V5) -> 0 | X5: =COUNTIF(P5:V5,">0") -> 0 | Y5: =IF(W5=0," ",W5/X5) | AA5: =K5+W5 -> 126 | AB5: =L5+X5 -> 3 | AC5: =IF(AA5=0," ",AA5/AB5) -> 42 | AD5: =IF(AA5=0," ",AA5/(AB5*O5)*100) -> 123.52941
B6: De Kaey Piet | C6: 49 | G6: 77 | H6: 52 | I6: 63 | J6: 61 | K6: =SUM(D6:J6) -> 253 | L6: =COUNTIF(D6:J6,">0") -> 4 | M6: =IF(K6=0," ",K6/L6) -> 63.25 | N6: =IF(K6=0," ",K6/(L6*C6)*100) -> 129.08163 | O6: 49 | W6: =SUM(P6:V6) -> 0 | X6: =COUNTIF(P6:V6,">0") -> 0 | Y6: =IF(W6=0," ",W6/X6) | AA6: =K6+W6 -> 253 | AB6: =L6+X6 -> 4 | AC6: =IF(AA6=0," ",AA6/AB6) -> 63.25 | AD6: =IF(AA6=0," ",AA6/(AB6*O6)*100) -> 129.08163
B7: Elst Stan | C7: 38 | G7: 25 | K7: =SUM(D7:J7) -> 25 | L7: =COUNTIF(D7:J7,">0") -> 1 | M7: =IF(K7=0," ",K7/L7) -> 25 | N7: =IF(K7=0," ",K7/(L7*C7)*100) -> 65.789474 | O7: 38 | W7: =SUM(P7:V7) -> 0 | X7: =COUNTIF(P7:V7,">0") -> 0 | Y7: =IF(W7=0," ",W7/X7) | AA7: =K7+W7 -> 25 | AB7: =L7+X7 -> 1 | AC7: =IF(AA7=0," ",AA7/AB7) -> 25 | AD7: =IF(AA7=0," ",AA7/(AB7*O7)*100) -> 65.789474
B8: Hectors Hugo | C8: 18 | D8: 13 | E8: 29 | G8: 10 | H8: 27 | J8: 10 | K8: =SUM(D8:J8) -> 89 | L8: =COUNTIF(D8:J8,">0") -> 5 | M8: =IF(K8=0," ",K8/L8) -> 17.8 | N8: =IF(K8=0," ",K8/(L8*C8)*100) -> 98.888889 | O8: 18 | W8: =SUM(P8:V8) -> 0 | X8: =COUNTIF(P8:V8,">0") -> 0 | Y8: =IF(W8=0," ",W8/X8) | AA8: =K8+W8 -> 89 | AB8: =L8+X8 -> 5 | AC8: =IF(AA8=0," ",AA8/AB8) -> 17.8 | AD8: =IF(AA8=0," ",AA8/(AB8*O8)*100) -> 98.888889
