Workbook

Sheet Rangschikking
A1: 0 | B1: Rangschikking 2025 - 2026
E2: Laatst gewijzigd
B3: Gemeentelijke Competitie | E3: 46003
B4: =IF(A8=26,"EINDSTAND", "TUSSENSTAND" ) -> TUSSENSTAND
L5: CONTROLE T/M RONDE | M5: CONTROLE PER RONDE
B6: Gespeeld | C6: Ploeg | D6: Punten | E6: Caramboles | F6: CLUB-KAMPIOEN | I6: NIEUW GEMIDDELDE | J6: WEDSTRIJDEN GESPEELD | L6: 12 | M6: 12
A8: =COUNTIF(Punten!$E$206:'Punten'!$AD$206,">0") -> 12 | B8: W | C8: Wildert 2 | D8: =Punten!$C$207 -> 782.7 | E8: =Wildert2!$AL$19 -> 3217 | F8: =INDEX(Wildert2!$A$4:$A$18,MATCH(MAX(Wildert2!$AO$4:$AO$18),Wildert2!$AO$4:$AO$18,0)) -> Van Den Bergh Jacky | H8: =MAX(Wildert2!$AO$4:$AO$18) -> 152.75229 | I8: =VLOOKUP($F8,Wildert2!$A$4:$AO$18,40,0) -> 166.5 | J8: =VLOOKUP($F8,Wildert2!$A$4:$AO$18,39,0) -> 2 | L8: =VLOOKUP($C8,Punten!$D$4:$AD$222,1+$L$6,0) -> 782.7 | M8: =VLOOKUP($C8,Punten!$C$4:$AD$222,2+$M$6,0) -> 75.402
A9: =COUNTIF(Punten!E173:'Punten'!AD173,">0") -> 12 | B9: W | C9: Sen. Putte | D9: =Punten!$C$174 -> 760.428 | E9: =DeBeek!$AL$19 -> 2219 | F9: =INDEX(Putte!$A$4:$A$18,MATCH(MAX(Putte!$AO$4:$AO$18),Putte!$AO$4:$AO$18,0)) -> Van Den Bleeken Eddy | H9: =MAX(Putte!$AO$4:$AO$18) -> 124.24242 | I9: =VLOOKUP($F9,Putte!$A$4:$AO$18,40,0) -> 27.333333 | J9: =VLOOKUP($F9,Putte!$A$4:$AO$18,39,0) -> 6 | L9: =VLOOKUP($C9,Punten!$D$4:$AD$222,1+$L$6,0) -> 760.428 | M9: =VLOOKUP($C9,Punten!$C$4:$AD$222,2+$M$6,0) -> 65.844
A10: =COUNTIF(Punten!$E$128:'Punten'!$AD$128,">0") -> 12 | B10: W | C10: Rebelse Meeuwkes | D10: =Punten!$C$129 -> 733.207 | E10: =Meeuwkes!$AL$19 -> 2363.0001 | F10: =INDEX(Meeuwkes!$A$4:$A$18,MATCH(MAX(Meeuwkes!$AO$4:$AO$18),Meeuwkes!$AO$4:$AO$18,0)) -> Bove René | H10: =MAX(Meeuwkes!$AO$4:$AO$18) -> 136.66667 | I10: =VLOOKUP($F10,Meeuwkes!$A$4:$AO$18,40,0) -> 27.333333 | J10: =VLOOKUP($F10,Meeuwkes!$A$4:$AO$18,39,0) -> 6 | L10: =VLOOKUP($C10,Punten!$D$4:$AD$222,1+$L$6,0) -> 733.207 | M10: =VLOOKUP($C10,Punten!$C$4:$AD$222,2+$M$6,0) -> 61.689
A11: =COUNTIF(Punten!$E$67:'Punten'!$AD$67,">0") -> 12 | B11: W | C11: Meeuwen 2 | D11: =Punten!$C$68 -> 730.768 | E11: =Meeuwen2!$AL$19 -> 2632 | F11: =INDEX(Meeuwen2!$A$4:$A$18,MATCH(MAX(Meeuwen2!$AO$4:$AO$18),Meeuwen2!$AO$4:$AO$18,0)) -> Lucassen Rini | H11: =MAX(Meeuwen2!$AO$4:$AO$18) -> 120.68966 | I11: =VLOOKUP($F11,Meeuwen2!$A$4:$AO$18,40,0) -> 35 | J11: =VLOOKUP($F11,Meeuwen2!$A$4:$AO$18,39,0) -> 2 | L11: =VLOOKUP($C11,Punten!$D$4:$AD$222,1+$L$6,0) -> 730.768 | M11: =VLOOKUP($C11,Punten!$C$4:$AD$222,2+$M$6,0) -> 56.549
A12: =COUNTIF(Punten!$E$157:'Punten'!$AD$157,">0") -> 12 | B12: W | C12: Rooie Bal 2 | D12: =Punten!$C$158 -> 719.494 | E12: =Rooiebal2!$AL$19 -> 2210 | F12: =INDEX(Rooiebal2!$A$4:$A$18,MATCH(MAX(Rooiebal2!$AO$4:$AO$18),Rooiebal2!$AO$4:$AO$18,0)) -> Donckers Johnny | H12: =MAX(Rooiebal2!$AO$4:$AO$18) -> 132 | I12: =VLOOKUP($F12,Rooiebal2!$A$4:$AO$18,40,0) -> 33 | J12: =VLOOKUP($F12,Rooiebal2!$A$4:$AO$18,39,0) -> 9 | L12: =VLOOKUP($C12,Punten!$D$4:$AD$222,1+$L$6,0) -> 719.494 | M12: =VLOOKUP($C12,Punten!$C$4:$AD$222,2+$M$6,0) -> 60.03
A13: =COUNTIF(Punten!E112:'Punten'!AD112,">0") -> 12 | B13: W | C13: Oude Glorie | D13: =Punten!$C$113 -> 719.295 | E13: =Oudeglorie!$AL$19 -> 2194 | F13: =INDEX(Oudeglorie!$A$4:$A$18,MATCH(MAX(Oudeglorie!$AO$4:$AO$18),Oudeglorie!$AO$4:$AO$18,0)) -> Aerden Carl | H13: =MAX(Oudeglorie!$AO$4:$AO$18) -> 125 | I13: =VLOOKUP($F13,Oudeglorie!$A$4:$AO$18,40,0) -> 30 | J13: =VLOOKUP($F13,Oudeglorie!$A$4:$AO$18,39,0) -> 7 | L13: =VLOOKUP($C13,Punten!$D$4:$AD$222,1+$L$6,0) -> 719.295 | M13: =VLOOKUP($C13,Punten!$C$4:$AD$222,2+$M$6,0) -> 53.647
A14: =COUNTIF(Punten!$E$190:'Punten'!$AD$190,">0") -> 12 | B14: W | C14: Wildert 1 | D14: =Punten!$C$191 -> 717.443 | E14: =Wildert1!$AL$19 -> 2491 | F14: =INDEX(Wildert1!$A$4:$A$18,MATCH(MAX(Wildert1!$AO$4:$AO$18),Wildert1!$AO$4:$AO$18,0)) -> Konings Guido | H14: =MAX(Wildert1!$AO$4:$AO$18) -> 136.66667 | I14: =VLOOKUP($F14,Wildert1!$A$4:$AO$18,40,0) -> 32.8 | J14: =VLOOKUP($F14,Wildert1!$A$4:$AO$18,39,0) -> 5 | L14: =VLOOKUP($C14,Punten!$D$4:$AD$222,1+$L$6,0) -> 717.443 | M14: =VLOOKUP($C14,Punten!$C$4:$AD$222,2+$M$6,0) -> 56.847
A15: =COUNTIF(Punten!$E$94:'Punten'!$AD$94,">0") -> 12 | B15: W | C15: Nispen Gem. | D15: =Punten!$C$95 -> 709.33 | E15: =Nispen!$AL$19 -> 2271 | F15: =INDEX(Nispen!$A$4:$A$18,MATCH(MAX(Nispen!$AO$4:$AO$18),Nispen!$AO$4:$AO$18,0)) -> Brouwers Vic | H15: =MAX(Nispen!$AO$4:$AO$18) -> 105.88235 | I15: =VLOOKUP($F15,Nispen!$A$4:$AO$18,40,0) -> 72 | J15: =VLOOKUP($F15,Nispen!$A$4:$AO$18,39,0) -> 11 | L15: =VLOOKUP($C15,Punten!$D$4:$AD$222,1+$L$6,0) -> 709.33 | M15: =VLOOKUP($C15,Punten!$C$4:$AD$222,2+$M$6,0) -> 46.091
A16: =COUNTIF(Punten!$E$80:'Punten'!$AD$80,">0") -> 12 | B16: W | C16: Molenheike | D16: =Punten!$C$81 -> 704.752 | E16: =Molenheike!$AL$19 -> 2741 | F16: =INDEX(Molenheike!$A$4:$A$18,MATCH(MAX(Molenheike!$AO$4:$AO$18),Molenheike!$AO$4:$AO$18,0)) -> Keuppens Marc | H16: =MAX(Molenheike!$AO$4:$AO$18) -> 120 | I16: =VLOOKUP($F16,Molenheike!$A$4:$AO$18,40,0) -> 36 | J16: =VLOOKUP($F16,Molenheike!$A$4:$AO$18,39,0) -> 8 | L16: =VLOOKUP($C16,Punten!$D$4:$AD$222,1+$L$6,0) -> 704.752 | M16: =VLOOKUP($C16,Punten!$C$4:$AD$222,2+$M$6,0) -> 59.681
A17: =COUNTIF(Punten!$E$221:'Punten'!$AD$221,">0") -> 12 | B17: W | C17: BC de Beek | D17: =Punten!$C$222 -> 701.865 | E17: =DeBeek!$AL$19 -> 2219 | F17: =INDEX(DeBeek!$A$4:$A$18,MATCH(MAX(DeBeek!$AO$4:$AO$18),DeBeek!$AO$4:$AO$18,0)) -> Beyers Armand | H17: =MAX(DeBeek!$AO$4:$AO$18) -> 125 | I17: =VLOOKUP($F17,DeBeek!$A$4:$AO$18,40,0) -> 45 | J17: =VLOOKUP($F17,DeBeek!$A$4:$AO$18,39,0) -> 6 | L17: =VLOOKUP($C17,Punten!$D$4:$AD$222,1+$L$6,0) -> 701.865 | M17: =VLOOKUP($C17,Punten!$C$4:$AD$222,2+$M$6,0) -> 74.556
A18: =COUNTIF(Punten!$E$16:'Punten'!$AD$16,">0") -> 12 | B18: W | C18: Horendonk | D18: =Punten!$C$17 -> 684.534 | E18: =Horendonk!$AL$19 -> 1855 | F18: =INDEX(Horendonk!$A$4:$A$18,MATCH(MAX(Horendonk!$AO$4:$AO$18),Horendonk!$AO$4:$AO$18,0)) -> Veraart Jef (ns) | H18: =MAX(Horendonk!$AO$4:$AO$18) -> 122.22222 | I18: =VLOOKUP($F18,Horendonk!$A$4:$AO$18,40,0) -> 33 | J18: =VLOOKUP($F18,Horendonk!$A$4:$AO$18,39,0) -> 2 | L18: =VLOOKUP($C18,Punten!$D$4:$AD$222,1+$L$6,0) -> 684.534 | M18: =VLOOKUP($C18,Punten!$C$4:$AD$222,2+$M$6,0) -> 54.676
A19: =COUNTIF(Punten!$E$35:'Punten'!$AD$35,">0") -> 12 | B19: W | C19: Kerkuilen | D19: =Punten!$C$36 -> 668.193 | E19: =Kerkuilen!$AL$19 -> 3013 | F19: =INDEX(Kerkuilen!$A$4:$A$18,MATCH(MAX(Kerkuilen!$AO$4:$AO$18),Kerkuilen!$AO$4:$AO$18,0)) -> Van Oers John | H19: =MAX(Kerkuilen!$AO$4:$AO$18) -> 135.48387 | I19: =VLOOKUP($F19,Kerkuilen!$A$4:$AO$18,40,0) -> 42 | J19: =VLOOKUP($F19,Kerkuilen!$A$4:$AO$18,39,0) -> 1 | L19: =VLOOKUP($C19,Punten!$D$4:$AD$222,1+$L$6,0) -> 668.193 | M19: =VLOOKUP($C19,Punten!$C$4:$AD$222,2+$M$6,0) -> 53.764
A20: =COUNTIF(Punten!$E$142:'Punten'!$AD$142,">0") -> 12 | B20: W | C20: Rooie Bal 1 | D20: =Punten!$C$143 -> 659.02 | E20: =Rooiebal1!$AL$19 -> 1900 | F20: =INDEX(Rooiebal1!$A$4:$A$18,MATCH(MAX(Rooiebal1!$AO$4:$AO$18),Rooiebal1!$AO$4:$AO$18,0)) -> Raeymakers Pierre | H20: =MAX(Rooiebal1!$AO$4:$AO$18) -> 143.47826 | I20: =VLOOKUP($F20,Rooiebal1!$A$4:$AO$18,40,0) -> 33 | J20: =VLOOKUP($F20,Rooiebal1!$A$4:$AO$18,39,0) -> 2 | L20: =VLOOKUP($C20,Punten!$D$4:$AD$222,1+$L$6,0) -> 659.02 | M20: =VLOOKUP($C20,Punten!$C$4:$AD$222,2+$M$6,0) -> 53.383
A21: =COUNTIF(Punten!$E$50:'Punten'!$AD$50,">0") -> 12 | B21: W | C21: Meeuwen 1 | D21: =Punten!$C$51 -> 615.686 | E21: =Meeuwen1!$AL$19 -> 1651 | F21: =INDEX(Meeuwen1!$A$4:$A$18,MATCH(MAX(Meeuwen1!$AO$4:$AO$18),Meeuwen1!$AO$4:$AO$18,0)) -> Vossen Filip | H21: =MAX(Meeuwen1!$AO$4:$AO$18) -> 111.60714 | I21: =VLOOKUP($F21,Meeuwen1!$A$4:$AO$18,40,0) -> 17.857143 | J21: =VLOOKUP($F21,Meeuwen1!$A$4:$AO$18,39,0) -> 7 | L21: =VLOOKUP($C21,Punten!$D$4:$AD$222,1+$L$6,0) -> 615.686 | M21: =VLOOKUP($C21,Punten!$C$4:$AD$222,2+$M$6,0) -> 43.292
B27: Uitslagen en evoluties zijn wekelijks te volgen op:
B28: https://blog.seniorennet.be/GSE_Essen

Sheet Punten
A1: Aantal | C1: Totaal
A2: wedstrijden | C2: punten
B3: HORENDONK | E3: 1 | F3: 2 | G3: 3 | H3: 4 | I3: 5 | J3: 6 | K3: 7 | L3: 8 | M3: 9 | N3: 10 | O3: 11 | P3: 12 | Q3: 13 | R3: 14 | S3: 15 | T3: 16 | U3: 17 | V3: 18 | W3: 19 | X3: 20 | Y3: 21 | Z3: 22 | AA3: 23 | AB3: 24 | AC3: 25 | AD3: 26
A4: =IF(SUM(E4:AD4)=0,(" "),COUNTIF(E4:AD4,">0")) -> 6 | B4: =Horendonk!A4 -> Ansems Ferre | C4: =IF(Horendonk!AL4=0," ",SUM(E4:AD4)) -> 70.525 | E4: =IF(Horendonk!C4=(""),(""),ROUND(Horendonk!C4/Horendonk!$B4*10,3)) | F4: =IF(Horendonk!D4=(""),(""),ROUND(Horendonk!D4/Horendonk!$B4*10,3)) -> 7.368 | G4: =IF(Horendonk!E4=(""),(""),ROUND(Horendonk!E4/Horendonk!$B4*10,3)) | H4: =IF(Horendonk!F4=(""),(""),ROUND(Horendonk!F4/Horendonk!$B4*10,3)) -> 15.263 | I4: =IF(Horendonk!G4=(""),(""),ROUND(Horendonk!G4/Horendonk!$B4*10,3)) -> 13.684 | J4: =IF(Horendonk!H4=(""),(""),ROUND(Horendonk!H4/Horendonk!$B4*10,3)) | K4: =IF(Horendonk!I4=(""),(""),ROUND(Horendonk!I4/Horendonk!$B4*10,3)) | L4: =IF(Horendonk!J4=(""),(""),ROUND(Horendonk!J4/Horendonk!$B4*10,3)) | ... Q4: =IF(Horendonk!O4=(""),(""),ROUND(Horendonk!O4/Horendonk!$B4*10,3)) | R4: =IF(Horendonk!U4=(""),(""),ROUND(Horendonk!U4/Horendonk!$T4*10,3)) | S4: =IF(Horendonk!V4=(""),(""),ROUND(Horendonk!V4/Horendonk!$T4*10,3)) | T4: =IF(Horendonk!W4=(""),(""),ROUND(Horendonk!W4/Horendonk!$T4*10,3)) | U4: =IF(Horendonk!X4=(""),(""),ROUND(Horendonk!X4/Horendonk!$T4*10,3)) | V4: =IF(Horendonk!Y4=(""),(""),ROUND(Horendonk!Y4/Horendonk!$T4*10,3)) | W4: =IF(Horendonk!Z4=(""),(""),ROUND(Horendonk!Z4/Horendonk!$T4*10,3)) | X4: =IF(Horendonk!AA4=(""),(""),ROUND(Horendonk!AA4/Horendonk!$T4*10,3)) | Y4: =IF(Horendonk!AB4=(""),(""),ROUND(Horendonk!AB4/Horendonk!$T4*10,3)) | ... AD4: =IF(Horendonk!AG4=(""),(""),ROUND(Horendonk!AG4/Horendonk!$T4*10,3))
A5: =IF(SUM(E5:AD5)=0,(" "),COUNTIF(E5:AD5,">0")) -> 4 | B5: =Horendonk!A5 -> Arnouts Louis | C5: =IF(Horendonk!AL5=0," ",SUM(E5:AD5)) -> 37.429 | E5: =IF(Horendonk!C5=(""),(""),ROUND(Horendonk!C5/Horendonk!$B5*10,3)) -> 10.286 | F5: =IF(Horendonk!D5=(""),(""),ROUND(Horendonk!D5/Horendonk!$B5*10,3)) | G5: =IF(Horendonk!E5=(""),(""),ROUND(Horendonk!E5/Horendonk!$B5*10,3)) | H5: =IF(Horendonk!F5=(""),(""),ROUND(Horendonk!F5/Horendonk!$B5*10,3)) | I5: =IF(Horendonk!G5=(""),(""),ROUND(Horendonk!G5/Horendonk!$B5*10,3)) | J5: =IF(Horendonk!H5=(""),(""),ROUND(Horendonk!H5/Horendonk!$B5*10,3)) | K5: =IF(Horendonk!I5=(""),(""),ROUND(Horendonk!I5/Horendonk!$B5*10,3)) -> 11.143 | L5: =IF(Horendonk!J5=(""),(""),ROUND(Horendonk!J5/Horendonk!$B5*10,3)) -> 6.571 | ... Q5: =IF(Horendonk!O5=(""),(""),ROUND(Horendonk!O5/Horendonk!$B5*10,3)) | R5: =IF(Horendonk!U5=(""),(""),ROUND(Horendonk!U5/Horendonk!$T5*10,3)) | S5: =IF(Horendonk!V5=(""),(""),ROUND(Horendonk!V5/Horendonk!$T5*10,3)) | T5: =IF(Horendonk!W5=(""),(""),ROUND(Horendonk!W5/Horendonk!$T5*10,3)) | U5: =IF(Horendonk!X5=(""),(""),ROUND(Horendonk!X5/Horendonk!$T5*10,3)) | V5: =IF(Horendonk!Y5=(""),(""),ROUND(Horendonk!Y5/Horendonk!$T5*10,3)) | W5: =IF(Horendonk!Z5=(""),(""),ROUND(Horendonk!Z5/Horendonk!$T5*10,3)) | X5: =IF(Horendonk!AA5=(""),(""),ROUND(Horendonk!AA5/Horendonk!$T5*10,3)) | Y5: =IF(Horendonk!AB5=(""),(""),ROUND(Horendonk!AB5/Horendonk!$T5*10,3)) | ... AD5: =IF(Horendonk!AG5=(""),(""),ROUND(Horendonk!AG5/Horendonk!$T5*10,3))
A6: =IF(SUM(E6:AD6)=0,(" "),COUNTIF(E6:AD6,">0")) | B6: =Horendonk!A6 -> Brosens Jan | C6: =IF(Horendonk!AL6=0," ",SUM(E6:AD6)) | E6: =IF(Horendonk!C6=(""),(""),ROUND(Horendonk!C6/Horendonk!$B6*10,3)) | F6: =IF(Horendonk!D6=(""),(""),ROUND(Horendonk!D6/Horendonk!$B6*10,3)) | G6: =IF(Horendonk!E6=(""),(""),ROUND(Horendonk!E6/Horendonk!$B6*10,3)) | H6: =IF(Horendonk!F6=(""),(""),ROUND(Horendonk!F6/Horendonk!$B6*10,3)) | I6: =IF(Horendonk!G6=(""),(""),ROUND(Horendonk!G6/Horendonk!$B6*10,3)) | J6: =IF(Horendonk!H6=(""),(""),ROUND(Horendonk!H6/Horendonk!$B6*10,3)) | K6: =IF(Horendonk!I6=(""),(""),ROUND(Horendonk!I6/Horendonk!$B6*10,3)) | L6: =IF(Horendonk!J6=(""),(""),ROUND(Horendonk!J6/Horendonk!$B6*10,3)) | ... Q6: =IF(Horendonk!O6=(""),(""),ROUND(Horendonk!O6/Horendonk!$B6*10,3)) | R6: =IF(Horendonk!U6=(""),(""),ROUND(Horendonk!U6/Horendonk!$T6*10,3)) | S6: =IF(Horendonk!V6=(""),(""),ROUND(Horendonk!V6/Horendonk!$T6*10,3)) | T6: =IF(Horendonk!W6=(""),(""),ROUND(Horendonk!W6/Horendonk!$T6*10,3)) | U6: =IF(Horendonk!X6=(""),(""),ROUND(Horendonk!X6/Horendonk!$T6*10,3)) | V6: =IF(Horendonk!Y6=(""),(""),ROUND(Horendonk!Y6/Horendonk!$T6*10,3)) | W6: =IF(Horendonk!Z6=(""),(""),ROUND(Horendonk!Z6/Horendonk!$T6*10,3)) | X6: =IF(Horendonk!AA6=(""),(""),ROUND(Horendonk!AA6/Horendonk!$T6*10,3)) | Y6: =IF(Horendonk!AB6=(""),(""),ROUND(Horendonk!AB6/Horendonk!$T6*10,3)) | ... AD6: =IF(Horendonk!AG6=(""),(""),ROUND(Horendonk!AG6/Horendonk!$T6*10,3))
A7: =IF(SUM(E7:AD7)=0,(" "),COUNTIF(E7:AD7,">0")) -> 8 | B7: =Horendonk!A7 -> De Backer Jef | C7: =IF(Horendonk!AL7=0," ",SUM(E7:AD7)) -> 77.307 | E7: =IF(Horendonk!C7=(""),(""),ROUND(Horendonk!C7/Horendonk!$B7*10,3)) -> 15.769 | F7: =IF(Horendonk!D7=(""),(""),ROUND(Horendonk!D7/Horendonk!$B7*10,3)) | G7: =IF(Horendonk!E7=(""),(""),ROUND(Horendonk!E7/Horendonk!$B7*10,3)) -> 6.923 | H7: =IF(Horendonk!F7=(""),(""),ROUND(Horendonk!F7/Horendonk!$B7*10,3)) -> 15.769 | I7: =IF(Horendonk!G7=(""),(""),ROUND(Horendonk!G7/Horendonk!$B7*10,3)) -> 9.231 | J7: =IF(Horendonk!H7=(""),(""),ROUND(Horendonk!H7/Horendonk!$B7*10,3)) | K7: =IF(Horendonk!I7=(""),(""),ROUND(Horendonk!I7/Horendonk!$B7*10,3)) | L7: =IF(Horendonk!J7=(""),(""),ROUND(Horendonk!J7/Horendonk!$B7*10,3)) -> 9.231 | ... Q7: =IF(Horendonk!O7=(""),(""),ROUND(Horendonk!O7/Horendonk!$B7*10,3)) | R7: =IF(Horendonk!U7=(""),(""),ROUND(Horendonk!U7/Horendonk!$T7*10,3)) | S7: =IF(Horendonk!V7=(""),(""),ROUND(Horendonk!V7/Horendonk!$T7*10,3)) | T7: =IF(Horendonk!W7=(""),(""),ROUND(Horendonk!W7/Horendonk!$T7*10,3)) | U7: =IF(Horendonk!X7=(""),(""),ROUND(Horendonk!X7/Horendonk!$T7*10,3)) | V7: =IF(Horendonk!Y7=(""),(""),ROUND(Horendonk!Y7/Horendonk!$T7*10,3)) | W7: =IF(Horendonk!Z7=(""),(""),ROUND(Horendonk!Z7/Horendonk!$T7*10,3)) | X7: =IF(Horendonk!AA7=(""),(""),ROUND(Horendonk!AA7/Horendonk!$T7*10,3)) | Y7: =IF(Horendonk!AB7=(""),(""),ROUND(Horendonk!AB7/Horendonk!$T7*10,3)) | ... AD7: =IF(Horendonk!AG7=(""),(""),ROUND(Horendonk!AG7/Horendonk!$T7*10,3))
A8: =IF(SUM(E8:AD8)=0,(" "),COUNTIF(E8:AD8,">0")) -> 7 | B8: =Horendonk!A8 -> Herreyers Remy | C8: =IF(Horendonk!AL8=0," ",SUM(E8:AD8)) -> 53.749 | E8: =IF(Horendonk!C8=(""),(""),ROUND(Horendonk!C8/Horendonk!$B8*10,3)) | F8: =IF(Horendonk!D8=(""),(""),ROUND(Horendonk!D8/Horendonk!$B8*10,3)) -> 3.958 | G8: =IF(Horendonk!E8=(""),(""),ROUND(Horendonk!E8/Horendonk!$B8*10,3)) -> 7.083 | H8: =IF(Horendonk!F8=(""),(""),ROUND(Horendonk!F8/Horendonk!$B8*10,3)) -> 7.5 | I8: =IF(Horendonk!G8=(""),(""),ROUND(Horendonk!G8/Horendonk!$B8*10,3)) | J8: =IF(Horendonk!H8=(""),(""),ROUND(Horendonk!H8/Horendonk!$B8*10,3)) -> 6.875 | K8: =IF(Horendonk!I8=(""),(""),ROUND(Horendonk!I8/Horendonk!$B8*10,3)) -> 10.625 | L8: =IF(Horendonk!J8=(""),(""),ROUND(Horendonk!J8/Horendonk!$B8*10,3)) | ... Q8: =IF(Horendonk!O8=(""),(""),ROUND(Horendonk!O8/Horendonk!$B8*10,3)) | R8: =IF(Horendonk!U8=(""),(""),ROUND(Horendonk!U8/Horendonk!$T8*10,3)) | S8: =IF(Horendonk!V8=(""),(""),ROUND(Horendonk!V8/Horendonk!$T8*10,3)) | T8: =IF(Horendonk!W8=(""),(""),ROUND(Horendonk!W8/Horendonk!$T8*10,3)) | U8: =IF(Horendonk!X8=(""),(""),ROUND(Horendonk!X8/Horendonk!$T8*10,3)) | V8: =IF(Horendonk!Y8=(""),(""),ROUND(Horendonk!Y8/Horendonk!$T8*10,3)) | W8: =IF(Horendonk!Z8=(""),(""),ROUND(Horendonk!Z8/Horendonk!$T8*10,3)) | X8: =IF(Horendonk!AA8=(""),(""),ROUND(Horendonk!AA8/Horendonk!$T8*10,3)) | Y8: =IF(Horendonk!AB8=(""),(""),ROUND(Horendonk!AB8/Horendonk!$T8*10,3)) | ... AD8: =IF(Horendonk!AG8=(""),(""),ROUND(Horendonk!AG8/Horendonk!$T8*10,3))
A9: =IF(SUM(E9:AD9)=0,(" "),COUNTIF(E9:AD9,">0")) -> 6 | B9: =Horendonk!A9 -> Maas Guy | C9: =IF(Horendonk!AL9=0," ",SUM(E9:AD9)) -> 48 | E9: =IF(Horendonk!C9=(""),(""),ROUND(Horendonk!C9/Horendonk!$B9*10,3)) -> 11.6 | F9: =IF(Horendonk!D9=(""),(""),ROUND(Horendonk!D9/Horendonk!$B9*10,3)) | G9: =IF(Horendonk!E9=(""),(""),ROUND(Horendonk!E9/Horendonk!$B9*10,3)) | H9: =IF(Horendonk!F9=(""),(""),ROUND(Horendonk!F9/Horendonk!$B9*10,3)) -> 6 | I9: =IF(Horendonk!G9=(""),(""),ROUND(Horendonk!G9/Horendonk!$B9*10,3)) | J9: =IF(Horendonk!H9=(""),(""),ROUND(Horendonk!H9/Horendonk!$B9*10,3)) -> 7.2 | K9: =IF(Horendonk!I9=(""),(""),ROUND(Horendonk!I9/Horendonk!$B9*10,3)) -> 6.8 | L9: =IF(Horendonk!J9=(""),(""),ROUND(Horendonk!J9/Horendonk!$B9*10,3)) | ... Q9: =IF(Horendonk!O9=(""),(""),ROUND(Horendonk!O9/Horendonk!$B9*10,3)) | R9: =IF(Horendonk!U9=(""),(""),ROUND(Horendonk!U9/Horendonk!$T9*10,3)) | S9: =IF(Horendonk!V9=(""),(""),ROUND(Horendonk!V9/Horendonk!$T9*10,3)) | T9: =IF(Horendonk!W9=(""),(""),ROUND(Horendonk!W9/Horendonk!$T9*10,3)) | U9: =IF(Horendonk!X9=(""),(""),ROUND(Horendonk!X9/Horendonk!$T9*10,3)) | V9: =IF(Horendonk!Y9=(""),(""),ROUND(Horendonk!Y9/Horendonk!$T9*10,3)) | W9: =IF(Horendonk!Z9=(""),(""),ROUND(Horendonk!Z9/Horendonk!$T9*10,3)) | X9: =IF(Horendonk!AA9=(""),(""),ROUND(Horendonk!AA9/Horendonk!$T9*10,3)) | Y9: =IF(Horendonk!AB9=(""),(""),ROUND(Horendonk!AB9/Horendonk!$T9*10,3)) | ... AD9: =IF(Horendonk!AG9=(""),(""),ROUND(Horendonk!AG9/Horendonk!$T9*10,3))
A10: =IF(SUM(E10:AD10)=0,(" "),COUNTIF(E10:AD10,">0")) -> 7 | B10: =Horendonk!A10 -> Nelen Johan | C10: =IF(Horendonk!AL10=0," ",SUM(E10:AD10)) -> 70.666 | E10: =IF(Horendonk!C10=(""),(""),ROUND(Horendonk!C10/Horendonk!$B10*10,3)) | F10: =IF(Horendonk!D10=(""),(""),ROUND(Horendonk!D10/Horendonk!$B10*10,3)) -> 9.333 | G10: =IF(Horendonk!E10=(""),(""),ROUND(Horendonk!E10/Horendonk!$B10*10,3)) -> 9.333 | H10: =IF(Horendonk!F10=(""),(""),ROUND(Horendonk!F10/Horendonk!$B10*10,3)) | I10: =IF(Horendonk!G10=(""),(""),ROUND(Horendonk!G10/Horendonk!$B10*10,3)) -> 6 | J10: =IF(Horendonk!H10=(""),(""),ROUND(Horendonk!H10/Horendonk!$B10*10,3)) | K10: =IF(Horendonk!I10=(""),(""),ROUND(Horendonk!I10/Horendonk!$B10*10,3)) -> 10.667 | L10: =IF(Horendonk!J10=(""),(""),ROUND(Horendonk!J10/Horendonk!$B10*10,3)) | ... Q10: =IF(Horendonk!O10=(""),(""),ROUND(Horendonk!O10/Horendonk!$B10*10,3)) | R10: =IF(Horendonk!U10=(""),(""),ROUND(Horendonk!U10/Horendonk!$T10*10,3)) | S10: =IF(Horendonk!V10=(""),(""),ROUND(Horendonk!V10/Horendonk!$T10*10,3)) | T10: =IF(Horendonk!W10=(""),(""),ROUND(Horendonk!W10/Horendonk!$T10*10,3)) | U10: =IF(Horendonk!X10=(""),(""),ROUND(Horendonk!X10/Horendonk!$T10*10,3)) | V10: =IF(Horendonk!Y10=(""),(""),ROUND(Horendonk!Y10/Horendonk!$T10*10,3)) | W10: =IF(Horendonk!Z10=(""),(""),ROUND(Horendonk!Z10/Horendonk!$T10*10,3)) | X10: =IF(Horendonk!AA10=(""),(""),ROUND(Horendonk!AA10/Horendonk!$T10*10,3)) | Y10: =IF(Horendonk!AB10=(""),(""),ROUND(Horendonk!AB10/Horendonk!$T10*10,3)) | ... AD10: =IF(Horendonk!AG10=(""),(""),ROUND(Horendonk!AG10/Horendonk!$T10*10,3))
A11: =IF(SUM(E11:AD11)=0,(" "),COUNTIF(E11:AD11,">0")) -> 7 | B11: =Horendonk!A11 -> Oerlemans Willy | C11: =IF(Horendonk!AL11=0," ",SUM(E11:AD11)) -> 64.287 | E11: =IF(Horendonk!C11=(""),(""),ROUND(Horendonk!C11/Horendonk!$B11*10,3)) | F11: =IF(Horendonk!D11=(""),(""),ROUND(Horendonk!D11/Horendonk!$B11*10,3)) -> 7.857 | G11: =IF(Horendonk!E11=(""),(""),ROUND(Horendonk!E11/Horendonk!$B11*10,3)) | H11: =IF(Horendonk!F11=(""),(""),ROUND(Horendonk!F11/Horendonk!$B11*10,3)) | I11: =IF(Horendonk!G11=(""),(""),ROUND(Horendonk!G11/Horendonk!$B11*10,3)) -> 9.286 | J11: =IF(Horendonk!H11=(""),(""),ROUND(Horendonk!H11/Horendonk!$B11*10,3)) -> 7.143 | K11: =IF(Horendonk!I11=(""),(""),ROUND(Horendonk!I11/Horendonk!$B11*10,3)) | L11: =IF(Horendonk!J11=(""),(""),ROUND(Horendonk!J11/Horendonk!$B11*10,3)) -> 9.286 | ... Q11: =IF(Horendonk!O11=(""),(""),ROUND(Horendonk!O11/Horendonk!$B11*10,3)) | R11: =IF(Horendonk!U11=(""),(""),ROUND(Horendonk!U11/Horendonk!$T11*10,3)) | S11: =IF(Horendonk!V11=(""),(""),ROUND(Horendonk!V11/Horendonk!$T11*10,3)) | T11: =IF(Horendonk!W11=(""),(""),ROUND(Horendonk!W11/Horendonk!$T11*10,3)) | U11: =IF(Horendonk!X11=(""),(""),ROUND(Horendonk!X11/Horendonk!$T11*10,3)) | V11: =IF(Horendonk!Y11=(""),(""),ROUND(Horendonk!Y11/Horendonk!$T11*10,3)) | W11: =IF(Horendonk!Z11=(""),(""),ROUND(Horendonk!Z11/Horendonk!$T11*10,3)) | X11: =IF(Horendonk!AA11=(""),(""),ROUND(Horendonk!AA11/Horendonk!$T11*10,3)) | Y11: =IF(Horendonk!AB11=(""),(""),ROUND(Horendonk!AB11/Horendonk!$T11*10,3)) | ... AD11: =IF(Horendonk!AG11=(""),(""),ROUND(Horendonk!AG11/Horendonk!$T11*10,3))
A12: =IF(SUM(E12:AD12)=0,(" "),COUNTIF(E12:AD12,">0")) -> 10 | B12: =Horendonk!A12 -> Siemons Jos | C12: =IF(Horendonk!AL12=0," ",SUM(E12:AD12)) -> 98 | E12: =IF(Horendonk!C12=(""),(""),ROUND(Horendonk!C12/Horendonk!$B12*10,3)) -> 12 | F12: =IF(Horendonk!D12=(""),(""),ROUND(Horendonk!D12/Horendonk!$B12*10,3)) -> 7.6 | G12: =IF(Horendonk!E12=(""),(""),ROUND(Horendonk!E12/Horendonk!$B12*10,3)) -> 8.8 | H12: =IF(Horendonk!F12=(""),(""),ROUND(Horendonk!F12/Horendonk!$B12*10,3)) -> 19.2 | I12: =IF(Horendonk!G12=(""),(""),ROUND(Horendonk!G12/Horendonk!$B12*10,3)) -> 4.4 | J12: =IF(Horendonk!H12=(""),(""),ROUND(Horendonk!H12/Horendonk!$B12*10,3)) -> 10 | K12: =IF(Horendonk!I12=(""),(""),ROUND(Horendonk!I12/Horendonk!$B12*10,3)) | L12: =IF(Horendonk!J12=(""),(""),ROUND(Horendonk!J12/Horendonk!$B12*10,3)) -> 9.2 | ... Q12: =IF(Horendonk!O12=(""),(""),ROUND(Horendonk!O12/Horendonk!$B12*10,3)) | R12: =IF(Horendonk!U12=(""),(""),ROUND(Horendonk!U12/Horendonk!$T12*10,3)) | S12: =IF(Horendonk!V12=(""),(""),ROUND(Horendonk!V12/Horendonk!$T12*10,3)) | T12: =IF(Horendonk!W12=(""),(""),ROUND(Horendonk!W12/Horendonk!$T12*10,3)) | U12: =IF(Horendonk!X12=(""),(""),ROUND(Horendonk!X12/Horendonk!$T12*10,3)) | V12: =IF(Horendonk!Y12=(""),(""),ROUND(Horendonk!Y12/Horendonk!$T12*10,3)) | W12: =IF(Horendonk!Z12=(""),(""),ROUND(Horendonk!Z12/Horendonk!$T12*10,3)) | X12: =IF(Horendonk!AA12=(""),(""),ROUND(Horendonk!AA12/Horendonk!$T12*10,3)) | Y12: =IF(Horendonk!AB12=(""),(""),ROUND(Horendonk!AB12/Horendonk!$T12*10,3)) | ... AD12: =IF(Horendonk!AG12=(""),(""),ROUND(Horendonk!AG12/Horendonk!$T12*10,3))
A13: =IF(SUM(E13:AD13)=0,(" "),COUNTIF(E13:AD13,">0")) -> 7 | B13: =Horendonk!A13 -> Van Aert André | C13: =IF(Horendonk!AL13=0," ",SUM(E13:AD13)) -> 63.792 | E13: =IF(Horendonk!C13=(""),(""),ROUND(Horendonk!C13/Horendonk!$B13*10,3)) | F13: =IF(Horendonk!D13=(""),(""),ROUND(Horendonk!D13/Horendonk!$B13*10,3)) -> 6.897 | G13: =IF(Horendonk!E13=(""),(""),ROUND(Horendonk!E13/Horendonk!$B13*10,3)) -> 9.31 | H13: =IF(Horendonk!F13=(""),(""),ROUND(Horendonk!F13/Horendonk!$B13*10,3)) -> 10 | I13: =IF(Horendonk!G13=(""),(""),ROUND(Horendonk!G13/Horendonk!$B13*10,3)) | J13: =IF(Horendonk!H13=(""),(""),ROUND(Horendonk!H13/Horendonk!$B13*10,3)) -> 9.31 | K13: =IF(Horendonk!I13=(""),(""),ROUND(Horendonk!I13/Horendonk!$B13*10,3)) | L13: =IF(Horendonk!J13=(""),(""),ROUND(Horendonk!J13/Horendonk!$B13*10,3)) -> 13.448 | ... Q13: =IF(Horendonk!O13=(""),(""),ROUND(Horendonk!O13/Horendonk!$B13*10,3)) | R13: =IF(Horendonk!U13=(""),(""),ROUND(Horendonk!U13/Horendonk!$T13*10,3)) | S13: =IF(Horendonk!V13=(""),(""),ROUND(Horendonk!V13/Horendonk!$T13*10,3)) | T13: =IF(Horendonk!W13=(""),(""),ROUND(Horendonk!W13/Horendonk!$T13*10,3)) | U13: =IF(Horendonk!X13=(""),(""),ROUND(Horendonk!X13/Horendonk!$T13*10,3)) | V13: =IF(Horendonk!Y13=(""),(""),ROUND(Horendonk!Y13/Horendonk!$T13*10,3)) | W13: =IF(Horendonk!Z13=(""),(""),ROUND(Horendonk!Z13/Horendonk!$T13*10,3)) | X13: =IF(Horendonk!AA13=(""),(""),ROUND(Horendonk!AA13/Horendonk!$T13*10,3)) | Y13: =IF(Horendonk!AB13=(""),(""),ROUND(Horendonk!AB13/Horendonk!$T13*10,3)) | ... AD13: =IF(Horendonk!AG13=(""),(""),ROUND(Horendonk!AG13/Horendonk!$T13*10,3))
A14: =IF(SUM(E14:AD14)=0,(" "),COUNTIF(E14:AD14,">0")) -> 2 | B14: =Horendonk!A14 -> Veraart Jef (ns) | C14: =IF(Horendonk!AL14=0," ",SUM(E14:AD14)) -> 24.445 | E14: =IF(Horendonk!C14=(""),(""),ROUND(Horendonk!C14/27*10,3)) -> 12.593 | F14: =IF(Horendonk!D14=(""),(""),ROUND(Horendonk!D14/Horendonk!$B14*10,3)) | G14: =IF(Horendonk!E14=(""),(""),ROUND(Horendonk!E14/Horendonk!$B14*10,3)) | H14: =IF(Horendonk!F14=(""),(""),ROUND(Horendonk!F14/Horendonk!$B14*10,3)) | I14: =IF(Horendonk!G14=(""),(""),ROUND(Horendonk!G14/Horendonk!$B14*10,3)) | J14: =IF(Horendonk!H14=(""),(""),ROUND(Horendonk!H14/Horendonk!$B14*10,3)) | K14: =IF(Horendonk!I14=(""),(""),ROUND(Horendonk!I14/27*10,3)) -> 11.852 | L14: =IF(Horendonk!J14=(""),(""),ROUND(Horendonk!J14/Horendonk!$B14*10,3)) | M14: =IF(Horendonk!K14=(""),(""),ROUND(Horendonk!K14/Horendonk!$B14*10,3)) | N14: =IF(Horendonk!L14=(""),(""),ROUND(Horendonk!L14/Horendonk!$B14*10,3)) | O14: =IF(Horendonk!M14=(""),(""),ROUND(Horendonk!M14/Horendonk!$B14*10,3)) | P14: =IF(Horendonk!N14=(""),(""),ROUND(Horendonk!N14/Horendonk!$B14*10,3)) | Q14: =IF(Horendonk!O14=(""),(""),ROUND(Horendonk!O14/Horendonk!$B14*10,3)) | R14: =IF(Horendonk!U14=(""),(""),ROUND(Horendonk!U14/Horendonk!$T14*10,3)) | S14: =IF(Horendonk!V14=(""),(""),ROUND(Horendonk!V14/Horendonk!$T14*10,3)) | T14: =IF(Horendonk!W14=(""),(""),ROUND(Horendonk!W14/Horendonk!$T14*10,3)) | U14: =IF(Horendonk!X14=(""),(""),ROUND(Horendonk!X14/Horendonk!$T14*10,3)) | V14: =IF(Horendonk!Y14=(""),(""),ROUND(Horendonk!Y14/Horendonk!$T14*10,3)) | W14: =IF(Horendonk!Z14=(""),(""),ROUND(Horendonk!Z14/Horendonk!$T14*10,3)) | X14: =IF(Horendonk!AA14=(""),(""),ROUND(Horendonk!AA14/Horendonk!$T14*10,3)) | Y14: =IF(Horendonk!AB14=(""),(""),ROUND(Horendonk!AB14/Horendonk!$T14*10,3)) | ... AD14: =IF(Horendonk!AG14=(""),(""),ROUND(Horendonk!AG14/Horendonk!$T14*10,3))
A15: =IF(SUM(E15:AD15)=0,(" "),COUNTIF(E15:AD15,">0")) -> 8 | B15: =Horendonk!A15 -> Vergouwen René | C15: =IF(Horendonk!AL15=0," ",SUM(E15:AD15)) -> 76.334 | E15: =IF(Horendonk!C15=(""),(""),ROUND(Horendonk!C15/Horendonk!$B15*10,3)) -> 9 | F15: =IF(Horendonk!D15=(""),(""),ROUND(Horendonk!D15/Horendonk!$B15*10,3)) | G15: =IF(Horendonk!E15=(""),(""),ROUND(Horendonk!E15/Horendonk!$B15*10,3)) -> 8 | H15: =IF(Horendonk!F15=(""),(""),ROUND(Horendonk!F15/Horendonk!$B15*10,3)) | I15: =IF(Horendonk!G15=(""),(""),ROUND(Horendonk!G15/Horendonk!$B15*10,3)) -> 2 | J15: =IF(Horendonk!H15=(""),(""),ROUND(Horendonk!H15/Horendonk!$B15*10,3)) -> 13 | K15: =IF(Horendonk!I15=(""),(""),ROUND(Horendonk!I15/Horendonk!$B15*10,3)) -> 9.667 | L15: =IF(Horendonk!J15=(""),(""),ROUND(Horendonk!J15/Horendonk!$B15*10,3)) -> 13 | ... Q15: =IF(Horendonk!O15=(""),(""),ROUND(Horendonk!O15/Horendonk!$B15*10,3)) | R15: =IF(Horendonk!U15=(""),(""),ROUND(Horendonk!U15/Horendonk!$T15*10,3)) | S15: =IF(Horendonk!V15=(""),(""),ROUND(Horendonk!V15/Horendonk!$T15*10,3)) | T15: =IF(Horendonk!W15=(""),(""),ROUND(Horendonk!W15/Horendonk!$T15*10,3)) | U15: =IF(Horendonk!X15=(""),(""),ROUND(Horendonk!X15/Horendonk!$T15*10,3)) | V15: =IF(Horendonk!Y15=(""),(""),ROUND(Horendonk!Y15/Horendonk!$T15*10,3)) | W15: =IF(Horendonk!Z15=(""),(""),ROUND(Horendonk!Z15/Horendonk!$T15*10,3)) | X15: =IF(Horendonk!AA15=(""),(""),ROUND(Horendonk!AA15/Horendonk!$T15*10,3)) | Y15: =IF(Horendonk!AB15=(""),(""),ROUND(Horendonk!AB15/Horendonk!$T15*10,3)) | ... AD15: =IF(Horendonk!AG15=(""),(""),ROUND(Horendonk!AG15/Horendonk!$T15*10,3))
C16: =B3 -> HORENDONK | E16: =IF(SUM(E4:E15)=0,(" "),SUM(E4:E15)) -> 71.248 | F16: =IF(SUM(F4:F15)=0,(" "),SUM(F4:F15)) -> 43.013 | G16: =IF(SUM(G4:G15)=0,(" "),SUM(G4:G15)) -> 49.449 | H16: =IF(SUM(H4:H15)=0,(" "),SUM(H4:H15)) -> 73.732 | I16: =IF(SUM(I4:I15)=0,(" "),SUM(I4:I15)) -> 44.601 | J16: =IF(SUM(J4:J15)=0,(" "),SUM(J4:J15)) -> 53.528 | K16: =IF(SUM(K4:K15)=0,(" "),SUM(K4:K15)) -> 60.754 | L16: =IF(SUM(L4:L15)=0,(" "),SUM(L4:L15)) -> 60.736 | ... AD16: =IF(SUM(AD4:AD15)=0,(" "),SUM(AD4:AD15))
C17: =SUM(C4:C15) -> 684.534 | D17: =B3 -> HORENDONK | E17: =SUM(E4:E15) -> 71.248 | F17: =IF(F16=(" "),(" "),E17+F16) -> 114.261 | G17: =IF(G16=(" "),(" "),F17+G16) -> 163.71 | H17: =IF(H16=(" "),(" "),G17+H16) -> 237.442 | I17: =IF(I16=(" "),(" "),H17+I16) -> 282.043 | J17: =IF(J16=(" "),(" "),I17+J16) -> 335.571 | K17: =IF(K16=(" "),(" "),J17+K16) -> 396.325 | L17: =IF(L16=(" "),(" "),K17+L16) -> 457.061 | M17: =IF(M16=(" "),(" "),L17+M16) -> 524.807 | ... AD17: =IF(AD16=(" "),(" "),AC17+AD16)
B19: KERKUILEN | E19: 1 | F19: 2 | G19: 3 | H19: 4 | I19: 5 | J19: 6 | K19: 7 | L19: 8 | M19: 9 | N19: 10 | O19: 11 | P19: 12 | Q19: 13 | R19: 14 | S19: 15 | T19: 16 | U19: 17 | V19: 18 | W19: 19 | X19: 20 | Y19: 21 | Z19: 22 | AA19: 23 | AB19: 24 | AC19: 25 | AD19: 26
A20: =IF(SUM(E20:AD20)=0,(" "),COUNTIF(E20:AD20,">0")) -> 5 | B20: =Kerkuilen!A4 -> Antonissen Gust | C20: =IF(Kerkuilen!AL4=0," ",SUM(E20:AD20)) -> 51.29 | E20: =IF(Kerkuilen!C4=(""),(""),ROUND(Kerkuilen!C4/Kerkuilen!$B4*10,3)) | F20: =IF(Kerkuilen!D4=(""),(""),ROUND(Kerkuilen!D4/Kerkuilen!$B4*10,3)) | G20: =IF(Kerkuilen!E4=(""),(""),ROUND(Kerkuilen!E4/Kerkuilen!$B4*10,3)) | H20: =IF(Kerkuilen!F4=(""),(""),ROUND(Kerkuilen!F4/Kerkuilen!$B4*10,3)) | I20: =IF(Kerkuilen!G4=(""),(""),ROUND(Kerkuilen!G4/Kerkuilen!$B4*10,3)) -> 2.903 | J20: =IF(Kerkuilen!H4=(""),(""),ROUND(Kerkuilen!H4/Kerkuilen!$B4*10,3)) | K20: =IF(Kerkuilen!I4=(""),(""),ROUND(Kerkuilen!I4/Kerkuilen!$B4*10,3)) -> 10.968 | L20: =IF(Kerkuilen!J4=(""),(""),ROUND(Kerkuilen!J4/Kerkuilen!$B4*10,3)) -> 7.419 | ... Q20: =IF(Kerkuilen!O4=(""),(""),ROUND(Kerkuilen!O4/Kerkuilen!$B4*10,3)) | R20: =IF(Kerkuilen!U4=(""),(""),ROUND(Kerkuilen!U4/Kerkuilen!$T4*10,3)) | S20: =IF(Kerkuilen!V4=(""),(""),ROUND(Kerkuilen!V4/Kerkuilen!$T4*10,3)) | T20: =IF(Kerkuilen!W4=(""),(""),ROUND(Kerkuilen!W4/Kerkuilen!$T4*10,3)) | U20: =IF(Kerkuilen!X4=(""),(""),ROUND(Kerkuilen!X4/Kerkuilen!$T4*10,3)) | V20: =IF(Kerkuilen!Y4=(""),(""),ROUND(Kerkuilen!Y4/Kerkuilen!$T4*10,3)) | W20: =IF(Kerkuilen!Z4=(""),(""),ROUND(Kerkuilen!Z4/Kerkuilen!$T4*10,3)) | X20: =IF(Kerkuilen!AA4=(""),(""),ROUND(Kerkuilen!AA4/Kerkuilen!$T4*10,3)) | Y20: =IF(Kerkuilen!AB4=(""),(""),ROUND(Kerkuilen!AB4/Kerkuilen!$T4*10,3)) | ... AD20: =IF(Kerkuilen!AG4=(""),(""),ROUND(Kerkuilen!AG4/Kerkuilen!$T4*10,3))
A21: =IF(SUM(E21:AD21)=0,(" "),COUNTIF(E21:AD21,">0")) -> 4 | B21: =Kerkuilen!A5 -> De Kaey Piet | C21: =IF(Kerkuilen!AL5=0," ",SUM(E21:AD21)) -> 42.116 | E21: =IF(Kerkuilen!C5=(""),(""),ROUND(Kerkuilen!C5/Kerkuilen!$B5*10,3)) | F21: =IF(Kerkuilen!D5=(""),(""),ROUND(Kerkuilen!D5/Kerkuilen!$B5*10,3)) | G21: =IF(Kerkuilen!E5=(""),(""),ROUND(Kerkuilen!E5/Kerkuilen!$B5*10,3)) -> 10.385 | H21: =IF(Kerkuilen!F5=(""),(""),ROUND(Kerkuilen!F5/Kerkuilen!$B5*10,3)) -> 13.269 | I21: =IF(Kerkuilen!G5=(""),(""),ROUND(Kerkuilen!G5/Kerkuilen!$B5*10,3)) | J21: =IF(Kerkuilen!H5=(""),(""),ROUND(Kerkuilen!H5/Kerkuilen!$B5*10,3)) | K21: =IF(Kerkuilen!I5=(""),(""),ROUND(Kerkuilen!I5/Kerkuilen!$B5*10,3)) | L21: =IF(Kerkuilen!J5=(""),(""),ROUND(Kerkuilen!J5/Kerkuilen!$B5*10,3)) | ... Q21: =IF(Kerkuilen!O5=(""),(""),ROUND(Kerkuilen!O5/Kerkuilen!$B5*10,3)) | R21: =IF(Kerkuilen!U5=(""),(""),ROUND(Kerkuilen!U5/Kerkuilen!$T5*10,3)) | S21: =IF(Kerkuilen!V5=(""),(""),ROUND(Kerkuilen!V5/Kerkuilen!$T5*10,3)) | T21: =IF(Kerkuilen!W5=(""),(""),ROUND(Kerkuilen!W5/Kerkuilen!$T5*10,3)) | U21: =IF(Kerkuilen!X5=(""),(""),ROUND(Kerkuilen!X5/Kerkuilen!$T5*10,3)) | V21: =IF(Kerkuilen!Y5=(""),(""),ROUND(Kerkuilen!Y5/Kerkuilen!$T5*10,3)) | W21: =IF(Kerkuilen!Z5=(""),(""),ROUND(Kerkuilen!Z5/Kerkuilen!$T5*10,3)) | X21: =IF(Kerkuilen!AA5=(""),(""),ROUND(Kerkuilen!AA5/Kerkuilen!$T5*10,3)) | Y21: =IF(Kerkuilen!AB5=(""),(""),ROUND(Kerkuilen!AB5/Kerkuilen!$T5*10,3)) | ... AD21: =IF(Kerkuilen!AG5=(""),(""),ROUND(Kerkuilen!AG5/Kerkuilen!$T5*10,3))
A22: =IF(SUM(E22:AD22)=0,(" "),COUNTIF(E22:AD22,">0")) -> 3 | B22: =Kerkuilen!A6 -> Elst Stan | C22: =IF(Kerkuilen!AL6=0," ",SUM(E22:AD22)) -> 25.952 | E22: =IF(Kerkuilen!C6=(""),(""),ROUND(Kerkuilen!C6/Kerkuilen!$B6*10,3)) | F22: =IF(Kerkuilen!D6=(""),(""),ROUND(Kerkuilen!D6/Kerkuilen!$B6*10,3)) | G22: =IF(Kerkuilen!E6=(""),(""),ROUND(Kerkuilen!E6/Kerkuilen!$B6*10,3)) -> 7.143 | H22: =IF(Kerkuilen!F6=(""),(""),ROUND(Kerkuilen!F6/Kerkuilen!$B6*10,3)) | I22: =IF(Kerkuilen!G6=(""),(""),ROUND(Kerkuilen!G6/Kerkuilen!$B6*10,3)) | J22: =IF(Kerkuilen!H6=(""),(""),ROUND(Kerkuilen!H6/Kerkuilen!$B6*10,3)) -> 10.714 | K22: =IF(Kerkuilen!I6=(""),(""),ROUND(Kerkuilen!I6/Kerkuilen!$B6*10,3)) | L22: =IF(Kerkuilen!J6=(""),(""),ROUND(Kerkuilen!J6/Kerkuilen!$B6*10,3)) | ... Q22: =IF(Kerkuilen!O6=(""),(""),ROUND(Kerkuilen!O6/Kerkuilen!$B6*10,3)) | R22: =IF(Kerkuilen!U6=(""),(""),ROUND(Kerkuilen!U6/Kerkuilen!$T6*10,3)) | S22: =IF(Kerkuilen!V6=(""),(""),ROUND(Kerkuilen!V6/Kerkuilen!$T6*10,3)) | T22: =IF(Kerkuilen!W6=(""),(""),ROUND(Kerkuilen!W6/Kerkuilen!$T6*10,3)) | U22: =IF(Kerkuilen!X6=(""),(""),ROUND(Kerkuilen!X6/Kerkuilen!$T6*10,3)) | V22: =IF(Kerkuilen!Y6=(""),(""),ROUND(Kerkuilen!Y6/Kerkuilen!$T6*10,3)) | W22: =IF(Kerkuilen!Z6=(""),(""),ROUND(Kerkuilen!Z6/Kerkuilen!$T6*10,3)) | X22: =IF(Kerkuilen!AA6=(""),(""),ROUND(Kerkuilen!AA6/Kerkuilen!$T6*10,3)) | Y22: =IF(Kerkuilen!AB6=(""),(""),ROUND(Kerkuilen!AB6/Kerkuilen!$T6*10,3)) | ... AD22: =IF(Kerkuilen!AG6=(""),(""),ROUND(Kerkuilen!AG6/Kerkuilen!$T6*10,3))
A23: =IF(SUM(E23:AD23)=0,(" "),COUNTIF(E23:AD23,">0")) -> 2 | B23: =Kerkuilen!A7 -> Hectors Hugo | C23: =IF(Kerkuilen!AL7=0," ",SUM(E23:AD23)) -> 17.778 | E23: =IF(Kerkuilen!C7=(""),(""),ROUND(Kerkuilen!C7/Kerkuilen!$B7*10,3)) | F23: =IF(Kerkuilen!D7=(""),(""),ROUND(Kerkuilen!D7/Kerkuilen!$B7*10,3)) | G23: =IF(Kerkuilen!E7=(""),(""),ROUND(Kerkuilen!E7/Kerkuilen!$B7*10,3)) | H23: =IF(Kerkuilen!F7=(""),(""),ROUND(Kerkuilen!F7/Kerkuilen!$B7*10,3)) | I23: =IF(Kerkuilen!G7=(""),(""),ROUND(Kerkuilen!G7/Kerkuilen!$B7*10,3)) | J23: =IF(Kerkuilen!H7=(""),(""),ROUND(Kerkuilen!H7/Kerkuilen!$B7*10,3)) -> 6.667 | K23: =IF(Kerkuilen!I7=(""),(""),ROUND(Kerkuilen!I7/Kerkuilen!$B7*10,3)) | L23: =IF(Kerkuilen!J7=(""),(""),ROUND(Kerkuilen!J7/Kerkuilen!$B7*10,3)) | ... Q23: =IF(Kerkuilen!O7=(""),(""),ROUND(Kerkuilen!O7/Kerkuilen!$B7*10,3)) | R23: =IF(Kerkuilen!U7=(""),(""),ROUND(Kerkuilen!U7/Kerkuilen!$T7*10,3)) | S23: =IF(Kerkuilen!V7=(""),(""),ROUND(Kerkuilen!V7/Kerkuilen!$T7*10,3)) | T23: =IF(Kerkuilen!W7=(""),(""),ROUND(Kerkuilen!W7/Kerkuilen!$T7*10,3)) | U23: =IF(Kerkuilen!X7=(""),(""),ROUND(Kerkuilen!X7/Kerkuilen!$T7*10,3)) | V23: =IF(Kerkuilen!Y7=(""),(""),ROUND(Kerkuilen!Y7/Kerkuilen!$T7*10,3)) | W23: =IF(Kerkuilen!Z7=(""),(""),ROUND(Kerkuilen!Z7/Kerkuilen!$T7*10,3)) | X23: =IF(Kerkuilen!AA7=(""),(""),ROUND(Kerkuilen!AA7/Kerkuilen!$T7*10,3)) | Y23: =IF(Kerkuilen!AB7=(""),(""),ROUND(Kerkuilen!AB7/Kerkuilen!$T7*10,3)) | ... AD23: =IF(Kerkuilen!AG7=(""),(""),ROUND(Kerkuilen!AG7/Kerkuilen!$T7*10,3))
A24: =IF(SUM(E24:AD24)=0,(" "),COUNTIF(E24:AD24,">0")) -> 3 | B24: =Kerkuilen!A8 -> Jacobis Martin | C24: =IF(Kerkuilen!AL8=0," ",SUM(E24:AD24)) -> 30 | E24: =IF(Kerkuilen!C8=(""),(""),ROUND(Kerkuilen!C8/Kerkuilen!$B8*10,3)) | F24: =IF(Kerkuilen!D8=(""),(""),ROUND(Kerkuilen!D8/Kerkuilen!$B8*10,3)) | G24: =IF(Kerkuilen!E8=(""),(""),ROUND(Kerkuilen!E8/Kerkuilen!$B8*10,3)) | H24: =IF(Kerkuilen!F8=(""),(""),ROUND(Kerkuilen!F8/Kerkuilen!$B8*10,3)) | I24: =IF(Kerkuilen!G8=(""),(""),ROUND(Kerkuilen!G8/Kerkuilen!$B8*10,3)) | J24: =IF(Kerkuilen!H8=(""),(""),ROUND(Kerkuilen!H8/Kerkuilen!$B8*10,3)) | K24: =IF(Kerkuilen!I8=(""),(""),ROUND(Kerkuilen!I8/Kerkuilen!$B8*10,3)) -> 7.2 | L24: =IF(Kerkuilen!J8=(""),(""),ROUND(Kerkuilen!J8/Kerkuilen!$B8*10,3)) | ... Q24: =IF(Kerkuilen!O8=(""),(""),ROUND(Kerkuilen!O8/Kerkuilen!$B8*10,3)) | R24: =IF(Kerkuilen!U8=(""),(""),ROUND(Kerkuilen!U8/Kerkuilen!$T8*10,3)) | S24: =IF(Kerkuilen!V8=(""),(""),ROUND(Kerkuilen!V8/Kerkuilen!$T8*10,3)) | T24: =IF(Kerkuilen!W8=(""),(""),ROUND(Kerkuilen!W8/Kerkuilen!$T8*10,3)) | U24: =IF(Kerkuilen!X8=(""),(""),ROUND(Kerkuilen!X8/Kerkuilen!$T8*10,3)) | V24: =IF(Kerkuilen!Y8=(""),(""),ROUND(Kerkuilen!Y8/Kerkuilen!$T8*10,3)) | W24: =IF(Kerkuilen!Z8=(""),(""),ROUND(Kerkuilen!Z8/Kerkuilen!$T8*10,3)) | X24: =IF(Kerkuilen!AA8=(""),(""),ROUND(Kerkuilen!AA8/Kerkuilen!$T8*10,3)) | Y24: =IF(Kerkuilen!AB8=(""),(""),ROUND(Kerkuilen!AB8/Kerkuilen!$T8*10,3)) | ... AD24: =IF(Kerkuilen!AG8=(""),(""),ROUND(Kerkuilen!AG8/Kerkuilen!$T8*10,3))
A25: =IF(SUM(E25:AD25)=0,(" "),COUNTIF(E25:AD25,">0")) -> 7 | B25: =Kerkuilen!A9 -> Lambrechts Jef | C25: =IF(Kerkuilen!AL9=0," ",SUM(E25:AD25)) -> 67.17 | E25: =IF(Kerkuilen!C9=(""),(""),ROUND(Kerkuilen!C9/Kerkuilen!$B9*10,3)) -> 8.302 | F25: =IF(Kerkuilen!D9=(""),(""),ROUND(Kerkuilen!D9/Kerkuilen!$B9*10,3)) | G25: =IF(Kerkuilen!E9=(""),(""),ROUND(Kerkuilen!E9/Kerkuilen!$B9*10,3)) -> 11.887 | H25: =IF(Kerkuilen!F9=(""),(""),ROUND(Kerkuilen!F9/Kerkuilen!$B9*10,3)) -> 10 | I25: =IF(Kerkuilen!G9=(""),(""),ROUND(Kerkuilen!G9/Kerkuilen!$B9*10,3)) -> 8.302 | J25: =IF(Kerkuilen!H9=(""),(""),ROUND(Kerkuilen!H9/Kerkuilen!$B9*10,3)) | K25: =IF(Kerkuilen!I9=(""),(""),ROUND(Kerkuilen!I9/Kerkuilen!$B9*10,3)) -> 10 | L25: =IF(Kerkuilen!J9=(""),(""),ROUND(Kerkuilen!J9/Kerkuilen!$B9*10,3)) | ... Q25: =IF(Kerkuilen!O9=(""),(""),ROUND(Kerkuilen!O9/Kerkuilen!$B9*10,3)) | R25: =IF(Kerkuilen!U9=(""),(""),ROUND(Kerkuilen!U9/Kerkuilen!$T9*10,3)) | S25: =IF(Kerkuilen!V9=(""),(""),ROUND(Kerkuilen!V9/Kerkuilen!$T9*10,3)) | T25: =IF(Kerkuilen!W9=(""),(""),ROUND(Kerkuilen!W9/Kerkuilen!$T9*10,3)) | U25: =IF(Kerkuilen!X9=(""),(""),ROUND(Kerkuilen!X9/Kerkuilen!$T9*10,3)) | V25: =IF(Kerkuilen!Y9=(""),(""),ROUND(Kerkuilen!Y9/Kerkuilen!$T9*10,3)) | W25: =IF(Kerkuilen!Z9=(""),(""),ROUND(Kerkuilen!Z9/Kerkuilen!$T9*10,3)) | X25: =IF(Kerkuilen!AA9=(""),(""),ROUND(Kerkuilen!AA9/Kerkuilen!$T9*10,3)) | Y25: =IF(Kerkuilen!AB9=(""),(""),ROUND(Kerkuilen!AB9/Kerkuilen!$T9*10,3)) | ... AD25: =IF(Kerkuilen!AG9=(""),(""),ROUND(Kerkuilen!AG9/Kerkuilen!$T9*10,3))
A26: =IF(SUM(E26:AD26)=0,(" "),COUNTIF(E26:AD26,">0")) -> 5 | B26: =Kerkuilen!A10 -> Naulaerts Rik | C26: =IF(Kerkuilen!AL10=0," ",SUM(E26:AD26)) -> 46.078 | E26: =IF(Kerkuilen!C10=(""),(""),ROUND(Kerkuilen!C10/Kerkuilen!$B10*10,3)) | F26: =IF(Kerkuilen!D10=(""),(""),ROUND(Kerkuilen!D10/Kerkuilen!$B10*10,3)) | G26: =IF(Kerkuilen!E10=(""),(""),ROUND(Kerkuilen!E10/Kerkuilen!$B10*10,3)) | H26: =IF(Kerkuilen!F10=(""),(""),ROUND(Kerkuilen!F10/Kerkuilen!$B10*10,3)) -> 10.784 | I26: =IF(Kerkuilen!G10=(""),(""),ROUND(Kerkuilen!G10/Kerkuilen!$B10*10,3)) -> 11.176 | J26: =IF(Kerkuilen!H10=(""),(""),ROUND(Kerkuilen!H10/Kerkuilen!$B10*10,3)) -> 9.608 | K26: =IF(Kerkuilen!I10=(""),(""),ROUND(Kerkuilen!I10/Kerkuilen!$B10*10,3)) | L26: =IF(Kerkuilen!J10=(""),(""),ROUND(Kerkuilen!J10/Kerkuilen!$B10*10,3)) | ... Q26: =IF(Kerkuilen!O10=(""),(""),ROUND(Kerkuilen!O10/Kerkuilen!$B10*10,3)) | R26: =IF(Kerkuilen!U10=(""),(""),ROUND(Kerkuilen!U10/Kerkuilen!$T10*10,3)) | S26: =IF(Kerkuilen!V10=(""),(""),ROUND(Kerkuilen!V10/Kerkuilen!$T10*10,3)) | T26: =IF(Kerkuilen!W10=(""),(""),ROUND(Kerkuilen!W10/Kerkuilen!$T10*10,3)) | U26: =IF(Kerkuilen!X10=(""),(""),ROUND(Kerkuilen!X10/Kerkuilen!$T10*10,3)) | V26: =IF(Kerkuilen!Y10=(""),(""),ROUND(Kerkuilen!Y10/Kerkuilen!$T10*10,3)) | W26: =IF(Kerkuilen!Z10=(""),(""),ROUND(Kerkuilen!Z10/Kerkuilen!$T10*10,3)) | X26: =IF(Kerkuilen!AA10=(""),(""),ROUND(Kerkuilen!AA10/Kerkuilen!$T10*10,3)) | Y26: =IF(Kerkuilen!AB10=(""),(""),ROUND(Kerkuilen!AB10/Kerkuilen!$T10*10,3)) | ... AD26: =IF(Kerkuilen!AG10=(""),(""),ROUND(Kerkuilen!AG10/Kerkuilen!$T10*10,3))
A27: =IF(SUM(E27:AD27)=0,(" "),COUNTIF(E27:AD27,">0")) -> 4 | B27: =Kerkuilen!A11 -> Peeters Wies | C27: =IF(Kerkuilen!AL11=0," ",SUM(E27:AD27)) -> 33.572 | E27: =IF(Kerkuilen!C11=(""),(""),ROUND(Kerkuilen!C11/Kerkuilen!$B11*10,3)) -> 9.286 | F27: =IF(Kerkuilen!D11=(""),(""),ROUND(Kerkuilen!D11/Kerkuilen!$B11*10,3)) -> 7.143 | G27: =IF(Kerkuilen!E11=(""),(""),ROUND(Kerkuilen!E11/Kerkuilen!$B11*10,3)) | H27: =IF(Kerkuilen!F11=(""),(""),ROUND(Kerkuilen!F11/Kerkuilen!$B11*10,3)) | I27: =IF(Kerkuilen!G11=(""),(""),ROUND(Kerkuilen!G11/Kerkuilen!$B11*10,3)) | J27: =IF(Kerkuilen!H11=(""),(""),ROUND(Kerkuilen!H11/Kerkuilen!$B11*10,3)) | K27: =IF(Kerkuilen!I11=(""),(""),ROUND(Kerkuilen!I11/Kerkuilen!$B11*10,3)) | L27: =IF(Kerkuilen!J11=(""),(""),ROUND(Kerkuilen!J11/Kerkuilen!$B11*10,3)) -> 12.5 | ... Q27: =IF(Kerkuilen!O11=(""),(""),ROUND(Kerkuilen!O11/Kerkuilen!$B11*10,3)) | R27: =IF(Kerkuilen!U11=(""),(""),ROUND(Kerkuilen!U11/Kerkuilen!$T11*10,3)) | S27: =IF(Kerkuilen!V11=(""),(""),ROUND(Kerkuilen!V11/Kerkuilen!$T11*10,3)) | T27: =IF(Kerkuilen!W11=(""),(""),ROUND(Kerkuilen!W11/Kerkuilen!$T11*10,3)) | U27: =IF(Kerkuilen!X11=(""),(""),ROUND(Kerkuilen!X11/Kerkuilen!$T11*10,3)) | V27: =IF(Kerkuilen!Y11=(""),(""),ROUND(Kerkuilen!Y11/Kerkuilen!$T11*10,3)) | W27: =IF(Kerkuilen!Z11=(""),(""),ROUND(Kerkuilen!Z11/Kerkuilen!$T11*10,3)) | X27: =IF(Kerkuilen!AA11=(""),(""),ROUND(Kerkuilen!AA11/Kerkuilen!$T11*10,3)) | Y27: =IF(Kerkuilen!AB11=(""),(""),ROUND(Kerkuilen!AB11/Kerkuilen!$T11*10,3)) | ... AD27: =IF(Kerkuilen!AG11=(""),(""),ROUND(Kerkuilen!AG11/Kerkuilen!$T11*10,3))
A28: =IF(SUM(E28:AD28)=0,(" "),COUNTIF(E28:AD28,">0")) -> 9 | B28: =Kerkuilen!A12 -> Pleysier Luc | C28: =IF(Kerkuilen!AL12=0," ",SUM(E28:AD28)) -> 72.89 | E28: =IF(Kerkuilen!C12=(""),(""),ROUND(Kerkuilen!C12/Kerkuilen!$B12*10,3)) -> 8.667 | F28: =IF(Kerkuilen!D12=(""),(""),ROUND(Kerkuilen!D12/Kerkuilen!$B12*10,3)) -> 6.556 | G28: =IF(Kerkuilen!E12=(""),(""),ROUND(Kerkuilen!E12/Kerkuilen!$B12*10,3)) | H28: =IF(Kerkuilen!F12=(""),(""),ROUND(Kerkuilen!F12/Kerkuilen!$B12*10,3)) -> 7.778 | I28: =IF(Kerkuilen!G12=(""),(""),ROUND(Kerkuilen!G12/Kerkuilen!$B12*10,3)) | J28: =IF(Kerkuilen!H12=(""),(""),ROUND(Kerkuilen!H12/Kerkuilen!$B12*10,3)) -> 10.111 | K28: =IF(Kerkuilen!I12=(""),(""),ROUND(Kerkuilen!I12/Kerkuilen!$B12*10,3)) -> 6.889 | L28: =IF(Kerkuilen!J12=(""),(""),ROUND(Kerkuilen!J12/Kerkuilen!$B12*10,3)) -> 8.667 | ... Q28: =IF(Kerkuilen!O12=(""),(""),ROUND(Kerkuilen!O12/Kerkuilen!$B12*10,3)) | R28: =IF(Kerkuilen!U12=(""),(""),ROUND(Kerkuilen!U12/Kerkuilen!$T12*10,3)) | S28: =IF(Kerkuilen!V12=(""),(""),ROUND(Kerkuilen!V12/Kerkuilen!$T12*10,3)) | T28: =IF(Kerkuilen!W12=(""),(""),ROUND(Kerkuilen!W12/Kerkuilen!$T12*10,3)) | U28: =IF(Kerkuilen!X12=(""),(""),ROUND(Kerkuilen!X12/Kerkuilen!$T12*10,3)) | V28: =IF(Kerkuilen!Y12=(""),(""),ROUND(Kerkuilen!Y12/Kerkuilen!$T12*10,3)) | W28: =IF(Kerkuilen!Z12=(""),(""),ROUND(Kerkuilen!Z12/Kerkuilen!$T12*10,3)) | X28: =IF(Kerkuilen!AA12=(""),(""),ROUND(Kerkuilen!AA12/Kerkuilen!$T12*10,3)) | Y28: =IF(Kerkuilen!AB12=(""),(""),ROUND(Kerkuilen!AB12/Kerkuilen!$T12*10,3)) | ... AD28: =IF(Kerkuilen!AG12=(""),(""),ROUND(Kerkuilen!AG12/Kerkuilen!$T12*10,3))
A29: =IF(SUM(E29:AD29)=0,(" "),COUNTIF(E29:AD29,">0")) -> 6 | B29: =Kerkuilen!A13 -> Quick Gerard | C29: =IF(Kerkuilen!AL13=0," ",SUM(E29:AD29)) -> 63.076 | E29: =IF(Kerkuilen!C13=(""),(""),ROUND(Kerkuilen!C13/Kerkuilen!$B13*10,3)) -> 13.846 | F29: =IF(Kerkuilen!D13=(""),(""),ROUND(Kerkuilen!D13/Kerkuilen!$B13*10,3)) | G29: =IF(Kerkuilen!E13=(""),(""),ROUND(Kerkuilen!E13/Kerkuilen!$B13*10,3)) | H29: =IF(Kerkuilen!F13=(""),(""),ROUND(Kerkuilen!F13/Kerkuilen!$B13*10,3)) | I29: =IF(Kerkuilen!G13=(""),(""),ROUND(Kerkuilen!G13/Kerkuilen!$B13*10,3)) -> 10.769 | J29: =IF(Kerkuilen!H13=(""),(""),ROUND(Kerkuilen!H13/Kerkuilen!$B13*10,3)) -> 5.769 | K29: =IF(Kerkuilen!I13=(""),(""),ROUND(Kerkuilen!I13/Kerkuilen!$B13*10,3)) | L29: =IF(Kerkuilen!J13=(""),(""),ROUND(Kerkuilen!J13/Kerkuilen!$B13*10,3)) -> 13.846 | ... Q29: =IF(Kerkuilen!O13=(""),(""),ROUND(Kerkuilen!O13/Kerkuilen!$B13*10,3)) | R29: =IF(Kerkuilen!U13=(""),(""),ROUND(Kerkuilen!U13/Kerkuilen!$T13*10,3)) | S29: =IF(Kerkuilen!V13=(""),(""),ROUND(Kerkuilen!V13/Kerkuilen!$T13*10,3)) | T29: =IF(Kerkuilen!W13=(""),(""),ROUND(Kerkuilen!W13/Kerkuilen!$T13*10,3)) | U29: =IF(Kerkuilen!X13=(""),(""),ROUND(Kerkuilen!X13/Kerkuilen!$T13*10,3)) | V29: =IF(Kerkuilen!Y13=(""),(""),ROUND(Kerkuilen!Y13/Kerkuilen!$T13*10,3)) | W29: =IF(Kerkuilen!Z13=(""),(""),ROUND(Kerkuilen!Z13/Kerkuilen!$T13*10,3)) | X29: =IF(Kerkuilen!AA13=(""),(""),ROUND(Kerkuilen!AA13/Kerkuilen!$T13*10,3)) | Y29: =IF(Kerkuilen!AB13=(""),(""),ROUND(Kerkuilen!AB13/Kerkuilen!$T13*10,3)) | ... AD29: =IF(Kerkuilen!AG13=(""),(""),ROUND(Kerkuilen!AG13/Kerkuilen!$T13*10,3))
A30: =IF(SUM(E30:AD30)=0,(" "),COUNTIF(E30:AD30,">0")) -> 8 | B30: =Kerkuilen!A14 -> Schrooyen Jef | C30: =IF(Kerkuilen!AL14=0," ",SUM(E30:AD30)) -> 65.294 | E30: =IF(Kerkuilen!C14=(""),(""),ROUND(Kerkuilen!C14/Kerkuilen!$B14*10,3)) -> 7.059 | F30: =IF(Kerkuilen!D14=(""),(""),ROUND(Kerkuilen!D14/Kerkuilen!$B14*10,3)) -> 7.843 | G30: =IF(Kerkuilen!E14=(""),(""),ROUND(Kerkuilen!E14/Kerkuilen!$B14*10,3)) | H30: =IF(Kerkuilen!F14=(""),(""),ROUND(Kerkuilen!F14/Kerkuilen!$B14*10,3)) -> 8.235 | I30: =IF(Kerkuilen!G14=(""),(""),ROUND(Kerkuilen!G14/Kerkuilen!$B14*10,3)) -> 8.039 | J30: =IF(Kerkuilen!H14=(""),(""),ROUND(Kerkuilen!H14/Kerkuilen!$B14*10,3)) -> 9.216 | K30: =IF(Kerkuilen!I14=(""),(""),ROUND(Kerkuilen!I14/Kerkuilen!$B14*10,3)) -> 6.667 | L30: =IF(Kerkuilen!J14=(""),(""),ROUND(Kerkuilen!J14/Kerkuilen!$B14*10,3)) | ... Q30: =IF(Kerkuilen!O14=(""),(""),ROUND(Kerkuilen!O14/Kerkuilen!$B14*10,3)) | R30: =IF(Kerkuilen!U14=(""),(""),ROUND(Kerkuilen!U14/Kerkuilen!$T14*10,3)) | S30: =IF(Kerkuilen!V14=(""),(""),ROUND(Kerkuilen!V14/Kerkuilen!$T14*10,3)) | T30: =IF(Kerkuilen!W14=(""),(""),ROUND(Kerkuilen!W14/Kerkuilen!$T14*10,3)) | U30: =IF(Kerkuilen!X14=(""),(""),ROUND(Kerkuilen!X14/Kerkuilen!$T14*10,3)) | V30: =IF(Kerkuilen!Y14=(""),(""),ROUND(Kerkuilen!Y14/Kerkuilen!$T14*10,3)) | W30: =IF(Kerkuilen!Z14=(""),(""),ROUND(Kerkuilen!Z14/Kerkuilen!$T14*10,3)) | X30: =IF(Kerkuilen!AA14=(""),(""),ROUND(Kerkuilen!AA14/Kerkuilen!$T14*10,3)) | Y30: =IF(Kerkuilen!AB14=(""),(""),ROUND(Kerkuilen!AB14/Kerkuilen!$T14*10,3)) | ... AD30: =IF(Kerkuilen!AG14=(""),(""),ROUND(Kerkuilen!AG14/Kerkuilen!$T14*10,3))
A31: =IF(SUM(E31:AD31)=0,(" "),COUNTIF(E31:AD31,">0")) -> 6 | B31: =Kerkuilen!A15 -> Uytdewilligen Hubert | C31: =IF(Kerkuilen!AL15=0," ",SUM(E31:AD31)) -> 57.575 | E31: =IF(Kerkuilen!C15=(""),(""),ROUND(Kerkuilen!C15/Kerkuilen!$B15*10,3)) -> 7.879 | F31: =IF(Kerkuilen!D15=(""),(""),ROUND(Kerkuilen!D15/Kerkuilen!$B15*10,3)) | G31: =IF(Kerkuilen!E15=(""),(""),ROUND(Kerkuilen!E15/Kerkuilen!$B15*10,3)) -> 4.545 | H31: =IF(Kerkuilen!F15=(""),(""),ROUND(Kerkuilen!F15/Kerkuilen!$B15*10,3)) | I31: =IF(Kerkuilen!G15=(""),(""),ROUND(Kerkuilen!G15/Kerkuilen!$B15*10,3)) -> 11.515 | J31: =IF(Kerkuilen!H15=(""),(""),ROUND(Kerkuilen!H15/Kerkuilen!$B15*10,3)) | K31: =IF(Kerkuilen!I15=(""),(""),ROUND(Kerkuilen!I15/Kerkuilen!$B15*10,3)) -> 10.909 | L31: =IF(Kerkuilen!J15=(""),(""),ROUND(Kerkuilen!J15/Kerkuilen!$B15*10,3)) -> 11.212 | ... Q31: =IF(Kerkuilen!O15=(""),(""),ROUND(Kerkuilen!O15/Kerkuilen!$B15*10,3)) | R31: =IF(Kerkuilen!U15=(""),(""),ROUND(Kerkuilen!U15/Kerkuilen!$T15*10,3)) | S31: =IF(Kerkuilen!V15=(""),(""),ROUND(Kerkuilen!V15/Kerkuilen!$T15*10,3)) | T31: =IF(Kerkuilen!W15=(""),(""),ROUND(Kerkuilen!W15/Kerkuilen!$T15*10,3)) | U31: =IF(Kerkuilen!X15=(""),(""),ROUND(Kerkuilen!X15/Kerkuilen!$T15*10,3)) | V31: =IF(Kerkuilen!Y15=(""),(""),ROUND(Kerkuilen!Y15/Kerkuilen!$T15*10,3)) | W31: =IF(Kerkuilen!Z15=(""),(""),ROUND(Kerkuilen!Z15/Kerkuilen!$T15*10,3)) | X31: =IF(Kerkuilen!AA15=(""),(""),ROUND(Kerkuilen!AA15/Kerkuilen!$T15*10,3)) | Y31: =IF(Kerkuilen!AB15=(""),(""),ROUND(Kerkuilen!AB15/Kerkuilen!$T15*10,3)) | ... AD31: =IF(Kerkuilen!AG15=(""),(""),ROUND(Kerkuilen!AG15/Kerkuilen!$T15*10,3))
A32: =IF(SUM(E32:AD32)=0,(" "),COUNTIF(E32:AD32,">0")) -> 3 | B32: =Kerkuilen!A16 -> Van Ginneken Cyriel [NS 20] | C32: =IF(Kerkuilen!AL16=0," ",SUM(E32:AD32)) -> 22 | E32: =IF(Kerkuilen!C16=(""),(""),ROUND(Kerkuilen!C16/Kerkuilen!$B16*10,3)) | F32: =IF(Kerkuilen!D16=(""),(""),ROUND(Kerkuilen!D16/20*10,3)) -> 8 | G32: =IF(Kerkuilen!E16=(""),(""),ROUND(Kerkuilen!E16/20*10,3)) -> 5.5 | H32: =IF(Kerkuilen!F16=(""),(""),ROUND(Kerkuilen!F16/Kerkuilen!$B16*10,3)) | I32: =IF(Kerkuilen!G16=(""),(""),ROUND(Kerkuilen!G16/Kerkuilen!$B16*10,3)) | J32: =IF(Kerkuilen!H16=(""),(""),ROUND(Kerkuilen!H16/Kerkuilen!$B16*10,3)) | K32: =IF(Kerkuilen!I16=(""),(""),ROUND(Kerkuilen!I16/Kerkuilen!$B16*10,3)) | L32: =IF(Kerkuilen!J16=(""),(""),ROUND(Kerkuilen!J16/Kerkuilen!$B16*10,3)) | M32: =IF(Kerkuilen!K16=(""),(""),ROUND(Kerkuilen!K16/Kerkuilen!$B16*10,3)) | N32: =IF(Kerkuilen!L16=(""),(""),ROUND(Kerkuilen!L16/Kerkuilen!$B16*10,3)) | O32: =IF(Kerkuilen!M16=(""),(""),ROUND(Kerkuilen!M16/20*10,3)) -> 8.5 | P32: =IF(Kerkuilen!N16=(""),(""),ROUND(Kerkuilen!N16/Kerkuilen!$B16*10,3)) | Q32: =IF(Kerkuilen!O16=(""),(""),ROUND(Kerkuilen!O16/Kerkuilen!$B16*10,3)) | R32: =IF(Kerkuilen!U16=(""),(""),ROUND(Kerkuilen!U16/Kerkuilen!$T16*10,3)) | S32: =IF(Kerkuilen!V16=(""),(""),ROUND(Kerkuilen!V16/Kerkuilen!$T16*10,3)) | T32: =IF(Kerkuilen!W16=(""),(""),ROUND(Kerkuilen!W16/Kerkuilen!$T16*10,3)) | U32: =IF(Kerkuilen!X16=(""),(""),ROUND(Kerkuilen!X16/Kerkuilen!$T16*10,3)) | V32: =IF(Kerkuilen!Y16=(""),(""),ROUND(Kerkuilen!Y16/Kerkuilen!$T16*10,3)) | W32: =IF(Kerkuilen!Z16=(""),(""),ROUND(Kerkuilen!Z16/Kerkuilen!$T16*10,3)) | X32: =IF(Kerkuilen!AA16=(""),(""),ROUND(Kerkuilen!AA16/Kerkuilen!$T16*10,3)) | Y32: =IF(Kerkuilen!AB16=(""),(""),ROUND(Kerkuilen!AB16/Kerkuilen!$T16*10,3)) | ... AD32: =IF(Kerkuilen!AG16=(""),(""),ROUND(Kerkuilen!AG16/Kerkuilen!$T16*10,3))
A33: =IF(SUM(E33:AD33)=0,(" "),COUNTIF(E33:AD33,">0")) -> 6 | B33: =Kerkuilen!A17 -> Van Oers Danny [NS 50] | C33: =IF(Kerkuilen!AL17=0," ",SUM(E33:AD33)) -> 59.854 | E33: =IF(Kerkuilen!C17=(""),(""),ROUND(Kerkuilen!C17/Kerkuilen!$B17*10,3)) | F33: =IF(Kerkuilen!D17=(""),(""),ROUND(Kerkuilen!D17/50*10,3)) -> 10 | G33: =IF(Kerkuilen!E17=(""),(""),ROUND(Kerkuilen!E17/50*10,3)) -> 9 | H33: =IF(Kerkuilen!F17=(""),(""),ROUND(Kerkuilen!F17/50*10,3)) -> 12.2 | I33: =IF(Kerkuilen!G17=(""),(""),ROUND(Kerkuilen!G17/Kerkuilen!$B17*10,3)) | J33: =IF(Kerkuilen!H17=(""),(""),ROUND(Kerkuilen!H17/Kerkuilen!$B17*10,3)) | K33: =IF(Kerkuilen!I17=(""),(""),ROUND(Kerkuilen!I17/Kerkuilen!$B17*10,3)) | L33: =IF(Kerkuilen!J17=(""),(""),ROUND(Kerkuilen!J17/Kerkuilen!$B17*10,3)) -> 10 | M33: =IF(Kerkuilen!K17=(""),(""),ROUND(Kerkuilen!K17/Kerkuilen!$B17*10,3)) | N33: =IF(Kerkuilen!L17=(""),(""),ROUND(Kerkuilen!L17/Kerkuilen!$B17*10,3)) -> 7.5 | O33: =IF(Kerkuilen!M17=(""),(""),ROUND(Kerkuilen!M17/Kerkuilen!$B17*10,3)) | P33: =IF(Kerkuilen!N17=(""),(""),ROUND(Kerkuilen!N17/Kerkuilen!$B17*10,3)) -> 11.154 | Q33: =IF(Kerkuilen!O17=(""),(""),ROUND(Kerkuilen!O17/Kerkuilen!$B17*10,3)) | R33: =IF(Kerkuilen!U17=(""),(""),ROUND(Kerkuilen!U17/Kerkuilen!$T17*10,3)) | S33: =IF(Kerkuilen!V17=(""),(""),ROUND(Kerkuilen!V17/Kerkuilen!$T17*10,3)) | T33: =IF(Kerkuilen!W17=(""),(""),ROUND(Kerkuilen!W17/Kerkuilen!$T17*10,3)) | U33: =IF(Kerkuilen!X17=(""),(""),ROUND(Kerkuilen!X17/Kerkuilen!$T17*10,3)) | V33: =IF(Kerkuilen!Y17=(""),(""),ROUND(Kerkuilen!Y17/Kerkuilen!$T17*10,3)) | W33: =IF(Kerkuilen!Z17=(""),(""),ROUND(Kerkuilen!Z17/Kerkuilen!$T17*10,3)) | X33: =IF(Kerkuilen!AA17=(""),(""),ROUND(Kerkuilen!AA17/Kerkuilen!$T17*10,3)) | Y33: =IF(Kerkuilen!AB17=(""),(""),ROUND(Kerkuilen!AB17/Kerkuilen!$T17*10,3)) | ... AD33: =IF(Kerkuilen!AG17=(""),(""),ROUND(Kerkuilen!AG17/Kerkuilen!$T17*10,3))
A34: =IF(SUM(E34:AD34)=0,(" "),COUNTIF(E34:AD34,">0")) -> 1 | B34: =Kerkuilen!A18 -> Van Oers John | C34: =IF(Kerkuilen!AL16=0," ",SUM(E34:AD34)) -> 13.548 | E34: =IF(Kerkuilen!C18=(""),(""),ROUND(Kerkuilen!C18/Kerkuilen!$B18*10,3)) | F34: =IF(Kerkuilen!D18=(""),(""),ROUND(Kerkuilen!D18/Kerkuilen!$B18*10,3)) -> 13.548 | G34: =IF(Kerkuilen!E18=(""),(""),ROUND(Kerkuilen!E18/Kerkuilen!$B18*10,3)) | H34: =IF(Kerkuilen!F18=(""),(""),ROUND(Kerkuilen!F18/Kerkuilen!$B18*10,3)) | I34: =IF(Kerkuilen!G18=(""),(""),ROUND(Kerkuilen!G18/Kerkuilen!$B18*10,3)) | J34: =IF(Kerkuilen!H18=(""),(""),ROUND(Kerkuilen!H18/Kerkuilen!$B18*10,3)) | K34: =IF(Kerkuilen!I18=(""),(""),ROUND(Kerkuilen!I18/Kerkuilen!$B18*10,3)) | L34: =IF(Kerkuilen!J18=(""),(""),ROUND(Kerkuilen!J18/Kerkuilen!$B18*10,3)) | ... Q34: =IF(Kerkuilen!O18=(""),(""),ROUND(Kerkuilen!O18/Kerkuilen!$B18*10,3)) | R34: =IF(Kerkuilen!U18=(""),(""),ROUND(Kerkuilen!U18/Kerkuilen!$T18*10,3)) | S34: =IF(Kerkuilen!V18=(""),(""),ROUND(Kerkuilen!V18/Kerkuilen!$T18*10,3)) | T34: =IF(Kerkuilen!W18=(""),(""),ROUND(Kerkuilen!W18/Kerkuilen!$T18*10,3)) | U34: =IF(Kerkuilen!X18=(""),(""),ROUND(Kerkuilen!X18/Kerkuilen!$T18*10,3)) | V34: =IF(Kerkuilen!Y18=(""),(""),ROUND(Kerkuilen!Y18/Kerkuilen!$T18*10,3)) | W34: =IF(Kerkuilen!Z18=(""),(""),ROUND(Kerkuilen!Z18/Kerkuilen!$T18*10,3)) | X34: =IF(Kerkuilen!AA18=(""),(""),ROUND(Kerkuilen!AA18/Kerkuilen!$T18*10,3)) | Y34: =IF(Kerkuilen!AB18=(""),(""),ROUND(Kerkuilen!AB18/Kerkuilen!$T18*10,3)) | ... AD34: =IF(Kerkuilen!AG18=(""),(""),ROUND(Kerkuilen!AG18/Kerkuilen!$T18*10,3))
C35: =B19 -> KERKUILEN | E35: =IF(SUM(E20:E34)=0,(" "),SUM(E20:E34)) -> 55.039 | F35: =IF(SUM(F20:F34)=0,(" "),SUM(F20:F34)) -> 53.09 | G35: =IF(SUM(G20:G34)=0,(" "),SUM(G20:G34)) -> 48.46 | H35: =IF(SUM(H20:H34)=0,(" "),SUM(H20:H34)) -> 62.266 | I35: =IF(SUM(I20:I34)=0,("0"),SUM(I20:I34)) -> 52.704 | J35: =IF(SUM(J20:J34)=0,(" "),SUM(J20:J34)) -> 52.085 | K35: =IF(SUM(K20:K34)=0,(" "),SUM(K20:K34)) -> 52.633 | L35: =IF(SUM(L20:L34)=0,(" "),SUM(L20:L34)) -> 63.644 | M35: =IF(SUM(M20:M34)=0,(" "),SUM(M20:M34)) -> 53.924 | N35: =IF(SUM(N20:N34)=0,(" "),SUM(N20:N34)) -> 53.023 | O35: =IF(SUM(O20:O34)=0,(" "),SUM(O20:O34)) -> 67.561 | P35: =IF(SUM(P20:P34)=0,(" "),SUM(P20:P34)) -> 53.764 | Q35: =IF(SUM(Q20:Q34)=0,(" "),SUM(Q20:Q34)) | ... AD35: =IF(SUM(AD20:AD34)=0,(" "),SUM(AD20:AD34))
C36: =SUM(C20:C34) -> 668.193 | D36: =B19 -> KERKUILEN | E36: =SUM(E20:E34) -> 55.039 | F36: =IF(F35=(" "),(" "),E36+F35) -> 108.129 | G36: =IF(G35=(" "),(" "),F36+G35) -> 156.589 | H36: =IF(H35=(" "),(" "),G36+H35) -> 218.855 | I36: =IF(I35=(" "),(" "),H36+I35) -> 271.559 | J36: =IF(J35=(" "),(" "),I36+J35) -> 323.644 | K36: =IF(K35=(" "),(" "),J36+K35) -> 376.277 | L36: =IF(L35=(" "),(" "),K36+L35) -> 439.921 | M36: =IF(M35=(" "),(" "),L36+M35) -> 493.845 | ... AD36: =IF(AD35=(" "),(" "),AC36+AD35)
B38: MEEUWEN 1 | E38: 1 | F38: 2 | G38: 3 | H38: 4 | I38: 5 | J38: 6 | K38: 7 | L38: 8 | M38: 9 | N38: 10 | O38: 11 | P38: 12 | Q38: 13 | R38: 14 | S38: 15 | T38: 16 | U38: 17 | V38: 18 | W38: 19 | X38: 20 | Y38: 21 | Z38: 22 | AA38: 23 | AB38: 24 | AC38: 25 | AD38: 26
A39: =IF(SUM(E39:AD39)=0,(" "),COUNTIF(E39:AD39,">0")) -> 8 | B39: =Meeuwen1!A4 -> Aerts Adri | C39: =IF(Meeuwen1!AL4=0," ",SUM(E39:AD39)) -> 81.564 | E39: =IF(Meeuwen1!C4=(""),(""),ROUND(Meeuwen1!C4/Meeuwen1!$B4*10,3)) -> 5.625 | F39: =IF(Meeuwen1!D4=(""),(""),ROUND(Meeuwen1!D4/Meeuwen1!$B4*10,3)) -> 10.313 | G39: =IF(Meeuwen1!E4=(""),(""),ROUND(Meeuwen1!E4/Meeuwen1!$B4*10,3)) | H39: =IF(Meeuwen1!F4=(""),(""),ROUND(Meeuwen1!F4/Meeuwen1!$B4*10,3)) -> 15 | I39: =IF(Meeuwen1!G4=(""),(""),ROUND(Meeuwen1!G4/Meeuwen1!$B4*10,3)) | J39: =IF(Meeuwen1!H4=(""),(""),ROUND(Meeuwen1!H4/Meeuwen1!$B4*10,3)) -> 8.125 | K39: =IF(Meeuwen1!I4=(""),(""),ROUND(Meeuwen1!I4/Meeuwen1!$B4*10,3)) | L39: =IF(Meeuwen1!J4=(""),(""),ROUND(Meeuwen1!J4/Meeuwen1!$B4*10,3)) -> 12.188 | ... Q39: =IF(Meeuwen1!O4=(""),(""),ROUND(Meeuwen1!O4/Meeuwen1!$B4*10,3)) | R39: =IF(Meeuwen1!U4=(""),(""),ROUND(Meeuwen1!U4/Meeuwen1!$T4*10,3)) | S39: =IF(Meeuwen1!V4=(""),(""),ROUND(Meeuwen1!V4/Meeuwen1!$T4*10,3)) | T39: =IF(Meeuwen1!W4=(""),(""),ROUND(Meeuwen1!W4/Meeuwen1!$T4*10,3)) | U39: =IF(Meeuwen1!X4=(""),(""),ROUND(Meeuwen1!X4/Meeuwen1!$T4*10,3)) | V39: =IF(Meeuwen1!Y4=(""),(""),ROUND(Meeuwen1!Y4/Meeuwen1!$T4*10,3)) | W39: =IF(Meeuwen1!Z4=(""),(""),ROUND(Meeuwen1!Z4/Meeuwen1!$T4*10,3)) | X39: =IF(Meeuwen1!AA4=(""),(""),ROUND(Meeuwen1!AA4/Meeuwen1!$T4*10,3)) | Y39: =IF(Meeuwen1!AB4=(""),(""),ROUND(Meeuwen1!AB4/Meeuwen1!$T4*10,3)) | ... AD39: =IF(Meeuwen1!AG4=(""),(""),ROUND(Meeuwen1!AG4/Meeuwen1!$T4*10,3))
A40: =IF(SUM(E40:AD40)=0,(" "),COUNTIF(E40:AD40,">0")) -> 8 | B40: =Meeuwen1!A5 -> Bocken Jean Pierre | C40: =IF(Meeuwen1!AL5=0," ",SUM(E40:AD40)) -> 57.22 | E40: =IF(Meeuwen1!C5=(""),(""),ROUND(Meeuwen1!C5/Meeuwen1!$B5*10,3)) -> 6.111 | F40: =IF(Meeuwen1!D5=(""),(""),ROUND(Meeuwen1!D5/Meeuwen1!$B5*10,3)) -> 6.111 | G40: =IF(Meeuwen1!E5=(""),(""),ROUND(Meeuwen1!E5/Meeuwen1!$B5*10,3)) -> 3.333 | H40: =IF(Meeuwen1!F5=(""),(""),ROUND(Meeuwen1!F5/Meeuwen1!$B5*10,3)) | I40: =IF(Meeuwen1!G5=(""),(""),ROUND(Meeuwen1!G5/Meeuwen1!$B5*10,3)) -> 14.444 | J40: =IF(Meeuwen1!H5=(""),(""),ROUND(Meeuwen1!H5/Meeuwen1!$B5*10,3)) | K40: =IF(Meeuwen1!I5=(""),(""),ROUND(Meeuwen1!I5/Meeuwen1!$B5*10,3)) -> 9.444 | L40: =IF(Meeuwen1!J5=(""),(""),ROUND(Meeuwen1!J5/Meeuwen1!$B5*10,3)) -> 3.333 | ... Q40: =IF(Meeuwen1!O5=(""),(""),ROUND(Meeuwen1!O5/Meeuwen1!$B5*10,3)) | R40: =IF(Meeuwen1!U5=(""),(""),ROUND(Meeuwen1!U5/Meeuwen1!$T5*10,3)) | S40: =IF(Meeuwen1!V5=(""),(""),ROUND(Meeuwen1!V5/Meeuwen1!$T5*10,3)) | T40: =IF(Meeuwen1!W5=(""),(""),ROUND(Meeuwen1!W5/Meeuwen1!$T5*10,3)) | U40: =IF(Meeuwen1!X5=(""),(""),ROUND(Meeuwen1!X5/Meeuwen1!$T5*10,3)) | V40: =IF(Meeuwen1!Y5=(""),(""),ROUND(Meeuwen1!Y5/Meeuwen1!$T5*10,3)) | W40: =IF(Meeuwen1!Z5=(""),(""),ROUND(Meeuwen1!Z5/Meeuwen1!$T5*10,3)) | X40: =IF(Meeuwen1!AA5=(""),(""),ROUND(Meeuwen1!AA5/Meeuwen1!$T5*10,3)) | Y40: =IF(Meeuwen1!AB5=(""),(""),ROUND(Meeuwen1!AB5/Meeuwen1!$T5*10,3)) | ... AD40: =IF(Meeuwen1!AG5=(""),(""),ROUND(Meeuwen1!AG5/Meeuwen1!$T5*10,3))
A41: =IF(SUM(E41:AD41)=0,(" "),COUNTIF(E41:AD41,">0")) -> 7 | B41: =Meeuwen1!A6 -> Bocken Lambert | C41: =IF(Meeuwen1!AL6=0," ",SUM(E41:AD41)) -> 62.143 | E41: =IF(Meeuwen1!C6=(""),(""),ROUND(Meeuwen1!C6/Meeuwen1!$B6*10,3)) | F41: =IF(Meeuwen1!D6=(""),(""),ROUND(Meeuwen1!D6/Meeuwen1!$B6*10,3)) | G41: =IF(Meeuwen1!E6=(""),(""),ROUND(Meeuwen1!E6/Meeuwen1!$B6*10,3)) -> 9.643 | H41: =IF(Meeuwen1!F6=(""),(""),ROUND(Meeuwen1!F6/Meeuwen1!$B6*10,3)) -> 7.857 | I41: =IF(Meeuwen1!G6=(""),(""),ROUND(Meeuwen1!G6/Meeuwen1!$B6*10,3)) | J41: =IF(Meeuwen1!H6=(""),(""),ROUND(Meeuwen1!H6/Meeuwen1!$B6*10,3)) -> 12.5 | K41: =IF(Meeuwen1!I6=(""),(""),ROUND(Meeuwen1!I6/Meeuwen1!$B6*10,3)) -> 12.5 | L41: =IF(Meeuwen1!J6=(""),(""),ROUND(Meeuwen1!J6/Meeuwen1!$B6*10,3)) | ... Q41: =IF(Meeuwen1!O6=(""),(""),ROUND(Meeuwen1!O6/Meeuwen1!$B6*10,3)) | R41: =IF(Meeuwen1!U6=(""),(""),ROUND(Meeuwen1!U6/Meeuwen1!$T6*10,3)) | S41: =IF(Meeuwen1!V6=(""),(""),ROUND(Meeuwen1!V6/Meeuwen1!$T6*10,3)) | T41: =IF(Meeuwen1!W6=(""),(""),ROUND(Meeuwen1!W6/Meeuwen1!$T6*10,3)) | U41: =IF(Meeuwen1!X6=(""),(""),ROUND(Meeuwen1!X6/Meeuwen1!$T6*10,3)) | V41: =IF(Meeuwen1!Y6=(""),(""),ROUND(Meeuwen1!Y6/Meeuwen1!$T6*10,3)) | W41: =IF(Meeuwen1!Z6=(""),(""),ROUND(Meeuwen1!Z6/Meeuwen1!$T6*10,3)) | X41: =IF(Meeuwen1!AA6=(""),(""),ROUND(Meeuwen1!AA6/Meeuwen1!$T6*10,3)) | Y41: =IF(Meeuwen1!AB6=(""),(""),ROUND(Meeuwen1!AB6/Meeuwen1!$T6*10,3)) | ... AD41: =IF(Meeuwen1!AG6=(""),(""),ROUND(Meeuwen1!AG6/Meeuwen1!$T6*10,3))
A42: =IF(SUM(E42:AD42)=0,(" "),COUNTIF(E42:AD42,">0")) -> 8 | B42: =Meeuwen1!A7 -> Goetschalkx Herman | C42: =IF(Meeuwen1!AL7=0," ",SUM(E42:AD42)) -> 55.334 | E42: =IF(Meeuwen1!C7=(""),(""),ROUND(Meeuwen1!C7/Meeuwen1!$B7*10,3)) -> 2.667 | F42: =IF(Meeuwen1!D7=(""),(""),ROUND(Meeuwen1!D7/Meeuwen1!$B7*10,3)) | G42: =IF(Meeuwen1!E7=(""),(""),ROUND(Meeuwen1!E7/Meeuwen1!$B7*10,3)) -> 7.333 | H42: =IF(Meeuwen1!F7=(""),(""),ROUND(Meeuwen1!F7/Meeuwen1!$B7*10,3)) -> 8.667 | I42: =IF(Meeuwen1!G7=(""),(""),ROUND(Meeuwen1!G7/Meeuwen1!$B7*10,3)) -> 6.667 | J42: =IF(Meeuwen1!H7=(""),(""),ROUND(Meeuwen1!H7/Meeuwen1!$B7*10,3)) -> 8.667 | K42: =IF(Meeuwen1!I7=(""),(""),ROUND(Meeuwen1!I7/Meeuwen1!$B7*10,3)) | L42: =IF(Meeuwen1!J7=(""),(""),ROUND(Meeuwen1!J7/Meeuwen1!$B7*10,3)) -> 4.667 | ... Q42: =IF(Meeuwen1!O7=(""),(""),ROUND(Meeuwen1!O7/Meeuwen1!$B7*10,3)) | R42: =IF(Meeuwen1!U7=(""),(""),ROUND(Meeuwen1!U7/Meeuwen1!$T7*10,3)) | S42: =IF(Meeuwen1!V7=(""),(""),ROUND(Meeuwen1!V7/Meeuwen1!$T7*10,3)) | T42: =IF(Meeuwen1!W7=(""),(""),ROUND(Meeuwen1!W7/Meeuwen1!$T7*10,3)) | U42: =IF(Meeuwen1!X7=(""),(""),ROUND(Meeuwen1!X7/Meeuwen1!$T7*10,3)) | V42: =IF(Meeuwen1!Y7=(""),(""),ROUND(Meeuwen1!Y7/Meeuwen1!$T7*10,3)) | W42: =IF(Meeuwen1!Z7=(""),(""),ROUND(Meeuwen1!Z7/Meeuwen1!$T7*10,3)) | X42: =IF(Meeuwen1!AA7=(""),(""),ROUND(Meeuwen1!AA7/Meeuwen1!$T7*10,3)) | Y42: =IF(Meeuwen1!AB7=(""),(""),ROUND(Meeuwen1!AB7/Meeuwen1!$T7*10,3)) | ... AD42: =IF(Meeuwen1!AG7=(""),(""),ROUND(Meeuwen1!AG7/Meeuwen1!$T7*10,3))
A43: =IF(SUM(E43:AD43)=0,(" "),COUNTIF(E43:AD43,">0")) -> 3 | B43: =Meeuwen1!A8 -> Grauwmans Rik | C43: =IF(Meeuwen1!AL8=0," ",SUM(E43:AD43)) -> 25.152 | E43: =IF(Meeuwen1!C8=(""),(""),ROUND(Meeuwen1!C8/Meeuwen1!$B8*10,3)) | F43: =IF(Meeuwen1!D8=(""),(""),ROUND(Meeuwen1!D8/Meeuwen1!$B8*10,3)) | G43: =IF(Meeuwen1!E8=(""),(""),ROUND(Meeuwen1!E8/Meeuwen1!$B8*10,3)) | H43: =IF(Meeuwen1!F8=(""),(""),ROUND(Meeuwen1!F8/Meeuwen1!$B8*10,3)) | I43: =IF(Meeuwen1!G8=(""),(""),ROUND(Meeuwen1!G8/Meeuwen1!$B8*10,3)) | J43: =IF(Meeuwen1!H8=(""),(""),ROUND(Meeuwen1!H8/Meeuwen1!$B8*10,3)) | K43: =IF(Meeuwen1!I8=(""),(""),ROUND(Meeuwen1!I8/Meeuwen1!$B8*10,3)) -> 8.485 | L43: =IF(Meeuwen1!J8=(""),(""),ROUND(Meeuwen1!J8/Meeuwen1!$B8*10,3)) -> 6.667 | ... Q43: =IF(Meeuwen1!O8=(""),(""),ROUND(Meeuwen1!O8/Meeuwen1!$B8*10,3)) | R43: =IF(Meeuwen1!U8=(""),(""),ROUND(Meeuwen1!U8/Meeuwen1!$T8*10,3)) | S43: =IF(Meeuwen1!V8=(""),(""),ROUND(Meeuwen1!V8/Meeuwen1!$T8*10,3)) | T43: =IF(Meeuwen1!W8=(""),(""),ROUND(Meeuwen1!W8/Meeuwen1!$T8*10,3)) | U43: =IF(Meeuwen1!X8=(""),(""),ROUND(Meeuwen1!X8/Meeuwen1!$T8*10,3)) | V43: =IF(Meeuwen1!Y8=(""),(""),ROUND(Meeuwen1!Y8/Meeuwen1!$T8*10,3)) | W43: =IF(Meeuwen1!Z8=(""),(""),ROUND(Meeuwen1!Z8/Meeuwen1!$T8*10,3)) | X43: =IF(Meeuwen1!AA8=(""),(""),ROUND(Meeuwen1!AA8/Meeuwen1!$T8*10,3)) | Y43: =IF(Meeuwen1!AB8=(""),(""),ROUND(Meeuwen1!AB8/Meeuwen1!$T8*10,3)) | ... AD43: =IF(Meeuwen1!AG8=(""),(""),ROUND(Meeuwen1!AG8/Meeuwen1!$T8*10,3))
A44: =IF(SUM(E44:AD44)=0,(" "),COUNTIF(E44:AD44,">0")) -> 4 | B44: =Meeuwen1!A9 -> Meeusen Marc | C44: =IF(Meeuwen1!AL9=0," ",SUM(E44:AD44)) -> 31.44 | E44: =IF(Meeuwen1!C9=(""),(""),ROUND(Meeuwen1!C9/Meeuwen1!$B9*10,3)) | F44: =IF(Meeuwen1!D9=(""),(""),ROUND(Meeuwen1!D9/Meeuwen1!$B9*10,3)) -> 5.6 | G44: =IF(Meeuwen1!E9=(""),(""),ROUND(Meeuwen1!E9/Meeuwen1!$B9*10,3)) | H44: =IF(Meeuwen1!F9=(""),(""),ROUND(Meeuwen1!F9/Meeuwen1!$B9*10,3)) -> 7.28 | I44: =IF(Meeuwen1!G9=(""),(""),ROUND(Meeuwen1!G9/Meeuwen1!$B9*10,3)) | J44: =IF(Meeuwen1!H9=(""),(""),ROUND(Meeuwen1!H9/Meeuwen1!$B9*10,3)) | K44: =IF(Meeuwen1!I9=(""),(""),ROUND(Meeuwen1!I9/Meeuwen1!$B9*10,3)) | L44: =IF(Meeuwen1!J9=(""),(""),ROUND(Meeuwen1!J9/Meeuwen1!$B9*10,3)) | ... Q44: =IF(Meeuwen1!O9=(""),(""),ROUND(Meeuwen1!O9/Meeuwen1!$B9*10,3)) | R44: =IF(Meeuwen1!U9=(""),(""),ROUND(Meeuwen1!U9/Meeuwen1!$T9*10,3)) | S44: =IF(Meeuwen1!V9=(""),(""),ROUND(Meeuwen1!V9/Meeuwen1!$T9*10,3)) | T44: =IF(Meeuwen1!W9=(""),(""),ROUND(Meeuwen1!W9/Meeuwen1!$T9*10,3)) | U44: =IF(Meeuwen1!X9=(""),(""),ROUND(Meeuwen1!X9/Meeuwen1!$T9*10,3)) | V44: =IF(Meeuwen1!Y9=(""),(""),ROUND(Meeuwen1!Y9/Meeuwen1!$T9*10,3)) | W44: =IF(Meeuwen1!Z9=(""),(""),ROUND(Meeuwen1!Z9/Meeuwen1!$T9*10,3)) | X44: =IF(Meeuwen1!AA9=(""),(""),ROUND(Meeuwen1!AA9/Meeuwen1!$T9*10,3)) | Y44: =IF(Meeuwen1!AB9=(""),(""),ROUND(Meeuwen1!AB9/Meeuwen1!$T9*10,3)) | ... AD44: =IF(Meeuwen1!AG9=(""),(""),ROUND(Meeuwen1!AG9/Meeuwen1!$T9*10,3))
A45: =IF(SUM(E45:AD45)=0,(" "),COUNTIF(E45:AD45,">0")) -> 7 | B45: =Meeuwen1!A10 -> Van Loon Marc | C45: =IF(Meeuwen1!AL10=0," ",SUM(E45:AD45)) -> 70 | E45: =IF(Meeuwen1!C10=(""),(""),ROUND(Meeuwen1!C10/Meeuwen1!$B10*10,3)) | F45: =IF(Meeuwen1!D10=(""),(""),ROUND(Meeuwen1!D10/Meeuwen1!$B10*10,3)) -> 16.667 | G45: =IF(Meeuwen1!E10=(""),(""),ROUND(Meeuwen1!E10/Meeuwen1!$B10*10,3)) | H45: =IF(Meeuwen1!F10=(""),(""),ROUND(Meeuwen1!F10/Meeuwen1!$B10*10,3)) -> 7.333 | I45: =IF(Meeuwen1!G10=(""),(""),ROUND(Meeuwen1!G10/Meeuwen1!$B10*10,3)) | J45: =IF(Meeuwen1!H10=(""),(""),ROUND(Meeuwen1!H10/Meeuwen1!$B10*10,3)) -> 7.333 | K45: =IF(Meeuwen1!I10=(""),(""),ROUND(Meeuwen1!I10/Meeuwen1!$B10*10,3)) -> 3.333 | L45: =IF(Meeuwen1!J10=(""),(""),ROUND(Meeuwen1!J10/Meeuwen1!$B10*10,3)) | ... Q45: =IF(Meeuwen1!O10=(""),(""),ROUND(Meeuwen1!O10/Meeuwen1!$B10*10,3)) | R45: =IF(Meeuwen1!U10=(""),(""),ROUND(Meeuwen1!U10/Meeuwen1!$T10*10,3)) | S45: =IF(Meeuwen1!V10=(""),(""),ROUND(Meeuwen1!V10/Meeuwen1!$T10*10,3)) | T45: =IF(Meeuwen1!W10=(""),(""),ROUND(Meeuwen1!W10/Meeuwen1!$T10*10,3)) | U45: =IF(Meeuwen1!X10=(""),(""),ROUND(Meeuwen1!X10/Meeuwen1!$T10*10,3)) | V45: =IF(Meeuwen1!Y10=(""),(""),ROUND(Meeuwen1!Y10/Meeuwen1!$T10*10,3)) | W45: =IF(Meeuwen1!Z10=(""),(""),ROUND(Meeuwen1!Z10/Meeuwen1!$T10*10,3)) | X45: =IF(Meeuwen1!AA10=(""),(""),ROUND(Meeuwen1!AA10/Meeuwen1!$T10*10,3)) | Y45: =IF(Meeuwen1!AB10=(""),(""),ROUND(Meeuwen1!AB10/Meeuwen1!$T10*10,3)) | ... AD45: =IF(Meeuwen1!AG10=(""),(""),ROUND(Meeuwen1!AG10/Meeuwen1!$T10*10,3))
A46: =IF(SUM(E46:AD46)=0,(" "),COUNTIF(E46:AD46,">0")) -> 4 | B46: =Meeuwen1!A11 -> Van Zoest Teun | C46: =IF(Meeuwen1!AL11=0," ",SUM(E46:AD46)) -> 36.666 | E46: =IF(Meeuwen1!C11=(""),(""),ROUND(Meeuwen1!C11/Meeuwen1!$B11*10,3)) | F46: =IF(Meeuwen1!D11=(""),(""),ROUND(Meeuwen1!D11/Meeuwen1!$B11*10,3)) -> 6.389 | G46: =IF(Meeuwen1!E11=(""),(""),ROUND(Meeuwen1!E11/Meeuwen1!$B11*10,3)) | H46: =IF(Meeuwen1!F11=(""),(""),ROUND(Meeuwen1!F11/Meeuwen1!$B11*10,3)) -> 9.444 | I46: =IF(Meeuwen1!G11=(""),(""),ROUND(Meeuwen1!G11/Meeuwen1!$B11*10,3)) -> 11.111 | J46: =IF(Meeuwen1!H11=(""),(""),ROUND(Meeuwen1!H11/Meeuwen1!$B11*10,3)) | K46: =IF(Meeuwen1!I11=(""),(""),ROUND(Meeuwen1!I11/Meeuwen1!$B11*10,3)) -> 9.722 | L46: =IF(Meeuwen1!J11=(""),(""),ROUND(Meeuwen1!J11/Meeuwen1!$B11*10,3)) | ... Q46: =IF(Meeuwen1!O11=(""),(""),ROUND(Meeuwen1!O11/Meeuwen1!$B11*10,3)) | R46: =IF(Meeuwen1!U11=(""),(""),ROUND(Meeuwen1!U11/Meeuwen1!$T11*10,3)) | S46: =IF(Meeuwen1!V11=(""),(""),ROUND(Meeuwen1!V11/Meeuwen1!$T11*10,3)) | T46: =IF(Meeuwen1!W11=(""),(""),ROUND(Meeuwen1!W11/Meeuwen1!$T11*10,3)) | U46: =IF(Meeuwen1!X11=(""),(""),ROUND(Meeuwen1!X11/Meeuwen1!$T11*10,3)) | V46: =IF(Meeuwen1!Y11=(""),(""),ROUND(Meeuwen1!Y11/Meeuwen1!$T11*10,3)) | W46: =IF(Meeuwen1!Z11=(""),(""),ROUND(Meeuwen1!Z11/Meeuwen1!$T11*10,3)) | X46: =IF(Meeuwen1!AA11=(""),(""),ROUND(Meeuwen1!AA11/Meeuwen1!$T11*10,3)) | Y46: =IF(Meeuwen1!AB11=(""),(""),ROUND(Meeuwen1!AB11/Meeuwen1!$T11*10,3)) | ... AD46: =IF(Meeuwen1!AG11=(""),(""),ROUND(Meeuwen1!AG11/Meeuwen1!$T11*10,3))
A47: =IF(SUM(E47:AD47)=0,(" "),COUNTIF(E47:AD47,">0")) -> 7 | B47: =Meeuwen1!A12 -> Veraart Jos | C47: =IF(Meeuwen1!AL12=0," ",SUM(E47:AD47)) -> 46.875 | E47: =IF(Meeuwen1!C12=(""),(""),ROUND(Meeuwen1!C12/Meeuwen1!$B12*10,3)) -> 2.5 | F47: =IF(Meeuwen1!D12=(""),(""),ROUND(Meeuwen1!D12/Meeuwen1!$B12*10,3)) | G47: =IF(Meeuwen1!E12=(""),(""),ROUND(Meeuwen1!E12/Meeuwen1!$B12*10,3)) -> 4.375 | H47: =IF(Meeuwen1!F12=(""),(""),ROUND(Meeuwen1!F12/Meeuwen1!$B12*10,3)) | I47: =IF(Meeuwen1!G12=(""),(""),ROUND(Meeuwen1!G12/Meeuwen1!$B12*10,3)) -> 9.375 | J47: =IF(Meeuwen1!H12=(""),(""),ROUND(Meeuwen1!H12/Meeuwen1!$B12*10,3)) | K47: =IF(Meeuwen1!I12=(""),(""),ROUND(Meeuwen1!I12/Meeuwen1!$B12*10,3)) -> 5.625 | L47: =IF(Meeuwen1!J12=(""),(""),ROUND(Meeuwen1!J12/Meeuwen1!$B12*10,3)) -> 7.5 | ... Q47: =IF(Meeuwen1!O12=(""),(""),ROUND(Meeuwen1!O12/Meeuwen1!$B12*10,3)) | R47: =IF(Meeuwen1!U12=(""),(""),ROUND(Meeuwen1!U12/Meeuwen1!$T12*10,3)) | S47: =IF(Meeuwen1!V12=(""),(""),ROUND(Meeuwen1!V12/Meeuwen1!$T12*10,3)) | T47: =IF(Meeuwen1!W12=(""),(""),ROUND(Meeuwen1!W12/Meeuwen1!$T12*10,3)) | U47: =IF(Meeuwen1!X12=(""),(""),ROUND(Meeuwen1!X12/Meeuwen1!$T12*10,3)) | V47: =IF(Meeuwen1!Y12=(""),(""),ROUND(Meeuwen1!Y12/Meeuwen1!$T12*10,3)) | W47: =IF(Meeuwen1!Z12=(""),(""),ROUND(Meeuwen1!Z12/Meeuwen1!$T12*10,3)) | X47: =IF(Meeuwen1!AA12=(""),(""),ROUND(Meeuwen1!AA12/Meeuwen1!$T12*10,3)) | Y47: =IF(Meeuwen1!AB12=(""),(""),ROUND(Meeuwen1!AB12/Meeuwen1!$T12*10,3)) | ... AD47: =IF(Meeuwen1!AG12=(""),(""),ROUND(Meeuwen1!AG12/Meeuwen1!$T12*10,3))
A48: =IF(SUM(E48:AD48)=0,(" "),COUNTIF(E48:AD48,">0")) -> 7 | B48: =Meeuwen1!A13 -> Vossen Filip | C48: =IF(Meeuwen1!AL13=0," ",SUM(E48:AD48)) -> 78.125 | E48: =IF(Meeuwen1!C13=(""),(""),ROUND(Meeuwen1!C13/Meeuwen1!$B13*10,3)) -> 8.125 | F48: =IF(Meeuwen1!D13=(""),(""),ROUND(Meeuwen1!D13/Meeuwen1!$B13*10,3)) | G48: =IF(Meeuwen1!E13=(""),(""),ROUND(Meeuwen1!E13/Meeuwen1!$B13*10,3)) -> 15.625 | H48: =IF(Meeuwen1!F13=(""),(""),ROUND(Meeuwen1!F13/Meeuwen1!$B13*10,3)) | I48: =IF(Meeuwen1!G13=(""),(""),ROUND(Meeuwen1!G13/Meeuwen1!$B13*10,3)) -> 10 | J48: =IF(Meeuwen1!H13=(""),(""),ROUND(Meeuwen1!H13/Meeuwen1!$B13*10,3)) -> 8.125 | K48: =IF(Meeuwen1!I13=(""),(""),ROUND(Meeuwen1!I13/Meeuwen1!$B13*10,3)) | L48: =IF(Meeuwen1!J13=(""),(""),ROUND(Meeuwen1!J13/Meeuwen1!$B13*10,3)) | ... Q48: =IF(Meeuwen1!O13=(""),(""),ROUND(Meeuwen1!O13/Meeuwen1!$B13*10,3)) | R48: =IF(Meeuwen1!U13=(""),(""),ROUND(Meeuwen1!U13/Meeuwen1!$T13*10,3)) | S48: =IF(Meeuwen1!V13=(""),(""),ROUND(Meeuwen1!V13/Meeuwen1!$T13*10,3)) | T48: =IF(Meeuwen1!W13=(""),(""),ROUND(Meeuwen1!W13/Meeuwen1!$T13*10,3)) | U48: =IF(Meeuwen1!X13=(""),(""),ROUND(Meeuwen1!X13/Meeuwen1!$T13*10,3)) | V48: =IF(Meeuwen1!Y13=(""),(""),ROUND(Meeuwen1!Y13/Meeuwen1!$T13*10,3)) | W48: =IF(Meeuwen1!Z13=(""),(""),ROUND(Meeuwen1!Z13/Meeuwen1!$T13*10,3)) | X48: =IF(Meeuwen1!AA13=(""),(""),ROUND(Meeuwen1!AA13/Meeuwen1!$T13*10,3)) | Y48: =IF(Meeuwen1!AB13=(""),(""),ROUND(Meeuwen1!AB13/Meeuwen1!$T13*10,3)) | ... AD48: =IF(Meeuwen1!AG13=(""),(""),ROUND(Meeuwen1!AG13/Meeuwen1!$T13*10,3))
A49: =IF(SUM(E49:AD49)=0,(" "),COUNTIF(E49:AD49,">0")) -> 9 | B49: =Meeuwen1!A14 -> Vossen Ronny [NS 20] | C49: =IF(Meeuwen1!AL14=0," ",SUM(E49:AD49)) -> 71.167 | E49: =IF(Meeuwen1!C14=(""),(""),ROUND(Meeuwen1!C14/20*10,3)) -> 11 | F49: =IF(Meeuwen1!D14=(""),(""),ROUND(Meeuwen1!D14/20*10,3)) -> 5 | G49: =IF(Meeuwen1!E14=(""),(""),ROUND(Meeuwen1!E14/20*10,3)) -> 4.5 | H49: =IF(Meeuwen1!F14=(""),(""),ROUND(Meeuwen1!F14/Meeuwen1!$B14*10,3)) | I49: =IF(Meeuwen1!G14=(""),(""),ROUND(Meeuwen1!G14/Meeuwen1!$B14*10,3)) -> 6.667 | J49: =IF(Meeuwen1!H14=(""),(""),ROUND(Meeuwen1!H14/Meeuwen1!$B14*10,3)) -> 6 | K49: =IF(Meeuwen1!I14=(""),(""),ROUND(Meeuwen1!I14/Meeuwen1!$B14*10,3)) | L49: =IF(Meeuwen1!J14=(""),(""),ROUND(Meeuwen1!J14/Meeuwen1!$B14*10,3)) -> 9.333 | M49: =IF(Meeuwen1!K14=(""),(""),ROUND(Meeuwen1!K14/Meeuwen1!$B14*10,3)) -> 8.667 | N49: =IF(Meeuwen1!L14=(""),(""),ROUND(Meeuwen1!L14/Meeuwen1!$B14*10,3)) | O49: =IF(Meeuwen1!M14=(""),(""),ROUND(Meeuwen1!M14/Meeuwen1!$B14*10,3)) -> 9.333 | ... Q49: =IF(Meeuwen1!O14=(""),(""),ROUND(Meeuwen1!O14/Meeuwen1!$B14*10,3)) | R49: =IF(Meeuwen1!U14=(""),(""),ROUND(Meeuwen1!U14/Meeuwen1!$T14*10,3)) | S49: =IF(Meeuwen1!V14=(""),(""),ROUND(Meeuwen1!V14/Meeuwen1!$T14*10,3)) | T49: =IF(Meeuwen1!W14=(""),(""),ROUND(Meeuwen1!W14/Meeuwen1!$T14*10,3)) | U49: =IF(Meeuwen1!X14=(""),(""),ROUND(Meeuwen1!X14/Meeuwen1!$T14*10,3)) | V49: =IF(Meeuwen1!Y14=(""),(""),ROUND(Meeuwen1!Y14/Meeuwen1!$T14*10,3)) | W49: =IF(Meeuwen1!Z14=(""),(""),ROUND(Meeuwen1!Z14/Meeuwen1!$T14*10,3)) | X49: =IF(Meeuwen1!AA14=(""),(""),ROUND(Meeuwen1!AA14/Meeuwen1!$T14*10,3)) | Y49: =IF(Meeuwen1!AB14=(""),(""),ROUND(Meeuwen1!AB14/Meeuwen1!$T14*10,3)) | ... AD49: =IF(Meeuwen1!AG14=(""),(""),ROUND(Meeuwen1!AG14/Meeuwen1!$T14*10,3))
C50: =B38 -> MEEUWEN 1 | E50: =IF(SUM(E39:E49)=0,(" "),SUM(E39:E49)) -> 36.028 | F50: =IF(SUM(F39:F49)=0,(" "),SUM(F39:F49)) -> 50.08 | G50: =IF(SUM(G39:G49)=0,(" "),SUM(G39:G49)) -> 44.809 | H50: =IF(SUM(H39:H49)=0,(" "),SUM(H39:H49)) -> 55.581 | I50: =IF(SUM(I39:I49)=0,("0"),SUM(I39:I49)) -> 58.264 | J50: =IF(SUM(J39:J49)=0,(" "),SUM(J39:J49)) -> 50.75 | K50: =IF(SUM(K39:K49)=0,(" "),SUM(K39:K49)) -> 49.109 | L50: =IF(SUM(L39:L49)=0,(" "),SUM(L39:L49)) -> 43.688 | M50: =IF(SUM(M39:M49)=0,(" "),SUM(M39:M49)) -> 76.481 | N50: =IF(SUM(N39:N49)=0,(" "),SUM(N39:N49)) -> 46.373 | O50: =IF(SUM(O39:O49)=0,(" "),SUM(O39:O49)) -> 61.231 | P50: =IF(SUM(P39:P49)=0,(" "),SUM(P39:P49)) -> 43.292 | Q50: =IF(SUM(Q39:Q49)=0,(" "),SUM(Q39:Q49)) | ... AD50: =IF(SUM(AD39:AD49)=0,(" "),SUM(AD39:AD49))
C51: =SUM(C39:C49) -> 615.686 | D51: =B38 -> MEEUWEN 1 | E51: =SUM(E39:E49) -> 36.028 | F51: =IF(F50=(" "),(" "),E51+F50) -> 86.108 | G51: =IF(G50=(" "),(" "),F51+G50) -> 130.917 | H51: =IF(H50=(" "),(" "),G51+H50) -> 186.498 | I51: =IF(I50=(" "),(" "),H51+I50) -> 244.762 | J51: =IF(J50=(" "),(" "),I51+J50) -> 295.512 | K51: =IF(K50=(" "),(" "),J51+K50) -> 344.621 | L51: =IF(L50=(" "),(" "),K51+L50) -> 388.309 | M51: =IF(M50=(" "),(" "),L51+M50) -> 464.79 | ... AD51: =IF(AD50=(" "),(" "),AC51+AD50)
B53: MEEUWEN 2 | E53: 1 | F53: 2 | G53: 3 | H53: 4 | I53: 5 | J53: 6 | K53: 7 | L53: 8 | M53: 9 | N53: 10 | O53: 11 | P53: 12 | Q53: 13 | R53: 14 | S53: 15 | T53: 16 | U53: 17 | V53: 18 | W53: 19 | X53: 20 | Y53: 21 | Z53: 22 | AA53: 23 | AB53: 24 | AC53: 25 | AD53: 26
A54: =IF(SUM(E54:AD54)=0,(" "),COUNTIF(E54:AD54,">0")) -> 5 | B54: =Meeuwen2!A4 -> Brouwers Gerard | C54: =IF(Meeuwen2!AL4=0," ",SUM(E54:AD54)) -> 36.667 | E54: =IF(Meeuwen2!C4=(""),(""),ROUND(Meeuwen2!C4/Meeuwen2!$B4*10,3)) -> 10.667 | F54: =IF(Meeuwen2!D4=(""),(""),ROUND(Meeuwen2!D4/Meeuwen2!$B4*10,3)) | G54: =IF(Meeuwen2!E4=(""),(""),ROUND(Meeuwen2!E4/Meeuwen2!$B4*10,3)) -> 4 | H54: =IF(Meeuwen2!F4=(""),(""),ROUND(Meeuwen2!F4/Meeuwen2!$B4*10,3)) | I54: =IF(Meeuwen2!G4=(""),(""),ROUND(Meeuwen2!G4/Meeuwen2!$B4*10,3)) -> 9.333 | J54: =IF(Meeuwen2!H4=(""),(""),ROUND(Meeuwen2!H4/Meeuwen2!$B4*10,3)) | K54: =IF(Meeuwen2!I4=(""),(""),ROUND(Meeuwen2!I4/Meeuwen2!$B4*10,3)) | L54: =IF(Meeuwen2!J4=(""),(""),ROUND(Meeuwen2!J4/Meeuwen2!$B4*10,3)) | ... Q54: =IF(Meeuwen2!O4=(""),(""),ROUND(Meeuwen2!O4/Meeuwen2!$B4*10,3)) | R54: =IF(Meeuwen2!U4=(""),(""),ROUND(Meeuwen2!U4/Meeuwen2!$T4*10,3)) | S54: =IF(Meeuwen2!V4=(""),(""),ROUND(Meeuwen2!V4/Meeuwen2!$T4*10,3)) | T54: =IF(Meeuwen2!W4=(""),(""),ROUND(Meeuwen2!W4/Meeuwen2!$T4*10,3)) | U54: =IF(Meeuwen2!X4=(""),(""),ROUND(Meeuwen2!X4/Meeuwen2!$T4*10,3)) | V54: =IF(Meeuwen2!Y4=(""),(""),ROUND(Meeuwen2!Y4/Meeuwen2!$T4*10,3)) | W54: =IF(Meeuwen2!Z4=(""),(""),ROUND(Meeuwen2!Z4/Meeuwen2!$T4*10,3)) | X54: =IF(Meeuwen2!AA4=(""),(""),ROUND(Meeuwen2!AA4/Meeuwen2!$T4*10,3)) | Y54: =IF(Meeuwen2!AB4=(""),(""),ROUND(Meeuwen2!AB4/Meeuwen2!$T4*10,3)) | ... AD54: =IF(Meeuwen2!AG4=(""),(""),ROUND(Meeuwen2!AG4/Meeuwen2!$T4*10,3))
A55: =IF(SUM(E55:AD55)=0,(" "),COUNTIF(E55:AD55,">0")) -> 9 | B55: =Meeuwen2!A5 -> De Backer Jerome | C55: =IF(Meeuwen2!AL5=0," ",SUM(E55:AD55)) -> 108.158 | E55: =IF(Meeuwen2!C5=(""),(""),ROUND(Meeuwen2!C5/Meeuwen2!$B5*10,3)) -> 10 | F55: =IF(Meeuwen2!D5=(""),(""),ROUND(Meeuwen2!D5/Meeuwen2!$B5*10,3)) -> 15.789 | G55: =IF(Meeuwen2!E5=(""),(""),ROUND(Meeuwen2!E5/Meeuwen2!$B5*10,3)) -> 6.053 | H55: =IF(Meeuwen2!F5=(""),(""),ROUND(Meeuwen2!F5/Meeuwen2!$B5*10,3)) -> 10.263 | I55: =IF(Meeuwen2!G5=(""),(""),ROUND(Meeuwen2!G5/Meeuwen2!$B5*10,3)) | J55: =IF(Meeuwen2!H5=(""),(""),ROUND(Meeuwen2!H5/Meeuwen2!$B5*10,3)) | K55: =IF(Meeuwen2!I5=(""),(""),ROUND(Meeuwen2!I5/Meeuwen2!$B5*10,3)) -> 10 | L55: =IF(Meeuwen2!J5=(""),(""),ROUND(Meeuwen2!J5/Meeuwen2!$B5*10,3)) -> 11.053 | ... Q55: =IF(Meeuwen2!O5=(""),(""),ROUND(Meeuwen2!O5/Meeuwen2!$B5*10,3)) | R55: =IF(Meeuwen2!U5=(""),(""),ROUND(Meeuwen2!U5/Meeuwen2!$T5*10,3)) | S55: =IF(Meeuwen2!V5=(""),(""),ROUND(Meeuwen2!V5/Meeuwen2!$T5*10,3)) | T55: =IF(Meeuwen2!W5=(""),(""),ROUND(Meeuwen2!W5/Meeuwen2!$T5*10,3)) | U55: =IF(Meeuwen2!X5=(""),(""),ROUND(Meeuwen2!X5/Meeuwen2!$T5*10,3)) | V55: =IF(Meeuwen2!Y5=(""),(""),ROUND(Meeuwen2!Y5/Meeuwen2!$T5*10,3)) | W55: =IF(Meeuwen2!Z5=(""),(""),ROUND(Meeuwen2!Z5/Meeuwen2!$T5*10,3)) | X55: =IF(Meeuwen2!AA5=(""),(""),ROUND(Meeuwen2!AA5/Meeuwen2!$T5*10,3)) | Y55: =IF(Meeuwen2!AB5=(""),(""),ROUND(Meeuwen2!AB5/Meeuwen2!$T5*10,3)) | ... AD55: =IF(Meeuwen2!AG5=(""),(""),ROUND(Meeuwen2!AG5/Meeuwen2!$T5*10,3))
A56: =IF(SUM(E56:AD56)=0,(" "),COUNTIF(E56:AD56,">0")) -> 2 | B56: =Meeuwen2!A6 -> Gabriëls Johnny | C56: =IF(Meeuwen2!AL6=0," ",SUM(E56:AD56)) -> 11.251 | E56: =IF(Meeuwen2!C6=(""),(""),ROUND(Meeuwen2!C6/Meeuwen2!$B6*10,3)) | F56: =IF(Meeuwen2!D6=(""),(""),ROUND(Meeuwen2!D6/Meeuwen2!$B6*10,3)) | G56: =IF(Meeuwen2!E6=(""),(""),ROUND(Meeuwen2!E6/Meeuwen2!$B6*10,3)) | H56: =IF(Meeuwen2!F6=(""),(""),ROUND(Meeuwen2!F6/Meeuwen2!$B6*10,3)) -> 6.563 | I56: =IF(Meeuwen2!G6=(""),(""),ROUND(Meeuwen2!G6/Meeuwen2!$B6*10,3)) | J56: =IF(Meeuwen2!H6=(""),(""),ROUND(Meeuwen2!H6/Meeuwen2!$B6*10,3)) | K56: =IF(Meeuwen2!I6=(""),(""),ROUND(Meeuwen2!I6/Meeuwen2!$B6*10,3)) | L56: =IF(Meeuwen2!J6=(""),(""),ROUND(Meeuwen2!J6/Meeuwen2!$B6*10,3)) | ... Q56: =IF(Meeuwen2!O6=(""),(""),ROUND(Meeuwen2!O6/Meeuwen2!$B6*10,3)) | R56: =IF(Meeuwen2!U6=(""),(""),ROUND(Meeuwen2!U6/Meeuwen2!$T6*10,3)) | S56: =IF(Meeuwen2!V6=(""),(""),ROUND(Meeuwen2!V6/Meeuwen2!$T6*10,3)) | T56: =IF(Meeuwen2!W6=(""),(""),ROUND(Meeuwen2!W6/Meeuwen2!$T6*10,3)) | U56: =IF(Meeuwen2!X6=(""),(""),ROUND(Meeuwen2!X6/Meeuwen2!$T6*10,3)) | V56: =IF(Meeuwen2!Y6=(""),(""),ROUND(Meeuwen2!Y6/Meeuwen2!$T6*10,3)) | W56: =IF(Meeuwen2!Z6=(""),(""),ROUND(Meeuwen2!Z6/Meeuwen2!$T6*10,3)) | X56: =IF(Meeuwen2!AA6=(""),(""),ROUND(Meeuwen2!AA6/Meeuwen2!$T6*10,3)) | Y56: =IF(Meeuwen2!AB6=(""),(""),ROUND(Meeuwen2!AB6/Meeuwen2!$T6*10,3)) | ... AD56: =IF(Meeuwen2!AG6=(""),(""),ROUND(Meeuwen2!AG6/Meeuwen2!$T6*10,3))
A57: =IF(SUM(E57:AD57)=0,(" "),COUNTIF(E57:AD57,">0")) -> 7 | B57: =Meeuwen2!A7 -> Jacobs Hugo | C57: =IF(Meeuwen2!AL7=0," ",SUM(E57:AD57)) -> 67.941 | E57: =IF(Meeuwen2!C7=(""),(""),ROUND(Meeuwen2!C7/Meeuwen2!$B7*10,3)) | F57: =IF(Meeuwen2!D7=(""),(""),ROUND(Meeuwen2!D7/Meeuwen2!$B7*10,3)) -> 10.294 | G57: =IF(Meeuwen2!E7=(""),(""),ROUND(Meeuwen2!E7/Meeuwen2!$B7*10,3)) -> 8.235 | H57: =IF(Meeuwen2!F7=(""),(""),ROUND(Meeuwen2!F7/Meeuwen2!$B7*10,3)) -> 10.294 | I57: =IF(Meeuwen2!G7=(""),(""),ROUND(Meeuwen2!G7/Meeuwen2!$B7*10,3)) | J57: =IF(Meeuwen2!H7=(""),(""),ROUND(Meeuwen2!H7/Meeuwen2!$B7*10,3)) -> 8.529 | K57: =IF(Meeuwen2!I7=(""),(""),ROUND(Meeuwen2!I7/Meeuwen2!$B7*10,3)) | L57: =IF(Meeuwen2!J7=(""),(""),ROUND(Meeuwen2!J7/Meeuwen2!$B7*10,3)) -> 11.471 | ... Q57: =IF(Meeuwen2!O7=(""),(""),ROUND(Meeuwen2!O7/Meeuwen2!$B7*10,3)) | R57: =IF(Meeuwen2!U7=(""),(""),ROUND(Meeuwen2!U7/Meeuwen2!$T7*10,3)) | S57: =IF(Meeuwen2!V7=(""),(""),ROUND(Meeuwen2!V7/Meeuwen2!$T7*10,3)) | T57: =IF(Meeuwen2!W7=(""),(""),ROUND(Meeuwen2!W7/Meeuwen2!$T7*10,3)) | U57: =IF(Meeuwen2!X7=(""),(""),ROUND(Meeuwen2!X7/Meeuwen2!$T7*10,3)) | V57: =IF(Meeuwen2!Y7=(""),(""),ROUND(Meeuwen2!Y7/Meeuwen2!$T7*10,3)) | W57: =IF(Meeuwen2!Z7=(""),(""),ROUND(Meeuwen2!Z7/Meeuwen2!$T7*10,3)) | X57: =IF(Meeuwen2!AA7=(""),(""),ROUND(Meeuwen2!AA7/Meeuwen2!$T7*10,3)) | Y57: =IF(Meeuwen2!AB7=(""),(""),ROUND(Meeuwen2!AB7/Meeuwen2!$T7*10,3)) | ... AD57: =IF(Meeuwen2!AG7=(""),(""),ROUND(Meeuwen2!AG7/Meeuwen2!$T7*10,3))
A58: =IF(SUM(E58:AD58)=0,(" "),COUNTIF(E58:AD58,">0")) -> 5 | B58: =Meeuwen2!A8 -> Jacobs Willy | C58: =IF(Meeuwen2!AL8=0," ",SUM(E58:AD58)) -> 40.75 | E58: =IF(Meeuwen2!C8=(""),(""),ROUND(Meeuwen2!C8/Meeuwen2!$B8*10,3)) | F58: =IF(Meeuwen2!D8=(""),(""),ROUND(Meeuwen2!D8/Meeuwen2!$B8*10,3)) | G58: =IF(Meeuwen2!E8=(""),(""),ROUND(Meeuwen2!E8/Meeuwen2!$B8*10,3)) -> 7.25 | H58: =IF(Meeuwen2!F8=(""),(""),ROUND(Meeuwen2!F8/Meeuwen2!$B8*10,3)) | I58: =IF(Meeuwen2!G8=(""),(""),ROUND(Meeuwen2!G8/Meeuwen2!$B8*10,3)) -> 8.5 | J58: =IF(Meeuwen2!H8=(""),(""),ROUND(Meeuwen2!H8/Meeuwen2!$B8*10,3)) | K58: =IF(Meeuwen2!I8=(""),(""),ROUND(Meeuwen2!I8/Meeuwen2!$B8*10,3)) -> 9.375 | L58: =IF(Meeuwen2!J8=(""),(""),ROUND(Meeuwen2!J8/Meeuwen2!$B8*10,3)) | ... Q58: =IF(Meeuwen2!O8=(""),(""),ROUND(Meeuwen2!O8/Meeuwen2!$B8*10,3)) | R58: =IF(Meeuwen2!U8=(""),(""),ROUND(Meeuwen2!U8/Meeuwen2!$T8*10,3)) | S58: =IF(Meeuwen2!V8=(""),(""),ROUND(Meeuwen2!V8/Meeuwen2!$T8*10,3)) | T58: =IF(Meeuwen2!W8=(""),(""),ROUND(Meeuwen2!W8/Meeuwen2!$T8*10,3)) | U58: =IF(Meeuwen2!X8=(""),(""),ROUND(Meeuwen2!X8/Meeuwen2!$T8*10,3)) | V58: =IF(Meeuwen2!Y8=(""),(""),ROUND(Meeuwen2!Y8/Meeuwen2!$T8*10,3)) | W58: =IF(Meeuwen2!Z8=(""),(""),ROUND(Meeuwen2!Z8/Meeuwen2!$T8*10,3)) | X58: =IF(Meeuwen2!AA8=(""),(""),ROUND(Meeuwen2!AA8/Meeuwen2!$T8*10,3)) | Y58: =IF(Meeuwen2!AB8=(""),(""),ROUND(Meeuwen2!AB8/Meeuwen2!$T8*10,3)) | ... AD58: =IF(Meeuwen2!AG8=(""),(""),ROUND(Meeuwen2!AG8/Meeuwen2!$T8*10,3))
A59: =IF(SUM(E59:AD59)=0,(" "),COUNTIF(E59:AD59,">0")) | B59: =Meeuwen2!A9 -> Lambrechts Marc | C59: =IF(Meeuwen2!AL9=0," ",SUM(E59:AD59)) | E59: =IF(Meeuwen2!C9=(""),(""),ROUND(Meeuwen2!C9/Meeuwen2!$B9*10,3)) | F59: =IF(Meeuwen2!D9=(""),(""),ROUND(Meeuwen2!D9/Meeuwen2!$B9*10,3)) | G59: =IF(Meeuwen2!E9=(""),(""),ROUND(Meeuwen2!E9/Meeuwen2!$B9*10,3)) | H59: =IF(Meeuwen2!F9=(""),(""),ROUND(Meeuwen2!F9/Meeuwen2!$B9*10,3)) | I59: =IF(Meeuwen2!G9=(""),(""),ROUND(Meeuwen2!G9/Meeuwen2!$B9*10,3)) | J59: =IF(Meeuwen2!H9=(""),(""),ROUND(Meeuwen2!H9/Meeuwen2!$B9*10,3)) | K59: =IF(Meeuwen2!I9=(""),(""),ROUND(Meeuwen2!I9/Meeuwen2!$B9*10,3)) | L59: =IF(Meeuwen2!J9=(""),(""),ROUND(Meeuwen2!J9/Meeuwen2!$B9*10,3)) | ... Q59: =IF(Meeuwen2!O9=(""),(""),ROUND(Meeuwen2!O9/Meeuwen2!$B9*10,3)) | R59: =IF(Meeuwen2!U9=(""),(""),ROUND(Meeuwen2!U9/Meeuwen2!$T9*10,3)) | S59: =IF(Meeuwen2!V9=(""),(""),ROUND(Meeuwen2!V9/Meeuwen2!$T9*10,3)) | T59: =IF(Meeuwen2!W9=(""),(""),ROUND(Meeuwen2!W9/Meeuwen2!$T9*10,3)) | U59: =IF(Meeuwen2!X9=(""),(""),ROUND(Meeuwen2!X9/Meeuwen2!$T9*10,3)) | V59: =IF(Meeuwen2!Y9=(""),(""),ROUND(Meeuwen2!Y9/Meeuwen2!$T9*10,3)) | W59: =IF(Meeuwen2!Z9=(""),(""),ROUND(Meeuwen2!Z9/Meeuwen2!$T9*10,3)) | X59: =IF(Meeuwen2!AA9=(""),(""),ROUND(Meeuwen2!AA9/Meeuwen2!$T9*10,3)) | Y59: =IF(Meeuwen2!AB9=(""),(""),ROUND(Meeuwen2!AB9/Meeuwen2!$T9*10,3)) | ... AD59: =IF(Meeuwen2!AG9=(""),(""),ROUND(Meeuwen2!AG9/Meeuwen2!$T9*10,3))
A60: =IF(SUM(E60:AD60)=0,(" "),COUNTIF(E60:AD60,">0")) -> 2 | B60: =Meeuwen2!A10 -> Lucassen Rini | C60: =IF(Meeuwen2!AL10=0," ",SUM(E60:AD60)) -> 24.137 | E60: =IF(Meeuwen2!C10=(""),(""),ROUND(Meeuwen2!C10/Meeuwen2!$B10*10,3)) | F60: =IF(Meeuwen2!D10=(""),(""),ROUND(Meeuwen2!D10/Meeuwen2!$B10*10,3)) -> 13.103 | G60: =IF(Meeuwen2!E10=(""),(""),ROUND(Meeuwen2!E10/Meeuwen2!$B10*10,3)) | H60: =IF(Meeuwen2!F10=(""),(""),ROUND(Meeuwen2!F10/Meeuwen2!$B10*10,3)) | I60: =IF(Meeuwen2!G10=(""),(""),ROUND(Meeuwen2!G10/Meeuwen2!$B10*10,3)) | J60: =IF(Meeuwen2!H10=(""),(""),ROUND(Meeuwen2!H10/Meeuwen2!$B10*10,3)) | K60: =IF(Meeuwen2!I10=(""),(""),ROUND(Meeuwen2!I10/Meeuwen2!$B10*10,3)) | L60: =IF(Meeuwen2!J10=(""),(""),ROUND(Meeuwen2!J10/Meeuwen2!$B10*10,3)) -> 11.034 | ... Q60: =IF(Meeuwen2!O10=(""),(""),ROUND(Meeuwen2!O10/Meeuwen2!$B10*10,3)) | R60: =IF(Meeuwen2!U10=(""),(""),ROUND(Meeuwen2!U10/Meeuwen2!$T10*10,3)) | S60: =IF(Meeuwen2!V10=(""),(""),ROUND(Meeuwen2!V10/Meeuwen2!$T10*10,3)) | T60: =IF(Meeuwen2!W10=(""),(""),ROUND(Meeuwen2!W10/Meeuwen2!$T10*10,3)) | U60: =IF(Meeuwen2!X10=(""),(""),ROUND(Meeuwen2!X10/Meeuwen2!$T10*10,3)) | V60: =IF(Meeuwen2!Y10=(""),(""),ROUND(Meeuwen2!Y10/Meeuwen2!$T10*10,3)) | W60: =IF(Meeuwen2!Z10=(""),(""),ROUND(Meeuwen2!Z10/Meeuwen2!$T10*10,3)) | X60: =IF(Meeuwen2!AA10=(""),(""),ROUND(Meeuwen2!AA10/Meeuwen2!$T10*10,3)) | Y60: =IF(Meeuwen2!AB10=(""),(""),ROUND(Meeuwen2!AB10/Meeuwen2!$T10*10,3)) | ... AD60: =IF(Meeuwen2!AG10=(""),(""),ROUND(Meeuwen2!AG10/Meeuwen2!$T10*10,3))
A61: =IF(SUM(E61:AD61)=0,(" "),COUNTIF(E61:AD61,">0")) -> 8 | B61: =Meeuwen2!A11 -> Present Fons | C61: =IF(Meeuwen2!AL11=0," ",SUM(E61:AD61)) -> 90.001 | E61: =IF(Meeuwen2!C11=(""),(""),ROUND(Meeuwen2!C11/Meeuwen2!$B11*10,3)) -> 10.455 | F61: =IF(Meeuwen2!D11=(""),(""),ROUND(Meeuwen2!D11/Meeuwen2!$B11*10,3)) | G61: =IF(Meeuwen2!E11=(""),(""),ROUND(Meeuwen2!E11/Meeuwen2!$B11*10,3)) -> 5.909 | H61: =IF(Meeuwen2!F11=(""),(""),ROUND(Meeuwen2!F11/Meeuwen2!$B11*10,3)) | I61: =IF(Meeuwen2!G11=(""),(""),ROUND(Meeuwen2!G11/Meeuwen2!$B11*10,3)) -> 8.182 | J61: =IF(Meeuwen2!H11=(""),(""),ROUND(Meeuwen2!H11/Meeuwen2!$B11*10,3)) | K61: =IF(Meeuwen2!I11=(""),(""),ROUND(Meeuwen2!I11/Meeuwen2!$B11*10,3)) -> 16.818 | L61: =IF(Meeuwen2!J11=(""),(""),ROUND(Meeuwen2!J11/Meeuwen2!$B11*10,3)) -> 15.455 | ... Q61: =IF(Meeuwen2!O11=(""),(""),ROUND(Meeuwen2!O11/Meeuwen2!$B11*10,3)) | R61: =IF(Meeuwen2!U11=(""),(""),ROUND(Meeuwen2!U11/Meeuwen2!$T11*10,3)) | S61: =IF(Meeuwen2!V11=(""),(""),ROUND(Meeuwen2!V11/Meeuwen2!$T11*10,3)) | T61: =IF(Meeuwen2!W11=(""),(""),ROUND(Meeuwen2!W11/Meeuwen2!$T11*10,3)) | U61: =IF(Meeuwen2!X11=(""),(""),ROUND(Meeuwen2!X11/Meeuwen2!$T11*10,3)) | V61: =IF(Meeuwen2!Y11=(""),(""),ROUND(Meeuwen2!Y11/Meeuwen2!$T11*10,3)) | W61: =IF(Meeuwen2!Z11=(""),(""),ROUND(Meeuwen2!Z11/Meeuwen2!$T11*10,3)) | X61: =IF(Meeuwen2!AA11=(""),(""),ROUND(Meeuwen2!AA11/Meeuwen2!$T11*10,3)) | Y61: =IF(Meeuwen2!AB11=(""),(""),ROUND(Meeuwen2!AB11/Meeuwen2!$T11*10,3)) | ... AD61: =IF(Meeuwen2!AG11=(""),(""),ROUND(Meeuwen2!AG11/Meeuwen2!$T11*10,3))
A62: =IF(SUM(E62:AD62)=0,(" "),COUNTIF(E62:AD62,">0")) -> 4 | B62: =Meeuwen2!A12 -> Present Marc [NS 20] | C62: =IF(Meeuwen2!AL12=0," ",SUM(E62:AD62)) -> 44.864 | E62: =IF(Meeuwen2!C12=(""),(""),ROUND(Meeuwen2!C12/20*10,3)) -> 10 | F62: =IF(Meeuwen2!D12=(""),(""),ROUND(Meeuwen2!D12/Meeuwen2!$B12*10,3)) | G62: =IF(Meeuwen2!E12=(""),(""),ROUND(Meeuwen2!E12/Meeuwen2!$B12*10,3)) | H62: =IF(Meeuwen2!F12=(""),(""),ROUND(Meeuwen2!F12/Meeuwen2!$B12*10,3)) | I62: =IF(Meeuwen2!G12=(""),(""),ROUND(Meeuwen2!G12/Meeuwen2!$B12*10,3)) | J62: =IF(Meeuwen2!H12=(""),(""),ROUND(Meeuwen2!H12/20*10,3)) -> 12 | K62: =IF(Meeuwen2!I12=(""),(""),ROUND(Meeuwen2!I12/Meeuwen2!$B12*10,3)) | L62: =IF(Meeuwen2!J12=(""),(""),ROUND(Meeuwen2!J12/Meeuwen2!$B12*10,3)) | M62: =IF(Meeuwen2!K12=(""),(""),ROUND(Meeuwen2!K12/20*10,3)) -> 11.5 | N62: =IF(Meeuwen2!L12=(""),(""),ROUND(Meeuwen2!L12/Meeuwen2!$B12*10,3)) | O62: =IF(Meeuwen2!M12=(""),(""),ROUND(Meeuwen2!M12/Meeuwen2!$B12*10,3)) -> 11.364 | P62: =IF(Meeuwen2!N12=(""),(""),ROUND(Meeuwen2!N12/Meeuwen2!$B12*10,3)) | Q62: =IF(Meeuwen2!O12=(""),(""),ROUND(Meeuwen2!O12/Meeuwen2!$B12*10,3)) | R62: =IF(Meeuwen2!U12=(""),(""),ROUND(Meeuwen2!U12/Meeuwen2!$T12*10,3)) | S62: =IF(Meeuwen2!V12=(""),(""),ROUND(Meeuwen2!V12/Meeuwen2!$T12*10,3)) | T62: =IF(Meeuwen2!W12=(""),(""),ROUND(Meeuwen2!W12/Meeuwen2!$T12*10,3)) | U62: =IF(Meeuwen2!X12=(""),(""),ROUND(Meeuwen2!X12/Meeuwen2!$T12*10,3)) | V62: =IF(Meeuwen2!Y12=(""),(""),ROUND(Meeuwen2!Y12/Meeuwen2!$T12*10,3)) | W62: =IF(Meeuwen2!Z12=(""),(""),ROUND(Meeuwen2!Z12/Meeuwen2!$T12*10,3)) | X62: =IF(Meeuwen2!AA12=(""),(""),ROUND(Meeuwen2!AA12/Meeuwen2!$T12*10,3)) | Y62: =IF(Meeuwen2!AB12=(""),(""),ROUND(Meeuwen2!AB12/Meeuwen2!$T12*10,3)) | ... AD62: =IF(Meeuwen2!AG12=(""),(""),ROUND(Meeuwen2!AG12/Meeuwen2!$T12*10,3))
A63: =IF(SUM(E63:AD63)=0,(" "),COUNTIF(E63:AD63,">0")) -> 7 | B63: =Meeuwen2!A13 -> Suykerbuyk Stan | C63: =IF(Meeuwen2!AL13=0," ",SUM(E63:AD63)) -> 81.212 | E63: =IF(Meeuwen2!C13=(""),(""),ROUND(Meeuwen2!C13/Meeuwen2!$B13*10,3)) -> 7.576 | F63: =IF(Meeuwen2!D13=(""),(""),ROUND(Meeuwen2!D13/Meeuwen2!$B13*10,3)) | G63: =IF(Meeuwen2!E13=(""),(""),ROUND(Meeuwen2!E13/Meeuwen2!$B13*10,3)) -> 10.606 | H63: =IF(Meeuwen2!F13=(""),(""),ROUND(Meeuwen2!F13/Meeuwen2!$B13*10,3)) | I63: =IF(Meeuwen2!G13=(""),(""),ROUND(Meeuwen2!G13/Meeuwen2!$B13*10,3)) -> 8.788 | J63: =IF(Meeuwen2!H13=(""),(""),ROUND(Meeuwen2!H13/Meeuwen2!$B13*10,3)) -> 20 | K63: =IF(Meeuwen2!I13=(""),(""),ROUND(Meeuwen2!I13/Meeuwen2!$B13*10,3)) -> 11.212 | L63: =IF(Meeuwen2!J13=(""),(""),ROUND(Meeuwen2!J13/Meeuwen2!$B13*10,3)) | ... Q63: =IF(Meeuwen2!O13=(""),(""),ROUND(Meeuwen2!O13/Meeuwen2!$B13*10,3)) | R63: =IF(Meeuwen2!U13=(""),(""),ROUND(Meeuwen2!U13/Meeuwen2!$T13*10,3)) | S63: =IF(Meeuwen2!V13=(""),(""),ROUND(Meeuwen2!V13/Meeuwen2!$T13*10,3)) | T63: =IF(Meeuwen2!W13=(""),(""),ROUND(Meeuwen2!W13/Meeuwen2!$T13*10,3)) | U63: =IF(Meeuwen2!X13=(""),(""),ROUND(Meeuwen2!X13/Meeuwen2!$T13*10,3)) | V63: =IF(Meeuwen2!Y13=(""),(""),ROUND(Meeuwen2!Y13/Meeuwen2!$T13*10,3)) | W63: =IF(Meeuwen2!Z13=(""),(""),ROUND(Meeuwen2!Z13/Meeuwen2!$T13*10,3)) | X63: =IF(Meeuwen2!AA13=(""),(""),ROUND(Meeuwen2!AA13/Meeuwen2!$T13*10,3)) | Y63: =IF(Meeuwen2!AB13=(""),(""),ROUND(Meeuwen2!AB13/Meeuwen2!$T13*10,3)) | ... AD63: =IF(Meeuwen2!AG13=(""),(""),ROUND(Meeuwen2!AG13/Meeuwen2!$T13*10,3))
A64: =IF(SUM(E64:AD64)=0,(" "),COUNTIF(E64:AD64,">0")) -> 8 | B64: =Meeuwen2!A14 -> Vandersanden Lucien | C64: =IF(Meeuwen2!AL14=0," ",SUM(E64:AD64)) -> 73.333 | E64: =IF(Meeuwen2!C14=(""),(""),ROUND(Meeuwen2!C14/Meeuwen2!$B14*10,3)) -> 6.923 | F64: =IF(Meeuwen2!D14=(""),(""),ROUND(Meeuwen2!D14/Meeuwen2!$B14*10,3)) -> 11.282 | G64: =IF(Meeuwen2!E14=(""),(""),ROUND(Meeuwen2!E14/Meeuwen2!$B14*10,3)) | H64: =IF(Meeuwen2!F14=(""),(""),ROUND(Meeuwen2!F14/Meeuwen2!$B14*10,3)) -> 6.923 | I64: =IF(Meeuwen2!G14=(""),(""),ROUND(Meeuwen2!G14/Meeuwen2!$B14*10,3)) | J64: =IF(Meeuwen2!H14=(""),(""),ROUND(Meeuwen2!H14/Meeuwen2!$B14*10,3)) -> 11.026 | K64: =IF(Meeuwen2!I14=(""),(""),ROUND(Meeuwen2!I14/Meeuwen2!$B14*10,3)) -> 9.487 | L64: =IF(Meeuwen2!J14=(""),(""),ROUND(Meeuwen2!J14/Meeuwen2!$B14*10,3)) -> 7.436 | ... Q64: =IF(Meeuwen2!O14=(""),(""),ROUND(Meeuwen2!O14/Meeuwen2!$B14*10,3)) | R64: =IF(Meeuwen2!U14=(""),(""),ROUND(Meeuwen2!U14/Meeuwen2!$T14*10,3)) | S64: =IF(Meeuwen2!V14=(""),(""),ROUND(Meeuwen2!V14/Meeuwen2!$T14*10,3)) | T64: =IF(Meeuwen2!W14=(""),(""),ROUND(Meeuwen2!W14/Meeuwen2!$T14*10,3)) | U64: =IF(Meeuwen2!X14=(""),(""),ROUND(Meeuwen2!X14/Meeuwen2!$T14*10,3)) | V64: =IF(Meeuwen2!Y14=(""),(""),ROUND(Meeuwen2!Y14/Meeuwen2!$T14*10,3)) | W64: =IF(Meeuwen2!Z14=(""),(""),ROUND(Meeuwen2!Z14/Meeuwen2!$T14*10,3)) | X64: =IF(Meeuwen2!AA14=(""),(""),ROUND(Meeuwen2!AA14/Meeuwen2!$T14*10,3)) | Y64: =IF(Meeuwen2!AB14=(""),(""),ROUND(Meeuwen2!AB14/Meeuwen2!$T14*10,3)) | ... AD64: =IF(Meeuwen2!AG14=(""),(""),ROUND(Meeuwen2!AG14/Meeuwen2!$T14*10,3))
A65: =IF(SUM(E65:AD65)=0,(" "),COUNTIF(E65:AD65,">0")) -> 6 | B65: =Meeuwen2!A15 -> Van Dorst Alfons | C65: =IF(Meeuwen2!AL15=0," ",SUM(E65:AD65)) -> 63.389 | E65: =IF(Meeuwen2!C15=(""),(""),ROUND(Meeuwen2!C15/Meeuwen2!$B15*10,3)) | F65: =IF(Meeuwen2!D15=(""),(""),ROUND(Meeuwen2!D15/Meeuwen2!$B15*10,3)) -> 10.169 | G65: =IF(Meeuwen2!E15=(""),(""),ROUND(Meeuwen2!E15/Meeuwen2!$B15*10,3)) | H65: =IF(Meeuwen2!F15=(""),(""),ROUND(Meeuwen2!F15/Meeuwen2!$B15*10,3)) -> 11.186 | I65: =IF(Meeuwen2!G15=(""),(""),ROUND(Meeuwen2!G15/Meeuwen2!$B15*10,3)) -> 8.814 | J65: =IF(Meeuwen2!H15=(""),(""),ROUND(Meeuwen2!H15/Meeuwen2!$B15*10,3)) -> 10.508 | K65: =IF(Meeuwen2!I15=(""),(""),ROUND(Meeuwen2!I15/Meeuwen2!$B15*10,3)) | L65: =IF(Meeuwen2!J15=(""),(""),ROUND(Meeuwen2!J15/Meeuwen2!$B15*10,3)) | ... Q65: =IF(Meeuwen2!O15=(""),(""),ROUND(Meeuwen2!O15/Meeuwen2!$B15*10,3)) | R65: =IF(Meeuwen2!U15=(""),(""),ROUND(Meeuwen2!U15/Meeuwen2!$T15*10,3)) | S65: =IF(Meeuwen2!V15=(""),(""),ROUND(Meeuwen2!V15/Meeuwen2!$T15*10,3)) | T65: =IF(Meeuwen2!W15=(""),(""),ROUND(Meeuwen2!W15/Meeuwen2!$T15*10,3)) | U65: =IF(Meeuwen2!X15=(""),(""),ROUND(Meeuwen2!X15/Meeuwen2!$T15*10,3)) | V65: =IF(Meeuwen2!Y15=(""),(""),ROUND(Meeuwen2!Y15/Meeuwen2!$T15*10,3)) | W65: =IF(Meeuwen2!Z15=(""),(""),ROUND(Meeuwen2!Z15/Meeuwen2!$T15*10,3)) | X65: =IF(Meeuwen2!AA15=(""),(""),ROUND(Meeuwen2!AA15/Meeuwen2!$T15*10,3)) | Y65: =IF(Meeuwen2!AB15=(""),(""),ROUND(Meeuwen2!AB15/Meeuwen2!$T15*10,3)) | ... AD65: =IF(Meeuwen2!AG15=(""),(""),ROUND(Meeuwen2!AG15/Meeuwen2!$T15*10,3))
A66: =IF(SUM(E66:AD66)=0,(" "),COUNTIF(E66:AD66,">0")) -> 9 | B66: =Meeuwen2!A16 -> Van Thillo Sis | C66: =IF(Meeuwen2!AL16=0," ",SUM(E66:AD66)) -> 89.065 | E66: =IF(Meeuwen2!C16=(""),(""),ROUND(Meeuwen2!C16/Meeuwen2!$B16*10,3)) | F66: =IF(Meeuwen2!D16=(""),(""),ROUND(Meeuwen2!D16/Meeuwen2!$B16*10,3)) -> 12.5 | G66: =IF(Meeuwen2!E16=(""),(""),ROUND(Meeuwen2!E16/Meeuwen2!$B16*10,3)) | H66: =IF(Meeuwen2!F16=(""),(""),ROUND(Meeuwen2!F16/Meeuwen2!$B16*10,3)) -> 7.188 | I66: =IF(Meeuwen2!G16=(""),(""),ROUND(Meeuwen2!G16/Meeuwen2!$B16*10,3)) -> 12.188 | J66: =IF(Meeuwen2!H16=(""),(""),ROUND(Meeuwen2!H16/Meeuwen2!$B16*10,3)) -> 11.25 | K66: =IF(Meeuwen2!I16=(""),(""),ROUND(Meeuwen2!I16/Meeuwen2!$B16*10,3)) -> 9.063 | L66: =IF(Meeuwen2!J16=(""),(""),ROUND(Meeuwen2!J16/Meeuwen2!$B16*10,3)) -> 11.875 | ... Q66: =IF(Meeuwen2!O16=(""),(""),ROUND(Meeuwen2!O16/Meeuwen2!$B16*10,3)) | R66: =IF(Meeuwen2!U16=(""),(""),ROUND(Meeuwen2!U16/Meeuwen2!$T16*10,3)) | S66: =IF(Meeuwen2!V16=(""),(""),ROUND(Meeuwen2!V16/Meeuwen2!$T16*10,3)) | T66: =IF(Meeuwen2!W16=(""),(""),ROUND(Meeuwen2!W16/Meeuwen2!$T16*10,3)) | U66: =IF(Meeuwen2!X16=(""),(""),ROUND(Meeuwen2!X16/Meeuwen2!$T16*10,3)) | V66: =IF(Meeuwen2!Y16=(""),(""),ROUND(Meeuwen2!Y16/Meeuwen2!$T16*10,3)) | W66: =IF(Meeuwen2!Z16=(""),(""),ROUND(Meeuwen2!Z16/Meeuwen2!$T16*10,3)) | X66: =IF(Meeuwen2!AA16=(""),(""),ROUND(Meeuwen2!AA16/Meeuwen2!$T16*10,3)) | Y66: =IF(Meeuwen2!AB16=(""),(""),ROUND(Meeuwen2!AB16/Meeuwen2!$T16*10,3)) | ... AD66: =IF(Meeuwen2!AG16=(""),(""),ROUND(Meeuwen2!AG16/Meeuwen2!$T16*10,3))
C67: =B53 -> MEEUWEN 2 | E67: =IF(SUM(E54:E66)=0,(" "),SUM(E54:E66)) -> 55.621 | F67: =IF(SUM(F54:F66)=0,(" "),SUM(F54:F66)) -> 73.137 | G67: =IF(SUM(G54:G66)=0,(" "),SUM(G54:G66)) -> 42.053 | H67: =IF(SUM(H54:H66)=0,("0"),SUM(H54:H66)) -> 52.417 | I67: =IF(SUM(I54:I66)=0,(" "),SUM(I54:I66)) -> 55.805 | J67: =IF(SUM(J54:J66)=0,(" "),SUM(J54:J66)) -> 73.313 | K67: =IF(SUM(K54:K66)=0,(" "),SUM(K54:K66)) -> 65.955 | L67: =IF(SUM(L54:L66)=0,(" "),SUM(L54:L66)) -> 68.324 | M67: =IF(SUM(M54:M66)=0,(" "),SUM(M54:M66)) -> 67.025 | N67: =IF(SUM(N54:N66)=0,(" "),SUM(N54:N66)) -> 52.162 | O67: =IF(SUM(O54:O66)=0,(" "),SUM(O54:O66)) -> 68.407 | P67: =IF(SUM(P54:P66)=0,(" "),SUM(P54:P66)) -> 56.549 | ... AD67: =IF(SUM(AD54:AD66)=0,(" "),SUM(AD54:AD66))
C68: =SUM(C54:C66) -> 730.768 | D68: =B53 -> MEEUWEN 2 | E68: =SUM(E54:E64) -> 55.621 | F68: =IF(F67=(" "),(" "),E68+F67) -> 128.758 | G68: =IF(G67=(" "),(" "),F68+G67) -> 170.811 | H68: =IF(H67=(" "),(" "),G68+H67) -> 223.228 | I68: =IF(I67=(" "),(" "),H68+I67) -> 279.033 | J68: =IF(J67=(" "),(" "),I68+J67) -> 352.346 | K68: =IF(K67=(" "),(" "),J68+K67) -> 418.301 | L68: =IF(L67=(" "),(" "),K68+L67) -> 486.625 | M68: =IF(M67=(" "),(" "),L68+M67) -> 553.65 | ... AD68: =IF(AD67=(" "),(" "),AC68+AD67)
A70: =IF(SUM(E71:AD71)=0,(" "),COUNTIF(E71:AD71,">0")) -> 6 | B70: MOLENHEIKE | E70: 1 | F70: 2 | G70: 3 | H70: 4 | I70: 5 | J70: 6 | K70: 7 | L70: 8 | M70: 9 | N70: 10 | O70: 11 | P70: 12 | Q70: 13 | R70: 14 | S70: 15 | T70: 16 | U70: 17 | V70: 18 | W70: 19 | X70: 20 | Y70: 21 | Z70: 22 | AA70: 23 | AB70: 24 | AC70: 25 | AD70: 26
A71: =IF(SUM(E71:AD71)=0,(" "),COUNTIF(E71:AD71,">0")) -> 6 | B71: =Molenheike!A4 -> Brauns Martin | C71: =IF(Molenheike!AL4=0," ",SUM(E71:AD71)) -> 55.789 | E71: =IF(Molenheike!C4=(""),(""),ROUND(Molenheike!C4/Molenheike!$B4*10,3)) | F71: =IF(Molenheike!D4=(""),(""),ROUND(Molenheike!D4/Molenheike!$B4*10,3)) -> 7.632 | G71: =IF(Molenheike!E4=(""),(""),ROUND(Molenheike!E4/Molenheike!$B4*10,3)) | H71: =IF(Molenheike!F4=(""),(""),ROUND(Molenheike!F4/Molenheike!$B4*10,3)) | I71: =IF(Molenheike!G4=(""),(""),ROUND(Molenheike!G4/Molenheike!$B4*10,3)) | J71: =IF(Molenheike!H4=(""),(""),ROUND(Molenheike!H4/Molenheike!$B4*10,3)) -> 12.105 | K71: =IF(Molenheike!I4=(""),(""),ROUND(Molenheike!I4/Molenheike!$B4*10,3)) -> 8.947 | L71: =IF(Molenheike!J4=(""),(""),ROUND(Molenheike!J4/Molenheike!$B4*10,3)) | ... Q71: =IF(Molenheike!O4=(""),(""),ROUND(Molenheike!O4/Molenheike!$B4*10,3)) | R71: =IF(Molenheike!U4=(""),(""),ROUND(Molenheike!U4/Molenheike!$T4*10,3)) | S71: =IF(Molenheike!V4=(""),(""),ROUND(Molenheike!V4/Molenheike!$T4*10,3)) | T71: =IF(Molenheike!W4=(""),(""),ROUND(Molenheike!W4/Molenheike!$T4*10,3)) | U71: =IF(Molenheike!X4=(""),(""),ROUND(Molenheike!X4/Molenheike!$T4*10,3)) | V71: =IF(Molenheike!Y4=(""),(""),ROUND(Molenheike!Y4/Molenheike!$T4*10,3)) | W71: =IF(Molenheike!Z4=(""),(""),ROUND(Molenheike!Z4/Molenheike!$T4*10,3)) | X71: =IF(Molenheike!AA4=(""),(""),ROUND(Molenheike!AA4/Molenheike!$T4*10,3)) | Y71: =IF(Molenheike!AB4=(""),(""),ROUND(Molenheike!AB4/Molenheike!$T4*10,3)) | ... AD71: =IF(Molenheike!AG4=(""),(""),ROUND(Molenheike!AG4/Molenheike!$T4*10,3))
A72: =IF(SUM(E72:AD72)=0,(" "),COUNTIF(E72:AD72,">0")) -> 8 | B72: =Molenheike!A5 -> Brosens Luc | C72: =IF(Molenheike!AL5=0," ",SUM(E72:AD72)) -> 70.69 | E72: =IF(Molenheike!C5=(""),(""),ROUND(Molenheike!C5/Molenheike!$B5*10,3)) -> 10 | F72: =IF(Molenheike!D5=(""),(""),ROUND(Molenheike!D5/Molenheike!$B5*10,3)) -> 6.897 | G72: =IF(Molenheike!E5=(""),(""),ROUND(Molenheike!E5/Molenheike!$B5*10,3)) | H72: =IF(Molenheike!F5=(""),(""),ROUND(Molenheike!F5/Molenheike!$B5*10,3)) -> 7.069 | I72: =IF(Molenheike!G5=(""),(""),ROUND(Molenheike!G5/Molenheike!$B5*10,3)) -> 10 | J72: =IF(Molenheike!H5=(""),(""),ROUND(Molenheike!H5/Molenheike!$B5*10,3)) -> 10.172 | K72: =IF(Molenheike!I5=(""),(""),ROUND(Molenheike!I5/Molenheike!$B5*10,3)) -> 10.517 | L72: =IF(Molenheike!J5=(""),(""),ROUND(Molenheike!J5/Molenheike!$B5*10,3)) | ... Q72: =IF(Molenheike!O5=(""),(""),ROUND(Molenheike!O5/Molenheike!$B5*10,3)) | R72: =IF(Molenheike!U5=(""),(""),ROUND(Molenheike!U5/Molenheike!$T5*10,3)) | S72: =IF(Molenheike!V5=(""),(""),ROUND(Molenheike!V5/Molenheike!$T5*10,3)) | T72: =IF(Molenheike!W5=(""),(""),ROUND(Molenheike!W5/Molenheike!$T5*10,3)) | U72: =IF(Molenheike!X5=(""),(""),ROUND(Molenheike!X5/Molenheike!$T5*10,3)) | V72: =IF(Molenheike!Y5=(""),(""),ROUND(Molenheike!Y5/Molenheike!$T5*10,3)) | W72: =IF(Molenheike!Z5=(""),(""),ROUND(Molenheike!Z5/Molenheike!$T5*10,3)) | X72: =IF(Molenheike!AA5=(""),(""),ROUND(Molenheike!AA5/Molenheike!$T5*10,3)) | Y72: =IF(Molenheike!AB5=(""),(""),ROUND(Molenheike!AB5/Molenheike!$T5*10,3)) | ... AD72: =IF(Molenheike!AG5=(""),(""),ROUND(Molenheike!AG5/Molenheike!$T5*10,3))
A73: =IF(SUM(E73:AD73)=0,(" "),COUNTIF(E73:AD73,">0")) -> 9 | B73: =Molenheike!A6 -> Dhooghe Jan | C73: =IF(Molenheike!AL6=0," ",SUM(E73:AD73)) -> 95.556 | E73: =IF(Molenheike!C6=(""),(""),ROUND(Molenheike!C6/Molenheike!$B6*10,3)) | F73: =IF(Molenheike!D6=(""),(""),ROUND(Molenheike!D6/Molenheike!$B6*10,3)) -> 9.63 | G73: =IF(Molenheike!E6=(""),(""),ROUND(Molenheike!E6/Molenheike!$B6*10,3)) -> 9.63 | H73: =IF(Molenheike!F6=(""),(""),ROUND(Molenheike!F6/Molenheike!$B6*10,3)) | I73: =IF(Molenheike!G6=(""),(""),ROUND(Molenheike!G6/Molenheike!$B6*10,3)) -> 14.074 | J73: =IF(Molenheike!H6=(""),(""),ROUND(Molenheike!H6/Molenheike!$B6*10,3)) -> 7.037 | K73: =IF(Molenheike!I6=(""),(""),ROUND(Molenheike!I6/Molenheike!$B6*10,3)) | L73: =IF(Molenheike!J6=(""),(""),ROUND(Molenheike!J6/Molenheike!$B6*10,3)) -> 14.444 | ... Q73: =IF(Molenheike!O6=(""),(""),ROUND(Molenheike!O6/Molenheike!$B6*10,3)) | R73: =IF(Molenheike!U6=(""),(""),ROUND(Molenheike!U6/Molenheike!$T6*10,3)) | S73: =IF(Molenheike!V6=(""),(""),ROUND(Molenheike!V6/Molenheike!$T6*10,3)) | T73: =IF(Molenheike!W6=(""),(""),ROUND(Molenheike!W6/Molenheike!$T6*10,3)) | U73: =IF(Molenheike!X6=(""),(""),ROUND(Molenheike!X6/Molenheike!$T6*10,3)) | V73: =IF(Molenheike!Y6=(""),(""),ROUND(Molenheike!Y6/Molenheike!$T6*10,3)) | W73: =IF(Molenheike!Z6=(""),(""),ROUND(Molenheike!Z6/Molenheike!$T6*10,3)) | X73: =IF(Molenheike!AA6=(""),(""),ROUND(Molenheike!AA6/Molenheike!$T6*10,3)) | Y73: =IF(Molenheike!AB6=(""),(""),ROUND(Molenheike!AB6/Molenheike!$T6*10,3)) | ... AD73: =IF(Molenheike!AG6=(""),(""),ROUND(Molenheike!AG6/Molenheike!$T6*10,3))
A74: =IF(SUM(E74:AD74)=0,(" "),COUNTIF(E74:AD74,">0")) -> 8 | B74: =Molenheike!A7 -> Keuppens Marc | C74: =IF(Molenheike!AL7=0," ",SUM(E74:AD74)) -> 96.001 | E74: =IF(Molenheike!C7=(""),(""),ROUND(Molenheike!C7/Molenheike!$B7*10,3)) -> 9.333 | F74: =IF(Molenheike!D7=(""),(""),ROUND(Molenheike!D7/Molenheike!$B7*10,3)) | G74: =IF(Molenheike!E7=(""),(""),ROUND(Molenheike!E7/Molenheike!$B7*10,3)) -> 14.667 | H74: =IF(Molenheike!F7=(""),(""),ROUND(Molenheike!F7/Molenheike!$B7*10,3)) -> 16 | I74: =IF(Molenheike!G7=(""),(""),ROUND(Molenheike!G7/Molenheike!$B7*10,3)) | J74: =IF(Molenheike!H7=(""),(""),ROUND(Molenheike!H7/Molenheike!$B7*10,3)) -> 11.667 | K74: =IF(Molenheike!I7=(""),(""),ROUND(Molenheike!I7/Molenheike!$B7*10,3)) -> 8.667 | L74: =IF(Molenheike!J7=(""),(""),ROUND(Molenheike!J7/Molenheike!$B7*10,3)) -> 10.667 | ... Q74: =IF(Molenheike!O7=(""),(""),ROUND(Molenheike!O7/Molenheike!$B7*10,3)) | R74: =IF(Molenheike!U7=(""),(""),ROUND(Molenheike!U7/Molenheike!$T7*10,3)) | S74: =IF(Molenheike!V7=(""),(""),ROUND(Molenheike!V7/Molenheike!$T7*10,3)) | T74: =IF(Molenheike!W7=(""),(""),ROUND(Molenheike!W7/Molenheike!$T7*10,3)) | U74: =IF(Molenheike!X7=(""),(""),ROUND(Molenheike!X7/Molenheike!$T7*10,3)) | V74: =IF(Molenheike!Y7=(""),(""),ROUND(Molenheike!Y7/Molenheike!$T7*10,3)) | W74: =IF(Molenheike!Z7=(""),(""),ROUND(Molenheike!Z7/Molenheike!$T7*10,3)) | X74: =IF(Molenheike!AA7=(""),(""),ROUND(Molenheike!AA7/Molenheike!$T7*10,3)) | Y74: =IF(Molenheike!AB7=(""),(""),ROUND(Molenheike!AB7/Molenheike!$T7*10,3)) | ... AD74: =IF(Molenheike!AG7=(""),(""),ROUND(Molenheike!AG7/Molenheike!$T7*10,3))
A75: =IF(SUM(E75:AD75)=0,(" "),COUNTIF(E75:AD75,">0")) -> 8 | B75: =Molenheike!A8 -> Lambrechts Ferdy | C75: =IF(Molenheike!AL8=0," ",SUM(E75:AD75)) -> 79.057 | E75: =IF(Molenheike!C8=(""),(""),ROUND(Molenheike!C8/Molenheike!$B8*10,3)) | F75: =IF(Molenheike!D8=(""),(""),ROUND(Molenheike!D8/Molenheike!$B8*10,3)) -> 13.774 | G75: =IF(Molenheike!E8=(""),(""),ROUND(Molenheike!E8/Molenheike!$B8*10,3)) -> 7.736 | H75: =IF(Molenheike!F8=(""),(""),ROUND(Molenheike!F8/Molenheike!$B8*10,3)) | I75: =IF(Molenheike!G8=(""),(""),ROUND(Molenheike!G8/Molenheike!$B8*10,3)) -> 9.623 | J75: =IF(Molenheike!H8=(""),(""),ROUND(Molenheike!H8/Molenheike!$B8*10,3)) -> 6.038 | K75: =IF(Molenheike!I8=(""),(""),ROUND(Molenheike!I8/Molenheike!$B8*10,3)) | L75: =IF(Molenheike!J8=(""),(""),ROUND(Molenheike!J8/Molenheike!$B8*10,3)) -> 10.943 | ... Q75: =IF(Molenheike!O8=(""),(""),ROUND(Molenheike!O8/Molenheike!$B8*10,3)) | R75: =IF(Molenheike!U8=(""),(""),ROUND(Molenheike!U8/Molenheike!$T8*10,3)) | S75: =IF(Molenheike!V8=(""),(""),ROUND(Molenheike!V8/Molenheike!$T8*10,3)) | T75: =IF(Molenheike!W8=(""),(""),ROUND(Molenheike!W8/Molenheike!$T8*10,3)) | U75: =IF(Molenheike!X8=(""),(""),ROUND(Molenheike!X8/Molenheike!$T8*10,3)) | V75: =IF(Molenheike!Y8=(""),(""),ROUND(Molenheike!Y8/Molenheike!$T8*10,3)) | W75: =IF(Molenheike!Z8=(""),(""),ROUND(Molenheike!Z8/Molenheike!$T8*10,3)) | X75: =IF(Molenheike!AA8=(""),(""),ROUND(Molenheike!AA8/Molenheike!$T8*10,3)) | Y75: =IF(Molenheike!AB8=(""),(""),ROUND(Molenheike!AB8/Molenheike!$T8*10,3)) | ... AD75: =IF(Molenheike!AG8=(""),(""),ROUND(Molenheike!AG8/Molenheike!$T8*10,3))
A76: =IF(SUM(E76:AD76)=0,(" "),COUNTIF(E76:AD76,">0")) -> 6 | B76: =Molenheike!A9 -> Nelen Marc | C76: =IF(Molenheike!AL9=0," ",SUM(E76:AD76)) -> 41.667 | E76: =IF(Molenheike!C9=(""),(""),ROUND(Molenheike!C9/Molenheike!$B9*10,3)) -> 6.667 | F76: =IF(Molenheike!D9=(""),(""),ROUND(Molenheike!D9/Molenheike!$B9*10,3)) | G76: =IF(Molenheike!E9=(""),(""),ROUND(Molenheike!E9/Molenheike!$B9*10,3)) -> 13.75 | H76: =IF(Molenheike!F9=(""),(""),ROUND(Molenheike!F9/Molenheike!$B9*10,3)) -> 7.083 | I76: =IF(Molenheike!G9=(""),(""),ROUND(Molenheike!G9/Molenheike!$B9*10,3)) | J76: =IF(Molenheike!H9=(""),(""),ROUND(Molenheike!H9/Molenheike!$B9*10,3)) | K76: =IF(Molenheike!I9=(""),(""),ROUND(Molenheike!I9/Molenheike!$B9*10,3)) -> 5.833 | L76: =IF(Molenheike!J9=(""),(""),ROUND(Molenheike!J9/Molenheike!$B9*10,3)) -> 5.417 | ... Q76: =IF(Molenheike!O9=(""),(""),ROUND(Molenheike!O9/Molenheike!$B9*10,3)) | R76: =IF(Molenheike!U9=(""),(""),ROUND(Molenheike!U9/Molenheike!$T9*10,3)) | S76: =IF(Molenheike!V9=(""),(""),ROUND(Molenheike!V9/Molenheike!$T9*10,3)) | T76: =IF(Molenheike!W9=(""),(""),ROUND(Molenheike!W9/Molenheike!$T9*10,3)) | U76: =IF(Molenheike!X9=(""),(""),ROUND(Molenheike!X9/Molenheike!$T9*10,3)) | V76: =IF(Molenheike!Y9=(""),(""),ROUND(Molenheike!Y9/Molenheike!$T9*10,3)) | W76: =IF(Molenheike!Z9=(""),(""),ROUND(Molenheike!Z9/Molenheike!$T9*10,3)) | X76: =IF(Molenheike!AA9=(""),(""),ROUND(Molenheike!AA9/Molenheike!$T9*10,3)) | Y76: =IF(Molenheike!AB9=(""),(""),ROUND(Molenheike!AB9/Molenheike!$T9*10,3)) | ... AD76: =IF(Molenheike!AG9=(""),(""),ROUND(Molenheike!AG9/Molenheike!$T9*10,3))
A77: =IF(SUM(E77:AD77)=0,(" "),COUNTIF(E77:AD77,">0")) -> 8 | B77: =Molenheike!A10 -> Neys Jan | C77: =IF(Molenheike!AL10=0," ",SUM(E77:AD77)) -> 78.75 | E77: =IF(Molenheike!C10=(""),(""),ROUND(Molenheike!C10/Molenheike!$B10*10,3)) -> 15 | F77: =IF(Molenheike!D10=(""),(""),ROUND(Molenheike!D10/Molenheike!$B10*10,3)) -> 7.917 | G77: =IF(Molenheike!E10=(""),(""),ROUND(Molenheike!E10/Molenheike!$B10*10,3)) -> 11.25 | H77: =IF(Molenheike!F10=(""),(""),ROUND(Molenheike!F10/Molenheike!$B10*10,3)) -> 10.833 | I77: =IF(Molenheike!G10=(""),(""),ROUND(Molenheike!G10/Molenheike!$B10*10,3)) -> 12.083 | J77: =IF(Molenheike!H10=(""),(""),ROUND(Molenheike!H10/Molenheike!$B10*10,3)) | K77: =IF(Molenheike!I10=(""),(""),ROUND(Molenheike!I10/Molenheike!$B10*10,3)) -> 6.25 | L77: =IF(Molenheike!J10=(""),(""),ROUND(Molenheike!J10/Molenheike!$B10*10,3)) -> 7.917 | ... Q77: =IF(Molenheike!O10=(""),(""),ROUND(Molenheike!O10/Molenheike!$B10*10,3)) | R77: =IF(Molenheike!U10=(""),(""),ROUND(Molenheike!U10/Molenheike!$T10*10,3)) | S77: =IF(Molenheike!V10=(""),(""),ROUND(Molenheike!V10/Molenheike!$T10*10,3)) | T77: =IF(Molenheike!W10=(""),(""),ROUND(Molenheike!W10/Molenheike!$T10*10,3)) | U77: =IF(Molenheike!X10=(""),(""),ROUND(Molenheike!X10/Molenheike!$T10*10,3)) | V77: =IF(Molenheike!Y10=(""),(""),ROUND(Molenheike!Y10/Molenheike!$T10*10,3)) | W77: =IF(Molenheike!Z10=(""),(""),ROUND(Molenheike!Z10/Molenheike!$T10*10,3)) | X77: =IF(Molenheike!AA10=(""),(""),ROUND(Molenheike!AA10/Molenheike!$T10*10,3)) | Y77: =IF(Molenheike!AB10=(""),(""),ROUND(Molenheike!AB10/Molenheike!$T10*10,3)) | ... AD77: =IF(Molenheike!AG10=(""),(""),ROUND(Molenheike!AG10/Molenheike!$T10*10,3))
A78: =IF(SUM(E78:AD78)=0,(" "),COUNTIF(E78:AD78,">0")) -> 10 | B78: =Molenheike!A11 -> Van Ginderen Jef | C78: =IF(Molenheike!AL11=0," ",SUM(E78:AD78)) -> 101.297 | E78: =IF(Molenheike!C11=(""),(""),ROUND(Molenheike!C11/Molenheike!$B11*10,3)) -> 9.074 | F78: =IF(Molenheike!D11=(""),(""),ROUND(Molenheike!D11/Molenheike!$B11*10,3)) -> 9.63 | G78: =IF(Molenheike!E11=(""),(""),ROUND(Molenheike!E11/Molenheike!$B11*10,3)) | H78: =IF(Molenheike!F11=(""),(""),ROUND(Molenheike!F11/Molenheike!$B11*10,3)) -> 8.704 | I78: =IF(Molenheike!G11=(""),(""),ROUND(Molenheike!G11/Molenheike!$B11*10,3)) -> 6.481 | J78: =IF(Molenheike!H11=(""),(""),ROUND(Molenheike!H11/Molenheike!$B11*10,3)) -> 5.556 | K78: =IF(Molenheike!I11=(""),(""),ROUND(Molenheike!I11/Molenheike!$B11*10,3)) | L78: =IF(Molenheike!J11=(""),(""),ROUND(Molenheike!J11/Molenheike!$B11*10,3)) -> 11.481 | ... Q78: =IF(Molenheike!O11=(""),(""),ROUND(Molenheike!O11/Molenheike!$B11*10,3)) | R78: =IF(Molenheike!U11=(""),(""),ROUND(Molenheike!U11/Molenheike!$T11*10,3)) | S78: =IF(Molenheike!V11=(""),(""),ROUND(Molenheike!V11/Molenheike!$T11*10,3)) | T78: =IF(Molenheike!W11=(""),(""),ROUND(Molenheike!W11/Molenheike!$T11*10,3)) | U78: =IF(Molenheike!X11=(""),(""),ROUND(Molenheike!X11/Molenheike!$T11*10,3)) | V78: =IF(Molenheike!Y11=(""),(""),ROUND(Molenheike!Y11/Molenheike!$T11*10,3)) | W78: =IF(Molenheike!Z11=(""),(""),ROUND(Molenheike!Z11/Molenheike!$T11*10,3)) | X78: =IF(Molenheike!AA11=(""),(""),ROUND(Molenheike!AA11/Molenheike!$T11*10,3)) | Y78: =IF(Molenheike!AB11=(""),(""),ROUND(Molenheike!AB11/Molenheike!$T11*10,3)) | ... AD78: =IF(Molenheike!AG11=(""),(""),ROUND(Molenheike!AG11/Molenheike!$T11*10,3))
A79: =IF(SUM(E79:AD79)=0,(" "),COUNTIF(E79:AD79,">0")) -> 9 | B79: =Molenheike!A12 -> Van Ginderen Willy | C79: =IF(Molenheike!AL12=0," ",SUM(E79:AD79)) -> 85.945 | E79: =IF(Molenheike!C12=(""),(""),ROUND(Molenheike!C12/Molenheike!$B12*10,3)) -> 10.27 | F79: =IF(Molenheike!D12=(""),(""),ROUND(Molenheike!D12/Molenheike!$B12*10,3)) | G79: =IF(Molenheike!E12=(""),(""),ROUND(Molenheike!E12/Molenheike!$B12*10,3)) -> 9.459 | H79: =IF(Molenheike!F12=(""),(""),ROUND(Molenheike!F12/Molenheike!$B12*10,3)) -> 7.027 | I79: =IF(Molenheike!G12=(""),(""),ROUND(Molenheike!G12/Molenheike!$B12*10,3)) -> 8.108 | J79: =IF(Molenheike!H12=(""),(""),ROUND(Molenheike!H12/Molenheike!$B12*10,3)) | K79: =IF(Molenheike!I12=(""),(""),ROUND(Molenheike!I12/Molenheike!$B12*10,3)) -> 7.297 | L79: =IF(Molenheike!J12=(""),(""),ROUND(Molenheike!J12/Molenheike!$B12*10,3)) | ... Q79: =IF(Molenheike!O12=(""),(""),ROUND(Molenheike!O12/Molenheike!$B12*10,3)) | R79: =IF(Molenheike!U12=(""),(""),ROUND(Molenheike!U12/Molenheike!$T12*10,3)) | S79: =IF(Molenheike!V12=(""),(""),ROUND(Molenheike!V12/Molenheike!$T12*10,3)) | T79: =IF(Molenheike!W12=(""),(""),ROUND(Molenheike!W12/Molenheike!$T12*10,3)) | U79: =IF(Molenheike!X12=(""),(""),ROUND(Molenheike!X12/Molenheike!$T12*10,3)) | V79: =IF(Molenheike!Y12=(""),(""),ROUND(Molenheike!Y12/Molenheike!$T12*10,3)) | W79: =IF(Molenheike!Z12=(""),(""),ROUND(Molenheike!Z12/Molenheike!$T12*10,3)) | X79: =IF(Molenheike!AA12=(""),(""),ROUND(Molenheike!AA12/Molenheike!$T12*10,3)) | Y79: =IF(Molenheike!AB12=(""),(""),ROUND(Molenheike!AB12/Molenheike!$T12*10,3)) | ... AD79: =IF(Molenheike!AG12=(""),(""),ROUND(Molenheike!AG12/Molenheike!$T12*10,3))
C80: =B70 -> MOLENHEIKE | E80: =IF(SUM(E71:E79)=0,(" "),SUM(E71:E79)) -> 60.344 | F80: =IF(SUM(F71:F79)=0,(" "),SUM(F71:F79)) -> 55.48 | G80: =IF(SUM(G71:G79)=0,(" "),SUM(G71:G79)) -> 66.492 | H80: =IF(SUM(H71:H79)=0,(" "),SUM(H71:H79)) -> 56.716 | I80: =IF(SUM(I71:I79)=0,(" "),SUM(I71:I79)) -> 60.369 | J80: =IF(SUM(J71:J79)=0,(" "),SUM(J71:J79)) -> 52.575 | K80: =IF(SUM(K71:K79)=0,(" "),SUM(K71:K79)) -> 47.511 | L80: =IF(SUM(L71:L79)=0,(" "),SUM(L71:L79)) -> 60.869 | ... AD80: =IF(SUM(AD71:AD79)=0,(" "),SUM(AD71:AD79))
C81: =SUM(C71:C79) -> 704.752 | D81: =B70 -> MOLENHEIKE | E81: =SUM(E71:E79) -> 60.344 | F81: =IF(F80=(" "),(" "),E81+F80) -> 115.824 | G81: =IF(G80=(" "),(" "),F81+G80) -> 182.316 | H81: =IF(H80=(" "),(" "),G81+H80) -> 239.032 | I81: =IF(I80=(" "),(" "),H81+I80) -> 299.401 | J81: =IF(J80=(" "),(" "),I81+J80) -> 351.976 | K81: =IF(K80=(" "),(" "),J81+K80) -> 399.487 | L81: =IF(L80=(" "),(" "),K81+L80) -> 460.356 | M81: =IF(M80=(" "),(" "),L81+M80) -> 525.931 | ... AD81: =IF(AD80=(" "),(" "),AC81+AD80)
A83: =IF(SUM(E84:AD84)=0,(" "),COUNTIF(E84:AD84,">0")) -> 11 | B83: NISPEN Gemeente | E83: 1 | F83: 2 | G83: 3 | H83: 4 | I83: 5 | J83: 6 | K83: 7 | L83: 8 | M83: 9 | N83: 10 | O83: 11 | P83: 12 | Q83: 13 | R83: 14 | S83: 15 | T83: 16 | U83: 17 | V83: 18 | W83: 19 | X83: 20 | Y83: 21 | Z83: 22 | AA83: 23 | AB83: 24 | AC83: 25 | AD83: 26
A84: =IF(SUM(E84:AD84)=0,(" "),COUNTIF(E84:AD84,">0")) -> 11 | B84: =Nispen!A4 -> Bastiaensen Jan | C84: =IF(Nispen!AL4=0," ",SUM(E84:AD84)) -> 114.192 | E84: =IF(Nispen!C4=(""),(""),ROUND(Nispen!C4/Nispen!$B4*10,3)) | F84: =IF(Nispen!D4=(""),(""),ROUND(Nispen!D4/Nispen!$B4*10,3)) -> 11.935 | G84: =IF(Nispen!E4=(""),(""),ROUND(Nispen!E4/Nispen!$B4*10,3)) -> 11.29 | H84: =IF(Nispen!F4=(""),(""),ROUND(Nispen!F4/Nispen!$B4*10,3)) -> 10 | I84: =IF(Nispen!G4=(""),(""),ROUND(Nispen!G4/Nispen!$B4*10,3)) -> 10.968 | J84: =IF(Nispen!H4=(""),(""),ROUND(Nispen!H4/Nispen!$B4*10,3)) -> 11.613 | K84: =IF(Nispen!I4=(""),(""),ROUND(Nispen!I4/Nispen!$B4*10,3)) -> 7.419 | L84: =IF(Nispen!J4=(""),(""),ROUND(Nispen!J4/Nispen!$B4*10,3)) -> 9.677 | ... Q84: =IF(Nispen!O4=(""),(""),ROUND(Nispen!O4/Nispen!$B4*10,3)) | R84: =IF(Nispen!U4=(""),(""),ROUND(Nispen!U4/Nispen!$T4*10,3)) | S84: =IF(Nispen!V4=(""),(""),ROUND(Nispen!V4/Nispen!$T4*10,3)) | T84: =IF(Nispen!W4=(""),(""),ROUND(Nispen!W4/Nispen!$T4*10,3)) | U84: =IF(Nispen!X4=(""),(""),ROUND(Nispen!X4/Nispen!$T4*10,3)) | V84: =IF(Nispen!Y4=(""),(""),ROUND(Nispen!Y4/Nispen!$T4*10,3)) | W84: =IF(Nispen!Z4=(""),(""),ROUND(Nispen!Z4/Nispen!$T4*10,3)) | X84: =IF(Nispen!AA4=(""),(""),ROUND(Nispen!AA4/Nispen!$T4*10,3)) | Y84: =IF(Nispen!AB4=(""),(""),ROUND(Nispen!AB4/Nispen!$T4*10,3)) | ... AD84: =IF(Nispen!AG4=(""),(""),ROUND(Nispen!AG4/Nispen!$T4*10,3))
A85: =IF(SUM(E85:AD85)=0,(" "),COUNTIF(E85:AD85,">0")) -> 8 | B85: =Nispen!A5 -> Botermans Jan | C85: =IF(Nispen!AL5=0," ",SUM(E85:AD85)) -> 67.5 | E85: =IF(Nispen!C5=(""),(""),ROUND(Nispen!C5/Nispen!$B5*10,3)) -> 13.75 | F85: =IF(Nispen!D5=(""),(""),ROUND(Nispen!D5/Nispen!$B5*10,3)) | G85: =IF(Nispen!E5=(""),(""),ROUND(Nispen!E5/Nispen!$B5*10,3)) -> 4.167 | H85: =IF(Nispen!F5=(""),(""),ROUND(Nispen!F5/Nispen!$B5*10,3)) -> 8.75 | I85: =IF(Nispen!G5=(""),(""),ROUND(Nispen!G5/Nispen!$B5*10,3)) -> 8.75 | J85: =IF(Nispen!H5=(""),(""),ROUND(Nispen!H5/Nispen!$B5*10,3)) | K85: =IF(Nispen!I5=(""),(""),ROUND(Nispen!I5/Nispen!$B5*10,3)) | L85: =IF(Nispen!J5=(""),(""),ROUND(Nispen!J5/Nispen!$B5*10,3)) -> 7.5 | ... Q85: =IF(Nispen!O5=(""),(""),ROUND(Nispen!O5/Nispen!$B5*10,3)) | R85: =IF(Nispen!U5=(""),(""),ROUND(Nispen!U5/Nispen!$T5*10,3)) | S85: =IF(Nispen!V5=(""),(""),ROUND(Nispen!V5/Nispen!$T5*10,3)) | T85: =IF(Nispen!W5=(""),(""),ROUND(Nispen!W5/Nispen!$T5*10,3)) | U85: =IF(Nispen!X5=(""),(""),ROUND(Nispen!X5/Nispen!$T5*10,3)) | V85: =IF(Nispen!Y5=(""),(""),ROUND(Nispen!Y5/Nispen!$T5*10,3)) | W85: =IF(Nispen!Z5=(""),(""),ROUND(Nispen!Z5/Nispen!$T5*10,3)) | X85: =IF(Nispen!AA5=(""),(""),ROUND(Nispen!AA5/Nispen!$T5*10,3)) | Y85: =IF(Nispen!AB5=(""),(""),ROUND(Nispen!AB5/Nispen!$T5*10,3)) | ... AD85: =IF(Nispen!AG5=(""),(""),ROUND(Nispen!AG5/Nispen!$T5*10,3))
A86: =IF(SUM(E86:AD86)=0,(" "),COUNTIF(E86:AD86,">0")) -> 11 | B86: =Nispen!A6 -> Brouwers Vic | C86: =IF(Nispen!AL6=0," ",SUM(E86:AD86)) -> 116.47 | E86: =IF(Nispen!C6=(""),(""),ROUND(Nispen!C6/Nispen!$B6*10,3)) -> 8.235 | F86: =IF(Nispen!D6=(""),(""),ROUND(Nispen!D6/Nispen!$B6*10,3)) -> 19.559 | G86: =IF(Nispen!E6=(""),(""),ROUND(Nispen!E6/Nispen!$B6*10,3)) -> 6.471 | H86: =IF(Nispen!F6=(""),(""),ROUND(Nispen!F6/Nispen!$B6*10,3)) -> 8.235 | I86: =IF(Nispen!G6=(""),(""),ROUND(Nispen!G6/Nispen!$B6*10,3)) -> 8.382 | J86: =IF(Nispen!H6=(""),(""),ROUND(Nispen!H6/Nispen!$B6*10,3)) -> 9.853 | K86: =IF(Nispen!I6=(""),(""),ROUND(Nispen!I6/Nispen!$B6*10,3)) -> 7.941 | L86: =IF(Nispen!J6=(""),(""),ROUND(Nispen!J6/Nispen!$B6*10,3)) -> 12.794 | ... Q86: =IF(Nispen!O6=(""),(""),ROUND(Nispen!O6/Nispen!$B6*10,3)) | R86: =IF(Nispen!U6=(""),(""),ROUND(Nispen!U6/Nispen!$T6*10,3)) | S86: =IF(Nispen!V6=(""),(""),ROUND(Nispen!V6/Nispen!$T6*10,3)) | T86: =IF(Nispen!W6=(""),(""),ROUND(Nispen!W6/Nispen!$T6*10,3)) | U86: =IF(Nispen!X6=(""),(""),ROUND(Nispen!X6/Nispen!$T6*10,3)) | V86: =IF(Nispen!Y6=(""),(""),ROUND(Nispen!Y6/Nispen!$T6*10,3)) | W86: =IF(Nispen!Z6=(""),(""),ROUND(Nispen!Z6/Nispen!$T6*10,3)) | X86: =IF(Nispen!AA6=(""),(""),ROUND(Nispen!AA6/Nispen!$T6*10,3)) | Y86: =IF(Nispen!AB6=(""),(""),ROUND(Nispen!AB6/Nispen!$T6*10,3)) | ... AD86: =IF(Nispen!AG6=(""),(""),ROUND(Nispen!AG6/Nispen!$T6*10,3))
A87: =IF(SUM(E87:AD87)=0,(" "),COUNTIF(E87:AD87,">0")) -> 5 | B87: =Nispen!A7 -> Cappaert Ivan | C87: =IF(Nispen!AL7=0," ",SUM(E87:AD87)) -> 50.857 | E87: =IF(Nispen!C7=(""),(""),ROUND(Nispen!C7/Nispen!$B7*10,3)) -> 11.714 | F87: =IF(Nispen!D7=(""),(""),ROUND(Nispen!D7/Nispen!$B7*10,3)) -> 12.286 | G87: =IF(Nispen!E7=(""),(""),ROUND(Nispen!E7/Nispen!$B7*10,3)) -> 10.857 | H87: =IF(Nispen!F7=(""),(""),ROUND(Nispen!F7/Nispen!$B7*10,3)) | I87: =IF(Nispen!G7=(""),(""),ROUND(Nispen!G7/Nispen!$B7*10,3)) | J87: =IF(Nispen!H7=(""),(""),ROUND(Nispen!H7/Nispen!$B7*10,3)) | K87: =IF(Nispen!I7=(""),(""),ROUND(Nispen!I7/Nispen!$B7*10,3)) | L87: =IF(Nispen!J7=(""),(""),ROUND(Nispen!J7/Nispen!$B7*10,3)) | ... Q87: =IF(Nispen!O7=(""),(""),ROUND(Nispen!O7/Nispen!$B7*10,3)) | R87: =IF(Nispen!U7=(""),(""),ROUND(Nispen!U7/Nispen!$T7*10,3)) | S87: =IF(Nispen!V7=(""),(""),ROUND(Nispen!V7/Nispen!$T7*10,3)) | T87: =IF(Nispen!W7=(""),(""),ROUND(Nispen!W7/Nispen!$T7*10,3)) | U87: =IF(Nispen!X7=(""),(""),ROUND(Nispen!X7/Nispen!$T7*10,3)) | V87: =IF(Nispen!Y7=(""),(""),ROUND(Nispen!Y7/Nispen!$T7*10,3)) | W87: =IF(Nispen!Z7=(""),(""),ROUND(Nispen!Z7/Nispen!$T7*10,3)) | X87: =IF(Nispen!AA7=(""),(""),ROUND(Nispen!AA7/Nispen!$T7*10,3)) | Y87: =IF(Nispen!AB7=(""),(""),ROUND(Nispen!AB7/Nispen!$T7*10,3)) | ... AD87: =IF(Nispen!AG7=(""),(""),ROUND(Nispen!AG7/Nispen!$T7*10,3))
A88: =IF(SUM(E88:AD88)=0,(" "),COUNTIF(E88:AD88,">0")) -> 7 | B88: =Nispen!A8 -> Kerstens Jac | C88: =IF(Nispen!AL8=0," ",SUM(E88:AD88)) -> 64.286 | E88: =IF(Nispen!C8=(""),(""),ROUND(Nispen!C8/Nispen!$B8*10,3)) -> 10 | F88: =IF(Nispen!D8=(""),(""),ROUND(Nispen!D8/Nispen!$B8*10,3)) -> 6.286 | G88: =IF(Nispen!E8=(""),(""),ROUND(Nispen!E8/Nispen!$B8*10,3)) | H88: =IF(Nispen!F8=(""),(""),ROUND(Nispen!F8/Nispen!$B8*10,3)) | I88: =IF(Nispen!G8=(""),(""),ROUND(Nispen!G8/Nispen!$B8*10,3)) | J88: =IF(Nispen!H8=(""),(""),ROUND(Nispen!H8/Nispen!$B8*10,3)) | K88: =IF(Nispen!I8=(""),(""),ROUND(Nispen!I8/Nispen!$B8*10,3)) -> 10 | L88: =IF(Nispen!J8=(""),(""),ROUND(Nispen!J8/Nispen!$B8*10,3)) -> 4.857 | ... Q88: =IF(Nispen!O8=(""),(""),ROUND(Nispen!O8/Nispen!$B8*10,3)) | R88: =IF(Nispen!U8=(""),(""),ROUND(Nispen!U8/Nispen!$T8*10,3)) | S88: =IF(Nispen!V8=(""),(""),ROUND(Nispen!V8/Nispen!$T8*10,3)) | T88: =IF(Nispen!W8=(""),(""),ROUND(Nispen!W8/Nispen!$T8*10,3)) | U88: =IF(Nispen!X8=(""),(""),ROUND(Nispen!X8/Nispen!$T8*10,3)) | V88: =IF(Nispen!Y8=(""),(""),ROUND(Nispen!Y8/Nispen!$T8*10,3)) | W88: =IF(Nispen!Z8=(""),(""),ROUND(Nispen!Z8/Nispen!$T8*10,3)) | X88: =IF(Nispen!AA8=(""),(""),ROUND(Nispen!AA8/Nispen!$T8*10,3)) | Y88: =IF(Nispen!AB8=(""),(""),ROUND(Nispen!AB8/Nispen!$T8*10,3)) | ... AD88: =IF(Nispen!AG8=(""),(""),ROUND(Nispen!AG8/Nispen!$T8*10,3))
A89: =IF(SUM(E89:AD89)=0,(" "),COUNTIF(E89:AD89,">0")) -> 4 | B89: =Nispen!A9 -> Klijn Toon [NS 20] | C89: =IF(Nispen!AL9=0," ",SUM(E89:AD89)) -> 40.5 | E89: =IF(Nispen!C9=(""),(""),ROUND(Nispen!C9/Nispen!$B9*10,3)) | F89: =IF(Nispen!D9=(""),(""),ROUND(Nispen!D9/Nispen!$B9*10,3)) | G89: =IF(Nispen!E9=(""),(""),ROUND(Nispen!E9/20*10,3)) -> 12 | H89: =IF(Nispen!F9=(""),(""),ROUND(Nispen!F9/20*10,3)) -> 11 | I89: =IF(Nispen!G9=(""),(""),ROUND(Nispen!G9/Nispen!$B9*10,3)) | J89: =IF(Nispen!H9=(""),(""),ROUND(Nispen!H9/20*10,3)) -> 6.5 | K89: =IF(Nispen!I9=(""),(""),ROUND(Nispen!I9/Nispen!$B9*10,3)) -> 11 | L89: =IF(Nispen!J9=(""),(""),ROUND(Nispen!J9/Nispen!$B9*10,3)) | M89: =IF(Nispen!K9=(""),(""),ROUND(Nispen!K9/Nispen!$B9*10,3)) | N89: =IF(Nispen!L9=(""),(""),ROUND(Nispen!L9/Nispen!$B9*10,3)) | O89: =IF(Nispen!M9=(""),(""),ROUND(Nispen!M9/Nispen!$B9*10,3)) | P89: =IF(Nispen!N9=(""),(""),ROUND(Nispen!N9/Nispen!$B9*10,3)) | Q89: =IF(Nispen!O9=(""),(""),ROUND(Nispen!O9/Nispen!$B9*10,3)) | R89: =IF(Nispen!U9=(""),(""),ROUND(Nispen!U9/Nispen!$T9*10,3)) | S89: =IF(Nispen!V9=(""),(""),ROUND(Nispen!V9/Nispen!$T9*10,3)) | T89: =IF(Nispen!W9=(""),(""),ROUND(Nispen!W9/Nispen!$T9*10,3)) | U89: =IF(Nispen!X9=(""),(""),ROUND(Nispen!X9/Nispen!$T9*10,3)) | V89: =IF(Nispen!Y9=(""),(""),ROUND(Nispen!Y9/Nispen!$T9*10,3)) | W89: =IF(Nispen!Z9=(""),(""),ROUND(Nispen!Z9/Nispen!$T9*10,3)) | X89: =IF(Nispen!AA9=(""),(""),ROUND(Nispen!AA9/Nispen!$T9*10,3)) | Y89: =IF(Nispen!AB9=(""),(""),ROUND(Nispen!AB9/Nispen!$T9*10,3)) | ... AD89: =IF(Nispen!AG9=(""),(""),ROUND(Nispen!AG9/Nispen!$T9*10,3))
A90: =IF(SUM(E90:AD90)=0,(" "),COUNTIF(E90:AD90,">0")) -> 10 | B90: =Nispen!A10 -> Martens Gerrit [OS] | C90: =IF(Nispen!AL10=0," ",SUM(E90:AD90)) -> 105.332 | E90: =IF(Nispen!C10=(""),(""),ROUND(Nispen!C10/Nispen!$B10*10,3)) -> 11.333 | F90: =IF(Nispen!D10=(""),(""),ROUND(Nispen!D10/Nispen!$B10*10,3)) -> 11.333 | G90: =IF(Nispen!E10=(""),(""),ROUND(Nispen!E10/Nispen!$B10*10,3)) | H90: =IF(Nispen!F10=(""),(""),ROUND(Nispen!F10/Nispen!$B10*10,3)) -> 14 | I90: =IF(Nispen!G10=(""),(""),ROUND(Nispen!G10/Nispen!$B10*10,3)) -> 6 | J90: =IF(Nispen!H10=(""),(""),ROUND(Nispen!H10/Nispen!$B10*10,3)) -> 14 | K90: =IF(Nispen!I10=(""),(""),ROUND(Nispen!I10/Nispen!$B10*10,3)) | L90: =IF(Nispen!J10=(""),(""),ROUND(Nispen!J10/Nispen!$B10*10,3)) -> 6 | ... Q90: =IF(Nispen!O10=(""),(""),ROUND(Nispen!O10/Nispen!$B10*10,3)) | R90: =IF(Nispen!U10=(""),(""),ROUND(Nispen!U10/Nispen!$T10*10,3)) | S90: =IF(Nispen!V10=(""),(""),ROUND(Nispen!V10/Nispen!$T10*10,3)) | T90: =IF(Nispen!W10=(""),(""),ROUND(Nispen!W10/Nispen!$T10*10,3)) | U90: =IF(Nispen!X10=(""),(""),ROUND(Nispen!X10/Nispen!$T10*10,3)) | V90: =IF(Nispen!Y10=(""),(""),ROUND(Nispen!Y10/Nispen!$T10*10,3)) | W90: =IF(Nispen!Z10=(""),(""),ROUND(Nispen!Z10/Nispen!$T10*10,3)) | X90: =IF(Nispen!AA10=(""),(""),ROUND(Nispen!AA10/Nispen!$T10*10,3)) | Y90: =IF(Nispen!AB10=(""),(""),ROUND(Nispen!AB10/Nispen!$T10*10,3)) | ... AD90: =IF(Nispen!AG10=(""),(""),ROUND(Nispen!AG10/Nispen!$T10*10,3))
A91: =IF(SUM(E91:AD91)=0,(" "),COUNTIF(E91:AD91,">0")) -> 2 | B91: =Nispen!A11 -> Mens Jos | C91: =IF(Nispen!AL11=0," ",SUM(E91:AD91)) -> 19.048 | E91: =IF(Nispen!C11=(""),(""),ROUND(Nispen!C11/Nispen!$B11*10,3)) | F91: =IF(Nispen!D11=(""),(""),ROUND(Nispen!D11/Nispen!$B11*10,3)) | G91: =IF(Nispen!E11=(""),(""),ROUND(Nispen!E11/Nispen!$B11*10,3)) | H91: =IF(Nispen!F11=(""),(""),ROUND(Nispen!F11/Nispen!$B11*10,3)) | I91: =IF(Nispen!G11=(""),(""),ROUND(Nispen!G11/Nispen!$B11*10,3)) -> 9.524 | J91: =IF(Nispen!H11=(""),(""),ROUND(Nispen!H11/Nispen!$B11*10,3)) | K91: =IF(Nispen!I11=(""),(""),ROUND(Nispen!I11/Nispen!$B11*10,3)) | L91: =IF(Nispen!J11=(""),(""),ROUND(Nispen!J11/Nispen!$B11*10,3)) -> 9.524 | ... Q91: =IF(Nispen!O11=(""),(""),ROUND(Nispen!O11/Nispen!$B11*10,3)) | R91: =IF(Nispen!U11=(""),(""),ROUND(Nispen!U11/Nispen!$T11*10,3)) | S91: =IF(Nispen!V11=(""),(""),ROUND(Nispen!V11/Nispen!$T11*10,3)) | T91: =IF(Nispen!W11=(""),(""),ROUND(Nispen!W11/Nispen!$T11*10,3)) | U91: =IF(Nispen!X11=(""),(""),ROUND(Nispen!X11/Nispen!$T11*10,3)) | V91: =IF(Nispen!Y11=(""),(""),ROUND(Nispen!Y11/Nispen!$T11*10,3)) | W91: =IF(Nispen!Z11=(""),(""),ROUND(Nispen!Z11/Nispen!$T11*10,3)) | X91: =IF(Nispen!AA11=(""),(""),ROUND(Nispen!AA11/Nispen!$T11*10,3)) | Y91: =IF(Nispen!AB11=(""),(""),ROUND(Nispen!AB11/Nispen!$T11*10,3)) | ... AD91: =IF(Nispen!AG11=(""),(""),ROUND(Nispen!AG11/Nispen!$T11*10,3))
A92: =IF(SUM(E92:AD92)=0,(" "),COUNTIF(E92:AD92,">0")) -> 6 | B92: =Nispen!A12 -> Raats Antoon | C92: =IF(Nispen!AL12=0," ",SUM(E92:AD92)) -> 51.58 | E92: =IF(Nispen!C12=(""),(""),ROUND(Nispen!C12/Nispen!$B12*10,3)) | F92: =IF(Nispen!D12=(""),(""),ROUND(Nispen!D12/Nispen!$B12*10,3)) -> 9.474 | G92: =IF(Nispen!E12=(""),(""),ROUND(Nispen!E12/Nispen!$B12*10,3)) -> 7.895 | H92: =IF(Nispen!F12=(""),(""),ROUND(Nispen!F12/Nispen!$B12*10,3)) | I92: =IF(Nispen!G12=(""),(""),ROUND(Nispen!G12/Nispen!$B12*10,3)) | J92: =IF(Nispen!H12=(""),(""),ROUND(Nispen!H12/Nispen!$B12*10,3)) -> 12.632 | K92: =IF(Nispen!I12=(""),(""),ROUND(Nispen!I12/Nispen!$B12*10,3)) -> 8.421 | L92: =IF(Nispen!J12=(""),(""),ROUND(Nispen!J12/Nispen!$B12*10,3)) -> 7.895 | ... Q92: =IF(Nispen!O12=(""),(""),ROUND(Nispen!O12/Nispen!$B12*10,3)) | R92: =IF(Nispen!U12=(""),(""),ROUND(Nispen!U12/Nispen!$T12*10,3)) | S92: =IF(Nispen!V12=(""),(""),ROUND(Nispen!V12/Nispen!$T12*10,3)) | T92: =IF(Nispen!W12=(""),(""),ROUND(Nispen!W12/Nispen!$T12*10,3)) | U92: =IF(Nispen!X12=(""),(""),ROUND(Nispen!X12/Nispen!$T12*10,3)) | V92: =IF(Nispen!Y12=(""),(""),ROUND(Nispen!Y12/Nispen!$T12*10,3)) | W92: =IF(Nispen!Z12=(""),(""),ROUND(Nispen!Z12/Nispen!$T12*10,3)) | X92: =IF(Nispen!AA12=(""),(""),ROUND(Nispen!AA12/Nispen!$T12*10,3)) | Y92: =IF(Nispen!AB12=(""),(""),ROUND(Nispen!AB12/Nispen!$T12*10,3)) | ... AD92: =IF(Nispen!AG12=(""),(""),ROUND(Nispen!AG12/Nispen!$T12*10,3))
A93: =IF(SUM(E93:AD93)=0,(" "),COUNTIF(E93:AD93,">0")) -> 8 | B93: =Nispen!A13 -> Uijdehaag Nico | C93: =IF(Nispen!AL13=0," ",SUM(E93:AD93)) -> 79.565 | E93: =IF(Nispen!C13=(""),(""),ROUND(Nispen!C13/Nispen!$B13*10,3)) -> 13.478 | F93: =IF(Nispen!D13=(""),(""),ROUND(Nispen!D13/Nispen!$B13*10,3)) | G93: =IF(Nispen!E13=(""),(""),ROUND(Nispen!E13/Nispen!$B13*10,3)) | H93: =IF(Nispen!F13=(""),(""),ROUND(Nispen!F13/Nispen!$B13*10,3)) -> 12.174 | I93: =IF(Nispen!G13=(""),(""),ROUND(Nispen!G13/Nispen!$B13*10,3)) -> 9.565 | J93: =IF(Nispen!H13=(""),(""),ROUND(Nispen!H13/Nispen!$B13*10,3)) -> 8.696 | K93: =IF(Nispen!I13=(""),(""),ROUND(Nispen!I13/Nispen!$B13*10,3)) -> 6.087 | L93: =IF(Nispen!J13=(""),(""),ROUND(Nispen!J13/Nispen!$B13*10,3)) | ... Q93: =IF(Nispen!O13=(""),(""),ROUND(Nispen!O13/Nispen!$B13*10,3)) | R93: =IF(Nispen!U13=(""),(""),ROUND(Nispen!U13/Nispen!$T13*10,3)) | S93: =IF(Nispen!V13=(""),(""),ROUND(Nispen!V13/Nispen!$T13*10,3)) | T93: =IF(Nispen!W13=(""),(""),ROUND(Nispen!W13/Nispen!$T13*10,3)) | U93: =IF(Nispen!X13=(""),(""),ROUND(Nispen!X13/Nispen!$T13*10,3)) | V93: =IF(Nispen!Y13=(""),(""),ROUND(Nispen!Y13/Nispen!$T13*10,3)) | W93: =IF(Nispen!Z13=(""),(""),ROUND(Nispen!Z13/Nispen!$T13*10,3)) | X93: =IF(Nispen!AA13=(""),(""),ROUND(Nispen!AA13/Nispen!$T13*10,3)) | Y93: =IF(Nispen!AB13=(""),(""),ROUND(Nispen!AB13/Nispen!$T13*10,3)) | ... AD93: =IF(Nispen!AG13=(""),(""),ROUND(Nispen!AG13/Nispen!$T13*10,3))
C94: Nispen Gem. | E94: =IF(SUM(E84:E93)=0,(" "),SUM(E84:E93)) -> 68.51 | F94: =IF(SUM(F84:F93)=0,(" "),SUM(F84:F93)) -> 70.873 | G94: =IF(SUM(G84:G93)=0,(" "),SUM(G84:G93)) -> 52.68 | H94: =IF(SUM(H84:H93)=0,("0"),SUM(H84:H93)) -> 64.159 | I94: =IF(SUM(I84:I93)=0,(" "),SUM(I84:I93)) -> 53.189 | J94: =IF(SUM(J84:J93)=0,(" "),SUM(J84:J93)) -> 63.294 | K94: =IF(SUM(K84:K93)=0,(" "),SUM(K84:K93)) -> 50.868 | L94: =IF(SUM(L84:L93)=0,(" "),SUM(L84:L93))-L88 -> 53.39 | M94: =IF(SUM(M84:M93)=0,(" "),SUM(M84:M93)) -> 65.765 | N94: =IF(SUM(N84:N93)=0,(" "),SUM(N84:N93))+L88 -> 63.084 | O94: =IF(SUM(O84:O93)=0,(" "),SUM(O84:O93)) -> 57.427 | P94: =IF(SUM(P84:P93)=0,(" "),SUM(P84:P93)) -> 46.091 | Q94: =IF(SUM(Q84:Q93)=0,(" "),SUM(Q84:Q93)) | R94: =IF(SUM(R84:R93)=0,(" "),SUM(R84:R93)) | S94: =IF(SUM(S84:S93)=0,(" "),SUM(S84:S93)) | T94: =IF(SUM(T84:T93)=0,(" "),SUM(T84:T93)) | U94: =IF(SUM(U84:U93)=0,(" "),SUM(U84:U93)) | V94: =IF(SUM(V84:V93)=0,(" "),SUM(V84:V93)) | ... AD94: =IF(SUM(AD84:AD93)=0,(" "),SUM(AD84:AD93))
C95: =SUM(C84:C93) -> 709.33 | D95: Nispen Gem. | E95: =SUM(E84:E93) -> 68.51 | F95: =IF(F94=(" "),(" "),E95+F94) -> 139.383 | G95: =IF(G94=(" "),(" "),F95+G94) -> 192.063 | H95: =IF(H94=(" "),(" "),G95+H94) -> 256.222 | I95: =IF(I94=(" "),(" "),H95+I94) -> 309.411 | J95: =IF(J94=(" "),(" "),I95+J94) -> 372.705 | K95: =IF(K94=(" "),(" "),J95+K94) -> 423.573 | L95: =IF(L94=(" "),(" "),K95+L94) -> 476.963 | M95: =IF(M94=(" "),(" "),L95+M94) -> 542.728 | ... AD95: =IF(AD94=(" "),(" "),AC95+AD94)
B97: OUDE GLORIE | E97: 1 | F97: 2 | G97: 3 | H97: 4 | I97: 5 | J97: 6 | K97: 7 | L97: 8 | M97: 9 | N97: 10 | O97: 11 | P97: 12 | Q97: 13 | R97: 14 | S97: 15 | T97: 16 | U97: 17 | V97: 18 | W97: 19 | X97: 20 | Y97: 21 | Z97: 22 | AA97: 23 | AB97: 24 | AC97: 25 | AD97: 26
A98: =IF(SUM(E98:AD98)=0,(" "),COUNTIF(E98:AD98,">0")) -> 7 | B98: =Oudeglorie!A4 -> Aerden Carl | C98: =IF(Oudeglorie!AL4=0," ",SUM(E98:AD98)) -> 87.501 | E98: =IF(Oudeglorie!C4=(""),(""),ROUND(Oudeglorie!C4/Oudeglorie!$B4*10,3)) -> 11.667 | F98: =IF(Oudeglorie!D4=(""),(""),ROUND(Oudeglorie!D4/Oudeglorie!$B4*10,3)) | G98: =IF(Oudeglorie!E4=(""),(""),ROUND(Oudeglorie!E4/Oudeglorie!$B4*10,3)) -> 13.75 | H98: =IF(Oudeglorie!F4=(""),(""),ROUND(Oudeglorie!F4/Oudeglorie!$B4*10,3)) | I98: =IF(Oudeglorie!G4=(""),(""),ROUND(Oudeglorie!G4/Oudeglorie!$B4*10,3)) | J98: =IF(Oudeglorie!H4=(""),(""),ROUND(Oudeglorie!H4/Oudeglorie!$B4*10,3)) | K98: =IF(Oudeglorie!I4=(""),(""),ROUND(Oudeglorie!I4/Oudeglorie!$B4*10,3)) -> 6.667 | L98: =IF(Oudeglorie!J4=(""),(""),ROUND(Oudeglorie!J4/Oudeglorie!$B4*10,3)) -> 15 | ... Q98: =IF(Oudeglorie!O4=(""),(""),ROUND(Oudeglorie!O4/Oudeglorie!$B4*10,3)) | R98: =IF(Oudeglorie!U4=(""),(""),ROUND(Oudeglorie!U4/Oudeglorie!$T4*10,3)) | S98: =IF(Oudeglorie!V4=(""),(""),ROUND(Oudeglorie!V4/Oudeglorie!$T4*10,3)) | T98: =IF(Oudeglorie!W4=(""),(""),ROUND(Oudeglorie!W4/Oudeglorie!$T4*10,3)) | U98: =IF(Oudeglorie!X4=(""),(""),ROUND(Oudeglorie!X4/Oudeglorie!$T4*10,3)) | V98: =IF(Oudeglorie!Y4=(""),(""),ROUND(Oudeglorie!Y4/Oudeglorie!$T4*10,3)) | W98: =IF(Oudeglorie!Z4=(""),(""),ROUND(Oudeglorie!Z4/Oudeglorie!$T4*10,3)) | X98: =IF(Oudeglorie!AA4=(""),(""),ROUND(Oudeglorie!AA4/Oudeglorie!$T4*10,3)) | Y98: =IF(Oudeglorie!AB4=(""),(""),ROUND(Oudeglorie!AB4/Oudeglorie!$T4*10,3)) | ... AD98: =IF(Oudeglorie!AG4=(""),(""),ROUND(Oudeglorie!AG4/Oudeglorie!$T4*10,3))
A99: =IF(SUM(E99:AD99)=0,(" "),COUNTIF(E99:AD99,">0")) -> 4 | B99: =Oudeglorie!A5 -> Beyers Jos | C99: =IF(Oudeglorie!AL5=0," ",SUM(E99:AD99)) -> 41.852 | E99: =IF(Oudeglorie!C5=(""),(""),ROUND(Oudeglorie!C5/Oudeglorie!$B5*10,3)) -> 8.148 | F99: =IF(Oudeglorie!D5=(""),(""),ROUND(Oudeglorie!D5/Oudeglorie!$B5*10,3)) | G99: =IF(Oudeglorie!E5=(""),(""),ROUND(Oudeglorie!E5/Oudeglorie!$B5*10,3)) -> 10.741 | H99: =IF(Oudeglorie!F5=(""),(""),ROUND(Oudeglorie!F5/Oudeglorie!$B5*10,3)) | I99: =IF(Oudeglorie!G5=(""),(""),ROUND(Oudeglorie!G5/Oudeglorie!$B5*10,3)) | J99: =IF(Oudeglorie!H5=(""),(""),ROUND(Oudeglorie!H5/Oudeglorie!$B5*10,3)) | K99: =IF(Oudeglorie!I5=(""),(""),ROUND(Oudeglorie!I5/Oudeglorie!$B5*10,3)) | L99: =IF(Oudeglorie!J5=(""),(""),ROUND(Oudeglorie!J5/Oudeglorie!$B5*10,3)) | ... Q99: =IF(Oudeglorie!O5=(""),(""),ROUND(Oudeglorie!O5/Oudeglorie!$B5*10,3)) | R99: =IF(Oudeglorie!U5=(""),(""),ROUND(Oudeglorie!U5/Oudeglorie!$T5*10,3)) | S99: =IF(Oudeglorie!V5=(""),(""),ROUND(Oudeglorie!V5/Oudeglorie!$T5*10,3)) | T99: =IF(Oudeglorie!W5=(""),(""),ROUND(Oudeglorie!W5/Oudeglorie!$T5*10,3)) | U99: =IF(Oudeglorie!X5=(""),(""),ROUND(Oudeglorie!X5/Oudeglorie!$T5*10,3)) | V99: =IF(Oudeglorie!Y5=(""),(""),ROUND(Oudeglorie!Y5/Oudeglorie!$T5*10,3)) | W99: =IF(Oudeglorie!Z5=(""),(""),ROUND(Oudeglorie!Z5/Oudeglorie!$T5*10,3)) | X99: =IF(Oudeglorie!AA5=(""),(""),ROUND(Oudeglorie!AA5/Oudeglorie!$T5*10,3)) | Y99: =IF(Oudeglorie!AB5=(""),(""),ROUND(Oudeglorie!AB5/Oudeglorie!$T5*10,3)) | ... AD99: =IF(Oudeglorie!AG5=(""),(""),ROUND(Oudeglorie!AG5/Oudeglorie!$T5*10,3))
A100: =IF(SUM(E100:AD100)=0,(" "),COUNTIF(E100:AD100,">0")) -> 3 | B100: =Oudeglorie!A6 -> Beyers Roger | C100: =IF(Oudeglorie!AL6=0," ",SUM(E100:AD100)) -> 26.812 | E100: =IF(Oudeglorie!C6=(""),(""),ROUND(Oudeglorie!C6/Oudeglorie!$B6*10,3)) | F100: =IF(Oudeglorie!D6=(""),(""),ROUND(Oudeglorie!D6/Oudeglorie!$B6*10,3)) -> 9.855 | G100: =IF(Oudeglorie!E6=(""),(""),ROUND(Oudeglorie!E6/Oudeglorie!$B6*10,3)) | H100: =IF(Oudeglorie!F6=(""),(""),ROUND(Oudeglorie!F6/Oudeglorie!$B6*10,3)) | I100: =IF(Oudeglorie!G6=(""),(""),ROUND(Oudeglorie!G6/Oudeglorie!$B6*10,3)) | J100: =IF(Oudeglorie!H6=(""),(""),ROUND(Oudeglorie!H6/Oudeglorie!$B6*10,3)) | K100: =IF(Oudeglorie!I6=(""),(""),ROUND(Oudeglorie!I6/Oudeglorie!$B6*10,3)) -> 8.406 | L100: =IF(Oudeglorie!J6=(""),(""),ROUND(Oudeglorie!J6/Oudeglorie!$B6*10,3)) -> 8.551 | ... Q100: =IF(Oudeglorie!O6=(""),(""),ROUND(Oudeglorie!O6/Oudeglorie!$B6*10,3)) | R100: =IF(Oudeglorie!U6=(""),(""),ROUND(Oudeglorie!U6/Oudeglorie!$T6*10,3)) | S100: =IF(Oudeglorie!V6=(""),(""),ROUND(Oudeglorie!V6/Oudeglorie!$T6*10,3)) | T100: =IF(Oudeglorie!W6=(""),(""),ROUND(Oudeglorie!W6/Oudeglorie!$T6*10,3)) | U100: =IF(Oudeglorie!X6=(""),(""),ROUND(Oudeglorie!X6/Oudeglorie!$T6*10,3)) | V100: =IF(Oudeglorie!Y6=(""),(""),ROUND(Oudeglorie!Y6/Oudeglorie!$T6*10,3)) | W100: =IF(Oudeglorie!Z6=(""),(""),ROUND(Oudeglorie!Z6/Oudeglorie!$T6*10,3)) | X100: =IF(Oudeglorie!AA6=(""),(""),ROUND(Oudeglorie!AA6/Oudeglorie!$T6*10,3)) | Y100: =IF(Oudeglorie!AB6=(""),(""),ROUND(Oudeglorie!AB6/Oudeglorie!$T6*10,3)) | ... AD100: =IF(Oudeglorie!AG6=(""),(""),ROUND(Oudeglorie!AG6/Oudeglorie!$T6*10,3))
A101: =IF(SUM(E101:AD101)=0,(" "),COUNTIF(E101:AD101,">0")) -> 8 | B101: =Oudeglorie!A7 -> Braat Guido | C101: =IF(Oudeglorie!AL7=0," ",SUM(E101:AD101)) -> 84.827 | E101: =IF(Oudeglorie!C7=(""),(""),ROUND(Oudeglorie!C7/Oudeglorie!$B7*10,3)) -> 7.586 | F101: =IF(Oudeglorie!D7=(""),(""),ROUND(Oudeglorie!D7/Oudeglorie!$B7*10,3)) | G101: =IF(Oudeglorie!E7=(""),(""),ROUND(Oudeglorie!E7/Oudeglorie!$B7*10,3)) -> 13.448 | H101: =IF(Oudeglorie!F7=(""),(""),ROUND(Oudeglorie!F7/Oudeglorie!$B7*10,3)) -> 8.621 | I101: =IF(Oudeglorie!G7=(""),(""),ROUND(Oudeglorie!G7/Oudeglorie!$B7*10,3)) -> 8.276 | J101: =IF(Oudeglorie!H7=(""),(""),ROUND(Oudeglorie!H7/Oudeglorie!$B7*10,3)) | K101: =IF(Oudeglorie!I7=(""),(""),ROUND(Oudeglorie!I7/Oudeglorie!$B7*10,3)) | L101: =IF(Oudeglorie!J7=(""),(""),ROUND(Oudeglorie!J7/Oudeglorie!$B7*10,3)) | ... Q101: =IF(Oudeglorie!O7=(""),(""),ROUND(Oudeglorie!O7/Oudeglorie!$B7*10,3)) | R101: =IF(Oudeglorie!U7=(""),(""),ROUND(Oudeglorie!U7/Oudeglorie!$T7*10,3)) | S101: =IF(Oudeglorie!V7=(""),(""),ROUND(Oudeglorie!V7/Oudeglorie!$T7*10,3)) | T101: =IF(Oudeglorie!W7=(""),(""),ROUND(Oudeglorie!W7/Oudeglorie!$T7*10,3)) | U101: =IF(Oudeglorie!X7=(""),(""),ROUND(Oudeglorie!X7/Oudeglorie!$T7*10,3)) | V101: =IF(Oudeglorie!Y7=(""),(""),ROUND(Oudeglorie!Y7/Oudeglorie!$T7*10,3)) | W101: =IF(Oudeglorie!Z7=(""),(""),ROUND(Oudeglorie!Z7/Oudeglorie!$T7*10,3)) | X101: =IF(Oudeglorie!AA7=(""),(""),ROUND(Oudeglorie!AA7/Oudeglorie!$T7*10,3)) | Y101: =IF(Oudeglorie!AB7=(""),(""),ROUND(Oudeglorie!AB7/Oudeglorie!$T7*10,3)) | ... AD101: =IF(Oudeglorie!AG7=(""),(""),ROUND(Oudeglorie!AG7/Oudeglorie!$T7*10,3))
A102: =IF(SUM(E102:AD102)=0,(" "),COUNTIF(E102:AD102,">0")) -> 4 | B102: =Oudeglorie!A8 -> Cleeren Guido | C102: =IF(Oudeglorie!AL8=0," ",SUM(E102:AD102)) -> 35.294 | E102: =IF(Oudeglorie!C8=(""),(""),ROUND(Oudeglorie!C8/Oudeglorie!$B8*10,3)) | F102: =IF(Oudeglorie!D8=(""),(""),ROUND(Oudeglorie!D8/Oudeglorie!$B8*10,3)) | G102: =IF(Oudeglorie!E8=(""),(""),ROUND(Oudeglorie!E8/Oudeglorie!$B8*10,3)) | H102: =IF(Oudeglorie!F8=(""),(""),ROUND(Oudeglorie!F8/Oudeglorie!$B8*10,3)) -> 7.647 | I102: =IF(Oudeglorie!G8=(""),(""),ROUND(Oudeglorie!G8/Oudeglorie!$B8*10,3)) | J102: =IF(Oudeglorie!H8=(""),(""),ROUND(Oudeglorie!H8/Oudeglorie!$B8*10,3)) -> 8.235 | K102: =IF(Oudeglorie!I8=(""),(""),ROUND(Oudeglorie!I8/Oudeglorie!$B8*10,3)) | L102: =IF(Oudeglorie!J8=(""),(""),ROUND(Oudeglorie!J8/Oudeglorie!$B8*10,3)) | ... Q102: =IF(Oudeglorie!O8=(""),(""),ROUND(Oudeglorie!O8/Oudeglorie!$B8*10,3)) | R102: =IF(Oudeglorie!U8=(""),(""),ROUND(Oudeglorie!U8/Oudeglorie!$T8*10,3)) | S102: =IF(Oudeglorie!V8=(""),(""),ROUND(Oudeglorie!V8/Oudeglorie!$T8*10,3)) | T102: =IF(Oudeglorie!W8=(""),(""),ROUND(Oudeglorie!W8/Oudeglorie!$T8*10,3)) | U102: =IF(Oudeglorie!X8=(""),(""),ROUND(Oudeglorie!X8/Oudeglorie!$T8*10,3)) | V102: =IF(Oudeglorie!Y8=(""),(""),ROUND(Oudeglorie!Y8/Oudeglorie!$T8*10,3)) | W102: =IF(Oudeglorie!Z8=(""),(""),ROUND(Oudeglorie!Z8/Oudeglorie!$T8*10,3)) | X102: =IF(Oudeglorie!AA8=(""),(""),ROUND(Oudeglorie!AA8/Oudeglorie!$T8*10,3)) | Y102: =IF(Oudeglorie!AB8=(""),(""),ROUND(Oudeglorie!AB8/Oudeglorie!$T8*10,3)) | ... AD102: =IF(Oudeglorie!AG8=(""),(""),ROUND(Oudeglorie!AG8/Oudeglorie!$T8*10,3))
A103: =IF(SUM(E103:AD103)=0,(" "),COUNTIF(E103:AD103,">0")) -> 6 | B103: =Oudeglorie!A9 -> Gommers Jac | C103: =IF(Oudeglorie!AL9=0," ",SUM(E103:AD103)) -> 55.001 | E103: =IF(Oudeglorie!C9=(""),(""),ROUND(Oudeglorie!C9/Oudeglorie!$B9*10,3)) | F103: =IF(Oudeglorie!D9=(""),(""),ROUND(Oudeglorie!D9/Oudeglorie!$B9*10,3)) -> 10.556 | G103: =IF(Oudeglorie!E9=(""),(""),ROUND(Oudeglorie!E9/Oudeglorie!$B9*10,3)) -> 8.333 | H103: =IF(Oudeglorie!F9=(""),(""),ROUND(Oudeglorie!F9/Oudeglorie!$B9*10,3)) | I103: =IF(Oudeglorie!G9=(""),(""),ROUND(Oudeglorie!G9/Oudeglorie!$B9*10,3)) -> 5.556 | J103: =IF(Oudeglorie!H9=(""),(""),ROUND(Oudeglorie!H9/Oudeglorie!$B9*10,3)) -> 10.556 | K103: =IF(Oudeglorie!I9=(""),(""),ROUND(Oudeglorie!I9/Oudeglorie!$B9*10,3)) -> 12.778 | L103: =IF(Oudeglorie!J9=(""),(""),ROUND(Oudeglorie!J9/Oudeglorie!$B9*10,3)) -> 7.222 | ... Q103: =IF(Oudeglorie!O9=(""),(""),ROUND(Oudeglorie!O9/Oudeglorie!$B9*10,3)) | R103: =IF(Oudeglorie!U9=(""),(""),ROUND(Oudeglorie!U9/Oudeglorie!$T9*10,3)) | S103: =IF(Oudeglorie!V9=(""),(""),ROUND(Oudeglorie!V9/Oudeglorie!$T9*10,3)) | T103: =IF(Oudeglorie!W9=(""),(""),ROUND(Oudeglorie!W9/Oudeglorie!$T9*10,3)) | U103: =IF(Oudeglorie!X9=(""),(""),ROUND(Oudeglorie!X9/Oudeglorie!$T9*10,3)) | V103: =IF(Oudeglorie!Y9=(""),(""),ROUND(Oudeglorie!Y9/Oudeglorie!$T9*10,3)) | W103: =IF(Oudeglorie!Z9=(""),(""),ROUND(Oudeglorie!Z9/Oudeglorie!$T9*10,3)) | X103: =IF(Oudeglorie!AA9=(""),(""),ROUND(Oudeglorie!AA9/Oudeglorie!$T9*10,3)) | Y103: =IF(Oudeglorie!AB9=(""),(""),ROUND(Oudeglorie!AB9/Oudeglorie!$T9*10,3)) | ... AD103: =IF(Oudeglorie!AG9=(""),(""),ROUND(Oudeglorie!AG9/Oudeglorie!$T9*10,3))
A104: =IF(SUM(E104:AD104)=0,(" "),COUNTIF(E104:AD104,">0")) -> 5 | B104: =Oudeglorie!A10 -> Jacobs Alfons | C104: =IF(Oudeglorie!AL10=0," ",SUM(E104:AD104)) -> 35.714 | E104: =IF(Oudeglorie!C10=(""),(""),ROUND(Oudeglorie!C10/Oudeglorie!$B10*10,3)) -> 7.5 | F104: =IF(Oudeglorie!D10=(""),(""),ROUND(Oudeglorie!D10/Oudeglorie!$B10*10,3)) | G104: =IF(Oudeglorie!E10=(""),(""),ROUND(Oudeglorie!E10/Oudeglorie!$B10*10,3)) | H104: =IF(Oudeglorie!F10=(""),(""),ROUND(Oudeglorie!F10/Oudeglorie!$B10*10,3)) | I104: =IF(Oudeglorie!G10=(""),(""),ROUND(Oudeglorie!G10/Oudeglorie!$B10*10,3)) | J104: =IF(Oudeglorie!H10=(""),(""),ROUND(Oudeglorie!H10/Oudeglorie!$B10*10,3)) | K104: =IF(Oudeglorie!I10=(""),(""),ROUND(Oudeglorie!I10/Oudeglorie!$B10*10,3)) -> 6.786 | L104: =IF(Oudeglorie!J10=(""),(""),ROUND(Oudeglorie!J10/Oudeglorie!$B10*10,3)) -> 6.071 | ... Q104: =IF(Oudeglorie!O10=(""),(""),ROUND(Oudeglorie!O10/Oudeglorie!$B10*10,3)) | R104: =IF(Oudeglorie!U10=(""),(""),ROUND(Oudeglorie!U10/Oudeglorie!$T10*10,3)) | S104: =IF(Oudeglorie!V10=(""),(""),ROUND(Oudeglorie!V10/Oudeglorie!$T10*10,3)) | T104: =IF(Oudeglorie!W10=(""),(""),ROUND(Oudeglorie!W10/Oudeglorie!$T10*10,3)) | U104: =IF(Oudeglorie!X10=(""),(""),ROUND(Oudeglorie!X10/Oudeglorie!$T10*10,3)) | V104: =IF(Oudeglorie!Y10=(""),(""),ROUND(Oudeglorie!Y10/Oudeglorie!$T10*10,3)) | W104: =IF(Oudeglorie!Z10=(""),(""),ROUND(Oudeglorie!Z10/Oudeglorie!$T10*10,3)) | X104: =IF(Oudeglorie!AA10=(""),(""),ROUND(Oudeglorie!AA10/Oudeglorie!$T10*10,3)) | Y104: =IF(Oudeglorie!AB10=(""),(""),ROUND(Oudeglorie!AB10/Oudeglorie!$T10*10,3)) | ... AD104: =IF(Oudeglorie!AG10=(""),(""),ROUND(Oudeglorie!AG10/Oudeglorie!$T10*10,3))
A105: =IF(SUM(E105:AD105)=0,(" "),COUNTIF(E105:AD105,">0")) -> 5 | B105: =Oudeglorie!A11 -> Jacobs Frans | C105: =IF(Oudeglorie!AL11=0," ",SUM(E105:AD105)) -> 50.805 | E105: =IF(Oudeglorie!C11=(""),(""),ROUND(Oudeglorie!C11/Oudeglorie!$B11*10,3)) | F105: =IF(Oudeglorie!D11=(""),(""),ROUND(Oudeglorie!D11/Oudeglorie!$B11*10,3)) -> 12.258 | G105: =IF(Oudeglorie!E11=(""),(""),ROUND(Oudeglorie!E11/Oudeglorie!$B11*10,3)) | H105: =IF(Oudeglorie!F11=(""),(""),ROUND(Oudeglorie!F11/Oudeglorie!$B11*10,3)) -> 10.161 | I105: =IF(Oudeglorie!G11=(""),(""),ROUND(Oudeglorie!G11/Oudeglorie!$B11*10,3)) -> 15.161 | J105: =IF(Oudeglorie!H11=(""),(""),ROUND(Oudeglorie!H11/Oudeglorie!$B11*10,3)) -> 6.935 | K105: =IF(Oudeglorie!I11=(""),(""),ROUND(Oudeglorie!I11/Oudeglorie!$B11*10,3)) | L105: =IF(Oudeglorie!J11=(""),(""),ROUND(Oudeglorie!J11/Oudeglorie!$B11*10,3)) | ... Q105: =IF(Oudeglorie!O11=(""),(""),ROUND(Oudeglorie!O11/Oudeglorie!$B11*10,3)) | R105: =IF(Oudeglorie!U11=(""),(""),ROUND(Oudeglorie!U11/Oudeglorie!$T11*10,3)) | S105: =IF(Oudeglorie!V11=(""),(""),ROUND(Oudeglorie!V11/Oudeglorie!$T11*10,3)) | T105: =IF(Oudeglorie!W11=(""),(""),ROUND(Oudeglorie!W11/Oudeglorie!$T11*10,3)) | U105: =IF(Oudeglorie!X11=(""),(""),ROUND(Oudeglorie!X11/Oudeglorie!$T11*10,3)) | V105: =IF(Oudeglorie!Y11=(""),(""),ROUND(Oudeglorie!Y11/Oudeglorie!$T11*10,3)) | W105: =IF(Oudeglorie!Z11=(""),(""),ROUND(Oudeglorie!Z11/Oudeglorie!$T11*10,3)) | X105: =IF(Oudeglorie!AA11=(""),(""),ROUND(Oudeglorie!AA11/Oudeglorie!$T11*10,3)) | Y105: =IF(Oudeglorie!AB11=(""),(""),ROUND(Oudeglorie!AB11/Oudeglorie!$T11*10,3)) | ... AD105: =IF(Oudeglorie!AG11=(""),(""),ROUND(Oudeglorie!AG11/Oudeglorie!$T11*10,3))
A106: =IF(SUM(E106:AD106)=0,(" "),COUNTIF(E106:AD106,">0")) -> 5 | B106: =Oudeglorie!A12 -> Nelen Frans | C106: =IF(Oudeglorie!AL12=0," ",SUM(E106:AD106)) -> 55.6 | E106: =IF(Oudeglorie!C12=(""),(""),ROUND(Oudeglorie!C12/Oudeglorie!$B12*10,3)) | F106: =IF(Oudeglorie!D12=(""),(""),ROUND(Oudeglorie!D12/Oudeglorie!$B12*10,3)) | G106: =IF(Oudeglorie!E12=(""),(""),ROUND(Oudeglorie!E12/Oudeglorie!$B12*10,3)) -> 6 | H106: =IF(Oudeglorie!F12=(""),(""),ROUND(Oudeglorie!F12/Oudeglorie!$B12*10,3)) -> 11.6 | I106: =IF(Oudeglorie!G12=(""),(""),ROUND(Oudeglorie!G12/Oudeglorie!$B12*10,3)) -> 17.6 | J106: =IF(Oudeglorie!H12=(""),(""),ROUND(Oudeglorie!H12/Oudeglorie!$B12*10,3)) -> 10.4 | K106: =IF(Oudeglorie!I12=(""),(""),ROUND(Oudeglorie!I12/Oudeglorie!$B12*10,3)) | L106: =IF(Oudeglorie!J12=(""),(""),ROUND(Oudeglorie!J12/Oudeglorie!$B12*10,3)) | ... Q106: =IF(Oudeglorie!O12=(""),(""),ROUND(Oudeglorie!O12/Oudeglorie!$B12*10,3)) | R106: =IF(Oudeglorie!U12=(""),(""),ROUND(Oudeglorie!U12/Oudeglorie!$T12*10,3)) | S106: =IF(Oudeglorie!V12=(""),(""),ROUND(Oudeglorie!V12/Oudeglorie!$T12*10,3)) | T106: =IF(Oudeglorie!W12=(""),(""),ROUND(Oudeglorie!W12/Oudeglorie!$T12*10,3)) | U106: =IF(Oudeglorie!X12=(""),(""),ROUND(Oudeglorie!X12/Oudeglorie!$T12*10,3)) | V106: =IF(Oudeglorie!Y12=(""),(""),ROUND(Oudeglorie!Y12/Oudeglorie!$T12*10,3)) | W106: =IF(Oudeglorie!Z12=(""),(""),ROUND(Oudeglorie!Z12/Oudeglorie!$T12*10,3)) | X106: =IF(Oudeglorie!AA12=(""),(""),ROUND(Oudeglorie!AA12/Oudeglorie!$T12*10,3)) | Y106: =IF(Oudeglorie!AB12=(""),(""),ROUND(Oudeglorie!AB12/Oudeglorie!$T12*10,3)) | ... AD106: =IF(Oudeglorie!AG12=(""),(""),ROUND(Oudeglorie!AG12/Oudeglorie!$T12*10,3))
...

Sheet Uitslagen
A1: 35ste Gemeentelijk biljarttornooi | E1: Laatst gewijzigd
A2: van de Essense seniorenadviesraad 2025 - 2026 | E2: =Rangschikking!E3 -> 46003
B3: 1ste Ronde
A4: Datum | B4: Thuisploeg | C4: Bezoekers | D4: Punten | E4: Punten
A6: 45873 | B6: Molenheike | C6: Wildert 1 | D6: =VLOOKUP(B6,Punten!$C$3:$AD$222,3,0) -> 60.344 | E6: =VLOOKUP(C6,Punten!$C$3:$AD$222,3,0) -> 63.095
A7: 45874 | B7: BC de Beek | C7: Rooie Bal 1 | D7: =VLOOKUP(B7,Punten!$C$3:$AD$222,3,0) -> 50.902 | E7: =VLOOKUP(C7,Punten!$C$3:$AD$222,3,0) -> 83.359
A8: 45874 | B8: Rooie Bal 2 | C8: Wildert 2 | D8: =VLOOKUP(B8,Punten!$C$3:$AD$222,3,0) -> 61.838 | E8: =VLOOKUP(C8,Punten!$C$3:$AD$222,3,0) -> 58.744
A9: 45875 | B9: Horendonk | C9: Meeuwen 1 | D9: =VLOOKUP(B9,Punten!$C$3:$AD$222,3,0) -> 71.248 | E9: =VLOOKUP(C9,Punten!$C$3:$AD$222,3,0) -> 36.028
A10: 45875 | B10: Oude Glorie | C10: Rebelse Meeuwkes | D10: =VLOOKUP(B10,Punten!$C$3:$AD$222,3,0) -> 54.572 | E10: =VLOOKUP(C10,Punten!$C$3:$AD$222,3,0) -> 56.893
A11: 45876 | B11: Kerkuilen | C11: Nispen Gem. | D11: =VLOOKUP(B11,Punten!$C$3:$AD$222,3,0) -> 55.039 | E11: =VLOOKUP(C11,Punten!$C$3:$AD$222,3,0) -> 68.51
A12: 45876 | B12: Meeuwen 2 | C12: Sen. Putte | D12: =VLOOKUP(B12,Punten!$C$3:$AD$222,3,0) -> 55.621 | E12: =VLOOKUP(C12,Punten!$C$3:$AD$222,3,0) -> 71.852
A14: 45880 | B14: Sen. Putte | C14: Nispen Gem. | D14: =VLOOKUP(B14,Punten!$C$3:$AD$222,4,0) -> 59.448 | E14: =VLOOKUP(C14,Punten!$C$3:$AD$222,4,0) -> 70.873
A15: 45880 | B15: Rooie Bal 1 | C15: Rooie Bal 2 | D15: =VLOOKUP(B15,Punten!$C$3:$AD$222,4,0) -> 54.28 | E15: =VLOOKUP(C15,Punten!$C$3:$AD$222,4,0) -> 50.217
A16: 45880 | B16: Rebelse Meeuwkes | C16: Wildert 2 | D16: =VLOOKUP(B16,Punten!$C$3:$AD$222,4,0) -> 53.671 | E16: =VLOOKUP(C16,Punten!$C$3:$AD$222,4,0) -> 63.731
A17: 45881 | B17: Meeuwen 1 | C17: BC de Beek | D17: =VLOOKUP(B17,Punten!$C$3:$AD$222,4,0) -> 50.08 | E17: =VLOOKUP(C17,Punten!$C$3:$AD$222,4,0) -> 53.87
A18: 45882 | B18: Oude Glorie | C18: Meeuwen 2 | D18: =VLOOKUP(B18,Punten!$C$3:$AD$222,4,0) -> 50.722 | E18: =VLOOKUP(C18,Punten!$C$3:$AD$222,4,0) -> 73.137
A19: 45883 | B19: Kerkuilen | C19: Molenheike | D19: =VLOOKUP(B19,Punten!$C$3:$AD$222,4,0) -> 53.09 | E19: =VLOOKUP(C19,Punten!$C$3:$AD$222,4,0) -> 55.48
A20: 45883 | B20: Wildert 1 | C20: Horendonk | D20: =VLOOKUP(B20,Punten!$C$3:$AD$222,4,0) -> 47.492 | E20: =VLOOKUP(C20,Punten!$C$3:$AD$222,4,0) -> 43.013
A22: 45887 | B22: Molenheike | C22: Sen. Putte | D22: =VLOOKUP(B22,Punten!$C$3:$AD$222,5,0) -> 66.492 | E22: =VLOOKUP(C22,Punten!$C$3:$AD$222,5,0) -> 66.724
A23: 45887 | B23: Rebelse Meeuwkes | C23: Meeuwen 2 | D23: =VLOOKUP(B23,Punten!$C$3:$AD$222,5,0) -> 58.344 | E23: =VLOOKUP(C23,Punten!$C$3:$AD$222,5,0) -> 42.053
A24: 45887 | B24: Nispen Gem. | C24: Oude Glorie | D24: =VLOOKUP(B24,Punten!$C$3:$AD$222,5,0) -> 52.68 | E24: =VLOOKUP(C24,Punten!$C$3:$AD$222,5,0) -> 58.743
A25: 45888 | B25: Rooie Bal 2 | C25: Meeuwen 1 | D25: =VLOOKUP(B25,Punten!$C$3:$AD$222,5,0) -> 70.929 | E25: =VLOOKUP(C25,Punten!$C$3:$AD$222,5,0) -> 44.809
A26: 45888 | B26: Wildert 2 | C26: Rooie Bal 1 | D26: =VLOOKUP(B26,Punten!$C$3:$AD$222,5,0) -> 64.975 | E26: =VLOOKUP(C26,Punten!$C$3:$AD$222,5,0) -> 53.534
A27: 45888 | B27: BC de Beek | C27: Wildert 1 | D27: =VLOOKUP(B27,Punten!$C$3:$AD$222,5,0) -> 49.937 | E27: =VLOOKUP(C27,Punten!$C$3:$AD$222,5,0) -> 63.683
A28: 45889 | B28: Horendonk | C28: Kerkuilen | D28: =VLOOKUP(B28,Punten!$C$3:$AD$222,5,0) -> 49.449 | E28: =VLOOKUP(C28,Punten!$C$3:$AD$222,5,0) -> 48.46
A30: 45901 | B30: Sen. Putte | C30: Horendonk | D30: =VLOOKUP(B30,Punten!$C$3:$AD$222,6,0) -> 55.756 | E30: =VLOOKUP(C30,Punten!$C$3:$AD$222,6,0) -> 73.732
A31: 45901 | B31: Rooie Bal 1 | C31: Rebelse Meeuwkes | D31: =VLOOKUP(B31,Punten!$C$3:$AD$222,6,0) -> 42.303 | E31: =VLOOKUP(C31,Punten!$C$3:$AD$222,6,0) -> 74.713
A32: 45902 | B32: Meeuwen 1 | C32: Wildert 2 | D32: =VLOOKUP(B32,Punten!$C$3:$AD$222,6,0) -> 55.581 | E32: =VLOOKUP(C32,Punten!$C$3:$AD$222,6,0) -> 56.854
A33: 45903 | B33: Oude Glorie | C33: Molenheike | D33: =VLOOKUP(B33,Punten!$C$3:$AD$222,6,0) -> 56.558 | E33: =VLOOKUP(C33,Punten!$C$3:$AD$222,6,0) -> 56.716
A34: 45904 | B34: Kerkuilen | C34: BC de Beek | D34: =VLOOKUP(B34,Punten!$C$3:$AD$222,6,0) -> 62.266 | E34: =VLOOKUP(C34,Punten!$C$3:$AD$222,6,0) -> 67.582
A35: 45936 | B35: Meeuwen 2 | C35: Nispen Gem. | D35: =VLOOKUP(B35,Punten!$C$3:$AD$222,6,0) -> 52.417 | E35: =VLOOKUP(C35,Punten!$C$3:$AD$222,6,0) -> 64.159
A36: 45905 | B36: Wildert 1 | C36: Rooie Bal 2 | D36: =VLOOKUP(B36,Punten!$C$3:$AD$222,6,0) -> 55.134 | E36: =VLOOKUP(C36,Punten!$C$3:$AD$222,6,0) -> 55.334
A38: 45915 | B38: Nispen Gem. | C38: Rebelse Meeuwkes | D38: =VLOOKUP(B38,Punten!$C$3:$AD$222,7,0) -> 53.189 | E38: =VLOOKUP(C38,Punten!$C$3:$AD$222,7,0) -> 53.332
A39: 45915 | B39: Molenheike | C39: Meeuwen 2 | D39: =VLOOKUP(B39,Punten!$C$3:$AD$222,7,0) -> 60.369 | E39: =VLOOKUP(C39,Punten!$C$3:$AD$222,7,0) -> 55.805
A40: 45946 | B40: Meeuwen 1 | C40: Rooie Bal 1 | D40: =VLOOKUP(B40,Punten!$C$3:$AD$222,7,0) -> 58.264 | E40: =VLOOKUP(C40,Punten!$C$3:$AD$222,7,0) -> 53.424
A41: 45916 | B41: BC de Beek | C41: Sen. Putte | D41: =VLOOKUP(B41,Punten!$C$3:$AD$222,7,0) -> 58.063 | E41: =VLOOKUP(C41,Punten!$C$3:$AD$222,7,0) -> 61.229
A42: 45916 | B42: Wildert 2 | C42: Wildert 1 | D42: =VLOOKUP(B42,Punten!$C$3:$AD$222,7,0) -> 73.739 | E42: =VLOOKUP(C42,Punten!$C$3:$AD$222,7,0) -> 68.934
A43: 45958 | B43: Rooie Bal 2 | C43: Kerkuilen | D43: =VLOOKUP(B43,Punten!$C$3:$AD$222,7,0) -> 61.108 | E43: =VLOOKUP(C43,Punten!$C$3:$AD$222,7,0) -> 52.704
A44: 45917 | B44: Horendonk | C44: Oude Glorie | D44: =VLOOKUP(B44,Punten!$C$3:$AD$222,7,0) -> 44.601 | E44: =VLOOKUP(C44,Punten!$C$3:$AD$222,7,0) -> 73.597
A46: 45929 | B46: Sen. Putte | C46: Rooie Bal 2 | D46: =VLOOKUP(B46,Punten!$C$3:$AD$222,8,0) -> 54.995 | E46: =VLOOKUP(C46,Punten!$C$3:$AD$222,8,0) -> 57.887
A47: 45929 | B47: Nispen Gem. | C47: Molenheike | D47: =VLOOKUP(B47,Punten!$C$3:$AD$222,8,0) -> 63.294 | E47: =VLOOKUP(C47,Punten!$C$3:$AD$222,8,0) -> 52.575
A48: 45929 | B48: Rebelse Meeuwkes | C48: Meeuwen 1 | D48: =VLOOKUP(B48,Punten!$C$3:$AD$222,8,0) -> 57.743 | E48: =VLOOKUP(C48,Punten!$C$3:$AD$222,8,0) -> 50.75
A49: 45931 | B49: Oude Glorie | C49: BC de Beek | D49: =VLOOKUP(B49,Punten!$C$3:$AD$222,8,0) -> 73.63 | E49: =VLOOKUP(C49,Punten!$C$3:$AD$222,8,0) -> 59.263
A50: 45932 | B50: Kerkuilen | C50: Wildert 2 | D50: =VLOOKUP(B50,Punten!$C$3:$AD$222,8,0) -> 52.085 | E50: =VLOOKUP(C50,Punten!$C$3:$AD$222,8,0) -> 85.559
A51: 45932 | B51: Meeuwen 2 | C51: Horendonk | D51: =VLOOKUP(B51,Punten!$C$3:$AD$222,8,0) -> 73.313 | E51: =VLOOKUP(C51,Punten!$C$3:$AD$222,8,0) -> 53.528
A52: 45933 | B52: Wildert 1 | C52: Rooie Bal 1 | D52: =VLOOKUP(B52,Punten!$C$3:$AD$222,8,0) -> 60.25 | E52: =VLOOKUP(C52,Punten!$C$3:$AD$222,8,0) -> 49.459
A54: 45943 | B54: Rooie Bal 1 | C54: Kerkuilen | D54: =VLOOKUP(B54,Punten!$C$3:$AD$222,9,0) -> 64.655 | E54: =VLOOKUP(C54,Punten!$C$3:$AD$222,9,0) -> 52.633
A55: 45943 | B55: Sen. Putte | C55: Wildert 2 | D55: =VLOOKUP(B55,Punten!$C$3:$AD$222,9,0) -> 72.177 | E55: =VLOOKUP(C55,Punten!$C$3:$AD$222,9,0) -> 54.441
A56: 45944 | B56: Meeuwen 1 | C56: Wildert 1 | D56: =VLOOKUP(B56,Punten!$C$3:$AD$222,9,0) -> 49.109 | E56: =VLOOKUP(C56,Punten!$C$3:$AD$222,9,0) -> 72.751
A57: 45944 | B57: BC de Beek | C57: Meeuwen 2 | D57: =VLOOKUP(B57,Punten!$C$3:$AD$222,9,0) -> 66.293 | E57: =VLOOKUP(C57,Punten!$C$3:$AD$222,9,0) -> 65.955
A58: 45944 | B58: Rooie Bal 2 | C58: Oude Glorie | D58: =VLOOKUP(B58,Punten!$C$3:$AD$222,9,0) -> 56.863 | E58: =VLOOKUP(C58,Punten!$C$3:$AD$222,9,0) -> 50.501
A59: 45945 | B59: Horendonk | C59: Nispen Gem. | D59: =VLOOKUP(B59,Punten!$C$3:$AD$222,9,0) -> 60.754 | E59: =VLOOKUP(C59,Punten!$C$3:$AD$222,9,0) -> 50.868
A60: 45946 | B60: Molenheike | C60: Rebelse Meeuwkes | D60: =VLOOKUP(B60,Punten!$C$3:$AD$222,9,0) -> 47.511 | E60: =VLOOKUP(C60,Punten!$C$3:$AD$222,9,0) -> 63.052
A62: 45957 | B62: Sen. Putte | C62: Rooie Bal 1 | D62: =VLOOKUP(B62,Punten!$C$3:$AD$222,10,0) -> 61.199 | E62: =VLOOKUP(C62,Punten!$C$3:$AD$222,10,0) -> 56.525
A63: 45957 | B63: Nispen Gem. | C63: BC de Beek | D63: =VLOOKUP(B63,Punten!$C$3:$AD$222,10,0) -> 53.39 | E63: =VLOOKUP(C63,Punten!$C$3:$AD$222,10,0) -> 46.456
A64: 45957 | B64: Molenheike | C64: Horendonk | D64: =VLOOKUP(B64,Punten!$C$3:$AD$222,10,0) -> 60.869 | E64: =VLOOKUP(C64,Punten!$C$3:$AD$222,10,0) -> 60.736
A65: 45957 | B65: Rebelse Meeuwkes | C65: Wildert 1 | D65: =VLOOKUP(B65,Punten!$C$3:$AD$222,10,0) -> 62.818 | E65: =VLOOKUP(C65,Punten!$C$3:$AD$222,10,0) -> 70.79
A66: 45958 | B66: Wildert 2 | C66: Oude Glorie | D66: =VLOOKUP(B66,Punten!$C$3:$AD$222,10,0) -> 57.887 | E66: =VLOOKUP(C66,Punten!$C$3:$AD$222,10,0) -> 56.466
A67: 45960 | B67: Meeuwen 2 | C67: Rooie Bal 2 | D67: =VLOOKUP(B67,Punten!$C$3:$AD$222,10,0) -> 68.324 | E67: =VLOOKUP(C67,Punten!$C$3:$AD$222,10,0) -> 50.806
A68: 45960 | B68: Kerkuilen | C68: Meeuwen 1 | D68: =VLOOKUP(B68,Punten!$C$3:$AD$222,10,0) -> 63.644 | E68: =VLOOKUP(C68,Punten!$C$3:$AD$222,10,0) -> 43.688
A70: 45971 | B70: Rooie Bal 1 | C70: Oude Glorie | D70: =VLOOKUP(B70,Punten!$C$3:$AD$222,11,0) -> 58.667 | E70: =VLOOKUP(C70,Punten!$C$3:$AD$222,11,0) -> 60.412
A71: 45971 | B71: Meeuwen 1 | C71: Sen. Putte | D71: =VLOOKUP(B71,Punten!$C$3:$AD$222,11,0) -> 76.481 | E71: =VLOOKUP(C71,Punten!$C$3:$AD$222,11,0) -> 71.329
A72: 45973 | B72: Horendonk | C72: Rebelse Meeuwkes | D72: =VLOOKUP(B72,Punten!$C$3:$AD$222,11,0) -> 67.746 | E72: =VLOOKUP(C72,Punten!$C$3:$AD$222,11,0) -> 57.384
A73: 45974 | B73: BC de Beek | C73: Molenheike | D73: =VLOOKUP(B73,Punten!$C$3:$AD$222,11,0) -> 54.584 | E73: =VLOOKUP(C73,Punten!$C$3:$AD$222,11,0) -> 65.575
A74: 45974 | B74: Meeuwen 2 | C74: Wildert 2 | D74: =VLOOKUP(B74,Punten!$C$3:$AD$222,11,0) -> 67.025 | E74: =VLOOKUP(C74,Punten!$C$3:$AD$222,11,0) -> 73.556
A75: 45974 | B75: Rooie Bal 2 | C75: Nispen Gem. | D75: =VLOOKUP(B75,Punten!$C$3:$AD$222,11,0) -> 71.91 | E75: =VLOOKUP(C75,Punten!$C$3:$AD$222,11,0) -> 65.765
A76: 45975 | B76: Wildert 1 | C76: Kerkuilen | D76: =VLOOKUP(B76,Punten!$C$3:$AD$222,11,0) -> 49.687 | E76: =VLOOKUP(C76,Punten!$C$3:$AD$222,11,0) -> 53.924
A78: 45985 | B78: Nispen Gem. | C78: Wildert 2 | D78: =VLOOKUP(B78,Punten!$C$3:$AD$222,12,0) -> 63.084 | E78: =VLOOKUP(C78,Punten!$C$3:$AD$222,12,0) -> 48.583
A79: 45985 | B79: Sen. Putte | C79: Wildert 1 | D79: =VLOOKUP(B79,Punten!$C$3:$AD$222,12,0) -> 59.75 | E79: =VLOOKUP(C79,Punten!$C$3:$AD$222,12,0) -> 66.571
A80: 45985 | B80: Rebelse Meeuwkes | C80: Kerkuilen | D80: =VLOOKUP(B80,Punten!$C$3:$AD$222,12,0) -> 71.882 | E80: =VLOOKUP(C80,Punten!$C$3:$AD$222,12,0) -> 53.023
A81: 45985 | B81: Molenheike | C81: Rooie Bal 2 | D81: =VLOOKUP(B81,Punten!$C$3:$AD$222,12,0) -> 52.471 | E81: =VLOOKUP(C81,Punten!$C$3:$AD$222,12,0) -> 50.755
A82: 45987 | B82: Horendonk | C82: BC de Beek | D82: =VLOOKUP(B82,Punten!$C$3:$AD$222,12,0) -> 53.038 | E82: =VLOOKUP(C82,Punten!$C$3:$AD$222,12,0) -> 54.859
A83: 45987 | B83: Oude Glorie | C83: Meeuwen 1 | D83: =VLOOKUP(B83,Punten!$C$3:$AD$222,12,0) -> 62.914 | E83: =VLOOKUP(C83,Punten!$C$3:$AD$222,12,0) -> 46.373
A84: 45988 | B84: Meeuwen 2 | C84: Rooie Bal 1 | D84: =VLOOKUP(B84,Punten!$C$3:$AD$222,12,0) -> 52.162 | E84: =VLOOKUP(C84,Punten!$C$3:$AD$222,12,0) -> 41.629
A86: 45992 | B86: Rooie Bal 1 | C86: Nispen Gem. | D86: =VLOOKUP(B86,Punten!$C$3:$AD$222,13,0) -> 47.802 | E86: =VLOOKUP(C86,Punten!$C$3:$AD$222,13,0) -> 57.427
A87: 45992 | B87: Sen. Putte | C87: Kerkuilen | D87: =VLOOKUP(B87,Punten!$C$3:$AD$222,13,0) -> 60.125 | E87: =VLOOKUP(C87,Punten!$C$3:$AD$222,13,0) -> 67.561
A88: 45993 | B88: Wildert 2 | C88: Molenheike | D88: =VLOOKUP(B88,Punten!$C$3:$AD$222,13,0) -> 69.229 | E88: =VLOOKUP(C88,Punten!$C$3:$AD$222,13,0) -> 66.669
A89: 45993 | B89: Rooie Bal 2 | C89: Horendonk | D89: =VLOOKUP(B89,Punten!$C$3:$AD$222,13,0) -> 71.817 | E89: =VLOOKUP(C89,Punten!$C$3:$AD$222,13,0) -> 52.013
A90: 45993 | B90: Meeuwen 1 | C90: Meeuwen 2 | D90: =VLOOKUP(B90,Punten!$C$3:$AD$222,13,0) -> 61.231 | E90: =VLOOKUP(C90,Punten!$C$3:$AD$222,13,0) -> 68.407
A91: 45993 | B91: BC de Beek | C91: Rebelse Meeuwkes | D91: =VLOOKUP(B91,Punten!$C$3:$AD$222,13,0) -> 65.5 | E91: =VLOOKUP(C91,Punten!$C$3:$AD$222,13,0) -> 61.686
A92: 45996 | B92: Wildert 1 | C92: Oude Glorie | D92: =VLOOKUP(B92,Punten!$C$3:$AD$222,13,0) -> 42.209 | E92: =VLOOKUP(C92,Punten!$C$3:$AD$222,13,0) -> 67.533
A94: 45999 | B94: Rebelse Meeuwkes | C94: Sen. Putte | D94: =VLOOKUP(B94,Punten!$C$3:$AD$222,14,0) -> 61.689 | E94: =VLOOKUP(C94,Punten!$C$3:$AD$222,14,0) -> 65.844
A95: 45999 | B95: Molenheike | C95: Rooie Bal 1 | D95: =VLOOKUP(B95,Punten!$C$3:$AD$222,14,0) -> 59.681 | E95: =VLOOKUP(C95,Punten!$C$3:$AD$222,14,0) -> 53.383
A96: 45999 | B96: Nispen Gem. | C96: Meeuwen 1 | D96: =VLOOKUP(B96,Punten!$C$3:$AD$222,14,0) -> 46.091 | E96: =VLOOKUP(C96,Punten!$C$3:$AD$222,14,0) -> 43.292
A97: 46000 | B97: BC de Beek | C97: Rooie Bal 2 | D97: =VLOOKUP(B97,Punten!$C$3:$AD$222,14,0) -> 74.556 | E97: =VLOOKUP(C97,Punten!$C$3:$AD$222,14,0) -> 60.03
A98: 46001 | B98: Horendonk | C98: Wildert 2 | D98: =VLOOKUP(B98,Punten!$C$3:$AD$222,14,0) -> 54.676 | E98: =VLOOKUP(C98,Punten!$C$3:$AD$222,14,0) -> 75.402
A99: 46001 | B99: Oude Glorie | C99: Kerkuilen | D99: =VLOOKUP(B99,Punten!$C$3:$AD$222,14,0) -> 53.647 | E99: =VLOOKUP(C99,Punten!$C$3:$AD$222,14,0) -> 53.764
A100: 46002 | B100: Meeuwen 2 | C100: Wildert 1 | D100: =VLOOKUP(B100,Punten!$C$3:$AD$222,14,0) -> 56.549 | E100: =VLOOKUP(C100,Punten!$C$3:$AD$222,14,0) -> 56.847
A102: 46006 | B102: Rooie Bal 1 | C102: Horendonk | D102: =VLOOKUP(B102,Punten!$C$3:$AD$222,15,0) | E102: =VLOOKUP(C102,Punten!$C$3:$AD$222,15,0)
A103: 46006 | B103: Sen. Putte | C103: Oude Glorie | D103: =VLOOKUP(B103,Punten!$C$3:$AD$222,15,0) | E103: =VLOOKUP(C103,Punten!$C$3:$AD$222,15,0)
A104: 46006 | B104: Nispen Gem. | C104: Wildert 1 | D104: =VLOOKUP(B104,Punten!$C$3:$AD$222,15,0) | E104: =VLOOKUP(C104,Punten!$C$3:$AD$222,15,0)
A105: 46007 | B105: Meeuwen 1 | C105: Molenheike | D105: =VLOOKUP(B105,Punten!$C$3:$AD$222,15,0) | E105: =VLOOKUP(C105,Punten!$C$3:$AD$222,15,0)
A106: 46007 | B106: Wildert 2 | C106: BC de Beek | D106: =VLOOKUP(B106,Punten!$C$3:$AD$222,15,0) | E106: =VLOOKUP(C106,Punten!$C$3:$AD$222,15,0)
A107: 46007 | B107: Rooie Bal 2 | C107: Rebelse Meeuwkes | D107: =VLOOKUP(B107,Punten!$C$3:$AD$222,15,0) | E107: =VLOOKUP(C107,Punten!$C$3:$AD$222,15,0)
A108: 46009 | B108: Kerkuilen | C108: Meeuwen 2 | D108: =VLOOKUP(B108,Punten!$C$3:$AD$222,15,0) | E108: =VLOOKUP(C108,Punten!$C$3:$AD$222,15,0)
A110: 35ste Gemeentelijk biljarttornooi
A111: van de Essense seniorenadviesraad 2025 - 2026 | E111: Blad 2
B112: 2de Ronde
A113: Datum | B113: Thuisploeg | C113: Bezoekers | D113: Punten | E113: Punten
A115: 46027 | B115: Rooie Bal 1 | C115: Meeuwen 2 | D115: =VLOOKUP(B115,Punten!$C$3:$AD$222,16,0) | E115: =VLOOKUP(C115,Punten!$C$3:$AD$222,16,0)
...

Sheet Horendonk
A1: 35ste Gemeentelijk biljarttornooi ingericht door de Essense Seniorenraad 2025 - 2026 | AL1: Jaartotalen
A2: HORENDONK | B2: Sterktegetal | C2: Wedstrijden 1ste kompetitiehelft | P2: Totaal Punten | Q2: Gespeelde wedstrijden | R2: Gemiddelde 1ste helft | S2: % Nieuw/Oud 2025 - 2026 | T2: Sterktegetal 2de helft | U2: Wedstrijden 2de kompetitiehelft | AH2: Totaal Punten | AI2: Gespeelde wedstrijden | AJ2: Gemiddelde 2de helft | AL2: Totaal Punten | AM2: Gespeelde wedstrijden | AN2: Gemiddelde seizoen | AO2: % Nieuw/Oud 2025 - 2026
C3: 1 | D3: 2 | E3: 3 | F3: 4 | G3: 5 | H3: 6 | I3: 7 | J3: 8 | K3: 9 | L3: 10 | M3: 11 | N3: 12 | O3: 13 | U3: 14 | V3: 15 | W3: 16 | X3: 17 | Y3: 18 | Z3: 19 | AA3: 20 | AB3: 21 | AC3: 22 | AD3: 23 | AE3: 24 | AF3: 25 | AG3: 26
A4: Ansems Ferre | B4: 19 | D4: 14 | F4: 29 | G4: 26 | K4: 23 | M4: 20 | N4: 22 | P4: =SUM(C4:O4) -> 134 | Q4: =COUNTIF(C4:O4,">0") -> 6 | R4: =IF(P4=0," ",P4/Q4) -> 22.333333 | S4: =IF(P4=0," ",P4/(Q4*B4)*100) -> 117.54386 | T4: 19 | AH4: =SUM(U4:AG4) -> 0 | AI4: =COUNTIF(U4:AG4,">0") -> 0 | AJ4: =IF(AH4=0," ",AH4/AI4) | AL4: =P4+AH4 -> 134 | AM4: =Q4+AI4 -> 6 | AN4: =IF(AL4=0," ",AL4/AM4) -> 22.333333 | AO4: =IF(AL4=0," ",AL4/(AM4*T4)*100) -> 117.54386
A5: Arnouts Louis | B5: 35 | C5: 36 | I5: 39 | J5: 23 | M5: 33 | P5: =SUM(C5:O5) -> 131 | Q5: =COUNTIF(C5:O5,">0") -> 4 | R5: =IF(P5=0," ",P5/Q5) -> 32.75 | S5: =IF(P5=0," ",P5/(Q5*B5)*100) -> 93.571429 | T5: 35 | AH5: =SUM(U5:AG5) -> 0 | AI5: =COUNTIF(U5:AG5,">0") -> 0 | AJ5: =IF(AH5=0," ",AH5/AI5) | AL5: =P5+AH5 -> 131 | AM5: =Q5+AI5 -> 4 | AN5: =IF(AL5=0," ",AL5/AM5) -> 32.75 | AO5: =IF(AL5=0," ",AL5/(AM5*T5)*100) -> 93.571429
A6: Brosens Jan | B6: 23 | P6: =SUM(C6:O6) -> 0 | Q6: =COUNTIF(C6:O6,">0") -> 0 | R6: =IF(P6=0," ",P6/Q6) | S6: =IF(P6=0," ",P6/(Q6*B6)*100) | T6: 23 | AH6: =SUM(U6:AG6) -> 0 | AI6: =COUNTIF(U6:AG6,">0") -> 0 | AJ6: =IF(AH6=0," ",AH6/AI6) | AL6: =P6+AH6 -> 0 | AM6: =Q6+AI6 -> 0 | AN6: =IF(AL6=0," ",AL6/AM6) | AO6: =IF(AL6=0," ",AL6/(AM6*T6)*100)
A7: De Backer Jef | B7: 26 | C7: 41 | E7: 18 | F7: 41 | G7: 24 | J7: 24 | K7: 19 | L7: 17 | N7: 17 | P7: =SUM(C7:O7) -> 201 | Q7: =COUNTIF(C7:O7,">0") -> 8 | R7: =IF(P7=0," ",P7/Q7) -> 25.125 | S7: =IF(P7=0," ",P7/(Q7*B7)*100) -> 96.634615 | T7: 26 | AH7: =SUM(U7:AG7) -> 0 | AI7: =COUNTIF(U7:AG7,">0") -> 0 | AJ7: =IF(AH7=0," ",AH7/AI7) | AL7: =P7+AH7 -> 201 | AM7: =Q7+AI7 -> 8 | AN7: =IF(AL7=0," ",AL7/AM7) -> 25.125 | AO7: =IF(AL7=0," ",AL7/(AM7*T7)*100) -> 96.634615
A8: Herreyers Remy | B8: 48 | D8: 19 | E8: 34 | F8: 36 | H8: 33 | I8: 51 | L8: 34 | N8: 51 | P8: =SUM(C8:O8) -> 258 | Q8: =COUNTIF(C8:O8,">0") -> 7 | R8: =IF(P8=0," ",P8/Q8) -> 36.857143 | S8: =IF(P8=0," ",P8/(Q8*B8)*100) -> 76.785714 | T8: 48 | AH8: =SUM(U8:AG8) -> 0 | AI8: =COUNTIF(U8:AG8,">0") -> 0 | AJ8: =IF(AH8=0," ",AH8/AI8) | AL8: =P8+AH8 -> 258 | AM8: =Q8+AI8 -> 7 | AN8: =IF(AL8=0," ",AL8/AM8) -> 36.857143 | AO8: =IF(AL8=0," ",AL8/(AM8*T8)*100) -> 76.785714
A9: Maas Guy | B9: 25 | C9: 29 | F9: 15 | H9: 18 | I9: 17 | K9: 27 | M9: 14 | P9: =SUM(C9:O9) -> 120 | Q9: =COUNTIF(C9:O9,">0") -> 6 | R9: =IF(P9=0," ",P9/Q9) -> 20 | S9: =IF(P9=0," ",P9/(Q9*B9)*100) -> 80 | T9: 25 | AH9: =SUM(U9:AG9) -> 0 | AI9: =COUNTIF(U9:AG9,">0") -> 0 | AJ9: =IF(AH9=0," ",AH9/AI9) | AL9: =P9+AH9 -> 120 | AM9: =Q9+AI9 -> 6 | AN9: =IF(AL9=0," ",AL9/AM9) -> 20 | AO9: =IF(AL9=0," ",AL9/(AM9*T9)*100) -> 80
A10: Nelen Johan | B10: 15 | D10: 14 | E10: 14 | G10: 9 | I10: 16 | K10: 20 | L10: 17 | N10: 16 | P10: =SUM(C10:O10) -> 106 | Q10: =COUNTIF(C10:O10,">0") -> 7 | R10: =IF(P10=0," ",P10/Q10) -> 15.142857 | S10: =IF(P10=0," ",P10/(Q10*B10)*100) -> 100.95238 | T10: 15 | AH10: =SUM(U10:AG10) -> 0 | AI10: =COUNTIF(U10:AG10,">0") -> 0 | AJ10: =IF(AH10=0," ",AH10/AI10) | AL10: =P10+AH10 -> 106 | AM10: =Q10+AI10 -> 7 | AN10: =IF(AL10=0," ",AL10/AM10) -> 15.142857 | AO10: =IF(AL10=0," ",AL10/(AM10*T10)*100) -> 100.95238
A11: Oerlemans Willy | B11: 28 | D11: 22 | G11: 26 | H11: 20 | J11: 26 | K11: 42 | L11: 18 | M11: 26 | P11: =SUM(C11:O11) -> 180 | Q11: =COUNTIF(C11:O11,">0") -> 7 | R11: =IF(P11=0," ",P11/Q11) -> 25.714286 | S11: =IF(P11=0," ",P11/(Q11*B11)*100) -> 91.836735 | T11: 28 | AH11: =SUM(U11:AG11) -> 0 | AI11: =COUNTIF(U11:AG11,">0") -> 0 | AJ11: =IF(AH11=0," ",AH11/AI11) | AL11: =P11+AH11 -> 180 | AM11: =Q11+AI11 -> 7 | AN11: =IF(AL11=0," ",AL11/AM11) -> 25.714286 | AO11: =IF(AL11=0," ",AL11/(AM11*T11)*100) -> 91.836735
A12: Siemons Jos | B12: 25 | C12: 30 | D12: 19 | E12: 22 | F12: 48 | G12: 11 | H12: 25 | J12: 23 | K12: 23 | L12: 30 | N12: 14 | P12: =SUM(C12:O12) -> 245 | Q12: =COUNTIF(C12:O12,">0") -> 10 | R12: =IF(P12=0," ",P12/Q12) -> 24.5 | S12: =IF(P12=0," ",P12/(Q12*B12)*100) -> 98 | T12: 25 | AH12: =SUM(U12:AG12) -> 0 | AI12: =COUNTIF(U12:AG12,">0") -> 0 | AJ12: =IF(AH12=0," ",AH12/AI12) | AL12: =P12+AH12 -> 245 | AM12: =Q12+AI12 -> 10 | AN12: =IF(AL12=0," ",AL12/AM12) -> 24.5 | AO12: =IF(AL12=0," ",AL12/(AM12*T12)*100) -> 98
A13: Van Aert André | B13: 29 | D13: 20 | E13: 27 | F13: 29 | H13: 27 | J13: 39 | L13: 28 | M13: 15 | P13: =SUM(C13:O13) -> 185 | Q13: =COUNTIF(C13:O13,">0") -> 7 | R13: =IF(P13=0," ",P13/Q13) -> 26.428571 | S13: =IF(P13=0," ",P13/(Q13*B13)*100) -> 91.133005 | T13: 29 | AH13: =SUM(U13:AG13) -> 0 | AI13: =COUNTIF(U13:AG13,">0") -> 0 | AJ13: =IF(AH13=0," ",AH13/AI13) | AL13: =P13+AH13 -> 185 | AM13: =Q13+AI13 -> 7 | AN13: =IF(AL13=0," ",AL13/AM13) -> 26.428571 | AO13: =IF(AL13=0," ",AL13/(AM13*T13)*100) -> 91.133005
A14: Veraart Jef (ns) | B14: 27 | C14: 34 | I14: 32 | P14: =SUM(C14:O14) -> 66 | Q14: =COUNTIF(C14:O14,">0") -> 2 | R14: =IF(P14=0," ",P14/Q14) -> 33 | S14: =IF(P14=0," ",P14/(Q14*B14)*100) -> 122.22222 | T14: 27 | AH14: =SUM(U14:AG14) -> 0 | AI14: =COUNTIF(U14:AG14,">0") -> 0 | AJ14: =IF(AH14=0," ",AH14/AI14) | AL14: =P14+AH14 -> 66 | AM14: =Q14+AI14 -> 2 | AN14: =IF(AL14=0," ",AL14/AM14) -> 33 | AO14: =IF(AL14=0," ",AL14/(AM14*T14)*100) -> 122.22222
A15: Vergouwen René | B15: 30 | C15: 27 | E15: 24 | G15: 6 | H15: 39 | I15: 29 | J15: 39 | M15: 36 | N15: 29 | P15: =SUM(C15:O15) -> 229 | Q15: =COUNTIF(C15:O15,">0") -> 8 | R15: =IF(P15=0," ",P15/Q15) -> 28.625 | S15: =IF(P15=0," ",P15/(Q15*B15)*100) -> 95.416667 | T15: 30 | AH15: =SUM(U15:AG15) -> 0 | AI15: =COUNTIF(U15:AG15,">0") -> 0 | AJ15: =IF(AH15=0," ",AH15/AI15) | AL15: =P15+AH15 -> 229 | AM15: =Q15+AI15 -> 8 | AN15: =IF(AL15=0," ",AL15/AM15) -> 28.625 | AO15: =IF(AL15=0," ",AL15/(AM15*T15)*100) -> 95.416667
A16: 0 | B16: 0 | P16: =SUM(C16:O16) -> 0 | Q16: =COUNTIF(C16:O16,">0") -> 0 | R16: =IF(P16=0," ",P16/Q16) | S16: =IF(P16=0," ",P16/(Q16*B16)*100) | AH16: =SUM(U16:AG16) -> 0 | AI16: =COUNTIF(U16:AG16,">0") -> 0 | AJ16: =IF(AH16=0," ",AH16/AI16) | AL16: =P16+AH16 -> 0 | AM16: =Q16+AI16 -> 0 | AN16: =IF(AL16=0," ",AL16/AM16) | AO16: =IF(AL16=0," ",AL16/(AM16*T16)*100)
A17: 0 | B17: 0 | P17: =SUM(C17:O17) -> 0 | Q17: =COUNTIF(C17:O17,">0") -> 0 | R17: =IF(P17=0," ",P17/Q17) | S17: =IF(P17=0," ",P17/(Q17*B17)*100) | T17: =B17 -> 0 | AH17: =SUM(U17:AG17) -> 0 | AI17: =COUNTIF(U17:AG17,">0") -> 0 | AJ17: =IF(AH17=0," ",AH17/AI17) | AL17: =P17+AH17 -> 0 | AM17: =Q17+AI17 -> 0 | AN17: =IF(AL17=0," ",AL17/AM17) | AO17: =IF(AL17=0," ",AL17/(AM17*T17)*100)
A18: 0 | B18: 0 | P18: =SUM(C18:O18) -> 0 | Q18: =COUNTIF(C18:O18,">0") -> 0 | R18: =IF(P18=0," ",P18/Q18) | S18: =IF(P18=0," ",P18/(Q18*B18)*100) | T18: =B18 -> 0 | AH18: =SUM(U18:AG18) -> 0 | AI18: =COUNTIF(U18:AG18,">0") -> 0 | AJ18: =IF(AH18=0," ",AH18/AI18) | AL18: =P18+AH18 -> 0 | AM18: =Q18+AI18 -> 0 | AN18: =IF(AL18=0," ",AL18/AM18) | AO18: =IF(AL18=0," ",AL18/(AM18*T18)*100)
B19: =SUM(B4:B18) -> 330 | C19: =SUM(C4:C18) -> 197 | D19: =SUM(D4:D18) -> 108 | E19: =SUM(E4:E18) -> 139 | F19: =SUM(F4:F18) -> 198 | G19: =SUM(G4:G18) -> 102 | H19: =SUM(H4:H18) -> 162 | I19: =SUM(I4:I18) -> 184 | ... Q19: =SUM(Q4:Q18) -> 72 | R19: =P19/Q19 -> 25.763889 | T19: =SUM(T4:T18) -> 330 | U19: =SUM(U4:U18) -> 0 | V19: =SUM(V4:V18) -> 0 | W19: =SUM(W4:W18) -> 0 | X19: =SUM(X4:X18) -> 0 | Y19: =SUM(Y4:Y18) -> 0 | Z19: =SUM(Z4:Z18) -> 0 | AA19: =SUM(AA4:AA18) -> 0 | ... AI19: =SUM(AI4:AI18) -> 0 | AJ19: =AH19/AI19 -> #DIV/0! | AL19: =SUM(AL4:AL18) -> 1855 | AM19: =SUM(AM4:AM18) -> 72 | AN19: =AL19/AM19 -> 25.763889

Sheet Kerkuilen
A1: 35ste Gemeentelijk biljarttornooi ingericht door de Essense Seniorenraad 2025 - 2026 | AL1: Jaartotalen
A2: BC KERKUILEN | B2: Sterktegetal | C2: Wedstrijden 1ste kompetitiehelft | P2: Totaal Punten | Q2: Gespeelde wedstrijden | R2: Gemiddelde 1ste helft | S2: % Nieuw/Oud 2025 - 2026 | T2: Sterktegetal 2de helft | U2: Wedstrijden 2de kompetitiehelft | AH2: Totaal Punten | AI2: Gespeelde wedstrijden | AJ2: Gemiddelde 2de helft | AL2: Totaal Punten | AM2: Gespeelde wedstrijden | AN2: Gemiddelde seizoen | AO2: % Nieuw/Oud 2025 - 2026
C3: 1 | D3: 2 | E3: 3 | F3: 4 | G3: 5 | H3: 6 | I3: 7 | J3: 8 | K3: 9 | L3: 10 | M3: 11 | N3: 12 | O3: 13 | U3: 14 | V3: 15 | W3: 16 | X3: 17 | Y3: 18 | Z3: 19 | AA3: 20 | AB3: 21 | AC3: 22 | AD3: 23 | AE3: 24 | AF3: 25 | AG3: 26
A4: Antonissen Gust | B4: 31 | G4: 9 | I4: 34 | J4: 23 | K4: 38 | M4: 55 | P4: =SUM(C4:O4) -> 159 | Q4: =COUNTIF(C4:O4,">0") -> 5 | R4: =IF(P4=0," ",P4/Q4) -> 31.8 | S4: =IF(P4=0," ",P4/(Q4*B4)*100) -> 102.58065 | T4: 31 | AH4: =SUM(U4:AG4) -> 0 | AI4: =COUNTIF(U4:AG4,">0") -> 0 | AJ4: =IF(AH4=0," ",AH4/AI4) | AL4: =P4+AH4 -> 159 | AM4: =Q4+AI4 -> 5 | AN4: =IF(AL4=0," ",AL4/AM4) -> 31.8 | AO4: =IF(AL4=0," ",AL4/(AM4*T4)*100) -> 102.58065
A5: De Kaey Piet | B5: 52 | E5: 54 | F5: 69 | K5: 41 | M5: 55 | P5: =SUM(C5:O5) -> 219 | Q5: =COUNTIF(C5:O5,">0") -> 4 | R5: =IF(P5=0," ",P5/Q5) -> 54.75 | S5: =IF(P5=0," ",P5/(Q5*B5)*100) -> 105.28846 | T5: 52 | AH5: =SUM(U5:AG5) -> 0 | AI5: =COUNTIF(U5:AG5,">0") -> 0 | AJ5: =IF(AH5=0," ",AH5/AI5) | AL5: =P5+AH5 -> 219 | AM5: =Q5+AI5 -> 4 | AN5: =IF(AL5=0," ",AL5/AM5) -> 54.75 | AO5: =IF(AL5=0," ",AL5/(AM5*T5)*100) -> 105.28846
A6: Elst Stan | B6: 42 | E6: 30 | H6: 45 | M6: 34 | P6: =SUM(C6:O6) -> 109 | Q6: =COUNTIF(C6:O6,">0") -> 3 | R6: =IF(P6=0," ",P6/Q6) -> 36.333333 | S6: =IF(P6=0," ",P6/(Q6*B6)*100) -> 86.507937 | T6: 42 | AH6: =SUM(U6:AG6) -> 0 | AI6: =COUNTIF(U6:AG6,">0") -> 0 | AJ6: =IF(AH6=0," ",AH6/AI6) | AL6: =P6+AH6 -> 109 | AM6: =Q6+AI6 -> 3 | AN6: =IF(AL6=0," ",AL6/AM6) -> 36.333333 | AO6: =IF(AL6=0," ",AL6/(AM6*T6)*100) -> 86.507937
A7: Hectors Hugo | B7: 18 | H7: 12 | N7: 20 | P7: =SUM(C7:O7) -> 32 | Q7: =COUNTIF(C7:O7,">0") -> 2 | R7: =IF(P7=0," ",P7/Q7) -> 16 | S7: =IF(P7=0," ",P7/(Q7*B7)*100) -> 88.888889 | T7: 18 | AH7: =SUM(U7:AG7) -> 0 | AI7: =COUNTIF(U7:AG7,">0") -> 0 | AJ7: =IF(AH7=0," ",AH7/AI7) | AL7: =P7+AH7 -> 32 | AM7: =Q7+AI7 -> 2 | AN7: =IF(AL7=0," ",AL7/AM7) -> 16 | AO7: =IF(AL7=0," ",AL7/(AM7*T7)*100) -> 88.888889
A8: Jacobis Martin | B8: 25 | I8: 18 | K8: 32 | L8: 25 | P8: =SUM(C8:O8) -> 75 | Q8: =COUNTIF(C8:O8,">0") -> 3 | R8: =IF(P8=0," ",P8/Q8) -> 25 | S8: =IF(P8=0," ",P8/(Q8*B8)*100) -> 100 | T8: 25 | AH8: =SUM(U8:AG8) -> 0 | AI8: =COUNTIF(U8:AG8,">0") -> 0 | AJ8: =IF(AH8=0," ",AH8/AI8) | AL8: =P8+AH8 -> 75 | AM8: =Q8+AI8 -> 3 | AN8: =IF(AL8=0," ",AL8/AM8) -> 25 | AO8: =IF(AL8=0," ",AL8/(AM8*T8)*100) -> 100
A9: Lambrechts Jef | B9: 53 | C9: 44 | E9: 63 | F9: 53 | G9: 44 | I9: 53 | L9: 40 | M9: 59 | P9: =SUM(C9:O9) -> 356 | Q9: =COUNTIF(C9:O9,">0") -> 7 | R9: =IF(P9=0," ",P9/Q9) -> 50.857143 | S9: =IF(P9=0," ",P9/(Q9*B9)*100) -> 95.956873 | T9: 53 | AH9: =SUM(U9:AG9) -> 0 | AI9: =COUNTIF(U9:AG9,">0") -> 0 | AJ9: =IF(AH9=0," ",AH9/AI9) | AL9: =P9+AH9 -> 356 | AM9: =Q9+AI9 -> 7 | AN9: =IF(AL9=0," ",AL9/AM9) -> 50.857143 | AO9: =IF(AL9=0," ",AL9/(AM9*T9)*100) -> 95.956873
A10: Naulaerts Rik | B10: 51 | F10: 55 | G10: 57 | H10: 49 | K10: 33 | N10: 41 | P10: =SUM(C10:O10) -> 235 | Q10: =COUNTIF(C10:O10,">0") -> 5 | R10: =IF(P10=0," ",P10/Q10) -> 47 | S10: =IF(P10=0," ",P10/(Q10*B10)*100) -> 92.156863 | T10: 51 | AH10: =SUM(U10:AG10) -> 0 | AI10: =COUNTIF(U10:AG10,">0") -> 0 | AJ10: =IF(AH10=0," ",AH10/AI10) | AL10: =P10+AH10 -> 235 | AM10: =Q10+AI10 -> 5 | AN10: =IF(AL10=0," ",AL10/AM10) -> 47 | AO10: =IF(AL10=0," ",AL10/(AM10*T10)*100) -> 92.156863
A11: Peeters Wies | B11: 28 | C11: 26 | D11: 20 | J11: 35 | L11: 13 | P11: =SUM(C11:O11) -> 94 | Q11: =COUNTIF(C11:O11,">0") -> 4 | R11: =IF(P11=0," ",P11/Q11) -> 23.5 | S11: =IF(P11=0," ",P11/(Q11*B11)*100) -> 83.928571 | T11: 28 | AH11: =SUM(U11:AG11) -> 0 | AI11: =COUNTIF(U11:AG11,">0") -> 0 | AJ11: =IF(AH11=0," ",AH11/AI11) | AL11: =P11+AH11 -> 94 | AM11: =Q11+AI11 -> 4 | AN11: =IF(AL11=0," ",AL11/AM11) -> 23.5 | AO11: =IF(AL11=0," ",AL11/(AM11*T11)*100) -> 83.928571
A12: Pleysier Luc | B12: 90 | C12: 78 | D12: 59 | F12: 70 | H12: 91 | I12: 62 | J12: 78 | K12: 60 | L12: 120 | N12: 38 | P12: =SUM(C12:O12) -> 656 | Q12: =COUNTIF(C12:O12,">0") -> 9 | R12: =IF(P12=0," ",P12/Q12) -> 72.888889 | S12: =IF(P12=0," ",P12/(Q12*B12)*100) -> 80.987654 | T12: 90 | AH12: =SUM(U12:AG12) -> 0 | AI12: =COUNTIF(U12:AG12,">0") -> 0 | AJ12: =IF(AH12=0," ",AH12/AI12) | AL12: =P12+AH12 -> 656 | AM12: =Q12+AI12 -> 9 | AN12: =IF(AL12=0," ",AL12/AM12) -> 72.888889 | AO12: =IF(AL12=0," ",AL12/(AM12*T12)*100) -> 80.987654
A13: Quick Gerard | B13: 26 | C13: 36 | G13: 28 | H13: 15 | J13: 36 | L13: 26 | N13: 23 | P13: =SUM(C13:O13) -> 164 | Q13: =COUNTIF(C13:O13,">0") -> 6 | R13: =IF(P13=0," ",P13/Q13) -> 27.333333 | S13: =IF(P13=0," ",P13/(Q13*B13)*100) -> 105.12821 | T13: 26 | AH13: =SUM(U13:AG13) -> 0 | AI13: =COUNTIF(U13:AG13,">0") -> 0 | AJ13: =IF(AH13=0," ",AH13/AI13) | AL13: =P13+AH13 -> 164 | AM13: =Q13+AI13 -> 6 | AN13: =IF(AL13=0," ",AL13/AM13) -> 27.333333 | AO13: =IF(AL13=0," ",AL13/(AM13*T13)*100) -> 105.12821
A14: Schrooyen Jef | B14: 51 | C14: 36 | D14: 40 | F14: 42 | G14: 41 | H14: 47 | I14: 34 | K14: 40 | N14: 53 | P14: =SUM(C14:O14) -> 333 | Q14: =COUNTIF(C14:O14,">0") -> 8 | R14: =IF(P14=0," ",P14/Q14) -> 41.625 | S14: =IF(P14=0," ",P14/(Q14*B14)*100) -> 81.617647 | T14: 51 | AH14: =SUM(U14:AG14) -> 0 | AI14: =COUNTIF(U14:AG14,">0") -> 0 | AJ14: =IF(AH14=0," ",AH14/AI14) | AL14: =P14+AH14 -> 333 | AM14: =Q14+AI14 -> 8 | AN14: =IF(AL14=0," ",AL14/AM14) -> 41.625 | AO14: =IF(AL14=0," ",AL14/(AM14*T14)*100) -> 81.617647
A15: Uytdewilligen Hubert | B15: 33 | C15: 26 | E15: 15 | G15: 38 | I15: 36 | J15: 37 | M15: 38 | P15: =SUM(C15:O15) -> 190 | Q15: =COUNTIF(C15:O15,">0") -> 6 | R15: =IF(P15=0," ",P15/Q15) -> 31.666667 | S15: =IF(P15=0," ",P15/(Q15*B15)*100) -> 95.959596 | T15: 33 | AH15: =SUM(U15:AG15) -> 0 | AI15: =COUNTIF(U15:AG15,">0") -> 0 | AJ15: =IF(AH15=0," ",AH15/AI15) | AL15: =P15+AH15 -> 190 | AM15: =Q15+AI15 -> 6 | AN15: =IF(AL15=0," ",AL15/AM15) -> 31.666667 | AO15: =IF(AL15=0," ",AL15/(AM15*T15)*100) -> 95.959596
A16: Van Ginneken Cyriel [NS 20] | B16: 15 | D16: 16 | E16: 11 | M16: 17 | P16: =SUM(C16:O16) -> 44 | Q16: =COUNTIF(C16:O16,">0") -> 3 | R16: =IF(P16=0," ",P16/Q16) -> 14.666667 | S16: =IF(P16=0," ",P16/(Q16*B16)*100) -> 97.777778 | T16: 15 | AH16: =SUM(U16:AG16) -> 0 | AI16: =COUNTIF(U16:AG16,">0") -> 0 | AJ16: =IF(AH16=0," ",AH16/AI16) | AL16: =P16+AH16 -> 44 | AM16: =Q16+AI16 -> 3 | AN16: =IF(AL16=0," ",AL16/AM16) -> 14.666667 | AO16: =IF(AL16=0," ",AL16/(AM16*T16)*100) -> 97.777778
A17: Van Oers Danny [NS 50] | B17: 52 | D17: 50 | E17: 45 | F17: 61 | J17: 52 | L17: 39 | N17: 58 | P17: =SUM(C17:O17) -> 305 | Q17: =COUNTIF(C17:O17,">0") -> 6 | R17: =IF(P17=0," ",P17/Q17) -> 50.833333 | S17: =IF(P17=0," ",P17/(Q17*B17)*100) -> 97.75641 | T17: 52 | AH17: =SUM(U17:AG17) -> 0 | AI17: =COUNTIF(U17:AG17,">0") -> 0 | AJ17: =IF(AH17=0," ",AH17/AI17) | AL17: =P17+AH17 -> 305 | AM17: =Q17+AI17 -> 6 | AN17: =IF(AL17=0," ",AL17/AM17) -> 50.833333 | AO17: =IF(AL17=0," ",AL17/(AM17*T17)*100) -> 97.75641
A18: Van Oers John | B18: 31 | D18: 42 | P18: =SUM(C18:O18) -> 42 | Q18: =COUNTIF(C18:O18,">0") -> 1 | R18: =IF(P18=0," ",P18/Q18) -> 42 | S18: =IF(P18=0," ",P18/(Q18*B18)*100) -> 135.48387 | T18: 31 | AH18: =SUM(U18:AG18) -> 0 | AI18: =COUNTIF(U18:AG18,">0") -> 0 | AJ18: =IF(AH18=0," ",AH18/AI18) | AL18: =P18+AH18 -> 42 | AM18: =Q18+AI18 -> 1 | AN18: =IF(AL18=0," ",AL18/AM18) -> 42 | AO18: =IF(AL18=0," ",AL18/(AM18*T18)*100) -> 135.48387
B19: =SUM(B4:B18) -> 598 | C19: =SUM(C4:C18) -> 246 | D19: =SUM(D4:D18) -> 227 | E19: =SUM(E4:E18) -> 218 | F19: =SUM(F4:F18) -> 350 | G19: =SUM(G4:G18) -> 217 | H19: =SUM(H4:H18) -> 259 | I19: =SUM(I4:I18) -> 237 | ... O19: =SUM(O4:O18) -> 0 | P19: =SUM(P4:P17) -> 2971 | Q19: =SUM(Q4:Q17) -> 71 | R19: =P19/Q19 -> 41.84507 | T19: =SUM(T4:T18) -> 598 | U19: =SUM(U4:U18) -> 0 | V19: =SUM(V4:V18) -> 0 | W19: =SUM(W4:W18) -> 0 | X19: =SUM(X4:X18) -> 0 | Y19: =SUM(Y4:Y18) -> 0 | Z19: =SUM(Z4:Z18) -> 0 | AA19: =SUM(AA4:AA18) -> 0 | ... AG19: =SUM(AG4:AG18) -> 0 | AH19: =SUM(AH4:AH17) -> 0 | AI19: =SUM(AI4:AI18) -> 0 | AJ19: =SUM(AJ4:AJ18) -> 0 | AL19: =SUM(AL4:AL18) -> 3013 | AM19: =SUM(AM4:AM18) -> 72 | AN19: =AL19/AM19 -> 41.847222

Sheet Meeuwen1
A1: 35ste Gemeentelijk biljarttornooi ingericht door de Essense Seniorenraad 2025 - 2026 | AL1: Jaartotalen
A2: DE MEEUWEN 1 | B2: Sterktegetal | C2: Wedstrijden 1ste kompetitiehelft | P2: Totaal Punten | Q2: Gespeelde wedstrijden | R2: Gemiddelde 1ste helft | S2: % Nieuw/Oud 2025 - 2026 | T2: Sterktegetal 2de helft | U2: Wedstrijden 2de kompetitiehelft | AH2: Totaal Punten | AI2: Gespeelde wedstrijden | AJ2: Gemiddelde 2de helft | AL2: Totaal Punten | AM2: Gespeelde wedstrijden | AN2: Gemiddelde seizoen | AO2: % Nieuw/Oud 2025 - 2026
C3: 1 | D3: 2 | E3: 3 | F3: 4 | G3: 5 | H3: 6 | I3: 7 | J3: 8 | K3: 9 | L3: 10 | M3: 11 | N3: 12 | O3: 13 | U3: 14 | V3: 15 | W3: 16 | X3: 17 | Y3: 18 | Z3: 19 | AA3: 20 | AB3: 21 | AC3: 22 | AD3: 23 | AE3: 24 | AF3: 25 | AG3: 26
A4: Aerts Adri | B4: 32 | C4: 18 | D4: 33 | F4: 48 | H4: 26 | J4: 39 | K4: 52 | L4: 33 | M4: 12 | P4: =SUM(C4:O4) -> 261 | Q4: =COUNTIF(C4:O4,">0") -> 8 | R4: =IF(P4=0," ",P4/Q4) -> 32.625 | S4: =IF(P4=0," ",P4/(Q4*B4)*100) -> 101.95312 | T4: 32 | AH4: =SUM(U4:AG4) -> 0 | AI4: =COUNTIF(U4:AG4,">0") -> 0 | AJ4: =IF(AH4=0," ",AH4/AI4) | AL4: =P4+AH4 -> 261 | AM4: =Q4+AI4 -> 8 | AN4: =IF(AL4=0," ",AL4/AM4) -> 32.625 | AO4: =IF(AL4=0," ",AL4/(AM4*T4)*100) -> 101.95312
A5: Bocken Jean Pierre | B5: 18 | C5: 11 | D5: 11 | E5: 6 | G5: 26 | I5: 17 | J5: 6 | K5: 20 | N5: 6 | P5: =SUM(C5:O5) -> 103 | Q5: =COUNTIF(C5:O5,">0") -> 8 | R5: =IF(P5=0," ",P5/Q5) -> 12.875 | S5: =IF(P5=0," ",P5/(Q5*B5)*100) -> 71.527778 | T5: 18 | AH5: =SUM(U5:AG5) -> 0 | AI5: =COUNTIF(U5:AG5,">0") -> 0 | AJ5: =IF(AH5=0," ",AH5/AI5) | AL5: =P5+AH5 -> 103 | AM5: =Q5+AI5 -> 8 | AN5: =IF(AL5=0," ",AL5/AM5) -> 12.875 | AO5: =IF(AL5=0," ",AL5/(AM5*T5)*100) -> 71.527778
A6: Bocken Lambert | B6: 28 | E6: 27 | F6: 22 | H6: 35 | I6: 35 | K6: 26 | L6: 15 | N6: 14 | P6: =SUM(C6:O6) -> 174 | Q6: =COUNTIF(C6:O6,">0") -> 7 | R6: =IF(P6=0," ",P6/Q6) -> 24.857143 | S6: =IF(P6=0," ",P6/(Q6*B6)*100) -> 88.77551 | T6: 28 | AH6: =SUM(U6:AG6) -> 0 | AI6: =COUNTIF(U6:AG6,">0") -> 0 | AJ6: =IF(AH6=0," ",AH6/AI6) | AL6: =P6+AH6 -> 174 | AM6: =Q6+AI6 -> 7 | AN6: =IF(AL6=0," ",AL6/AM6) -> 24.857143 | AO6: =IF(AL6=0," ",AL6/(AM6*T6)*100) -> 88.77551
A7: Goetschalkx Herman | B7: 15 | C7: 4 | E7: 11 | F7: 13 | G7: 10 | H7: 13 | J7: 7 | L7: 11 | M7: 14 | P7: =SUM(C7:O7) -> 83 | Q7: =COUNTIF(C7:O7,">0") -> 8 | R7: =IF(P7=0," ",P7/Q7) -> 10.375 | S7: =IF(P7=0," ",P7/(Q7*B7)*100) -> 69.166667 | T7: 15 | AH7: =SUM(U7:AG7) -> 0 | AI7: =COUNTIF(U7:AG7,">0") -> 0 | AJ7: =IF(AH7=0," ",AH7/AI7) | AL7: =P7+AH7 -> 83 | AM7: =Q7+AI7 -> 8 | AN7: =IF(AL7=0," ",AL7/AM7) -> 10.375 | AO7: =IF(AL7=0," ",AL7/(AM7*T7)*100) -> 69.166667
A8: Grauwmans Rik | B8: 33 | I8: 28 | J8: 22 | L8: 33 | P8: =SUM(C8:O8) -> 83 | Q8: =COUNTIF(C8:O8,">0") -> 3 | R8: =IF(P8=0," ",P8/Q8) -> 27.666667 | S8: =IF(P8=0," ",P8/(Q8*B8)*100) -> 83.838384 | T8: 33 | AH8: =SUM(U8:AG8) -> 0 | AI8: =COUNTIF(U8:AG8,">0") -> 0 | AJ8: =IF(AH8=0," ",AH8/AI8) | AL8: =P8+AH8 -> 83 | AM8: =Q8+AI8 -> 3 | AN8: =IF(AL8=0," ",AL8/AM8) -> 27.666667 | AO8: =IF(AL8=0," ",AL8/(AM8*T8)*100) -> 83.838384
A9: Meeusen Marc | B9: 125 | D9: 70 | F9: 91 | L9: 89 | M9: 143 | P9: =SUM(C9:O9) -> 393 | Q9: =COUNTIF(C9:O9,">0") -> 4 | R9: =IF(P9=0," ",P9/Q9) -> 98.25 | S9: =IF(P9=0," ",P9/(Q9*B9)*100) -> 78.6 | T9: 125 | AH9: =SUM(U9:AG9) -> 0 | AI9: =COUNTIF(U9:AG9,">0") -> 0 | AJ9: =IF(AH9=0," ",AH9/AI9) | AL9: =P9+AH9 -> 393 | AM9: =Q9+AI9 -> 4 | AN9: =IF(AL9=0," ",AL9/AM9) -> 98.25 | AO9: =IF(AL9=0," ",AL9/(AM9*T9)*100) -> 78.6
A10: Van Loon Marc | B10: 15 | D10: 25 | F10: 11 | H10: 11 | I10: 5 | K10: 28 | M10: 12 | N10: 13 | P10: =SUM(C10:O10) -> 105 | Q10: =COUNTIF(C10:O10,">0") -> 7 | R10: =IF(P10=0," ",P10/Q10) -> 15 | S10: =IF(P10=0," ",P10/(Q10*B10)*100) -> 100 | T10: 15 | AH10: =SUM(U10:AG10) -> 0 | AI10: =COUNTIF(U10:AG10,">0") -> 0 | AJ10: =IF(AH10=0," ",AH10/AI10) | AL10: =P10+AH10 -> 105 | AM10: =Q10+AI10 -> 7 | AN10: =IF(AL10=0," ",AL10/AM10) -> 15 | AO10: =IF(AL10=0," ",AL10/(AM10*T10)*100) -> 100
A11: Van Zoest Teun | B11: 36 | D11: 23 | F11: 34 | G11: 40 | I11: 35 | P11: =SUM(C11:O11) -> 132 | Q11: =COUNTIF(C11:O11,">0") -> 4 | R11: =IF(P11=0," ",P11/Q11) -> 33 | S11: =IF(P11=0," ",P11/(Q11*B11)*100) -> 91.666667 | T11: 36 | AH11: =SUM(U11:AG11) -> 0 | AI11: =COUNTIF(U11:AG11,">0") -> 0 | AJ11: =IF(AH11=0," ",AH11/AI11) | AL11: =P11+AH11 -> 132 | AM11: =Q11+AI11 -> 4 | AN11: =IF(AL11=0," ",AL11/AM11) -> 33 | AO11: =IF(AL11=0," ",AL11/(AM11*T11)*100) -> 91.666667
A12: Veraart Jos | B12: 16 | C12: 4 | E12: 7 | G12: 15 | I12: 9 | J12: 12 | L12: 10 | N12: 18 | P12: =SUM(C12:O12) -> 75 | Q12: =COUNTIF(C12:O12,">0") -> 7 | R12: =IF(P12=0," ",P12/Q12) -> 10.714286 | S12: =IF(P12=0," ",P12/(Q12*B12)*100) -> 66.964286 | T12: 16 | AH12: =SUM(U12:AG12) -> 0 | AI12: =COUNTIF(U12:AG12,">0") -> 0 | AJ12: =IF(AH12=0," ",AH12/AI12) | AL12: =P12+AH12 -> 75 | AM12: =Q12+AI12 -> 7 | AN12: =IF(AL12=0," ",AL12/AM12) -> 10.714286 | AO12: =IF(AL12=0," ",AL12/(AM12*T12)*100) -> 66.964286
A13: Vossen Filip | B13: 16 | C13: 13 | E13: 25 | G13: 16 | H13: 13 | K13: 20 | M13: 31 | N13: 7 | P13: =SUM(C13:O13) -> 125 | Q13: =COUNTIF(C13:O13,">0") -> 7 | R13: =IF(P13=0," ",P13/Q13) -> 17.857143 | S13: =IF(P13=0," ",P13/(Q13*B13)*100) -> 111.60714 | T13: 16 | AH13: =SUM(U13:AG13) -> 0 | AI13: =COUNTIF(U13:AG13,">0") -> 0 | AJ13: =IF(AH13=0," ",AH13/AI13) | AL13: =P13+AH13 -> 125 | AM13: =Q13+AI13 -> 7 | AN13: =IF(AL13=0," ",AL13/AM13) -> 17.857143 | AO13: =IF(AL13=0," ",AL13/(AM13*T13)*100) -> 111.60714
A14: Vossen Ronny [NS 20] | B14: 15 | C14: 22 | D14: 10 | E14: 9 | G14: 10 | H14: 9 | J14: 14 | K14: 13 | M14: 14 | N14: 16 | P14: =SUM(C14:O14) -> 117 | Q14: =COUNTIF(C14:O14,">0") -> 9 | R14: =IF(P14=0," ",P14/Q14) -> 13 | S14: =IF(P14=0," ",P14/(Q14*B14)*100) -> 86.666667 | T14: 15 | AH14: =SUM(U14:AG14) -> 0 | AI14: =COUNTIF(U14:AG14,">0") -> 0 | AJ14: =IF(AH14=0," ",AH14/AI14) | AL14: =P14+AH14 -> 117 | AM14: =Q14+AI14 -> 9 | AN14: =IF(AL14=0," ",AL14/AM14) -> 13 | AO14: =IF(AL14=0," ",AL14/(AM14*T14)*100) -> 86.666667
B15: 0 | P15: =SUM(C15:O15) -> 0 | Q15: =COUNTIF(C15:O15,">0") -> 0 | R15: =IF(P15=0," ",P15/Q15) | S15: =IF(P15=0," ",P15/(Q15*B15)*100) | T15: =B15 -> 0 | AH15: =SUM(U15:AG15) -> 0 | AI15: =COUNTIF(U15:AG15,">0") -> 0 | AJ15: =IF(AH15=0," ",AH15/AI15) | AL15: =P15+AH15 -> 0 | AM15: =Q15+AI15 -> 0 | AN15: =IF(AL15=0," ",AL15/AM15) | AO15: =IF(AL15=0," ",AL15/(AM15*T15)*100)
B16: 0 | P16: =SUM(C16:O16) -> 0 | Q16: =COUNTIF(C16:O16,">0") -> 0 | R16: =IF(P16=0," ",P16/Q16) | S16: =IF(P16=0," ",P16/(Q16*B16)*100) | T16: =B16 -> 0 | AH16: =SUM(U16:AG16) -> 0 | AI16: =COUNTIF(U16:AG16,">0") -> 0 | AJ16: =IF(AH16=0," ",AH16/AI16) | AL16: =P16+AH16 -> 0 | AM16: =Q16+AI16 -> 0 | AN16: =IF(AL16=0," ",AL16/AM16) | AO16: =IF(AL16=0," ",AL16/(AM16*T16)*100)
B17: 0 | P17: =SUM(C17:O17) -> 0 | Q17: =COUNTIF(C17:O17,">0") -> 0 | R17: =IF(P17=0," ",P17/Q17) | S17: =IF(P17=0," ",P17/(Q17*B17)*100) | T17: =B17 -> 0 | AH17: =SUM(U17:AG17) -> 0 | AI17: =COUNTIF(U17:AG17,">0") -> 0 | AJ17: =IF(AH17=0," ",AH17/AI17) | AL17: =P17+AH17 -> 0 | AM17: =Q17+AI17 -> 0 | AN17: =IF(AL17=0," ",AL17/AM17) | AO17: =IF(AL17=0," ",AL17/(AM17*T17)*100)
B18: 0 | P18: =SUM(C18:O18) -> 0 | Q18: =COUNTIF(C18:O18,">0") -> 0 | R18: =IF(P18=0," ",P18/Q18) | S18: =IF(P18=0," ",P18/(Q18*B18)*100) | T18: =B18 -> 0 | AH18: =SUM(U18:AG18) -> 0 | AI18: =COUNTIF(U18:AG18,">0") -> 0 | AJ18: =IF(AH18=0," ",AH18/AI18) | AL18: =P18+AH18 -> 0 | AM18: =Q18+AI18 -> 0 | AN18: =IF(AL18=0," ",AL18/AM18) | AO18: =IF(AL18=0," ",AL18/(AM18*T18)*100)
B19: =SUM(B4:B18) -> 349 | C19: =SUM(C4:C18) -> 72 | D19: =SUM(D4:D18) -> 172 | E19: =SUM(E4:E18) -> 85 | F19: =SUM(F4:F18) -> 219 | G19: =SUM(G4:G18) -> 117 | H19: =SUM(H4:H18) -> 107 | I19: =SUM(I4:I18) -> 129 | ... Q19: =SUM(Q4:Q18) -> 72 | R19: =P19/Q19 -> 22.930556 | T19: =SUM(T4:T18) -> 349 | U19: =SUM(U4:U18) -> 0 | V19: =SUM(V4:V18) -> 0 | W19: =SUM(W4:W18) -> 0 | X19: =SUM(X4:X18) -> 0 | Y19: =SUM(Y4:Y18) -> 0 | Z19: =SUM(Z4:Z18) -> 0 | AA19: =SUM(AA4:AA18) -> 0 | ... AI19: =SUM(AI4:AI18) -> 0 | AJ19: =AH19/AI19 -> #DIV/0! | AL19: =SUM(AL4:AL18) -> 1651 | AM19: =SUM(AM4:AM18) -> 72 | AN19: =AL19/AM19 -> 22.930556

Sheet Meeuwen2
A1: 35ste Gemeentelijk biljarttornooi ingericht door de Essense Seniorenraad 2025 - 2026 | AL1: Jaartotalen
A2: DE MEEUWEN 2 | B2: Sterktegetal | C2: Wedstrijden 1ste kompetitiehelft | P2: Totaal Punten | Q2: Gespeelde wedstrijden | R2: Gemiddelde 1ste helft | S2: % Nieuw/Oud 2025 - 2026 | T2: Sterktegetal 2de helft | U2: Wedstrijden 2de kompetitiehelft | AH2: Totaal Punten | AI2: Gespeelde wedstrijden | AJ2: Gemiddelde 2de helft | AL2: Totaal Punten | AM2: Gespeelde wedstrijden | AN2: Gemiddelde seizoen | AO2: % Nieuw/Oud 2025 - 2026
C3: 1 | D3: 2 | E3: 3 | F3: 4 | G3: 5 | H3: 6 | I3: 7 | J3: 8 | K3: 9 | L3: 10 | M3: 11 | N3: 12 | O3: 13 | U3: 14 | V3: 15 | W3: 16 | X3: 17 | Y3: 18 | Z3: 19 | AA3: 20 | AB3: 21 | AC3: 22 | AD3: 23 | AE3: 24 | AF3: 25 | AG3: 26
A4: Brouwers Gerard | B4: 15 | C4: 16 | E4: 6 | G4: 14 | K4: 7 | N4: 12 | P4: =SUM(C4:O4) -> 55 | Q4: =COUNTIF(C4:O4,">0") -> 5 | R4: =IF(P4=0," ",P4/Q4) -> 11 | S4: =IF(P4=0," ",P4/(Q4*T4)*100) -> 73.333333 | T4: 15 | AH4: =SUM(U4:AG4) -> 0 | AI4: =COUNTIF(U4:AG4,">0") -> 0 | AJ4: =IF(AH4=0," ",AH4/AI4) | AL4: =P4+AH4 -> 55 | AM4: =Q4+AI4 -> 5 | AN4: =IF(AL4=0," ",AL4/AM4) -> 11 | AO4: =IF(AL4=0," ",AL4/(AM4*T4)*100) -> 73.333333
A5: De Backer Jerome | B5: 38 | C5: 38 | D5: 60 | E5: 23 | F5: 39 | I5: 38 | J5: 42 | L5: 53 | M5: 80 | N5: 38 | P5: =SUM(C5:O5) -> 411 | Q5: =COUNTIF(C5:O5,">0") -> 9 | R5: =IF(P5=0," ",P5/Q5) -> 45.666667 | S5: =IF(P5=0," ",P5/(Q5*T5)*100) -> 120.17544 | T5: 38 | AH5: =SUM(U5:AG5) -> 0 | AI5: =COUNTIF(U5:AG5,">0") -> 0 | AJ5: =IF(AH5=0," ",AH5/AI5) | AL5: =P5+AH5 -> 411 | AM5: =Q5+AI5 -> 9 | AN5: =IF(AL5=0," ",AL5/AM5) -> 45.666667 | AO5: =IF(AL5=0," ",AL5/(AM5*T5)*100) -> 120.17544
A6: Gabriëls Johnny | B6: 32 | F6: 21 | M6: 15 | P6: =SUM(C6:O6) -> 36 | Q6: =COUNTIF(C6:O6,">0") -> 2 | R6: =IF(P6=0," ",P6/Q6) -> 18 | S6: =IF(P6=0," ",P6/(Q6*T6)*100) -> 56.25 | T6: 32 | AH6: =SUM(U6:AG6) -> 0 | AI6: =COUNTIF(U6:AG6,">0") -> 0 | AJ6: =IF(AH6=0," ",AH6/AI6) | AL6: =P6+AH6 -> 36 | AM6: =Q6+AI6 -> 2 | AN6: =IF(AL6=0," ",AL6/AM6) -> 18 | AO6: =IF(AL6=0," ",AL6/(AM6*T6)*100) -> 56.25
A7: Jacobs Hugo | B7: 34 | D7: 35 | E7: 28 | F7: 35 | H7: 29 | J7: 39 | L7: 40 | N7: 25 | P7: =SUM(C7:O7) -> 231 | Q7: =COUNTIF(C7:O7,">0") -> 7 | R7: =IF(P7=0," ",P7/Q7) -> 33 | S7: =IF(P7=0," ",P7/(Q7*T7)*100) -> 97.058824 | T7: 34 | AH7: =SUM(U7:AG7) -> 0 | AI7: =COUNTIF(U7:AG7,">0") -> 0 | AJ7: =IF(AH7=0," ",AH7/AI7) | AL7: =P7+AH7 -> 231 | AM7: =Q7+AI7 -> 7 | AN7: =IF(AL7=0," ",AL7/AM7) -> 33 | AO7: =IF(AL7=0," ",AL7/(AM7*T7)*100) -> 97.058824
A8: Jacobs Willy | B8: 80 | E8: 58 | G8: 68 | I8: 75 | L8: 48 | M8: 77 | P8: =SUM(C8:O8) -> 326 | Q8: =COUNTIF(C8:O8,">0") -> 5 | R8: =IF(P8=0," ",P8/Q8) -> 65.2 | S8: =IF(P8=0," ",P8/(Q8*T8)*100) -> 81.5 | T8: 80 | AH8: =SUM(U8:AG8) -> 0 | AI8: =COUNTIF(U8:AG8,">0") -> 0 | AJ8: =IF(AH8=0," ",AH8/AI8) | AL8: =P8+AH8 -> 326 | AM8: =Q8+AI8 -> 5 | AN8: =IF(AL8=0," ",AL8/AM8) -> 65.2 | AO8: =IF(AL8=0," ",AL8/(AM8*T8)*100) -> 81.5
A9: Lambrechts Marc | B9: 27 | P9: =SUM(C9:O9) -> 0 | Q9: =COUNTIF(C9:O9,">0") -> 0 | R9: =IF(P9=0," ",P9/Q9) | S9: =IF(P9=0," ",P9/(Q9*T9)*100) | T9: 27 | AH9: =SUM(U9:AG9) -> 0 | AI9: =COUNTIF(U9:AG9,">0") -> 0 | AJ9: =IF(AH9=0," ",AH9/AI9) | AL9: =P9+AH9 -> 0 | AM9: =Q9+AI9 -> 0 | AN9: =IF(AL9=0," ",AL9/AM9) | AO9: =IF(AL9=0," ",AL9/(AM9*T9)*100)
A10: Lucassen Rini | B10: 29 | D10: 38 | J10: 32 | P10: =SUM(C10:O10) -> 70 | Q10: =COUNTIF(C10:O10,">0") -> 2 | R10: =IF(P10=0," ",P10/Q10) -> 35 | S10: =IF(P10=0," ",P10/(Q10*T10)*100) -> 120.68966 | T10: 29 | AH10: =SUM(U10:AG10) -> 0 | AI10: =COUNTIF(U10:AG10,">0") -> 0 | AJ10: =IF(AH10=0," ",AH10/AI10) | AL10: =P10+AH10 -> 70 | AM10: =Q10+AI10 -> 2 | AN10: =IF(AL10=0," ",AL10/AM10) -> 35 | AO10: =IF(AL10=0," ",AL10/(AM10*T10)*100) -> 120.68966
A11: Present Fons | B11: 22 | C11: 23 | E11: 13 | G11: 18 | I11: 37 | J11: 34 | K11: 35 | L11: 13 | M11: 25 | P11: =SUM(C11:O11) -> 198 | Q11: =COUNTIF(C11:O11,">0") -> 8 | R11: =IF(P11=0," ",P11/Q11) -> 24.75 | S11: =IF(P11=0," ",P11/(Q11*T11)*100) -> 112.5 | T11: 22 | AH11: =SUM(U11:AG11) -> 0 | AI11: =COUNTIF(U11:AG11,">0") -> 0 | AJ11: =IF(AH11=0," ",AH11/AI11) | AL11: =P11+AH11 -> 198 | AM11: =Q11+AI11 -> 8 | AN11: =IF(AL11=0," ",AL11/AM11) -> 24.75 | AO11: =IF(AL11=0," ",AL11/(AM11*T11)*100) -> 112.5
A12: Present Marc [NS 20] | B12: 22 | C12: 20 | H12: 24 | K12: 23 | M12: 25 | P12: =SUM(C12:O12) -> 92 | Q12: =COUNTIF(C12:O12,">0") -> 4 | R12: =IF(P12=0," ",P12/Q12) -> 23 | S12: =IF(P12=0," ",P12/(Q12*T12)*100) -> 104.54545 | T12: 22 | AH12: =SUM(U12:AG12) -> 0 | AI12: =COUNTIF(U12:AG12,">0") -> 0 | AJ12: =IF(AH12=0," ",AH12/AI12) | AL12: =P12+AH12 -> 92 | AM12: =Q12+AI12 -> 4 | AN12: =IF(AL12=0," ",AL12/AM12) -> 23 | AO12: =IF(AL12=0," ",AL12/(AM12*T12)*100) -> 104.54545
A13: Suykerbuyk Stan | B13: 33 | C13: 25 | E13: 35 | G13: 29 | H13: 66 | I13: 37 | K13: 39 | N13: 37 | P13: =SUM(C13:O13) -> 268 | Q13: =COUNTIF(C13:O13,">0") -> 7 | R13: =IF(P13=0," ",P13/Q13) -> 38.285714 | S13: =IF(P13=0," ",P13/(Q13*T13)*100) -> 116.01732 | T13: 33 | AH13: =SUM(U13:AG13) -> 0 | AI13: =COUNTIF(U13:AG13,">0") -> 0 | AJ13: =IF(AH13=0," ",AH13/AI13) | AL13: =P13+AH13 -> 268 | AM13: =Q13+AI13 -> 7 | AN13: =IF(AL13=0," ",AL13/AM13) -> 38.285714 | AO13: =IF(AL13=0," ",AL13/(AM13*T13)*100) -> 116.01732
A14: Vandersanden Lucien | B14: 39 | C14: 27 | D14: 44 | F14: 27 | H14: 43 | I14: 37 | J14: 29 | L14: 23 | N14: 56 | P14: =SUM(C14:O14) -> 286 | Q14: =COUNTIF(C14:O14,">0") -> 8 | R14: =IF(P14=0," ",P14/Q14) -> 35.75 | S14: =IF(P14=0," ",P14/(Q14*T14)*100) -> 91.666667 | T14: 39 | AH14: =SUM(U14:AG14) -> 0 | AI14: =COUNTIF(U14:AG14,">0") -> 0 | AJ14: =IF(AH14=0," ",AH14/AI14) | AL14: =P14+AH14 -> 286 | AM14: =Q14+AI14 -> 8 | AN14: =IF(AL14=0," ",AL14/AM14) -> 35.75 | AO14: =IF(AL14=0," ",AL14/(AM14*T14)*100) -> 91.666667
A15: Van Dorst Alfons | B15: 59 | D15: 60 | F15: 66 | G15: 52 | H15: 62 | K15: 83 | L15: 51 | P15: =SUM(C15:O15) -> 374 | Q15: =COUNTIF(C15:O15,">0") -> 6 | R15: =IF(P15=0," ",P15/Q15) -> 62.333333 | S15: =IF(P15=0," ",P15/(Q15*T15)*100) -> 105.64972 | T15: 59 | AH15: =SUM(U15:AG15) -> 0 | AI15: =COUNTIF(U15:AG15,">0") -> 0 | AJ15: =IF(AH15=0," ",AH15/AI15) | AL15: =P15+AH15 -> 374 | AM15: =Q15+AI15 -> 6 | AN15: =IF(AL15=0," ",AL15/AM15) -> 62.333333 | AO15: =IF(AL15=0," ",AL15/(AM15*T15)*100) -> 105.64972
A16: Van Thillo Sis | B16: 32 | D16: 40 | F16: 23 | G16: 39 | H16: 36 | I16: 29 | J16: 38 | K16: 29 | M16: 33 | N16: 18 | P16: =SUM(C16:O16) -> 285 | Q16: =COUNTIF(C16:O16,">0") -> 9 | R16: =IF(P16=0," ",P16/Q16) -> 31.666667 | S16: =IF(P16=0," ",P16/(Q16*T16)*100) -> 98.958333 | T16: 32 | AH16: =SUM(U16:AG16) -> 0 | AI16: =COUNTIF(U16:AG16,">0") -> 0 | AJ16: =IF(AH16=0," ",AH16/AI16) | AL16: =P16+AH16 -> 285 | AM16: =Q16+AI16 -> 9 | AN16: =IF(AL16=0," ",AL16/AM16) -> 31.666667 | AO16: =IF(AL16=0," ",AL16/(AM16*T16)*100) -> 98.958333
A17: 0 | B17: 0 | P17: =SUM(C17:O17) -> 0 | Q17: =COUNTIF(C17:O17,">0") -> 0 | R17: =IF(P17=0," ",P17/Q17) | S17: =IF(P17=0," ",P17/(Q17*T17)*100) | T17: 0 | AH17: =SUM(U17:AG17) -> 0 | AI17: =COUNTIF(U17:AG17,">0") -> 0 | AJ17: =IF(AH17=0," ",AH17/AI17) | AL17: =P17+AH17 -> 0 | AM17: =Q17+AI17 -> 0 | AN17: =IF(AL17=0," ",AL17/AM17) | AO17: =IF(AL17=0," ",AL17/(AM17*T17)*100)
B18: 0 | P18: =SUM(C18:O18) -> 0 | Q18: =COUNTIF(C18:O18,">0") -> 0 | R18: =IF(P18=0," ",P18/Q18) | S18: =IF(P18=0," ",P18/(Q18*T18)*100) | T18: =B18 -> 0 | AH18: =SUM(U18:AG18) -> 0 | AI18: =COUNTIF(U18:AG18,">0") -> 0 | AJ18: =IF(AH18=0," ",AH18/AI18) | AL18: =P18+AH18 -> 0 | AM18: =Q18+AI18 -> 0 | AN18: =IF(AL18=0," ",AL18/AM18) | AO18: =IF(AL18=0," ",AL18/(AM18*T18)*100)
B19: =SUM(T4:T17) -> 462 | C19: =SUM(C4:C18) -> 149 | D19: =SUM(D4:D18) -> 277 | E19: =SUM(E4:E18) -> 163 | F19: =SUM(F4:F18) -> 211 | G19: =SUM(G4:G18) -> 220 | H19: =SUM(H4:H18) -> 260 | I19: =SUM(I4:I18) -> 253 | J19: =SUM(J4:J18) -> 214 | ... Q19: =SUM(Q4:Q18) -> 72 | R19: =P19/Q19 -> 36.555556 | T19: =SUM(T4:T18) -> 462 | U19: =SUM(U4:U18) -> 0 | V19: =SUM(V4:V18) -> 0 | W19: =SUM(W4:W18) -> 0 | X19: =SUM(X4:X18) -> 0 | Y19: =SUM(Y4:Y18) -> 0 | Z19: =SUM(Z4:Z18) -> 0 | AA19: =SUM(AA4:AA18) -> 0 | ... AH19: =SUM(AH4:AH18) -> 0 | AI19: =SUM(V4:V18) -> 0 | AJ19: =AH19/AH19 -> #DIV/0! | AL19: =SUM(AL4:AL18) -> 2632 | AM19: =SUM(AM4:AM18) -> 72 | AN19: =AL19/AM19 -> 36.555556

Sheet Meeuwkes
A1: 35ste Gemeentelijk biljarttornooi ingericht door de Essense Seniorenraad 2025 - 2026 | AL1: Jaartotalen
A2: DE REBELSE MEEUWKES | B2: Sterktegetal | C2: Wedstrijden 1ste kompetitiehelft | P2: Totaal Punten | Q2: Gespeelde wedstrijden | R2: Gemiddelde 1ste helft | S2: % Nieuw/Oud 2025 - 2026 | T2: Sterktegetal 2de helft | U2: Wedstrijden 2de kompetitiehelft | AH2: Totaal Punten | AI2: Gespeelde wedstrijden | AJ2: Gemiddelde 2de helft | AL2: Totaal Punten | AM2: Gespeelde wedstrijden | AN2: Gemiddelde seizoen | AO2: % Nieuw/Oud 2025 - 2026
C3: 1 | D3: 2 | E3: 3 | F3: 4 | G3: 5 | H3: 6 | I3: 7 | J3: 8 | K3: 9 | L3: 10 | M3: 11 | N3: 12 | O3: 13 | U3: 14 | V3: 15 | W3: 16 | X3: 17 | Y3: 18 | Z3: 19 | AA3: 20 | AB3: 21 | AC3: 22 | AD3: 23 | AE3: 24 | AF3: 25 | AG3: 26
A4: Bove René | B4: 20 | D4: 21 | E4: 26 | F4: 46 | I4: 31 | J4: 22 | K4: 18 | P4: =SUM(C4:O4) -> 164 | Q4: =COUNTIF(C4:O4,">0") -> 6 | R4: =IF(P4=0," ",P4/Q4) -> 27.333333 | S4: =IF(P4=0," ",P4/(Q4*B4)*100) -> 136.66667 | T4: 20 | AH4: =SUM(U4:AG4) -> 0 | AI4: =COUNTIF(U4:AG4,">0") -> 0 | AJ4: =IF(AH4=0," ",AH4/AI4) | AL4: =P4+AH4 -> 164 | AM4: =Q4+AI4 -> 6 | AN4: =IF(AL4=0," ",AL4/AM4) -> 27.333333 | AO4: =IF(AL4=0," ",AL4/(AM4*T4)*100) -> 136.66667
A5: Buggenhout Danny | B5: 41 | D5: 43 | G5: 42 | H5: 41 | M5: 33 | N5: 34 | P5: =SUM(C5:O5) -> 193 | Q5: =COUNTIF(C5:O5,">0") -> 5 | R5: =IF(P5=0," ",P5/Q5) -> 38.6 | S5: =IF(P5=0," ",P5/(Q5*B5)*100) -> 94.146341 | T5: 41 | AH5: =SUM(U5:AG5) -> 0 | AI5: =COUNTIF(U5:AG5,">0") -> 0 | AJ5: =IF(AH5=0," ",AH5/AI5) | AL5: =P5+AH5 -> 193 | AM5: =Q5+AI5 -> 5 | AN5: =IF(AL5=0," ",AL5/AM5) -> 38.6 | AO5: =IF(AL5=0," ",AL5/(AM5*T5)*100) -> 94.146341
A6: Deckx Achiel | B6: 38 | F6: 39 | J6: 40 | K6: 32 | L6: 50 | P6: =SUM(C6:O6) -> 161 | Q6: =COUNTIF(C6:O6,">0") -> 4 | R6: =IF(P6=0," ",P6/Q6) -> 40.25 | S6: =IF(P6=0," ",P6/(Q6*B6)*100) -> 105.92105 | T6: 38 | AH6: =SUM(U6:AG6) -> 0 | AI6: =COUNTIF(U6:AG6,">0") -> 0 | AJ6: =IF(AH6=0," ",AH6/AI6) | AL6: =P6+AH6 -> 161 | AM6: =Q6+AI6 -> 4 | AN6: =IF(AL6=0," ",AL6/AM6) -> 40.25 | AO6: =IF(AL6=0," ",AL6/(AM6*T6)*100) -> 105.92105
A7: Herreygers Leon | B7: 25 | C7: 19 | E7: 24 | F7: 34 | G7: 26 | H7: 20 | I7: 39 | J7: 35 | L7: 21 | M7: 27 | N7: 38 | P7: =SUM(C7:O7) -> 283 | Q7: =COUNTIF(C7:O7,">0") -> 10 | R7: =IF(P7=0," ",P7/Q7) -> 28.3 | S7: =IF(P7=0," ",P7/(Q7*B7)*100) -> 113.2 | T7: 25 | AH7: =SUM(U7:AG7) -> 0 | AI7: =COUNTIF(U7:AG7,">0") -> 0 | AJ7: =IF(AH7=0," ",AH7/AI7) | AL7: =P7+AH7 -> 283 | AM7: =Q7+AI7 -> 10 | AN7: =IF(AL7=0," ",AL7/AM7) -> 28.3 | AO7: =IF(AL7=0," ",AL7/(AM7*T7)*100) -> 113.2
A8: Loos Piet | B8: 15 | C8: 16 | D8: 0.0001 | E8: 6 | H8: 7 | I8: 9 | J8: 15 | N8: 16 | P8: =SUM(C8:O8) -> 69.0001 | Q8: =COUNTIF(C8:O8,">0") -> 7 | R8: =IF(P8=0," ",P8/Q8) -> 9.8571571 | S8: =IF(P8=0," ",P8/(Q8*B8)*100) -> 65.714381 | T8: 15 | AH8: =SUM(U8:AG8) -> 0 | AI8: =COUNTIF(U8:AG8,">0") -> 0 | AJ8: =IF(AH8=0," ",AH8/AI8) | AL8: =P8+AH8 -> 69.0001 | AM8: =Q8+AI8 -> 7 | AN8: =IF(AL8=0," ",AL8/AM8) -> 9.8571571 | AO8: =IF(AL8=0," ",AL8/(AM8*T8)*100) -> 65.714381
A9: Quick Louis | B9: 39 | C9: 38 | E9: 38 | G9: 33 | H9: 46 | I9: 25 | K9: 55 | L9: 48 | M9: 52 | P9: =SUM(C9:O9) -> 335 | Q9: =COUNTIF(C9:O9,">0") -> 8 | R9: =IF(P9=0," ",P9/Q9) -> 41.875 | S9: =IF(P9=0," ",P9/(Q9*B9)*100) -> 107.37179 | T9: 39 | AH9: =SUM(U9:AG9) -> 0 | AI9: =COUNTIF(U9:AG9,">0") -> 0 | AJ9: =IF(AH9=0," ",AH9/AI9) | AL9: =P9+AH9 -> 335 | AM9: =Q9+AI9 -> 8 | AN9: =IF(AL9=0," ",AL9/AM9) -> 41.875 | AO9: =IF(AL9=0," ",AL9/(AM9*T9)*100) -> 107.37179
A10: Reyssens Martin | B10: 23 | F10: 27 | G10: 16 | K10: 26 | L10: 15 | M10: 33 | P10: =SUM(C10:O10) -> 117 | Q10: =COUNTIF(C10:O10,">0") -> 5 | R10: =IF(P10=0," ",P10/Q10) -> 23.4 | S10: =IF(P10=0," ",P10/(Q10*B10)*100) -> 101.73913 | T10: 23 | AH10: =SUM(U10:AG10) -> 0 | AI10: =COUNTIF(U10:AG10,">0") -> 0 | AJ10: =IF(AH10=0," ",AH10/AI10) | AL10: =P10+AH10 -> 117 | AM10: =Q10+AI10 -> 5 | AN10: =IF(AL10=0," ",AL10/AM10) -> 23.4 | AO10: =IF(AL10=0," ",AL10/(AM10*T10)*100) -> 101.73913
A11: Schenk André | B11: 64 | C11: 65 | D11: 82 | H11: 73 | I11: 76 | L11: 102 | M11: 77 | N11: 115 | P11: =SUM(C11:O11) -> 590 | Q11: =COUNTIF(C11:O11,">0") -> 7 | R11: =IF(P11=0," ",P11/Q11) -> 84.285714 | S11: =IF(P11=0," ",P11/(Q11*B11)*100) -> 131.69643 | T11: 64 | AH11: =SUM(U11:AG11) -> 0 | AI11: =COUNTIF(U11:AG11,">0") -> 0 | AJ11: =IF(AH11=0," ",AH11/AI11) | AL11: =P11+AH11 -> 590 | AM11: =Q11+AI11 -> 7 | AN11: =IF(AL11=0," ",AL11/AM11) -> 84.285714 | AO11: =IF(AL11=0," ",AL11/(AM11*T11)*100) -> 131.69643
A12: Van Doren Hugo | B12: 53 | C12: 33 | D12: 49 | P12: =SUM(C12:O12) -> 82 | Q12: =COUNTIF(C12:O12,">0") -> 2 | R12: =IF(P12=0," ",P12/Q12) -> 41 | S12: =IF(P12=0," ",P12/(Q12*B12)*100) -> 77.358491 | T12: 53 | AH12: =SUM(U12:AG12) -> 0 | AI12: =COUNTIF(U12:AG12,">0") -> 0 | AJ12: =IF(AH12=0," ",AH12/AI12) | AL12: =P12+AH12 -> 82 | AM12: =Q12+AI12 -> 2 | AN12: =IF(AL12=0," ",AL12/AM12) -> 41 | AO12: =IF(AL12=0," ",AL12/(AM12*T12)*100) -> 77.358491
A13: De Roomer Jan | B13: 27 | E13: 27 | F13: 21 | G13: 23 | J13: 18 | K13: 24 | L13: 42 | N13: 14 | P13: =SUM(C13:O13) -> 169 | Q13: =COUNTIF(C13:O13,">0") -> 7 | R13: =IF(P13=0," ",P13/Q13) -> 24.142857 | S13: =IF(P13=0," ",P13/(Q13*B13)*100) -> 89.417989 | T13: 27 | AH13: =SUM(U13:AG13) -> 0 | AI13: =COUNTIF(U13:AG13,">0") -> 0 | AJ13: =IF(AH13=0," ",AH13/AI13) | AL13: =P13+AH13 -> 169 | AM13: =Q13+AI13 -> 7 | AN13: =IF(AL13=0," ",AL13/AM13) -> 24.142857 | AO13: =IF(AL13=0," ",AL13/(AM13*T13)*100) -> 89.417989
A14: Van Hees Eduard | B14: 30 | E14: 36 | F14: 25 | I14: 23 | K14: 17 | P14: =SUM(C14:O14) -> 101 | Q14: =COUNTIF(C14:O14,">0") -> 4 | R14: =IF(P14=0," ",P14/Q14) -> 25.25 | S14: =IF(P14=0," ",P14/(Q14*B14)*100) -> 84.166667 | T14: 30 | AH14: =SUM(U14:AG14) -> 0 | AI14: =COUNTIF(U14:AG14,">0") -> 0 | AJ14: =IF(AH14=0," ",AH14/AI14) | AL14: =P14+AH14 -> 101 | AM14: =Q14+AI14 -> 4 | AN14: =IF(AL14=0," ",AL14/AM14) -> 25.25 | AO14: =IF(AL14=0," ",AL14/(AM14*T14)*100) -> 84.166667
A15: Schenk Stanny | B15: 16 | C15: 20 | D15: 17 | G15: 14 | H15: 19 | J15: 17 | M15: 5 | N15: 7 | P15: =SUM(C15:O15) -> 99 | Q15: =COUNTIF(C15:O15,">0") -> 7 | R15: =IF(P15=0," ",P15/Q15) -> 14.142857 | S15: =IF(P15=0," ",P15/(Q15*B15)*100) -> 88.392857 | T15: 16 | AH15: =SUM(U15:AG15) -> 0 | AI15: =COUNTIF(U15:AG15,">0") -> 0 | AJ15: =IF(AH15=0," ",AH15/AI15) | AL15: =P15+AH15 -> 99 | AM15: =Q15+AI15 -> 7 | AN15: =IF(AL15=0," ",AL15/AM15) -> 14.142857 | AO15: =IF(AL15=0," ",AL15/(AM15*T15)*100) -> 88.392857
B16: 0 | P16: =SUM(C16:O16) -> 0 | Q16: =COUNTIF(C16:O16,">0") -> 0 | R16: =IF(P16=0," ",P16/Q16) | S16: =IF(P16=0," ",P16/(Q16*B16)*100) | T16: =B16 -> 0 | AH16: =SUM(U16:AG16) -> 0 | AI16: =COUNTIF(U16:AG16,">0") -> 0 | AJ16: =IF(AH16=0," ",AH16/AI16) | AL16: =P16+AH16 -> 0 | AM16: =Q16+AI16 -> 0 | AN16: =IF(AL16=0," ",AL16/AM16) | AO16: =IF(AL16=0," ",AL16/(AM16*T16)*100)
B17: 0 | P17: =SUM(C17:O17) -> 0 | Q17: =COUNTIF(C17:O17,">0") -> 0 | R17: =IF(P17=0," ",P17/Q17) | S17: =IF(P17=0," ",P17/(Q17*B17)*100) | T17: =B17 -> 0 | AH17: =SUM(U17:AG17) -> 0 | AI17: =COUNTIF(U17:AG17,">0") -> 0 | AJ17: =IF(AH17=0," ",AH17/AI17) | AL17: =P17+AH17 -> 0 | AM17: =Q17+AI17 -> 0 | AN17: =IF(AL17=0," ",AL17/AM17) | AO17: =IF(AL17=0," ",AL17/(AM17*T17)*100)
B18: 0 | P18: =SUM(C18:O18) -> 0 | Q18: =COUNTIF(C18:O18,">0") -> 0 | R18: =IF(P18=0," ",P18/Q18) | S18: =IF(P18=0," ",P18/(Q18*B18)*100) | T18: =B18 -> 0 | AH18: =SUM(U18:AG18) -> 0 | AI18: =COUNTIF(U18:AG18,">0") -> 0 | AJ18: =IF(AH18=0," ",AH18/AI18) | AL18: =P18+AH18 -> 0 | AM18: =Q18+AI18 -> 0 | AN18: =IF(AL18=0," ",AL18/AM18) | AO18: =IF(AL18=0," ",AL18/(AM18*T18)*100)
B19: =SUM(B4:B18) -> 391 | C19: =SUM(C4:C18) -> 191 | D19: =SUM(D4:D18) -> 212.0001 | E19: =SUM(E4:E18) -> 157 | F19: =SUM(F4:F18) -> 192 | G19: =SUM(G4:G18) -> 154 | H19: =SUM(H4:H18) -> 206 | I19: =SUM(I4:I18) -> 203 | ... Q19: =SUM(Q4:Q18) -> 72 | R19: =P19/Q19 -> 32.819446 | T19: =SUM(T4:T18) -> 391 | U19: =SUM(U4:U18) -> 0 | V19: =SUM(V4:V18) -> 0 | W19: =SUM(W4:W18) -> 0 | X19: =SUM(X4:X18) -> 0 | Y19: =SUM(Y4:Y18) -> 0 | Z19: =SUM(Z4:Z18) -> 0 | AA19: =SUM(AA4:AA18) -> 0 | ... AI19: =SUM(AI4:AI18) -> 0 | AJ19: =AH19/AI19 -> #DIV/0! | AL19: =SUM(AL4:AL18) -> 2363.0001 | AM19: =SUM(AM4:AM18) -> 72 | AN19: =AL19/AM19 -> 32.819446

Sheet Molenheike
A1: 35ste Gemeentelijk biljarttornooi ingericht door de Essense Seniorenraad 2025 - 2026 | AL1: Jaartotalen
A2: MOLENHEIKE | B2: Sterktegetal | C2: Wedstrijden 1ste kompetitiehelft | P2: Totaal Punten | Q2: Gespeelde wedstrijden | R2: Gemiddelde 1ste helft | S2: % Nieuw/Oud 2025 - 2026 | T2: Sterktegetal 2de helft | U2: Wedstrijden 2de kompetitiehelft | AH2: Totaal Punten | AI2: Gespeelde wedstrijden | AJ2: Gemiddelde 2de helft | AL2: Totaal Punten | AM2: Gespeelde wedstrijden | AN2: Gemiddelde seizoen | AO2: % Nieuw/Oud 2025 - 2026
C3: 1 | D3: 2 | E3: 3 | F3: 4 | G3: 5 | H3: 6 | I3: 7 | J3: 8 | K3: 9 | L3: 10 | M3: 11 | N3: 12 | O3: 13 | U3: 14 | V3: 15 | W3: 16 | X3: 17 | Y3: 18 | Z3: 19 | AA3: 20 | AB3: 21 | AC3: 22 | AD3: 23 | AE3: 24 | AF3: 25 | AG3: 26
A4: Brauns Martin | B4: 38 | D4: 29 | H4: 46 | I4: 34 | K4: 33 | L4: 28 | N4: 42 | P4: =SUM(C4:O4) -> 212 | Q4: =COUNTIF(C4:O4,">0") -> 6 | R4: =IF(P4=0," ",P4/Q4) -> 35.333333 | S4: =IF(P4=0," ",P4/(Q4*B4)*100) -> 92.982456 | T4: 38 | AH4: =SUM(U4:AG4) -> 0 | AI4: =COUNTIF(U4:AG4,">0") -> 0 | AJ4: =IF(AH4=0," ",AH4/AI4) | AL4: =P4+AH4 -> 212 | AM4: =Q4+AI4 -> 6 | AN4: =IF(AL4=0," ",AL4/AM4) -> 35.333333 | AO4: =IF(AL4=0," ",AL4/(AM4*T4)*100) -> 92.982456
A5: Brosens Luc | B5: 58 | C5: 58 | D5: 40 | F5: 41 | G5: 58 | H5: 59 | I5: 61 | M5: 50 | N5: 43 | P5: =SUM(C5:O5) -> 410 | Q5: =COUNTIF(C5:O5,">0") -> 8 | R5: =IF(P5=0," ",P5/Q5) -> 51.25 | S5: =IF(P5=0," ",P5/(Q5*B5)*100) -> 88.362069 | T5: 58 | AH5: =SUM(U5:AG5) -> 0 | AI5: =COUNTIF(U5:AG5,">0") -> 0 | AJ5: =IF(AH5=0," ",AH5/AI5) | AL5: =P5+AH5 -> 410 | AM5: =Q5+AI5 -> 8 | AN5: =IF(AL5=0," ",AL5/AM5) -> 51.25 | AO5: =IF(AL5=0," ",AL5/(AM5*T5)*100) -> 88.362069
A6: Dhooghe Jan | B6: 27 | D6: 26 | E6: 26 | G6: 38 | H6: 19 | J6: 39 | K6: 38 | L6: 26 | M6: 20 | N6: 26 | P6: =SUM(C6:O6) -> 258 | Q6: =COUNTIF(C6:O6,">0") -> 9 | R6: =IF(P6=0," ",P6/Q6) -> 28.666667 | S6: =IF(P6=0," ",P6/(Q6*B6)*100) -> 106.17284 | T6: 27 | AH6: =SUM(U6:AG6) -> 0 | AI6: =COUNTIF(U6:AG6,">0") -> 0 | AJ6: =IF(AH6=0," ",AH6/AI6) | AL6: =P6+AH6 -> 258 | AM6: =Q6+AI6 -> 9 | AN6: =IF(AL6=0," ",AL6/AM6) -> 28.666667 | AO6: =IF(AL6=0," ",AL6/(AM6*T6)*100) -> 106.17284
A7: Keuppens Marc | B7: 30 | C7: 28 | E7: 44 | F7: 48 | H7: 35 | I7: 26 | J7: 32 | L7: 36 | M7: 39 | P7: =SUM(C7:O7) -> 288 | Q7: =COUNTIF(C7:O7,">0") -> 8 | R7: =IF(P7=0," ",P7/Q7) -> 36 | S7: =IF(P7=0," ",P7/(Q7*B7)*100) -> 120 | T7: 30 | AH7: =SUM(U7:AG7) -> 0 | AI7: =COUNTIF(U7:AG7,">0") -> 0 | AJ7: =IF(AH7=0," ",AH7/AI7) | AL7: =P7+AH7 -> 288 | AM7: =Q7+AI7 -> 8 | AN7: =IF(AL7=0," ",AL7/AM7) -> 36 | AO7: =IF(AL7=0," ",AL7/(AM7*T7)*100) -> 120
